{"text_format":"1","workbook":"xlsx","n_sheets":7,"sheets":["Instructions","Sample Plan","Final Area","Lookups","Disp Plots","Other Accum","Piles"],"not_rendered":{"charts":0,"images":0,"macros":1,"external_links":0,"defined_names":2,"comments":0,"pivot_tables":0},"unopened":[],"bounds":{"document_bytes":16777216,"sheet_cells":100000,"rows_first":2000,"rows_last":500,"rows_between":2000,"halvings":0,"cell_chars":16384,"cell_head_chars":4096},"cells_cut":0,"cells_raw":0,"read":"whole","date_system":"1900"}

{"sheet":"Instructions","index":0,"n_rows":21,"n_cols":20,"rows_kept":21,"cut":false,"hidden":false,"merged":[[15,8,16,17],[18,8,18,17],[2,4,5,4],[3,0,3,1],[6,0,6,3],[7,0,7,4],[7,8,7,9],[7,13,7,15],[7,16,7,17],[5,16,5,17],[6,13,6,14],[2,8,2,9],[2,13,2,17],[17,8,17,17]]}
["Aggregate Sample Plan Instructions"]
["Version 1.2   September 1, 2020 Manual"]
["RU",null,null,12345,{"$f":"IF(COUNTIF(E11:E39,\">=2\")>19, \"Aggregate cannot have > 19 blocks >= 2 ha\",\"\")","v":""},"Enter the reporting unit number (if known) from the Waste System",null,"Stratum","Dispersed 1",null,null,"Use the drop down box to select the strata in the population (Dispersed, Roadside).  Use Dispersed 2 or Roadside 2 if sub-stratifying these strata into different waste levels (i.e. a heavy and light dispersed strata)",null,"Spot Accumulation Stratum "]
["Latest Ready For Survey Date",null,null,"2020-05-01",null,"Enter the ready for survey date from the latest waste assessment area in the population ",null,"Min # Plots",null,38,null,"This field will auto calculate based on the areas entered below ",null,"Min # Plots",null,18,null,"Plot Plan Method",null,"Min Pile Plots field will auto calculate "]
["SPIF",null,null,0.4,null,"Enter the SPIF for the latest ready for survey date listed above.  ",null,"Additional Plots",null,2,null,"If additional plots are desired (above the minimum) enter the number of additional plots for the stratum",null,"Additional Plots",null,null,null,"Estimate",null,"Additional \nEnter the number of additional plots (above the minimum) if desired\nPlot Plan Method\nSelect the method used to obtain the number of plots (Actual - the counted number of piles in the block, or Estimate - when the number is unknown)\n"]
["Survey Type",null,null,null,null,"Use the drop down box to select the method used to sample the population (SRS or Ratio)",null,"Total Plots",null,{"$f":"J4+J5","v":40},null,"Enter this value in the Prediction Plots field in EFW (IFOR203 stratum screen)",null,"Total Plots",null,18,null,null,null,"Enter this value in the Prediction Plots field in EFW (IFOR203 stratum screen)"]
["Select Aggregate Ratio Sampling in Eforwaste",null,null,null,null,"In EFW, select the corresponding survey type",null,"Measure",null,13,null,"Enter this value in the Measure Plots field in EFW (IFOR203 stratum screen)",null,"Measure",null,6,null,null,null,"Enter this value in the Measure Plots field in EFW (IFOR203 stratum screen)"]
[null,null,null,null,null,null,null,null,"Plot Numbers to Establish",null,null,null,null,"*Actual pile counts must be completed on all blocks when surveying to locate plots",null,null,"Plot Numbers to Establish"]
[null,"Licence","CP","Block \n","Sum of All Strata","Enter the Licence, CP, and Block name for each waste assessment area in the population.  Enter in alpha numeric order, starting with the licence, then CP, then block.",null,"Net Area (ha)","From","To",null,null,null,"Estimated* # of Piles","Actual # of Piles","Total* # of Piles","From","To"]
[1,"TFL1",1,"A1",10,null,null,10,1,9,null,"Enter the net area of the stratum. This will often equal the block net area unless areas of other strata (i.e. spot accumulations, standing timber) are known in advance of the field work",null,9,null,9,1,4,null,"If selecting Actual as the plot plan method, fill out the numbers for each block; otherwise the field will be greyed out\nIf selecting Estimate as the plot plan method, the numbers will auto fill"]
[2,"TFL1",1,"B2",12,null,null,12,10,19,null,"The plot numbers (From, To) indicate the plots and numbering to be established in each block",null,11,null,11,5,9]
[3,"TFL1",2,"B4",13,null,null,13,20,31,null,null,null,12,null,12,10,14]
[4,"TFL1",3,"C2",11,null,null,11,32,40,null,"Occasionally, more than the minimum number of plots will appear due to rounding.  Establish the extra plot in the field.",null,10,null,10,15,18]
["* only 4 lines of data are shown in these instructions"]
["Totals",null,null,null,{"$f":"SUM(E10:E13)","v":46},null,null,{"$f":"SUM(H10:H13)","v":46},null,null,null,null,null,42,null,42]
[null,null,null,null,null,null,null,null,"I certify that the work described herein fulfills the standards expected of a member of the Association of British Columbia Forest Professionals and that I did personally supervise the work"]
["Spot Accumulation Area (if known)",null,null,null,null,"Enter this value if known at the sample plan stage, otherwise leave blank"]
["Total Aggregate Area for Eforwaste",null,null,{"$f":"46","v":46},null,"Enter this value as the net area on the IFOR202 (cutblock) screen in EFW",null,"X","I certify that I personally completed the work"]
[null,null,null,null,null,null,null,null,"I certify that I have reviewed this document and, while I did not personally supervise the work described, I have determined that this work has been done to the standards expected of a member of the Association of British Columbia Forest Professionals"]
[null,null,null,null,null,null,null,"Name",null,null,null,"Name of Forest Professional",null,"Professional Designation",null,null,null,null,null,"Enter the signatory's ABCFP registration number"]
[null,null,null,null,null,null,null,"Date",null,null,null,{"$f":"TODAY()","v":"2021-07-13"},null,"Registration Number"]

{"sheet":"Sample Plan","index":1,"n_rows":39,"n_cols":35,"rows_kept":39,"cut":false,"hidden":false,"merged":[[35,10,36,34],[31,10,32,34],[37,11,37,18],[38,11,38,18],[32,4,33,4],[33,10,33,34],[9,0,9,4],[3,27,3,34],[9,33,9,34],[4,0,4,1],[9,10,9,11],[9,27,9,29],[3,10,3,11],[3,24,3,25],[3,17,3,18],[9,17,9,18],[9,24,9,25],[3,4,6,4]]}
["Aggregate Sample Plan"]
["Version 1.3.1  June 15 , 2021 Manual"]
[]
["RU",null,null,null,null,null,"Stratum",null,"Disp","Accm","Dispersed 1",null,null,"Stratum",null,"Disp","Accm","Dispersed 2",null,null,"Stratum",null,"Disp","Accm","Dispersed 2",null,null,"Spot Accumulation Stratum "]
["Latest Ready For Survey Date",null,null,null,null,null,"Min # Plots","srs",{"$f":"VLOOKUP(G31,Table5[],2,TRUE)","v":0},{"$f":"VLOOKUP(G31,Table6[],2,TRUE)","v":0},null,{"$f":"ROUND(IF($D$7=\"SRS\",IF(LEFT(K4,1)=\"D\",I5,J5),IF(LEFT(K4,1)=\"D\",I6,J6) ),0)","v":0},null,"Min # Plots",null,{"$f":"VLOOKUP(N31,Table5[],2,TRUE)","v":0},{"$f":"VLOOKUP(N31,Table6[],2,TRUE)","v":0},null,{"$f":"ROUND(IF($D$7=\"SRS\",IF(LEFT(R4,1)=\"D\",P5,Q5),IF(LEFT(R4,1)=\"D\",P6,Q6) ),0)","v":0},null,"Min # Plots",null,{"$f":"VLOOKUP(U31,Table5[],2,TRUE)","v":0},{"$f":"VLOOKUP(U31,Table6[],2,TRUE)","v":0},null,{"$f":"ROUND(IF($D$7=\"SRS\",IF(LEFT(Y4,1)=\"D\",W5,X5),IF(LEFT(Y4,1)=\"D\",W6,X6) ),0)","v":0},null,"Min # Plots",null,{"$f":"IF(D7=\"SRS\",AF5,AF6)","v":0},null,{"$f":"VLOOKUP(AD31,Table7[],2,TRUE)","v":0},null,null,"Plot Plan Method"]
["SPIF",null,null,null,null,null,"Additional Plots","ratio",{"$f":"VLOOKUP(G31,Table5[],3,TRUE)","v":0},{"$f":"VLOOKUP(G31,Table6[],3,TRUE)","v":0},null,null,null,"Additional Plots",null,{"$f":"VLOOKUP(N31,Table5[],3,TRUE)","v":0},{"$f":"VLOOKUP(N31,Table6[],3,TRUE)","v":0},null,null,null,"Additional Plots",null,{"$f":"VLOOKUP(U31,Table5[],3,TRUE)","v":0},{"$f":"VLOOKUP(U31,Table6[],3,TRUE)","v":0},null,null,null,"Additional Plots",null,null,null,{"$f":"VLOOKUP(AD31,Table7[],3,TRUE)","v":0}]
["Survey Type",null,null,null,null,null,"Total Plots",null,{"$f":"VLOOKUP(G31,Table5[],4,TRUE)","v":0},{"$f":"VLOOKUP(G31,Table6[],4,TRUE)","v":0},null,{"$f":"L5+L6","v":0},null,"Total Plots",null,{"$f":"VLOOKUP(N31,Table5[],4,TRUE)","v":0},{"$f":"VLOOKUP(N31,Table6[],4,TRUE)","v":0},null,{"$f":"S5+S6","v":0},null,"Total Plots",null,{"$f":"VLOOKUP(U31,Table5[],4,TRUE)","v":0},{"$f":"VLOOKUP(U31,Table6[],4,TRUE)","v":0},null,{"$f":"Z5+Z6","v":0},null,"Total Plots",null,{"$f":"AD5+AD6","v":0},null,{"$f":"VLOOKUP(AD31,Table7[],4,TRUE)","v":0}]
[null,null,null,null,null,null,{"$f":"IF(D6=\"\",\"\",G31/(L7+0.0001))","v":""},null,null,null,null,null,null,{"$f":"IF(D6=\"\",\"\",N31/(S7+0.0001))","v":""},null,null,null,null,null,null,{"$f":"IF(D6=\"\",\"\",U31/(Z7+0.0001))","v":""},null,null,null,null,null,null,null,{"$f":"IF(D6=\"\",\"\",AD31/(AD7+0.00001))","v":""}]
[null,null,null,{"$f":"IF(D7=\"\",\"\",IF(D7=\"Ratio\", \"Select Aggregate Ratio Sampling in EForwaste\", \"Select Aggregate SRS Survey in EForwaste\"))","v":""},null,null,{"$f":"IF($D$7=\"ratio\",\"Measure\",\"\")","v":""},null,null,null,null,{"$f":"IF(D7=\"SRS\",\"\",IF(LEFT(K4,1)=\"D\",I7,J7))","v":0},null,{"$f":"IF($D$7=\"ratio\",\"Measure\",\"\")","v":""},null,null,null,null,{"$f":"IF(D7=\"SRS\",\"\",IF(LEFT(R4,1)=\"D\",P7,Q7))","v":0},null,{"$f":"IF($D$7=\"ratio\",\"Measure\",\"\")","v":""},null,null,null,null,{"$f":"IF(D7=\"SRS\",\"\",IF(LEFT(Y4,1)=\"D\",W7,X7))","v":0},null,{"$f":"IF($D$7=\"ratio\",\"Measure\",\"\")","v":""},null,{"$f":"IF(D7=\"SRS\",\"\",AF7)","v":0}]
[{"$f":"IF(COUNTIF(E12:E30,\">=2\")>19, \"Aggregate sample plan cannot have > 19 blocks >= 2 ha\",\"\")","v":""},null,null,null,null,null,null,null,null,null,"Plot Numbers to Establish",null,null,null,null,null,null,"Plot Numbers to Establish",null,null,null,null,null,null,"Plot Numbers to Establish",null,null,"*Actual pile counts must be completed on all blocks when surveying to locate plots\n",null,null,null,null,null,"Plot Numbers to Establish"]
[null,"Licence","CP","Block \n","Sum of All Strata",null,"Net Area (ha)","Cumulative area",null,"Disp Plots","From","To",null,"Net Area (ha)","Cumulative area",null,"Disp Plots","From","To",null,"Net Area (ha)","Cumulative area",null,"Disp Plots","From","To",null,"Estimated* # of Piles","Actual # of Piles","Total* # of Piles","Cumulative Piles","Samples per block","Piles","From","To"]
[1,null,null,null,{"$f":"G12+N12+U12","v":0},null,null,{"$f":"G12","v":0},{"$f":"IFERROR(VLOOKUP(H12,Table1[],2,TRUE),0)","v":0},{"$f":"I12","v":0},{"$f":"IF(L12=0,0,L12-J12+1)","v":0},{"$f":"IF(G12=\"\",0,I12)","v":0},null,null,{"$f":"N12","v":0},{"$f":"IFERROR(VLOOKUP(O12,Table2[],2,TRUE),0)","v":0},{"$f":"P12","v":0},{"$f":"IF(S12=0,0,S12-Q12+1)","v":0},{"$f":"IF(N12=\"\",0,P12)","v":0},null,null,{"$f":"U12","v":0},{"$f":"IFERROR(VLOOKUP(V12,Table3[],2,TRUE),0)","v":0},{"$f":"W12","v":0},{"$f":"IF(Z12=0,0,Z12-X12+1)","v":0},{"$f":"IF(U12=\"\",0,W12)","v":0},null,{"$f":"ROUND((U12+N12+G12)*0.9,0)","v":0},null,{"$f":"IF($AI$6=\"Actual\",AC12,AB12)","v":0},{"$f":"AD12","v":0},{"$f":"IFERROR(VLOOKUP(AE12,Table4[],2,TRUE),0)","v":0},{"$f":"AF12","v":0},{"$f":"IF(AI12=0,0,AI12-AG12+1)","v":0},{"$f":"IF(AD12=0,0,AF12)","v":0}]
[2,null,null,null,0,null,null,{"$f":"G13+H12","v":0},{"$f":"IFERROR(VLOOKUP(H13,Table1[],2,TRUE),0)","v":0},{"$f":"I13-I12","v":0},{"$f":"IF(L13=0,0,L13-J13+1)","v":0},{"$f":"IF(I13=I12,0,I13)","v":0},null,null,{"$f":"N13+O12","v":0},{"$f":"IFERROR(VLOOKUP(O13,Table2[],2,TRUE),0)","v":0},{"$f":"P13-P12","v":0},0,{"$f":"IF(P13=P12,0,P13)","v":0},null,null,{"$f":"U13+V12","v":0},{"$f":"IFERROR(VLOOKUP(V13,Table3[],2,TRUE),0)","v":0},{"$f":"W13-W12","v":0},{"$f":"IF(Z13=0,0,Z13-X13+1)","v":0},{"$f":"IF(W13=W12,0,W13)","v":0},null,{"$f":"ROUND((U13+N13+G13)*0.9,0)","v":0},null,0,{"$f":"AD13+AE12","v":0},{"$f":"IFERROR(VLOOKUP(AE13,Table4[],2,TRUE),0)","v":0},{"$f":"AF13-AF12","v":0},0,{"$f":"IF(AF13=AF12,0,AF13)","v":0}]
[3,null,null,null,0,null,null,0,{"$f":"IFERROR(VLOOKUP(H14,Table1[],2,TRUE),0)","v":0},{"$f":"I14-I13","v":0},0,0,null,null,0,{"$f":"IFERROR(VLOOKUP(O14,Table2[],2,TRUE),0)","v":0},{"$f":"P14-P13","v":0},0,0,null,null,0,{"$f":"IFERROR(VLOOKUP(V14,Table3[],2,TRUE),0)","v":0},{"$f":"W14-W13","v":0},0,0,null,0,null,0,{"$f":"AD14+AE13","v":0},{"$f":"IFERROR(VLOOKUP(AE14,Table4[],2,TRUE),0)","v":0},{"$f":"AF14-AF13","v":0},0,{"$f":"IF(AF14=AF13,0,AF14)","v":0}]
[4,null,null,null,0,null,null,0,{"$f":"IFERROR(VLOOKUP(H15,Table1[],2,TRUE),0)","v":0},0,0,0,null,null,0,{"$f":"IFERROR(VLOOKUP(O15,Table2[],2,TRUE),0)","v":0},0,0,0,null,null,0,{"$f":"IFERROR(VLOOKUP(V15,Table3[],2,TRUE),0)","v":0},0,0,0,null,0,null,0,0,{"$f":"IFERROR(VLOOKUP(AE15,Table4[],2,TRUE),0)","v":0},0,0,{"$f":"IF(AF15=AF14,0,AF15)","v":0}]
[5,null,null,null,0,null,null,0,{"$f":"IFERROR(VLOOKUP(H16,Table1[],2,TRUE),0)","v":0},0,0,0,null,null,0,{"$f":"IFERROR(VLOOKUP(O16,Table2[],2,TRUE),0)","v":0},0,0,0,null,null,0,{"$f":"IFERROR(VLOOKUP(V16,Table3[],2,TRUE),0)","v":0},0,0,0,null,0,null,0,0,{"$f":"IFERROR(VLOOKUP(AE16,Table4[],2,TRUE),0)","v":0},0,0,{"$f":"IF(AF16=AF15,0,AF16)","v":0}]
[6,null,null,null,0,null,null,0,{"$f":"IFERROR(VLOOKUP(H17,Table1[],2,TRUE),0)","v":0},0,0,0,null,null,0,{"$f":"IFERROR(VLOOKUP(O17,Table2[],2,TRUE),0)","v":0},0,0,0,null,null,0,{"$f":"IFERROR(VLOOKUP(V17,Table3[],2,TRUE),0)","v":0},0,0,0,null,0,null,0,0,{"$f":"IFERROR(VLOOKUP(AE17,Table4[],2,TRUE),0)","v":0},0,0,{"$f":"IF(AF17=AF16,0,AF17)","v":0}]
[7,null,null,null,0,null,null,0,{"$f":"IFERROR(VLOOKUP(H18,Table1[],2,TRUE),0)","v":0},0,0,0,null,null,0,{"$f":"IFERROR(VLOOKUP(O18,Table2[],2,TRUE),0)","v":0},0,0,0,null,null,0,{"$f":"IFERROR(VLOOKUP(V18,Table3[],2,TRUE),0)","v":0},0,0,0,null,0,null,0,0,{"$f":"IFERROR(VLOOKUP(AE18,Table4[],2,TRUE),0)","v":0},{"$f":"AF18-AF17","v":0},{"$f":"IF(AI18=0,0,AI18-AG18+1)","v":0},{"$f":"IF(AF18=AF17,0,AF18)","v":0}]
[8,null,null,null,0,null,null,0,{"$f":"IFERROR(VLOOKUP(H19,Table1[],2,TRUE),0)","v":0},0,0,0,null,null,0,{"$f":"IFERROR(VLOOKUP(O19,Table2[],2,TRUE),0)","v":0},0,0,0,null,null,0,{"$f":"IFERROR(VLOOKUP(V19,Table3[],2,TRUE),0)","v":0},0,0,0,null,0,null,0,0,{"$f":"IFERROR(VLOOKUP(AE19,Table4[],2,TRUE),0)","v":0},0,0,0]
[9,null,null,null,0,null,null,0,{"$f":"IFERROR(VLOOKUP(H20,Table1[],2,TRUE),0)","v":0},0,0,0,null,null,0,{"$f":"IFERROR(VLOOKUP(O20,Table2[],2,TRUE),0)","v":0},0,0,0,null,null,0,{"$f":"IFERROR(VLOOKUP(V20,Table3[],2,TRUE),0)","v":0},0,0,0,null,0,null,0,0,{"$f":"IFERROR(VLOOKUP(AE20,Table4[],2,TRUE),0)","v":0},0,0,0]
[10,null,null,null,0,null,null,0,{"$f":"IFERROR(VLOOKUP(H21,Table1[],2,TRUE),0)","v":0},0,0,0,null,null,0,{"$f":"IFERROR(VLOOKUP(O21,Table2[],2,TRUE),0)","v":0},0,0,0,null,null,0,{"$f":"IFERROR(VLOOKUP(V21,Table3[],2,TRUE),0)","v":0},0,0,0,null,0,null,0,0,{"$f":"IFERROR(VLOOKUP(AE21,Table4[],2,TRUE),0)","v":0},0,0,0]
[11,null,null,null,0,null,null,0,{"$f":"IFERROR(VLOOKUP(H22,Table1[],2,TRUE),0)","v":0},0,0,0,null,null,0,{"$f":"IFERROR(VLOOKUP(O22,Table2[],2,TRUE),0)","v":0},0,0,0,null,null,0,{"$f":"IFERROR(VLOOKUP(V22,Table3[],2,TRUE),0)","v":0},0,0,0,null,0,null,0,0,{"$f":"IFERROR(VLOOKUP(AE22,Table4[],2,TRUE),0)","v":0},0,0,0]
[12,null,null,null,0,null,null,0,{"$f":"IFERROR(VLOOKUP(H23,Table1[],2,TRUE),0)","v":0},0,0,0,null,null,0,{"$f":"IFERROR(VLOOKUP(O23,Table2[],2,TRUE),0)","v":0},0,0,0,null,null,0,{"$f":"IFERROR(VLOOKUP(V23,Table3[],2,TRUE),0)","v":0},0,0,0,null,0,null,0,0,{"$f":"IFERROR(VLOOKUP(AE23,Table4[],2,TRUE),0)","v":0},0,0,0]
[13,null,null,null,0,null,null,0,{"$f":"IFERROR(VLOOKUP(H24,Table1[],2,TRUE),0)","v":0},0,0,0,null,null,0,{"$f":"IFERROR(VLOOKUP(O24,Table2[],2,TRUE),0)","v":0},0,0,0,null,null,0,{"$f":"IFERROR(VLOOKUP(V24,Table3[],2,TRUE),0)","v":0},0,0,0,null,0,null,0,0,{"$f":"IFERROR(VLOOKUP(AE24,Table4[],2,TRUE),0)","v":0},0,0,0]
[14,null,null,null,0,null,null,0,{"$f":"IFERROR(VLOOKUP(H25,Table1[],2,TRUE),0)","v":0},0,0,0,null,null,0,{"$f":"IFERROR(VLOOKUP(O25,Table2[],2,TRUE),0)","v":0},0,0,0,null,null,0,{"$f":"IFERROR(VLOOKUP(V25,Table3[],2,TRUE),0)","v":0},0,0,0,null,0,null,0,0,{"$f":"IFERROR(VLOOKUP(AE25,Table4[],2,TRUE),0)","v":0},0,0,0]
[15,null,null,null,0,null,null,0,{"$f":"IFERROR(VLOOKUP(H26,Table1[],2,TRUE),0)","v":0},0,0,0,null,null,0,{"$f":"IFERROR(VLOOKUP(O26,Table2[],2,TRUE),0)","v":0},0,0,0,null,null,0,{"$f":"IFERROR(VLOOKUP(V26,Table3[],2,TRUE),0)","v":0},0,0,0,null,0,null,0,0,{"$f":"IFERROR(VLOOKUP(AE26,Table4[],2,TRUE),0)","v":0},0,0,0]
[16,null,null,null,0,null,null,0,{"$f":"IFERROR(VLOOKUP(H27,Table1[],2,TRUE),0)","v":0},0,0,0,null,null,0,{"$f":"IFERROR(VLOOKUP(O27,Table2[],2,TRUE),0)","v":0},0,0,0,null,null,0,{"$f":"IFERROR(VLOOKUP(V27,Table3[],2,TRUE),0)","v":0},0,0,0,null,0,null,0,0,{"$f":"IFERROR(VLOOKUP(AE27,Table4[],2,TRUE),0)","v":0},0,0,0]
[17,null,null,null,0,null,null,0,{"$f":"IFERROR(VLOOKUP(H28,Table1[],2,TRUE),0)","v":0},0,0,0,null,null,0,{"$f":"IFERROR(VLOOKUP(O28,Table2[],2,TRUE),0)","v":0},0,0,0,null,null,0,{"$f":"IFERROR(VLOOKUP(V28,Table3[],2,TRUE),0)","v":0},0,0,0,null,0,null,0,0,{"$f":"IFERROR(VLOOKUP(AE28,Table4[],2,TRUE),0)","v":0},0,0,0]
[18,null,null,null,0,null,null,0,{"$f":"IFERROR(VLOOKUP(H29,Table1[],2,TRUE),0)","v":0},0,0,0,null,null,0,{"$f":"IFERROR(VLOOKUP(O29,Table2[],2,TRUE),0)","v":0},0,0,0,null,null,0,{"$f":"IFERROR(VLOOKUP(V29,Table3[],2,TRUE),0)","v":0},0,0,0,null,0,null,0,0,{"$f":"IFERROR(VLOOKUP(AE29,Table4[],2,TRUE),0)","v":0},0,0,0]
[19,null,null,null,0,null,null,{"$f":"G30+H29","v":0},{"$f":"IFERROR(VLOOKUP(H30,Table1[],2,TRUE),0)","v":0},{"$f":"I30-I29","v":0},{"$f":"IF(L30=0,0,L30-J30+1)","v":0},{"$f":"IF(I30=I29,0,I30)","v":0},null,null,{"$f":"N30+O29","v":0},{"$f":"IFERROR(VLOOKUP(O30,Table2[],2,TRUE),0)","v":0},{"$f":"P30-P29","v":0},{"$f":"IF(S30=0,0,S30-Q30+1)","v":0},{"$f":"IF(P30=P29,0,P30)","v":0},null,null,{"$f":"U30+V29","v":0},{"$f":"IFERROR(VLOOKUP(V30,Table3[],2,TRUE),0)","v":0},{"$f":"W30-W29","v":0},{"$f":"IF(Z30=0,0,Z30-X30+1)","v":0},{"$f":"IF(W30=W29,0,W30)","v":0},null,{"$f":"ROUND((U30+N30+G30)*0.9,0)","v":0},null,{"$f":"IF($AI$6=\"Actual\",AC30,AB30)","v":0},{"$f":"AD30+AE29","v":0},{"$f":"IFERROR(VLOOKUP(AE30,Table4[],2,TRUE),0)","v":0},{"$f":"AF30-AF29","v":0},{"$f":"IF(AI30=0,0,AI30-AG30+1)","v":0},{"$f":"IF(AF30=AF29,0,AF30)","v":0}]
["Totals",null,null,null,{"$f":"SUM(E12:E30)","v":0},null,{"$f":"SUM(G12:G30)","v":0},null,null,null,null,null,null,{"$f":"SUM(N12:N30)","v":0},null,null,null,null,null,null,{"$f":"SUM(U12:U30)","v":0},null,null,null,null,null,null,{"$f":"SUM(AB12:AB30)","v":0},null,{"$f":"SUM(AD12:AD30)","v":0},null,{"$f":"SUM(AF12:AF30)","v":0}]
[null,null,null,null,null,null,null,null,null,null,"I certify that the work described herein fulfills the standards expected of a member of the Association of British Columbia Forest Professionals and that I did personally supervise the work"]
["Spot Accumulation Area (if known)"]
["Total Aggregate Area for Eforwaste",null,null,{"$f":"G31+N31+U31+D33","v":0},null,null,null,null,null,null,"I certify that I personally completed the work"]
[]
[null,null,null,null,null,null,null,null,null,null,"I certify that I have reviewed this document and, while I did not personally supervise the work described, I have determined that this work has been done to the standards expected of a member of the Association of British Columbia Forest Professionals"]
[]
[null,null,null,null,null,null,"Name",null,null,null,null,null,null,null,null,null,null,null,null,null,"Professional Designation"]
[null,null,null,null,null,null,"Date",null,null,null,null,{"$f":"TODAY()","v":"2021-07-13"},null,null,null,null,null,null,null,null,"Registration Number"]

{"sheet":"Final Area","index":2,"n_rows":29,"n_cols":11,"rows_kept":29,"cut":false,"hidden":false,"merged":[[3,1,3,3],[4,9,5,9]]}
["Aggregate Sample Plan"]
["Version 1.2"]
[]
[]
[null,null,null,null,null,null,null,null,{"$f":"'Sample Plan'!AB4","v":"Spot Accumulation Stratum "},"Other Stratum Areas (ha)\n(i.e. standing tree)"]
[null,"Licence","CP","Block Name ",null,{"$f":"'Sample Plan'!K4","v":"Dispersed 1"},{"$f":"'Sample Plan'!R4","v":"Dispersed 2"},{"$f":"'Sample Plan'!Y4","v":"Dispersed 2"},"Area (ha)",null,"Total"]
[1,{"$f":"'Sample Plan'!B12","v":0},{"$f":"'Sample Plan'!C12","v":0},{"$f":"'Sample Plan'!D12","v":0},null,null,null,null,null,null,{"$f":"SUM(F7:J7)","v":0}]
[2,{"$f":"'Sample Plan'!B13","v":0},{"$f":"'Sample Plan'!C13","v":0},{"$f":"'Sample Plan'!D13","v":0},null,null,null,null,null,null,{"$f":"SUM(F8:J8)","v":0}]
[3,{"$f":"'Sample Plan'!B14","v":0},{"$f":"'Sample Plan'!C14","v":0},{"$f":"'Sample Plan'!D14","v":0},null,null,null,null,null,null,0]
[4,{"$f":"'Sample Plan'!B15","v":0},{"$f":"'Sample Plan'!C15","v":0},{"$f":"'Sample Plan'!D15","v":0},null,null,null,null,null,null,0]
[5,{"$f":"'Sample Plan'!B16","v":0},{"$f":"'Sample Plan'!C16","v":0},{"$f":"'Sample Plan'!D16","v":0},null,null,null,null,null,null,0]
[6,{"$f":"'Sample Plan'!B17","v":0},{"$f":"'Sample Plan'!C17","v":0},{"$f":"'Sample Plan'!D17","v":0},null,null,null,null,null,null,0]
[7,{"$f":"'Sample Plan'!B18","v":0},{"$f":"'Sample Plan'!C18","v":0},{"$f":"'Sample Plan'!D18","v":0},null,null,null,null,null,null,0]
[8,{"$f":"'Sample Plan'!B19","v":0},{"$f":"'Sample Plan'!C19","v":0},{"$f":"'Sample Plan'!D19","v":0},null,null,null,null,null,null,0]
[9,{"$f":"'Sample Plan'!B20","v":0},{"$f":"'Sample Plan'!C20","v":0},{"$f":"'Sample Plan'!D20","v":0},null,null,null,null,null,null,0]
[10,{"$f":"'Sample Plan'!B21","v":0},{"$f":"'Sample Plan'!C21","v":0},{"$f":"'Sample Plan'!D21","v":0},null,null,null,null,null,null,0]
[11,{"$f":"'Sample Plan'!B22","v":0},{"$f":"'Sample Plan'!C22","v":0},{"$f":"'Sample Plan'!D22","v":0},null,null,null,null,null,null,0]
[12,{"$f":"'Sample Plan'!B23","v":0},{"$f":"'Sample Plan'!C23","v":0},{"$f":"'Sample Plan'!D23","v":0},null,null,null,null,null,null,0]
[13,{"$f":"'Sample Plan'!B24","v":0},{"$f":"'Sample Plan'!C24","v":0},{"$f":"'Sample Plan'!D24","v":0},null,null,null,null,null,null,0]
[14,{"$f":"'Sample Plan'!B25","v":0},{"$f":"'Sample Plan'!C25","v":0},{"$f":"'Sample Plan'!D25","v":0},null,null,null,null,null,null,0]
[15,{"$f":"'Sample Plan'!B26","v":0},{"$f":"'Sample Plan'!C26","v":0},{"$f":"'Sample Plan'!D26","v":0},null,null,null,null,null,null,0]
[16,{"$f":"'Sample Plan'!B27","v":0},{"$f":"'Sample Plan'!C27","v":0},{"$f":"'Sample Plan'!D27","v":0},null,null,null,null,null,null,0]
[17,{"$f":"'Sample Plan'!B28","v":0},{"$f":"'Sample Plan'!C28","v":0},{"$f":"'Sample Plan'!D28","v":0},null,null,null,null,null,null,0]
[18,{"$f":"'Sample Plan'!B29","v":0},{"$f":"'Sample Plan'!C29","v":0},{"$f":"'Sample Plan'!D29","v":0},null,null,null,null,null,null,0]
[19,{"$f":"'Sample Plan'!B30","v":0},{"$f":"'Sample Plan'!C30","v":0},{"$f":"'Sample Plan'!D30","v":0},null,null,null,null,null,null,{"$f":"SUM(F25:J25)","v":0}]
["Totals",null,null,null,null,{"$f":"SUM(F7:F25)","v":0},0,0,0,0,0]
[]
[]
["Total Aggregate Area ",null,null,{"$f":"SUM(F26:J26)","v":0}]

{"sheet":"Lookups","index":3,"n_rows":157,"n_cols":12,"rows_kept":157,"cut":false,"hidden":true,"merged":[]}
[]
[]
[]
[]
[]
[null,{"$f":"'Sample Plan'!K4","v":"Dispersed 1"},null,null,{"$f":"'Sample Plan'!R4","v":"Dispersed 2"},null,null,"Stratum 3 - Dispersed",null,null,"Stratum 4 - Accumulations"]
[null,"Cumulative Area","Plots",null,"Cumulative Area","Plots",null,"Cumulative Area","Plots",null,"Cumulative Area","Plots"]
[null,{"$f":"('Sample Plan'!$G$8*'Sample Plan'!D6)","v":{"$error":"#VALUE!"}},1,null,{"$f":"'Sample Plan'!N8*'Sample Plan'!D6","v":{"$error":"#VALUE!"}},1,null,{"$f":"'Sample Plan'!U8*'Sample Plan'!D6","v":{"$error":"#VALUE!"}},1,null,{"$f":"'Sample Plan'!AC8*'Sample Plan'!D6","v":{"$error":"#VALUE!"}},1]
[null,{"$f":"B8+'Sample Plan'!$G$8","v":{"$error":"#VALUE!"}},2,null,{"$f":"E8+'Sample Plan'!$N$8","v":{"$error":"#VALUE!"}},2,null,{"$f":"H8+'Sample Plan'!$U$8","v":{"$error":"#VALUE!"}},2,null,{"$f":"K8+'Sample Plan'!$AC$8","v":{"$error":"#VALUE!"}},2]
[null,{"$f":"B9+'Sample Plan'!$G$8","v":{"$error":"#VALUE!"}},3,null,{"$f":"E9+'Sample Plan'!$N$8","v":{"$error":"#VALUE!"}},3,null,{"$f":"H9+'Sample Plan'!$U$8","v":{"$error":"#VALUE!"}},3,null,{"$f":"K9+'Sample Plan'!$AC$8","v":{"$error":"#VALUE!"}},3]
[null,{"$f":"B10+'Sample Plan'!$G$8","v":{"$error":"#VALUE!"}},4,null,{"$f":"E10+'Sample Plan'!$N$8","v":{"$error":"#VALUE!"}},4,null,{"$f":"H10+'Sample Plan'!$U$8","v":{"$error":"#VALUE!"}},4,null,{"$f":"K10+'Sample Plan'!$AC$8","v":{"$error":"#VALUE!"}},4]
[null,{"$f":"B11+'Sample Plan'!$G$8","v":{"$error":"#VALUE!"}},5,null,{"$f":"E11+'Sample Plan'!$N$8","v":{"$error":"#VALUE!"}},5,null,{"$f":"H11+'Sample Plan'!$U$8","v":{"$error":"#VALUE!"}},5,null,{"$f":"K11+'Sample Plan'!$AC$8","v":{"$error":"#VALUE!"}},5]
[null,{"$f":"B12+'Sample Plan'!$G$8","v":{"$error":"#VALUE!"}},6,null,{"$f":"E12+'Sample Plan'!$N$8","v":{"$error":"#VALUE!"}},6,null,{"$f":"H12+'Sample Plan'!$U$8","v":{"$error":"#VALUE!"}},6,null,{"$f":"K12+'Sample Plan'!$AC$8","v":{"$error":"#VALUE!"}},6]
[null,{"$f":"B13+'Sample Plan'!$G$8","v":{"$error":"#VALUE!"}},7,null,{"$f":"E13+'Sample Plan'!$N$8","v":{"$error":"#VALUE!"}},7,null,{"$f":"H13+'Sample Plan'!$U$8","v":{"$error":"#VALUE!"}},7,null,{"$f":"K13+'Sample Plan'!$AC$8","v":{"$error":"#VALUE!"}},7]
[null,{"$f":"B14+'Sample Plan'!$G$8","v":{"$error":"#VALUE!"}},8,null,{"$f":"E14+'Sample Plan'!$N$8","v":{"$error":"#VALUE!"}},8,null,{"$f":"H14+'Sample Plan'!$U$8","v":{"$error":"#VALUE!"}},8,null,{"$f":"K14+'Sample Plan'!$AC$8","v":{"$error":"#VALUE!"}},8]
[null,{"$f":"B15+'Sample Plan'!$G$8","v":{"$error":"#VALUE!"}},9,null,{"$f":"E15+'Sample Plan'!$N$8","v":{"$error":"#VALUE!"}},9,null,{"$f":"H15+'Sample Plan'!$U$8","v":{"$error":"#VALUE!"}},9,null,{"$f":"K15+'Sample Plan'!$AC$8","v":{"$error":"#VALUE!"}},9]
[null,{"$f":"B16+'Sample Plan'!$G$8","v":{"$error":"#VALUE!"}},10,null,{"$f":"E16+'Sample Plan'!$N$8","v":{"$error":"#VALUE!"}},10,null,{"$f":"H16+'Sample Plan'!$U$8","v":{"$error":"#VALUE!"}},10,null,{"$f":"K16+'Sample Plan'!$AC$8","v":{"$error":"#VALUE!"}},10]
[null,{"$f":"B17+'Sample Plan'!$G$8","v":{"$error":"#VALUE!"}},11,null,{"$f":"E17+'Sample Plan'!$N$8","v":{"$error":"#VALUE!"}},11,null,{"$f":"H17+'Sample Plan'!$U$8","v":{"$error":"#VALUE!"}},11,null,{"$f":"K17+'Sample Plan'!$AC$8","v":{"$error":"#VALUE!"}},11]
[null,{"$f":"B18+'Sample Plan'!$G$8","v":{"$error":"#VALUE!"}},12,null,{"$f":"E18+'Sample Plan'!$N$8","v":{"$error":"#VALUE!"}},12,null,{"$f":"H18+'Sample Plan'!$U$8","v":{"$error":"#VALUE!"}},12,null,{"$f":"K18+'Sample Plan'!$AC$8","v":{"$error":"#VALUE!"}},12]
[null,{"$f":"B19+'Sample Plan'!$G$8","v":{"$error":"#VALUE!"}},13,null,{"$f":"E19+'Sample Plan'!$N$8","v":{"$error":"#VALUE!"}},13,null,{"$f":"H19+'Sample Plan'!$U$8","v":{"$error":"#VALUE!"}},13,null,{"$f":"K19+'Sample Plan'!$AC$8","v":{"$error":"#VALUE!"}},13]
[null,{"$f":"B20+'Sample Plan'!$G$8","v":{"$error":"#VALUE!"}},14,null,{"$f":"E20+'Sample Plan'!$N$8","v":{"$error":"#VALUE!"}},14,null,{"$f":"H20+'Sample Plan'!$U$8","v":{"$error":"#VALUE!"}},14,null,{"$f":"K20+'Sample Plan'!$AC$8","v":{"$error":"#VALUE!"}},14]
[null,{"$f":"B21+'Sample Plan'!$G$8","v":{"$error":"#VALUE!"}},15,null,{"$f":"E21+'Sample Plan'!$N$8","v":{"$error":"#VALUE!"}},15,null,{"$f":"H21+'Sample Plan'!$U$8","v":{"$error":"#VALUE!"}},15,null,{"$f":"K21+'Sample Plan'!$AC$8","v":{"$error":"#VALUE!"}},15]
[null,{"$f":"B22+'Sample Plan'!$G$8","v":{"$error":"#VALUE!"}},16,null,{"$f":"E22+'Sample Plan'!$N$8","v":{"$error":"#VALUE!"}},16,null,{"$f":"H22+'Sample Plan'!$U$8","v":{"$error":"#VALUE!"}},16,null,{"$f":"K22+'Sample Plan'!$AC$8","v":{"$error":"#VALUE!"}},16]
[null,{"$f":"B23+'Sample Plan'!$G$8","v":{"$error":"#VALUE!"}},17,null,{"$f":"E23+'Sample Plan'!$N$8","v":{"$error":"#VALUE!"}},17,null,{"$f":"H23+'Sample Plan'!$U$8","v":{"$error":"#VALUE!"}},17,null,{"$f":"K23+'Sample Plan'!$AC$8","v":{"$error":"#VALUE!"}},17]
[null,{"$f":"B24+'Sample Plan'!$G$8","v":{"$error":"#VALUE!"}},18,null,{"$f":"E24+'Sample Plan'!$N$8","v":{"$error":"#VALUE!"}},18,null,{"$f":"H24+'Sample Plan'!$U$8","v":{"$error":"#VALUE!"}},18,null,{"$f":"K24+'Sample Plan'!$AC$8","v":{"$error":"#VALUE!"}},18]
[null,{"$f":"B25+'Sample Plan'!$G$8","v":{"$error":"#VALUE!"}},19,null,{"$f":"E25+'Sample Plan'!$N$8","v":{"$error":"#VALUE!"}},19,null,{"$f":"H25+'Sample Plan'!$U$8","v":{"$error":"#VALUE!"}},19,null,{"$f":"K25+'Sample Plan'!$AC$8","v":{"$error":"#VALUE!"}},19]
[null,{"$f":"B26+'Sample Plan'!$G$8","v":{"$error":"#VALUE!"}},20,null,{"$f":"E26+'Sample Plan'!$N$8","v":{"$error":"#VALUE!"}},20,null,{"$f":"H26+'Sample Plan'!$U$8","v":{"$error":"#VALUE!"}},20,null,{"$f":"K26+'Sample Plan'!$AC$8","v":{"$error":"#VALUE!"}},20]
[null,{"$f":"B27+'Sample Plan'!$G$8","v":{"$error":"#VALUE!"}},21,null,{"$f":"E27+'Sample Plan'!$N$8","v":{"$error":"#VALUE!"}},21,null,{"$f":"H27+'Sample Plan'!$U$8","v":{"$error":"#VALUE!"}},21,null,{"$f":"K27+'Sample Plan'!$AC$8","v":{"$error":"#VALUE!"}},21]
[null,{"$f":"B28+'Sample Plan'!$G$8","v":{"$error":"#VALUE!"}},22,null,{"$f":"E28+'Sample Plan'!$N$8","v":{"$error":"#VALUE!"}},22,null,{"$f":"H28+'Sample Plan'!$U$8","v":{"$error":"#VALUE!"}},22,null,{"$f":"K28+'Sample Plan'!$AC$8","v":{"$error":"#VALUE!"}},22]
[null,{"$f":"B29+'Sample Plan'!$G$8","v":{"$error":"#VALUE!"}},23,null,{"$f":"E29+'Sample Plan'!$N$8","v":{"$error":"#VALUE!"}},23,null,{"$f":"H29+'Sample Plan'!$U$8","v":{"$error":"#VALUE!"}},23,null,{"$f":"K29+'Sample Plan'!$AC$8","v":{"$error":"#VALUE!"}},23]
[null,{"$f":"B30+'Sample Plan'!$G$8","v":{"$error":"#VALUE!"}},24,null,{"$f":"E30+'Sample Plan'!$N$8","v":{"$error":"#VALUE!"}},24,null,{"$f":"H30+'Sample Plan'!$U$8","v":{"$error":"#VALUE!"}},24,null,{"$f":"K30+'Sample Plan'!$AC$8","v":{"$error":"#VALUE!"}},24]
[null,{"$f":"B31+'Sample Plan'!$G$8","v":{"$error":"#VALUE!"}},25,null,{"$f":"E31+'Sample Plan'!$N$8","v":{"$error":"#VALUE!"}},25,null,{"$f":"H31+'Sample Plan'!$U$8","v":{"$error":"#VALUE!"}},25,null,{"$f":"K31+'Sample Plan'!$AC$8","v":{"$error":"#VALUE!"}},25]
[null,{"$f":"B32+'Sample Plan'!$G$8","v":{"$error":"#VALUE!"}},26,null,{"$f":"E32+'Sample Plan'!$N$8","v":{"$error":"#VALUE!"}},26,null,{"$f":"H32+'Sample Plan'!$U$8","v":{"$error":"#VALUE!"}},26,null,{"$f":"K32+'Sample Plan'!$AC$8","v":{"$error":"#VALUE!"}},26]
[null,{"$f":"B33+'Sample Plan'!$G$8","v":{"$error":"#VALUE!"}},27,null,{"$f":"E33+'Sample Plan'!$N$8","v":{"$error":"#VALUE!"}},27,null,{"$f":"H33+'Sample Plan'!$U$8","v":{"$error":"#VALUE!"}},27,null,{"$f":"K33+'Sample Plan'!$AC$8","v":{"$error":"#VALUE!"}},27]
[null,{"$f":"B34+'Sample Plan'!$G$8","v":{"$error":"#VALUE!"}},28,null,{"$f":"E34+'Sample Plan'!$N$8","v":{"$error":"#VALUE!"}},28,null,{"$f":"H34+'Sample Plan'!$U$8","v":{"$error":"#VALUE!"}},28,null,{"$f":"K34+'Sample Plan'!$AC$8","v":{"$error":"#VALUE!"}},28]
[null,{"$f":"B35+'Sample Plan'!$G$8","v":{"$error":"#VALUE!"}},29,null,{"$f":"E35+'Sample Plan'!$N$8","v":{"$error":"#VALUE!"}},29,null,{"$f":"H35+'Sample Plan'!$U$8","v":{"$error":"#VALUE!"}},29,null,{"$f":"K35+'Sample Plan'!$AC$8","v":{"$error":"#VALUE!"}},29]
[null,{"$f":"B36+'Sample Plan'!$G$8","v":{"$error":"#VALUE!"}},30,null,{"$f":"E36+'Sample Plan'!$N$8","v":{"$error":"#VALUE!"}},30,null,{"$f":"H36+'Sample Plan'!$U$8","v":{"$error":"#VALUE!"}},30,null,{"$f":"K36+'Sample Plan'!$AC$8","v":{"$error":"#VALUE!"}},30]
[null,{"$f":"B37+'Sample Plan'!$G$8","v":{"$error":"#VALUE!"}},31,null,{"$f":"E37+'Sample Plan'!$N$8","v":{"$error":"#VALUE!"}},31,null,{"$f":"H37+'Sample Plan'!$U$8","v":{"$error":"#VALUE!"}},31,null,{"$f":"K37+'Sample Plan'!$AC$8","v":{"$error":"#VALUE!"}},31]
[null,{"$f":"B38+'Sample Plan'!$G$8","v":{"$error":"#VALUE!"}},32,null,{"$f":"E38+'Sample Plan'!$N$8","v":{"$error":"#VALUE!"}},32,null,{"$f":"H38+'Sample Plan'!$U$8","v":{"$error":"#VALUE!"}},32,null,{"$f":"K38+'Sample Plan'!$AC$8","v":{"$error":"#VALUE!"}},32]
[null,{"$f":"B39+'Sample Plan'!$G$8","v":{"$error":"#VALUE!"}},33,null,{"$f":"E39+'Sample Plan'!$N$8","v":{"$error":"#VALUE!"}},33,null,{"$f":"H39+'Sample Plan'!$U$8","v":{"$error":"#VALUE!"}},33,null,{"$f":"K39+'Sample Plan'!$AC$8","v":{"$error":"#VALUE!"}},33]
[null,{"$f":"B40+'Sample Plan'!$G$8","v":{"$error":"#VALUE!"}},34,null,{"$f":"E40+'Sample Plan'!$N$8","v":{"$error":"#VALUE!"}},34,null,{"$f":"H40+'Sample Plan'!$U$8","v":{"$error":"#VALUE!"}},34,null,{"$f":"K40+'Sample Plan'!$AC$8","v":{"$error":"#VALUE!"}},34]
[null,{"$f":"B41+'Sample Plan'!$G$8","v":{"$error":"#VALUE!"}},35,null,{"$f":"E41+'Sample Plan'!$N$8","v":{"$error":"#VALUE!"}},35,null,{"$f":"H41+'Sample Plan'!$U$8","v":{"$error":"#VALUE!"}},35,null,{"$f":"K41+'Sample Plan'!$AC$8","v":{"$error":"#VALUE!"}},35]
[null,{"$f":"B42+'Sample Plan'!$G$8","v":{"$error":"#VALUE!"}},36,null,{"$f":"E42+'Sample Plan'!$N$8","v":{"$error":"#VALUE!"}},36,null,{"$f":"H42+'Sample Plan'!$U$8","v":{"$error":"#VALUE!"}},36,null,{"$f":"K42+'Sample Plan'!$AC$8","v":{"$error":"#VALUE!"}},36]
[null,{"$f":"B43+'Sample Plan'!$G$8","v":{"$error":"#VALUE!"}},37,null,{"$f":"E43+'Sample Plan'!$N$8","v":{"$error":"#VALUE!"}},37,null,{"$f":"H43+'Sample Plan'!$U$8","v":{"$error":"#VALUE!"}},37,null,{"$f":"K43+'Sample Plan'!$AC$8","v":{"$error":"#VALUE!"}},37]
[null,{"$f":"B44+'Sample Plan'!$G$8","v":{"$error":"#VALUE!"}},38,null,{"$f":"E44+'Sample Plan'!$N$8","v":{"$error":"#VALUE!"}},38,null,{"$f":"H44+'Sample Plan'!$U$8","v":{"$error":"#VALUE!"}},38,null,{"$f":"K44+'Sample Plan'!$AC$8","v":{"$error":"#VALUE!"}},38]
[null,{"$f":"B45+'Sample Plan'!$G$8","v":{"$error":"#VALUE!"}},39,null,{"$f":"E45+'Sample Plan'!$N$8","v":{"$error":"#VALUE!"}},39,null,{"$f":"H45+'Sample Plan'!$U$8","v":{"$error":"#VALUE!"}},39,null,{"$f":"K45+'Sample Plan'!$AC$8","v":{"$error":"#VALUE!"}},39]
[null,{"$f":"B46+'Sample Plan'!$G$8","v":{"$error":"#VALUE!"}},40,null,{"$f":"E46+'Sample Plan'!$N$8","v":{"$error":"#VALUE!"}},40,null,{"$f":"H46+'Sample Plan'!$U$8","v":{"$error":"#VALUE!"}},40,null,{"$f":"K46+'Sample Plan'!$AC$8","v":{"$error":"#VALUE!"}},40]
[null,{"$f":"B47+'Sample Plan'!$G$8","v":{"$error":"#VALUE!"}},41,null,{"$f":"E47+'Sample Plan'!$N$8","v":{"$error":"#VALUE!"}},41,null,{"$f":"H47+'Sample Plan'!$U$8","v":{"$error":"#VALUE!"}},41,null,{"$f":"K47+'Sample Plan'!$AC$8","v":{"$error":"#VALUE!"}},41]
[null,{"$f":"B48+'Sample Plan'!$G$8","v":{"$error":"#VALUE!"}},42,null,{"$f":"E48+'Sample Plan'!$N$8","v":{"$error":"#VALUE!"}},42,null,{"$f":"H48+'Sample Plan'!$U$8","v":{"$error":"#VALUE!"}},42,null,{"$f":"K48+'Sample Plan'!$AC$8","v":{"$error":"#VALUE!"}},42]
[null,{"$f":"B49+'Sample Plan'!$G$8","v":{"$error":"#VALUE!"}},43,null,{"$f":"E49+'Sample Plan'!$N$8","v":{"$error":"#VALUE!"}},43,null,{"$f":"H49+'Sample Plan'!$U$8","v":{"$error":"#VALUE!"}},43,null,{"$f":"K49+'Sample Plan'!$AC$8","v":{"$error":"#VALUE!"}},43]
[null,{"$f":"B50+'Sample Plan'!$G$8","v":{"$error":"#VALUE!"}},44,null,{"$f":"E50+'Sample Plan'!$N$8","v":{"$error":"#VALUE!"}},44,null,{"$f":"H50+'Sample Plan'!$U$8","v":{"$error":"#VALUE!"}},44,null,{"$f":"K50+'Sample Plan'!$AC$8","v":{"$error":"#VALUE!"}},44]
[null,{"$f":"B51+'Sample Plan'!$G$8","v":{"$error":"#VALUE!"}},45,null,{"$f":"E51+'Sample Plan'!$N$8","v":{"$error":"#VALUE!"}},45,null,{"$f":"H51+'Sample Plan'!$U$8","v":{"$error":"#VALUE!"}},45,null,{"$f":"K51+'Sample Plan'!$AC$8","v":{"$error":"#VALUE!"}},45]
[null,{"$f":"B52+'Sample Plan'!$G$8","v":{"$error":"#VALUE!"}},46,null,{"$f":"E52+'Sample Plan'!$N$8","v":{"$error":"#VALUE!"}},46,null,{"$f":"H52+'Sample Plan'!$U$8","v":{"$error":"#VALUE!"}},46,null,{"$f":"K52+'Sample Plan'!$AC$8","v":{"$error":"#VALUE!"}},46]
[null,{"$f":"B53+'Sample Plan'!$G$8","v":{"$error":"#VALUE!"}},47,null,{"$f":"E53+'Sample Plan'!$N$8","v":{"$error":"#VALUE!"}},47,null,{"$f":"H53+'Sample Plan'!$U$8","v":{"$error":"#VALUE!"}},47,null,{"$f":"K53+'Sample Plan'!$AC$8","v":{"$error":"#VALUE!"}},47]
[null,{"$f":"B54+'Sample Plan'!$G$8","v":{"$error":"#VALUE!"}},48,null,{"$f":"E54+'Sample Plan'!$N$8","v":{"$error":"#VALUE!"}},48,null,{"$f":"H54+'Sample Plan'!$U$8","v":{"$error":"#VALUE!"}},48,null,{"$f":"K54+'Sample Plan'!$AC$8","v":{"$error":"#VALUE!"}},48]
[null,{"$f":"B55+'Sample Plan'!$G$8","v":{"$error":"#VALUE!"}},49,null,{"$f":"E55+'Sample Plan'!$N$8","v":{"$error":"#VALUE!"}},49,null,{"$f":"H55+'Sample Plan'!$U$8","v":{"$error":"#VALUE!"}},49,null,{"$f":"K55+'Sample Plan'!$AC$8","v":{"$error":"#VALUE!"}},49]
[null,{"$f":"B56+'Sample Plan'!$G$8","v":{"$error":"#VALUE!"}},50,null,{"$f":"E56+'Sample Plan'!$N$8","v":{"$error":"#VALUE!"}},50,null,{"$f":"H56+'Sample Plan'!$U$8","v":{"$error":"#VALUE!"}},50,null,{"$f":"K56+'Sample Plan'!$AC$8","v":{"$error":"#VALUE!"}},50]
[null,{"$f":"B57+'Sample Plan'!$G$8","v":{"$error":"#VALUE!"}},51,null,{"$f":"E57+'Sample Plan'!$N$8","v":{"$error":"#VALUE!"}},51,null,{"$f":"H57+'Sample Plan'!$U$8","v":{"$error":"#VALUE!"}},51,null,{"$f":"K57+'Sample Plan'!$AC$8","v":{"$error":"#VALUE!"}},51]
[null,{"$f":"B58+'Sample Plan'!$G$8","v":{"$error":"#VALUE!"}},52,null,{"$f":"E58+'Sample Plan'!$N$8","v":{"$error":"#VALUE!"}},52,null,{"$f":"H58+'Sample Plan'!$U$8","v":{"$error":"#VALUE!"}},52,null,{"$f":"K58+'Sample Plan'!$AC$8","v":{"$error":"#VALUE!"}},52]
[null,{"$f":"B59+'Sample Plan'!$G$8","v":{"$error":"#VALUE!"}},53,null,{"$f":"E59+'Sample Plan'!$N$8","v":{"$error":"#VALUE!"}},53,null,{"$f":"H59+'Sample Plan'!$U$8","v":{"$error":"#VALUE!"}},53,null,{"$f":"K59+'Sample Plan'!$AC$8","v":{"$error":"#VALUE!"}},53]
[null,{"$f":"B60+'Sample Plan'!$G$8","v":{"$error":"#VALUE!"}},54,null,{"$f":"E60+'Sample Plan'!$N$8","v":{"$error":"#VALUE!"}},54,null,{"$f":"H60+'Sample Plan'!$U$8","v":{"$error":"#VALUE!"}},54,null,{"$f":"K60+'Sample Plan'!$AC$8","v":{"$error":"#VALUE!"}},54]
[null,{"$f":"B61+'Sample Plan'!$G$8","v":{"$error":"#VALUE!"}},55,null,{"$f":"E61+'Sample Plan'!$N$8","v":{"$error":"#VALUE!"}},55,null,{"$f":"H61+'Sample Plan'!$U$8","v":{"$error":"#VALUE!"}},55,null,{"$f":"K61+'Sample Plan'!$AC$8","v":{"$error":"#VALUE!"}},55]
[null,{"$f":"B62+'Sample Plan'!$G$8","v":{"$error":"#VALUE!"}},56,null,{"$f":"E62+'Sample Plan'!$N$8","v":{"$error":"#VALUE!"}},56,null,{"$f":"H62+'Sample Plan'!$U$8","v":{"$error":"#VALUE!"}},56,null,{"$f":"K62+'Sample Plan'!$AC$8","v":{"$error":"#VALUE!"}},56]
[null,{"$f":"B63+'Sample Plan'!$G$8","v":{"$error":"#VALUE!"}},57,null,{"$f":"E63+'Sample Plan'!$N$8","v":{"$error":"#VALUE!"}},57,null,{"$f":"H63+'Sample Plan'!$U$8","v":{"$error":"#VALUE!"}},57,null,{"$f":"K63+'Sample Plan'!$AC$8","v":{"$error":"#VALUE!"}},57]
[null,{"$f":"B64+'Sample Plan'!$G$8","v":{"$error":"#VALUE!"}},58,null,{"$f":"E64+'Sample Plan'!$N$8","v":{"$error":"#VALUE!"}},58,null,{"$f":"H64+'Sample Plan'!$U$8","v":{"$error":"#VALUE!"}},58,null,{"$f":"K64+'Sample Plan'!$AC$8","v":{"$error":"#VALUE!"}},58]
[null,{"$f":"B65+'Sample Plan'!$G$8","v":{"$error":"#VALUE!"}},59,null,{"$f":"E65+'Sample Plan'!$N$8","v":{"$error":"#VALUE!"}},59,null,{"$f":"H65+'Sample Plan'!$U$8","v":{"$error":"#VALUE!"}},59,null,{"$f":"K65+'Sample Plan'!$AC$8","v":{"$error":"#VALUE!"}},59]
[null,{"$f":"B66+'Sample Plan'!$G$8","v":{"$error":"#VALUE!"}},60,null,{"$f":"E66+'Sample Plan'!$N$8","v":{"$error":"#VALUE!"}},60,null,{"$f":"H66+'Sample Plan'!$U$8","v":{"$error":"#VALUE!"}},60,null,{"$f":"K66+'Sample Plan'!$AC$8","v":{"$error":"#VALUE!"}},60]
[null,{"$f":"B67+'Sample Plan'!$G$8","v":{"$error":"#VALUE!"}},61,null,{"$f":"E67+'Sample Plan'!$N$8","v":{"$error":"#VALUE!"}},61,null,{"$f":"H67+'Sample Plan'!$U$8","v":{"$error":"#VALUE!"}},61,null,{"$f":"K67+'Sample Plan'!$AC$8","v":{"$error":"#VALUE!"}},61]
[null,{"$f":"B68+'Sample Plan'!$G$8","v":{"$error":"#VALUE!"}},62,null,{"$f":"E68+'Sample Plan'!$N$8","v":{"$error":"#VALUE!"}},62,null,{"$f":"H68+'Sample Plan'!$U$8","v":{"$error":"#VALUE!"}},62,null,{"$f":"K68+'Sample Plan'!$AC$8","v":{"$error":"#VALUE!"}},62]
[null,{"$f":"B69+'Sample Plan'!$G$8","v":{"$error":"#VALUE!"}},63,null,{"$f":"E69+'Sample Plan'!$N$8","v":{"$error":"#VALUE!"}},63,null,{"$f":"H69+'Sample Plan'!$U$8","v":{"$error":"#VALUE!"}},63,null,{"$f":"K69+'Sample Plan'!$AC$8","v":{"$error":"#VALUE!"}},63]
[null,{"$f":"B70+'Sample Plan'!$G$8","v":{"$error":"#VALUE!"}},64,null,{"$f":"E70+'Sample Plan'!$N$8","v":{"$error":"#VALUE!"}},64,null,{"$f":"H70+'Sample Plan'!$U$8","v":{"$error":"#VALUE!"}},64,null,{"$f":"K70+'Sample Plan'!$AC$8","v":{"$error":"#VALUE!"}},64]
[null,{"$f":"B71+'Sample Plan'!$G$8","v":{"$error":"#VALUE!"}},65,null,{"$f":"E71+'Sample Plan'!$N$8","v":{"$error":"#VALUE!"}},65,null,{"$f":"H71+'Sample Plan'!$U$8","v":{"$error":"#VALUE!"}},65,null,{"$f":"K71+'Sample Plan'!$AC$8","v":{"$error":"#VALUE!"}},65]
[null,{"$f":"B72+'Sample Plan'!$G$8","v":{"$error":"#VALUE!"}},66,null,{"$f":"E72+'Sample Plan'!$N$8","v":{"$error":"#VALUE!"}},66,null,{"$f":"H72+'Sample Plan'!$U$8","v":{"$error":"#VALUE!"}},66,null,{"$f":"K72+'Sample Plan'!$AC$8","v":{"$error":"#VALUE!"}},66]
[null,{"$f":"B73+'Sample Plan'!$G$8","v":{"$error":"#VALUE!"}},67,null,{"$f":"E73+'Sample Plan'!$N$8","v":{"$error":"#VALUE!"}},67,null,{"$f":"H73+'Sample Plan'!$U$8","v":{"$error":"#VALUE!"}},67,null,{"$f":"K73+'Sample Plan'!$AC$8","v":{"$error":"#VALUE!"}},67]
[null,{"$f":"B74+'Sample Plan'!$G$8","v":{"$error":"#VALUE!"}},68,null,{"$f":"E74+'Sample Plan'!$N$8","v":{"$error":"#VALUE!"}},68,null,{"$f":"H74+'Sample Plan'!$U$8","v":{"$error":"#VALUE!"}},68,null,{"$f":"K74+'Sample Plan'!$AC$8","v":{"$error":"#VALUE!"}},68]
[null,{"$f":"B75+'Sample Plan'!$G$8","v":{"$error":"#VALUE!"}},69,null,{"$f":"E75+'Sample Plan'!$N$8","v":{"$error":"#VALUE!"}},69,null,{"$f":"H75+'Sample Plan'!$U$8","v":{"$error":"#VALUE!"}},69,null,{"$f":"K75+'Sample Plan'!$AC$8","v":{"$error":"#VALUE!"}},69]
[null,{"$f":"B76+'Sample Plan'!$G$8","v":{"$error":"#VALUE!"}},70,null,{"$f":"E76+'Sample Plan'!$N$8","v":{"$error":"#VALUE!"}},70,null,{"$f":"H76+'Sample Plan'!$U$8","v":{"$error":"#VALUE!"}},70,null,{"$f":"K76+'Sample Plan'!$AC$8","v":{"$error":"#VALUE!"}},70]
[null,{"$f":"B77+'Sample Plan'!$G$8","v":{"$error":"#VALUE!"}},71,null,{"$f":"E77+'Sample Plan'!$N$8","v":{"$error":"#VALUE!"}},71,null,{"$f":"H77+'Sample Plan'!$U$8","v":{"$error":"#VALUE!"}},71,null,{"$f":"K77+'Sample Plan'!$AC$8","v":{"$error":"#VALUE!"}},71]
[null,{"$f":"B78+'Sample Plan'!$G$8","v":{"$error":"#VALUE!"}},72,null,{"$f":"E78+'Sample Plan'!$N$8","v":{"$error":"#VALUE!"}},72,null,{"$f":"H78+'Sample Plan'!$U$8","v":{"$error":"#VALUE!"}},72,null,{"$f":"K78+'Sample Plan'!$AC$8","v":{"$error":"#VALUE!"}},72]
[null,{"$f":"B79+'Sample Plan'!$G$8","v":{"$error":"#VALUE!"}},73,null,{"$f":"E79+'Sample Plan'!$N$8","v":{"$error":"#VALUE!"}},73,null,{"$f":"H79+'Sample Plan'!$U$8","v":{"$error":"#VALUE!"}},73,null,{"$f":"K79+'Sample Plan'!$AC$8","v":{"$error":"#VALUE!"}},73]
[null,{"$f":"B80+'Sample Plan'!$G$8","v":{"$error":"#VALUE!"}},74,null,{"$f":"E80+'Sample Plan'!$N$8","v":{"$error":"#VALUE!"}},74,null,{"$f":"H80+'Sample Plan'!$U$8","v":{"$error":"#VALUE!"}},74,null,{"$f":"K80+'Sample Plan'!$AC$8","v":{"$error":"#VALUE!"}},74]
[null,{"$f":"B81+'Sample Plan'!$G$8","v":{"$error":"#VALUE!"}},75,null,{"$f":"E81+'Sample Plan'!$N$8","v":{"$error":"#VALUE!"}},75,null,{"$f":"H81+'Sample Plan'!$U$8","v":{"$error":"#VALUE!"}},75,null,{"$f":"K81+'Sample Plan'!$AC$8","v":{"$error":"#VALUE!"}},75]
[null,{"$f":"B82+'Sample Plan'!$G$8","v":{"$error":"#VALUE!"}},76,null,{"$f":"E82+'Sample Plan'!$N$8","v":{"$error":"#VALUE!"}},76,null,{"$f":"H82+'Sample Plan'!$U$8","v":{"$error":"#VALUE!"}},76,null,{"$f":"K82+'Sample Plan'!$AC$8","v":{"$error":"#VALUE!"}},76]
[null,{"$f":"B83+'Sample Plan'!$G$8","v":{"$error":"#VALUE!"}},77,null,{"$f":"E83+'Sample Plan'!$N$8","v":{"$error":"#VALUE!"}},77,null,{"$f":"H83+'Sample Plan'!$U$8","v":{"$error":"#VALUE!"}},77,null,{"$f":"K83+'Sample Plan'!$AC$8","v":{"$error":"#VALUE!"}},77]
[null,{"$f":"B84+'Sample Plan'!$G$8","v":{"$error":"#VALUE!"}},78,null,{"$f":"E84+'Sample Plan'!$N$8","v":{"$error":"#VALUE!"}},78,null,{"$f":"H84+'Sample Plan'!$U$8","v":{"$error":"#VALUE!"}},78,null,{"$f":"K84+'Sample Plan'!$AC$8","v":{"$error":"#VALUE!"}},78]
[null,{"$f":"B85+'Sample Plan'!$G$8","v":{"$error":"#VALUE!"}},79,null,{"$f":"E85+'Sample Plan'!$N$8","v":{"$error":"#VALUE!"}},79,null,{"$f":"H85+'Sample Plan'!$U$8","v":{"$error":"#VALUE!"}},79,null,{"$f":"K85+'Sample Plan'!$AC$8","v":{"$error":"#VALUE!"}},79]
[null,{"$f":"B86+'Sample Plan'!$G$8","v":{"$error":"#VALUE!"}},80,null,{"$f":"E86+'Sample Plan'!$N$8","v":{"$error":"#VALUE!"}},80,null,{"$f":"H86+'Sample Plan'!$U$8","v":{"$error":"#VALUE!"}},80,null,{"$f":"K86+'Sample Plan'!$AC$8","v":{"$error":"#VALUE!"}},80]
[null,{"$f":"B87+'Sample Plan'!$G$8","v":{"$error":"#VALUE!"}},81,null,{"$f":"E87+'Sample Plan'!$N$8","v":{"$error":"#VALUE!"}},81,null,{"$f":"H87+'Sample Plan'!$U$8","v":{"$error":"#VALUE!"}},81,null,{"$f":"K87+'Sample Plan'!$AC$8","v":{"$error":"#VALUE!"}},81]
[null,{"$f":"B88+'Sample Plan'!$G$8","v":{"$error":"#VALUE!"}},82,null,{"$f":"E88+'Sample Plan'!$N$8","v":{"$error":"#VALUE!"}},82,null,{"$f":"H88+'Sample Plan'!$U$8","v":{"$error":"#VALUE!"}},82,null,{"$f":"K88+'Sample Plan'!$AC$8","v":{"$error":"#VALUE!"}},82]
[null,{"$f":"B89+'Sample Plan'!$G$8","v":{"$error":"#VALUE!"}},83,null,{"$f":"E89+'Sample Plan'!$N$8","v":{"$error":"#VALUE!"}},83,null,{"$f":"H89+'Sample Plan'!$U$8","v":{"$error":"#VALUE!"}},83,null,{"$f":"K89+'Sample Plan'!$AC$8","v":{"$error":"#VALUE!"}},83]
[null,{"$f":"B90+'Sample Plan'!$G$8","v":{"$error":"#VALUE!"}},84,null,{"$f":"E90+'Sample Plan'!$N$8","v":{"$error":"#VALUE!"}},84,null,{"$f":"H90+'Sample Plan'!$U$8","v":{"$error":"#VALUE!"}},84,null,{"$f":"K90+'Sample Plan'!$AC$8","v":{"$error":"#VALUE!"}},84]
[null,{"$f":"B91+'Sample Plan'!$G$8","v":{"$error":"#VALUE!"}},85,null,{"$f":"E91+'Sample Plan'!$N$8","v":{"$error":"#VALUE!"}},85,null,{"$f":"H91+'Sample Plan'!$U$8","v":{"$error":"#VALUE!"}},85,null,{"$f":"K91+'Sample Plan'!$AC$8","v":{"$error":"#VALUE!"}},85]
[null,{"$f":"B92+'Sample Plan'!$G$8","v":{"$error":"#VALUE!"}},86,null,{"$f":"E92+'Sample Plan'!$N$8","v":{"$error":"#VALUE!"}},86,null,{"$f":"H92+'Sample Plan'!$U$8","v":{"$error":"#VALUE!"}},86,null,{"$f":"K92+'Sample Plan'!$AC$8","v":{"$error":"#VALUE!"}},86]
[null,{"$f":"B93+'Sample Plan'!$G$8","v":{"$error":"#VALUE!"}},87,null,{"$f":"E93+'Sample Plan'!$N$8","v":{"$error":"#VALUE!"}},87,null,{"$f":"H93+'Sample Plan'!$U$8","v":{"$error":"#VALUE!"}},87,null,{"$f":"K93+'Sample Plan'!$AC$8","v":{"$error":"#VALUE!"}},87]
[null,{"$f":"B94+'Sample Plan'!$G$8","v":{"$error":"#VALUE!"}},88,null,{"$f":"E94+'Sample Plan'!$N$8","v":{"$error":"#VALUE!"}},88,null,{"$f":"H94+'Sample Plan'!$U$8","v":{"$error":"#VALUE!"}},88,null,{"$f":"K94+'Sample Plan'!$AC$8","v":{"$error":"#VALUE!"}},88]
[null,{"$f":"B95+'Sample Plan'!$G$8","v":{"$error":"#VALUE!"}},89,null,{"$f":"E95+'Sample Plan'!$N$8","v":{"$error":"#VALUE!"}},89,null,{"$f":"H95+'Sample Plan'!$U$8","v":{"$error":"#VALUE!"}},89,null,{"$f":"K95+'Sample Plan'!$AC$8","v":{"$error":"#VALUE!"}},89]
[null,{"$f":"B96+'Sample Plan'!$G$8","v":{"$error":"#VALUE!"}},90,null,{"$f":"E96+'Sample Plan'!$N$8","v":{"$error":"#VALUE!"}},90,null,{"$f":"H96+'Sample Plan'!$U$8","v":{"$error":"#VALUE!"}},90,null,{"$f":"K96+'Sample Plan'!$AC$8","v":{"$error":"#VALUE!"}},90]
[null,{"$f":"B97+'Sample Plan'!$G$8","v":{"$error":"#VALUE!"}},91,null,{"$f":"E97+'Sample Plan'!$N$8","v":{"$error":"#VALUE!"}},91,null,{"$f":"H97+'Sample Plan'!$U$8","v":{"$error":"#VALUE!"}},91,null,{"$f":"K97+'Sample Plan'!$AC$8","v":{"$error":"#VALUE!"}},91]
[null,{"$f":"B98+'Sample Plan'!$G$8","v":{"$error":"#VALUE!"}},92,null,{"$f":"E98+'Sample Plan'!$N$8","v":{"$error":"#VALUE!"}},92,null,{"$f":"H98+'Sample Plan'!$U$8","v":{"$error":"#VALUE!"}},92,null,{"$f":"K98+'Sample Plan'!$AC$8","v":{"$error":"#VALUE!"}},92]
[null,{"$f":"B99+'Sample Plan'!$G$8","v":{"$error":"#VALUE!"}},93,null,{"$f":"E99+'Sample Plan'!$N$8","v":{"$error":"#VALUE!"}},93,null,{"$f":"H99+'Sample Plan'!$U$8","v":{"$error":"#VALUE!"}},93,null,{"$f":"K99+'Sample Plan'!$AC$8","v":{"$error":"#VALUE!"}},93]
[null,{"$f":"B100+'Sample Plan'!$G$8","v":{"$error":"#VALUE!"}},94,null,{"$f":"E100+'Sample Plan'!$N$8","v":{"$error":"#VALUE!"}},94,null,{"$f":"H100+'Sample Plan'!$U$8","v":{"$error":"#VALUE!"}},94,null,{"$f":"K100+'Sample Plan'!$AC$8","v":{"$error":"#VALUE!"}},94]
[null,{"$f":"B101+'Sample Plan'!$G$8","v":{"$error":"#VALUE!"}},95,null,{"$f":"E101+'Sample Plan'!$N$8","v":{"$error":"#VALUE!"}},95,null,{"$f":"H101+'Sample Plan'!$U$8","v":{"$error":"#VALUE!"}},95,null,{"$f":"K101+'Sample Plan'!$AC$8","v":{"$error":"#VALUE!"}},95]
[null,{"$f":"B102+'Sample Plan'!$G$8","v":{"$error":"#VALUE!"}},96,null,{"$f":"E102+'Sample Plan'!$N$8","v":{"$error":"#VALUE!"}},96,null,{"$f":"H102+'Sample Plan'!$U$8","v":{"$error":"#VALUE!"}},96,null,{"$f":"K102+'Sample Plan'!$AC$8","v":{"$error":"#VALUE!"}},96]
[null,{"$f":"B103+'Sample Plan'!$G$8","v":{"$error":"#VALUE!"}},97,null,{"$f":"E103+'Sample Plan'!$N$8","v":{"$error":"#VALUE!"}},97,null,{"$f":"H103+'Sample Plan'!$U$8","v":{"$error":"#VALUE!"}},97,null,{"$f":"K103+'Sample Plan'!$AC$8","v":{"$error":"#VALUE!"}},97]
[null,{"$f":"B104+'Sample Plan'!$G$8","v":{"$error":"#VALUE!"}},98,null,{"$f":"E104+'Sample Plan'!$N$8","v":{"$error":"#VALUE!"}},98,null,{"$f":"H104+'Sample Plan'!$U$8","v":{"$error":"#VALUE!"}},98,null,{"$f":"K104+'Sample Plan'!$AC$8","v":{"$error":"#VALUE!"}},98]
[null,{"$f":"B105+'Sample Plan'!$G$8","v":{"$error":"#VALUE!"}},99,null,{"$f":"E105+'Sample Plan'!$N$8","v":{"$error":"#VALUE!"}},99,null,{"$f":"H105+'Sample Plan'!$U$8","v":{"$error":"#VALUE!"}},99,null,{"$f":"K105+'Sample Plan'!$AC$8","v":{"$error":"#VALUE!"}},99]
[null,{"$f":"B106+'Sample Plan'!$G$8","v":{"$error":"#VALUE!"}},100,null,{"$f":"E106+'Sample Plan'!$N$8","v":{"$error":"#VALUE!"}},100,null,{"$f":"H106+'Sample Plan'!$U$8","v":{"$error":"#VALUE!"}},100,null,{"$f":"K106+'Sample Plan'!$AC$8","v":{"$error":"#VALUE!"}},100]
[null,{"$f":"B107+'Sample Plan'!$G$8","v":{"$error":"#VALUE!"}},101,null,{"$f":"E107+'Sample Plan'!$N$8","v":{"$error":"#VALUE!"}},101,null,{"$f":"H107+'Sample Plan'!$U$8","v":{"$error":"#VALUE!"}},101,null,{"$f":"K107+'Sample Plan'!$AC$8","v":{"$error":"#VALUE!"}},101]
[null,{"$f":"B108+'Sample Plan'!$G$8","v":{"$error":"#VALUE!"}},102,null,{"$f":"E108+'Sample Plan'!$N$8","v":{"$error":"#VALUE!"}},102,null,{"$f":"H108+'Sample Plan'!$U$8","v":{"$error":"#VALUE!"}},102,null,{"$f":"K108+'Sample Plan'!$AC$8","v":{"$error":"#VALUE!"}},102]
[null,{"$f":"B109+'Sample Plan'!$G$8","v":{"$error":"#VALUE!"}},103,null,{"$f":"E109+'Sample Plan'!$N$8","v":{"$error":"#VALUE!"}},103,null,{"$f":"H109+'Sample Plan'!$U$8","v":{"$error":"#VALUE!"}},103,null,{"$f":"K109+'Sample Plan'!$AC$8","v":{"$error":"#VALUE!"}},103]
[null,{"$f":"B110+'Sample Plan'!$G$8","v":{"$error":"#VALUE!"}},104,null,{"$f":"E110+'Sample Plan'!$N$8","v":{"$error":"#VALUE!"}},104,null,{"$f":"H110+'Sample Plan'!$U$8","v":{"$error":"#VALUE!"}},104,null,{"$f":"K110+'Sample Plan'!$AC$8","v":{"$error":"#VALUE!"}},104]
[null,{"$f":"B111+'Sample Plan'!$G$8","v":{"$error":"#VALUE!"}},105,null,{"$f":"E111+'Sample Plan'!$N$8","v":{"$error":"#VALUE!"}},105,null,{"$f":"H111+'Sample Plan'!$U$8","v":{"$error":"#VALUE!"}},105,null,{"$f":"K111+'Sample Plan'!$AC$8","v":{"$error":"#VALUE!"}},105]
[null,{"$f":"B112+'Sample Plan'!$G$8","v":{"$error":"#VALUE!"}},106,null,{"$f":"E112+'Sample Plan'!$N$8","v":{"$error":"#VALUE!"}},106,null,{"$f":"H112+'Sample Plan'!$U$8","v":{"$error":"#VALUE!"}},106,null,{"$f":"K112+'Sample Plan'!$AC$8","v":{"$error":"#VALUE!"}},106]
[null,{"$f":"B113+'Sample Plan'!$G$8","v":{"$error":"#VALUE!"}},107,null,{"$f":"E113+'Sample Plan'!$N$8","v":{"$error":"#VALUE!"}},107,null,{"$f":"H113+'Sample Plan'!$U$8","v":{"$error":"#VALUE!"}},107,null,{"$f":"K113+'Sample Plan'!$AC$8","v":{"$error":"#VALUE!"}},107]
[null,{"$f":"B114+'Sample Plan'!$G$8","v":{"$error":"#VALUE!"}},108,null,{"$f":"E114+'Sample Plan'!$N$8","v":{"$error":"#VALUE!"}},108,null,{"$f":"H114+'Sample Plan'!$U$8","v":{"$error":"#VALUE!"}},108,null,{"$f":"K114+'Sample Plan'!$AC$8","v":{"$error":"#VALUE!"}},108]
[null,{"$f":"B115+'Sample Plan'!$G$8","v":{"$error":"#VALUE!"}},109,null,{"$f":"E115+'Sample Plan'!$N$8","v":{"$error":"#VALUE!"}},109,null,{"$f":"H115+'Sample Plan'!$U$8","v":{"$error":"#VALUE!"}},109,null,{"$f":"K115+'Sample Plan'!$AC$8","v":{"$error":"#VALUE!"}},109]
[null,{"$f":"B116+'Sample Plan'!$G$8","v":{"$error":"#VALUE!"}},110,null,{"$f":"E116+'Sample Plan'!$N$8","v":{"$error":"#VALUE!"}},110,null,{"$f":"H116+'Sample Plan'!$U$8","v":{"$error":"#VALUE!"}},110,null,{"$f":"K116+'Sample Plan'!$AC$8","v":{"$error":"#VALUE!"}},110]
[null,{"$f":"B117+'Sample Plan'!$G$8","v":{"$error":"#VALUE!"}},111,null,{"$f":"E117+'Sample Plan'!$N$8","v":{"$error":"#VALUE!"}},111,null,{"$f":"H117+'Sample Plan'!$U$8","v":{"$error":"#VALUE!"}},111,null,{"$f":"K117+'Sample Plan'!$AC$8","v":{"$error":"#VALUE!"}},111]
[null,{"$f":"B118+'Sample Plan'!$G$8","v":{"$error":"#VALUE!"}},112,null,{"$f":"E118+'Sample Plan'!$N$8","v":{"$error":"#VALUE!"}},112,null,{"$f":"H118+'Sample Plan'!$U$8","v":{"$error":"#VALUE!"}},112,null,{"$f":"K118+'Sample Plan'!$AC$8","v":{"$error":"#VALUE!"}},112]
[null,{"$f":"B119+'Sample Plan'!$G$8","v":{"$error":"#VALUE!"}},113,null,{"$f":"E119+'Sample Plan'!$N$8","v":{"$error":"#VALUE!"}},113,null,{"$f":"H119+'Sample Plan'!$U$8","v":{"$error":"#VALUE!"}},113,null,{"$f":"K119+'Sample Plan'!$AC$8","v":{"$error":"#VALUE!"}},113]
[null,{"$f":"B120+'Sample Plan'!$G$8","v":{"$error":"#VALUE!"}},114,null,{"$f":"E120+'Sample Plan'!$N$8","v":{"$error":"#VALUE!"}},114,null,{"$f":"H120+'Sample Plan'!$U$8","v":{"$error":"#VALUE!"}},114,null,{"$f":"K120+'Sample Plan'!$AC$8","v":{"$error":"#VALUE!"}},114]
[null,{"$f":"B121+'Sample Plan'!$G$8","v":{"$error":"#VALUE!"}},115,null,{"$f":"E121+'Sample Plan'!$N$8","v":{"$error":"#VALUE!"}},115,null,{"$f":"H121+'Sample Plan'!$U$8","v":{"$error":"#VALUE!"}},115,null,{"$f":"K121+'Sample Plan'!$AC$8","v":{"$error":"#VALUE!"}},115]
[null,{"$f":"B122+'Sample Plan'!$G$8","v":{"$error":"#VALUE!"}},116,null,{"$f":"E122+'Sample Plan'!$N$8","v":{"$error":"#VALUE!"}},116,null,{"$f":"H122+'Sample Plan'!$U$8","v":{"$error":"#VALUE!"}},116,null,{"$f":"K122+'Sample Plan'!$AC$8","v":{"$error":"#VALUE!"}},116]
[null,{"$f":"B123+'Sample Plan'!$G$8","v":{"$error":"#VALUE!"}},117,null,{"$f":"E123+'Sample Plan'!$N$8","v":{"$error":"#VALUE!"}},117,null,{"$f":"H123+'Sample Plan'!$U$8","v":{"$error":"#VALUE!"}},117,null,{"$f":"K123+'Sample Plan'!$AC$8","v":{"$error":"#VALUE!"}},117]
[null,{"$f":"B124+'Sample Plan'!$G$8","v":{"$error":"#VALUE!"}},118,null,{"$f":"E124+'Sample Plan'!$N$8","v":{"$error":"#VALUE!"}},118,null,{"$f":"H124+'Sample Plan'!$U$8","v":{"$error":"#VALUE!"}},118,null,{"$f":"K124+'Sample Plan'!$AC$8","v":{"$error":"#VALUE!"}},118]
[null,{"$f":"B125+'Sample Plan'!$G$8","v":{"$error":"#VALUE!"}},119,null,{"$f":"E125+'Sample Plan'!$N$8","v":{"$error":"#VALUE!"}},119,null,{"$f":"H125+'Sample Plan'!$U$8","v":{"$error":"#VALUE!"}},119,null,{"$f":"K125+'Sample Plan'!$AC$8","v":{"$error":"#VALUE!"}},119]
[null,{"$f":"B126+'Sample Plan'!$G$8","v":{"$error":"#VALUE!"}},120,null,{"$f":"E126+'Sample Plan'!$N$8","v":{"$error":"#VALUE!"}},120,null,{"$f":"H126+'Sample Plan'!$U$8","v":{"$error":"#VALUE!"}},120,null,{"$f":"K126+'Sample Plan'!$AC$8","v":{"$error":"#VALUE!"}},120]
[null,{"$f":"B127+'Sample Plan'!$G$8","v":{"$error":"#VALUE!"}},121,null,{"$f":"E127+'Sample Plan'!$N$8","v":{"$error":"#VALUE!"}},121,null,{"$f":"H127+'Sample Plan'!$U$8","v":{"$error":"#VALUE!"}},121,null,{"$f":"K127+'Sample Plan'!$AC$8","v":{"$error":"#VALUE!"}},121]
[null,{"$f":"B128+'Sample Plan'!$G$8","v":{"$error":"#VALUE!"}},122,null,{"$f":"E128+'Sample Plan'!$N$8","v":{"$error":"#VALUE!"}},122,null,{"$f":"H128+'Sample Plan'!$U$8","v":{"$error":"#VALUE!"}},122,null,{"$f":"K128+'Sample Plan'!$AC$8","v":{"$error":"#VALUE!"}},122]
[null,{"$f":"B129+'Sample Plan'!$G$8","v":{"$error":"#VALUE!"}},123,null,{"$f":"E129+'Sample Plan'!$N$8","v":{"$error":"#VALUE!"}},123,null,{"$f":"H129+'Sample Plan'!$U$8","v":{"$error":"#VALUE!"}},123,null,{"$f":"K129+'Sample Plan'!$AC$8","v":{"$error":"#VALUE!"}},123]
[null,{"$f":"B130+'Sample Plan'!$G$8","v":{"$error":"#VALUE!"}},124,null,{"$f":"E130+'Sample Plan'!$N$8","v":{"$error":"#VALUE!"}},124,null,{"$f":"H130+'Sample Plan'!$U$8","v":{"$error":"#VALUE!"}},124,null,{"$f":"K130+'Sample Plan'!$AC$8","v":{"$error":"#VALUE!"}},124]
[null,{"$f":"B131+'Sample Plan'!$G$8","v":{"$error":"#VALUE!"}},125,null,{"$f":"E131+'Sample Plan'!$N$8","v":{"$error":"#VALUE!"}},125,null,{"$f":"H131+'Sample Plan'!$U$8","v":{"$error":"#VALUE!"}},125,null,{"$f":"K131+'Sample Plan'!$AC$8","v":{"$error":"#VALUE!"}},125]
[null,{"$f":"B132+'Sample Plan'!$G$8","v":{"$error":"#VALUE!"}},126,null,{"$f":"E132+'Sample Plan'!$N$8","v":{"$error":"#VALUE!"}},126,null,{"$f":"H132+'Sample Plan'!$U$8","v":{"$error":"#VALUE!"}},126,null,{"$f":"K132+'Sample Plan'!$AC$8","v":{"$error":"#VALUE!"}},126]
[null,{"$f":"B133+'Sample Plan'!$G$8","v":{"$error":"#VALUE!"}},127,null,{"$f":"E133+'Sample Plan'!$N$8","v":{"$error":"#VALUE!"}},127,null,{"$f":"H133+'Sample Plan'!$U$8","v":{"$error":"#VALUE!"}},127,null,{"$f":"K133+'Sample Plan'!$AC$8","v":{"$error":"#VALUE!"}},127]
[null,{"$f":"B134+'Sample Plan'!$G$8","v":{"$error":"#VALUE!"}},128,null,{"$f":"E134+'Sample Plan'!$N$8","v":{"$error":"#VALUE!"}},128,null,{"$f":"H134+'Sample Plan'!$U$8","v":{"$error":"#VALUE!"}},128,null,{"$f":"K134+'Sample Plan'!$AC$8","v":{"$error":"#VALUE!"}},128]
[null,{"$f":"B135+'Sample Plan'!$G$8","v":{"$error":"#VALUE!"}},129,null,{"$f":"E135+'Sample Plan'!$N$8","v":{"$error":"#VALUE!"}},129,null,{"$f":"H135+'Sample Plan'!$U$8","v":{"$error":"#VALUE!"}},129,null,{"$f":"K135+'Sample Plan'!$AC$8","v":{"$error":"#VALUE!"}},129]
[null,{"$f":"B136+'Sample Plan'!$G$8","v":{"$error":"#VALUE!"}},130,null,{"$f":"E136+'Sample Plan'!$N$8","v":{"$error":"#VALUE!"}},130,null,{"$f":"H136+'Sample Plan'!$U$8","v":{"$error":"#VALUE!"}},130,null,{"$f":"K136+'Sample Plan'!$AC$8","v":{"$error":"#VALUE!"}},130]
[null,{"$f":"B137+'Sample Plan'!$G$8","v":{"$error":"#VALUE!"}},131,null,{"$f":"E137+'Sample Plan'!$N$8","v":{"$error":"#VALUE!"}},131,null,{"$f":"H137+'Sample Plan'!$U$8","v":{"$error":"#VALUE!"}},131,null,{"$f":"K137+'Sample Plan'!$AC$8","v":{"$error":"#VALUE!"}},131]
[null,{"$f":"B138+'Sample Plan'!$G$8","v":{"$error":"#VALUE!"}},132,null,{"$f":"E138+'Sample Plan'!$N$8","v":{"$error":"#VALUE!"}},132,null,{"$f":"H138+'Sample Plan'!$U$8","v":{"$error":"#VALUE!"}},132,null,{"$f":"K138+'Sample Plan'!$AC$8","v":{"$error":"#VALUE!"}},132]
[null,{"$f":"B139+'Sample Plan'!$G$8","v":{"$error":"#VALUE!"}},133,null,{"$f":"E139+'Sample Plan'!$N$8","v":{"$error":"#VALUE!"}},133,null,{"$f":"H139+'Sample Plan'!$U$8","v":{"$error":"#VALUE!"}},133,null,{"$f":"K139+'Sample Plan'!$AC$8","v":{"$error":"#VALUE!"}},133]
[null,{"$f":"B140+'Sample Plan'!$G$8","v":{"$error":"#VALUE!"}},134,null,{"$f":"E140+'Sample Plan'!$N$8","v":{"$error":"#VALUE!"}},134,null,{"$f":"H140+'Sample Plan'!$U$8","v":{"$error":"#VALUE!"}},134,null,{"$f":"K140+'Sample Plan'!$AC$8","v":{"$error":"#VALUE!"}},134]
[null,{"$f":"B141+'Sample Plan'!$G$8","v":{"$error":"#VALUE!"}},135,null,{"$f":"E141+'Sample Plan'!$N$8","v":{"$error":"#VALUE!"}},135,null,{"$f":"H141+'Sample Plan'!$U$8","v":{"$error":"#VALUE!"}},135,null,{"$f":"K141+'Sample Plan'!$AC$8","v":{"$error":"#VALUE!"}},135]
[null,{"$f":"B142+'Sample Plan'!$G$8","v":{"$error":"#VALUE!"}},136,null,{"$f":"E142+'Sample Plan'!$N$8","v":{"$error":"#VALUE!"}},136,null,{"$f":"H142+'Sample Plan'!$U$8","v":{"$error":"#VALUE!"}},136,null,{"$f":"K142+'Sample Plan'!$AC$8","v":{"$error":"#VALUE!"}},136]
[null,{"$f":"B143+'Sample Plan'!$G$8","v":{"$error":"#VALUE!"}},137,null,{"$f":"E143+'Sample Plan'!$N$8","v":{"$error":"#VALUE!"}},137,null,{"$f":"H143+'Sample Plan'!$U$8","v":{"$error":"#VALUE!"}},137,null,{"$f":"K143+'Sample Plan'!$AC$8","v":{"$error":"#VALUE!"}},137]
[null,{"$f":"B144+'Sample Plan'!$G$8","v":{"$error":"#VALUE!"}},138,null,{"$f":"E144+'Sample Plan'!$N$8","v":{"$error":"#VALUE!"}},138,null,{"$f":"H144+'Sample Plan'!$U$8","v":{"$error":"#VALUE!"}},138,null,{"$f":"K144+'Sample Plan'!$AC$8","v":{"$error":"#VALUE!"}},138]
[null,{"$f":"B145+'Sample Plan'!$G$8","v":{"$error":"#VALUE!"}},139,null,{"$f":"E145+'Sample Plan'!$N$8","v":{"$error":"#VALUE!"}},139,null,{"$f":"H145+'Sample Plan'!$U$8","v":{"$error":"#VALUE!"}},139,null,{"$f":"K145+'Sample Plan'!$AC$8","v":{"$error":"#VALUE!"}},139]
[null,{"$f":"B146+'Sample Plan'!$G$8","v":{"$error":"#VALUE!"}},140,null,{"$f":"E146+'Sample Plan'!$N$8","v":{"$error":"#VALUE!"}},140,null,{"$f":"H146+'Sample Plan'!$U$8","v":{"$error":"#VALUE!"}},140,null,{"$f":"K146+'Sample Plan'!$AC$8","v":{"$error":"#VALUE!"}},140]
[null,{"$f":"B147+'Sample Plan'!$G$8","v":{"$error":"#VALUE!"}},141,null,{"$f":"E147+'Sample Plan'!$N$8","v":{"$error":"#VALUE!"}},141,null,{"$f":"H147+'Sample Plan'!$U$8","v":{"$error":"#VALUE!"}},141,null,{"$f":"K147+'Sample Plan'!$AC$8","v":{"$error":"#VALUE!"}},141]
[null,{"$f":"B148+'Sample Plan'!$G$8","v":{"$error":"#VALUE!"}},142,null,{"$f":"E148+'Sample Plan'!$N$8","v":{"$error":"#VALUE!"}},142,null,{"$f":"H148+'Sample Plan'!$U$8","v":{"$error":"#VALUE!"}},142,null,{"$f":"K148+'Sample Plan'!$AC$8","v":{"$error":"#VALUE!"}},142]
[null,{"$f":"B149+'Sample Plan'!$G$8","v":{"$error":"#VALUE!"}},143,null,{"$f":"E149+'Sample Plan'!$N$8","v":{"$error":"#VALUE!"}},143,null,{"$f":"H149+'Sample Plan'!$U$8","v":{"$error":"#VALUE!"}},143,null,{"$f":"K149+'Sample Plan'!$AC$8","v":{"$error":"#VALUE!"}},143]
[null,{"$f":"B150+'Sample Plan'!$G$8","v":{"$error":"#VALUE!"}},144,null,{"$f":"E150+'Sample Plan'!$N$8","v":{"$error":"#VALUE!"}},144,null,{"$f":"H150+'Sample Plan'!$U$8","v":{"$error":"#VALUE!"}},144,null,{"$f":"K150+'Sample Plan'!$AC$8","v":{"$error":"#VALUE!"}},144]
[null,{"$f":"B151+'Sample Plan'!$G$8","v":{"$error":"#VALUE!"}},145,null,{"$f":"E151+'Sample Plan'!$N$8","v":{"$error":"#VALUE!"}},145,null,{"$f":"H151+'Sample Plan'!$U$8","v":{"$error":"#VALUE!"}},145,null,{"$f":"K151+'Sample Plan'!$AC$8","v":{"$error":"#VALUE!"}},145]
[null,{"$f":"B152+'Sample Plan'!$G$8","v":{"$error":"#VALUE!"}},146,null,{"$f":"E152+'Sample Plan'!$N$8","v":{"$error":"#VALUE!"}},146,null,{"$f":"H152+'Sample Plan'!$U$8","v":{"$error":"#VALUE!"}},146,null,{"$f":"K152+'Sample Plan'!$AC$8","v":{"$error":"#VALUE!"}},146]
[null,{"$f":"B153+'Sample Plan'!$G$8","v":{"$error":"#VALUE!"}},147,null,{"$f":"E153+'Sample Plan'!$N$8","v":{"$error":"#VALUE!"}},147,null,{"$f":"H153+'Sample Plan'!$U$8","v":{"$error":"#VALUE!"}},147,null,{"$f":"K153+'Sample Plan'!$AC$8","v":{"$error":"#VALUE!"}},147]
[null,{"$f":"B154+'Sample Plan'!$G$8","v":{"$error":"#VALUE!"}},148,null,{"$f":"E154+'Sample Plan'!$N$8","v":{"$error":"#VALUE!"}},148,null,{"$f":"H154+'Sample Plan'!$U$8","v":{"$error":"#VALUE!"}},148,null,{"$f":"K154+'Sample Plan'!$AC$8","v":{"$error":"#VALUE!"}},148]
[null,{"$f":"B155+'Sample Plan'!$G$8","v":{"$error":"#VALUE!"}},149,null,{"$f":"E155+'Sample Plan'!$N$8","v":{"$error":"#VALUE!"}},149,null,{"$f":"H155+'Sample Plan'!$U$8","v":{"$error":"#VALUE!"}},149,null,{"$f":"K155+'Sample Plan'!$AC$8","v":{"$error":"#VALUE!"}},149]
[null,{"$f":"B156+'Sample Plan'!$G$8","v":{"$error":"#VALUE!"}},150,null,{"$f":"E156+'Sample Plan'!$N$8","v":{"$error":"#VALUE!"}},150,null,{"$f":"H156+'Sample Plan'!$U$8","v":{"$error":"#VALUE!"}},150,null,{"$f":"K156+'Sample Plan'!$AC$8","v":{"$error":"#VALUE!"}},150]

{"sheet":"Disp Plots","index":4,"n_rows":47,"n_cols":5,"rows_kept":47,"cut":false,"hidden":true,"merged":[[1,1,1,4]]}
[]
[null,"Dispersed Strata - Minimum # of Plots"]
[null,"Total Stratum Area (Ha) (greater than or equal to)","# of Measure Plots for SRS","# of Prediction Plots for Ratio","# of Measure Plots for Ratio"]
[null,0]
[null,0.01,3,4,1]
[null,1,6,9,3]
[null,2,10,18,6]
[null,10.5,11,18,6]
[null,11.5,12,18,6]
[null,12.5,13,18,6]
[null,13.5,14,18,6]
[null,14.5,15,18,6]
[null,15.5,16,18,6]
[null,16.5,17,18,6]
[null,17.5,18,18,6]
[null,18.5,19,18,6]
[null,19.5,20,18,6]
[null,20.100000000000001,20,24,8]
[null,20.5,21,25,8]
[null,21.5,22,26,9]
[null,22.5,23,28,9]
[null,23.5,24,29,10]
[null,24.5,25,30,10]
[null,25.5,26,31,10]
[null,26.5,27,32,11]
[null,27.5,28,34,11]
[null,29.5,30,36,12]
[null,33.5,31,37,12]
[null,40.5,32,38,13]
[null,47.5,33,40,13]
[null,54.5,34,41,14]
[null,61.5,35,42,14]
[null,68.5,36,43,14]
[null,75.5,37,44,15]
[null,82.5,38,46,15]
[null,89.5,39,47,16]
[null,96.5,40,48,16]
[null,103.5,41,49,16]
[null,110.5,42,50,17]
[null,117.5,43,52,17]
[null,124.5,44,53,18]
[null,131.5,45,54,18]
[null,138.5,46,55,18]
[null,145.5,47,56,19]
[null,152.5,48,58,19]
[null,159.5,49,59,20]
[null,166.5,50,60,20]

{"sheet":"Other Accum","index":5,"n_rows":45,"n_cols":5,"rows_kept":45,"cut":false,"hidden":true,"merged":[[1,1,1,4]]}
[]
[null,"Other Accumulation Strata (i.e. Roadside) - Minimum # of Plots"]
[null,"Total Stratum Area (Ha) (greater than or equal to)","# of Measure Plots for SRS","# of Prediction Plots for Ratio","# of Measure Plots for Ratio"]
[null,0]
[null,0.01,2,3,1]
[null,1,5,6,2]
[null,2,10,12,4]
[null,12.5,11,12,4]
[null,14.5,11,13,4]
[null,17.5,12,13,4]
[null,19.5,12,14,5]
[null,22.5,13,14,5]
[null,24.5,13,15,5]
[null,27.5,14,15,5]
[null,29.5,14,16,5]
[null,32.5,15,16,5]
[null,34.5,15,17,6]
[null,37.5,16,17,6]
[null,39.5,16,18,6]
[null,42.5,17,18,6]
[null,44.5,17,19,6]
[null,47.5,18,19,6]
[null,49.5,18,20,7]
[null,52.5,19,20,7]
[null,54.5,19,21,7]
[null,57.5,20,21,7]
[null,59.5,20,22,7]
[null,62.5,21,22,7]
[null,64.5,21,23,8]
[null,67.5,22,23,8]
[null,69.5,22,24,8]
[null,72.5,23,24,8]
[null,74.5,23,25,8]
[null,77.5,24,25,8]
[null,79.5,24,26,9]
[null,82.5,25,26,9]
[null,84.5,25,27,9]
[null,89.4,26,27,9]
[null,89.5,26,28,9]
[null,92.5,27,28,9]
[null,94.5,27,29,10]
[null,97.5,28,29,10]
[null,99.5,28,30,10]
[null,102.5,29,30,10]
[null,107.5,30,30,10]

{"sheet":"Piles","index":6,"n_rows":42,"n_cols":5,"rows_kept":42,"cut":false,"hidden":true,"merged":[[1,1,1,4]]}
[]
[null,"Spot Accumulation (Pile) Strata - Minimum # of Plots"]
[null,"Total Number of Piles (greater than or equal to)","# of Measure Plots for SRS","# of Prediction Plots for Ratio","# of Measure Plots for Ratio"]
[null,0]
[null,1,10,12,4]
[null,13,11,12,4]
[null,15,11,13,4]
[null,18,12,13,4]
[null,20,12,14,5]
[null,23,13,14,5]
[null,25,13,15,5]
[null,28,14,15,5]
[null,30,14,16,5]
[null,33,15,16,5]
[null,35,15,17,6]
[null,38,16,17,6]
[null,40,16,18,6]
[null,43,17,18,6]
[null,45,17,19,6]
[null,48,18,19,6]
[null,50,18,20,7]
[null,53,19,20,7]
[null,55,19,21,7]
[null,58,20,21,7]
[null,60,20,22,7]
[null,63,21,22,7]
[null,65,21,23,8]
[null,68,22,23,8]
[null,70,22,24,8]
[null,75,23,25,8]
[null,78,24,25,8]
[null,80,24,26,9]
[null,83,25,26,9]
[null,85,25,27,9]
[null,88,26,27,9]
[null,90,26,28,9]
[null,93,27,28,9]
[null,95,27,29,10]
[null,98,28,29,10]
[null,100,28,30,10]
[null,103,29,30,10]
[null,108,30,30,10]