Workbook

Sheet Field Numbers
R1: Stratum #1 species | U1: Stratum #2 species
C2: Totals W/O M-Value | D2: Hw | E2: Cw | F2: Yc | G2: Ba | H2: Ss | M2: Totals | N2: Prism Counts | O2: Total BA/Capped Crop BA | P2: Plot TSS | Q2: Plot MSS | R2: Species | S2: Height | T2: Age | U2: Species | V2: Height | W2: Age | X2: Count Con | Y2: Count Ht | Z2: Crown Closure | AA2: Plantable | AB2: Preparable | AC2: Germs. | AD2: Ground Vegetation | AG2: Forest Health
A3: Plot # | D3: P | E3: P | F3: P | G3: P | H3: P | M3: W/ M-Value | AD3: Spp. | AE3: % Cover | AF3: Ht. (m) | AG3: Code | AH3: Layer (O/U) | AI3: Species | AJ3: Live | AK3: Dead | AL3: Comments
A4: 1 | B4: T1 | D4: Field 1 | M4: Field 3 | R4: Field 19 | S4: Field 21 | T4: Field 22 | U4: Field 20 | V4: Field 23 | W4: Field 24 | Z4: Field 14 | AD4: Field 16 | AE4: Field 17 | AF4: Field 18 | AG4: Field 7 | AH4: Field 8 | AI4: Field 9 | AJ4: Field 10 | AK4: Field 11
B5: F1 | D5: Field 2 | Q5: Field 6 | R5: Field 31 | S5: Field 32 | T5: Field 33
B6: T2,3,4 | D6: Field 4 | R6: Field 25 | S6: Field 27 | T6: Field 28 | U6: Field 26 | V6: Field 29 | W6: Field 30 | Z6: Field 15 | AA6: Field 12 | AC6: Field 13
B7: W2, 3, 4 | D7: Field 5 | R7: Field 34 | S7: Field 36 | T7: Field 37
B8: F2, 3, 4 | D8: Field 6 | R8: Field 35 | S8: Field 38 | T8: Field 39
A9: 6 | B9: T1 | N9: =SUM(D9:L9) -> 0 | O9: =N9*'Example-657'!$B$15 -> 0
B10: F1 | C10: =SUM(D10:L10) -> 0 | N10: =IF(SUM(D10:L10)>'Example-657'!$L$3,'Example-657'!$L$3,SUM(D10:L10)) -> 0 | O10: =N10*'Example-657'!$B$15 -> 0 | P10: 900 | Q10: 500
B11: T2,3,4 | M11: =SUM(D11:L11) -> 0
B12: W2, 3, 4 | C12: =SUM(D12:L12) -> 0 | M12: =IF(SUM(D12:L12)>($P10/'Example-657'!$B$14),($P10/'Example-657'!$B$14),SUM(D12:L12)) -> 0
B13: F2, 3, 4 | C13: =SUM(D13:L13) -> 0 | M13: =IF(SUM(D13:L13)>($P10/'Example-657'!$B$14),($P10/'Example-657'!$B$14),SUM(D13:L13)) -> 0
A14: 7 | B14: T1 | N14: =SUM(D14:L14) -> 0 | O14: =N14*'Example-657'!$B$15 -> 0
B15: F1 | C15: =SUM(D15:L15) -> 0 | N15: =IF(SUM(D15:L15)>'Example-657'!$L$3,'Example-657'!$L$3,SUM(D15:L15)) -> 0 | O15: =N15*'Example-657'!$B$15 -> 0 | P15: 0 | Q15: 0
B16: T2,3,4 | M16: =SUM(D16:L16) -> 0
B17: W2, 3, 4 | C17: =SUM(D17:L17) -> 0 | M17: =IF(SUM(D17:L17)>($P15/'Example-657'!$B$14),($P15/'Example-657'!$B$14),SUM(D17:L17)) -> 0
B18: F2, 3, 4 | C18: =SUM(D18:L18) -> 0 | M18: =IF(SUM(D18:L18)>($P15/'Example-657'!$B$14),($P15/'Example-657'!$B$14),SUM(D18:L18)) -> 0
A19: 9 | B19: T1 | D19: \ | N19: =SUM(D19:L19) -> 0 | O19: =N19*'Example-657'!$B$15 -> 0
B20: F1 | C20: =SUM(D20:L20) -> 0 | N20: =IF(SUM(D20:L20)>'Example-657'!$L$3,'Example-657'!$L$3,SUM(D20:L20)) -> 0 | O20: =N20*'Example-657'!$B$15 -> 0 | P20: 700 | Q20: 350
B21: T2,3,4 | M21: =SUM(D21:L21) -> 0
B22: W2, 3, 4 | C22: =SUM(D22:L22) -> 0 | M22: =IF(SUM(D22:L22)>($P20/'Example-657'!$B$14),($P20/'Example-657'!$B$14),SUM(D22:L22)) -> 0
B23: F2, 3, 4 | C23: =SUM(D23:L23) -> 0 | M23: =IF(SUM(D23:L23)>($P20/'Example-657'!$B$14),($P20/'Example-657'!$B$14),SUM(D23:L23)) -> 0
A24: 10 | B24: T1 | N24: =SUM(D24:L24) -> 0 | O24: =N24*'Example-657'!$B$15 -> 0
B25: F1 | C25: =SUM(D25:L25) -> 0 | N25: =IF(SUM(D25:L25)>'Example-657'!$L$3,'Example-657'!$L$3,SUM(D25:L25)) -> 0 | O25: =N25*'Example-657'!$B$15 -> 0 | P25: 700 | Q25: 350
B26: T2,3,4 | M26: =SUM(D26:L26) -> 0
B27: W2, 3, 4 | C27: =SUM(D27:L27) -> 0 | M27: =IF(SUM(D27:L27)>($P25/'Example-657'!$B$14),($P25/'Example-657'!$B$14),SUM(D27:L27)) -> 0
B28: F2, 3, 4 | C28: =SUM(D28:L28) -> 0 | M28: =IF(SUM(D28:L28)>($P25/'Example-657'!$B$14),($P25/'Example-657'!$B$14),SUM(D28:L28)) -> 0
A29: 11 | B29: T1 | N29: =SUM(D29:L29) -> 0 | O29: =N29*'Example-657'!$B$15 -> 0
B30: F1 | C30: =SUM(D30:L30) -> 0 | N30: =IF(SUM(D30:L30)>'Example-657'!$L$3,'Example-657'!$L$3,SUM(D30:L30)) -> 0 | O30: =N30*'Example-657'!$B$15 -> 0 | P30: 500 | Q30: 250
B31: T2,3,4 | M31: =SUM(D31:L31) -> 0
B32: W2, 3, 4 | C32: =SUM(D32:L32) -> 0 | M32: =IF(SUM(D32:L32)>($P30/'Example-657'!$B$14),($P30/'Example-657'!$B$14),SUM(D32:L32)) -> 0
B33: F2, 3, 4 | C33: =SUM(D33:L33) -> 0 | M33: =IF(SUM(D33:L33)>($P30/'Example-657'!$B$14),($P30/'Example-657'!$B$14),SUM(D33:L33)) -> 0
A34: 12 | B34: T1 | N34: =SUM(D34:L34) -> 0 | O34: =N34*'Example-657'!$B$15 -> 0
B35: F1 | C35: =SUM(D35:L35) -> 0 | N35: =IF(SUM(D35:L35)>'Example-657'!$L$3,'Example-657'!$L$3,SUM(D35:L35)) -> 0 | O35: =N35*'Example-657'!$B$15 -> 0 | P35: 900 | Q35: 500
B36: T2,3,4 | M36: =SUM(D36:L36) -> 0
B37: W2, 3, 4 | C37: =SUM(D37:L37) -> 0 | M37: =IF(SUM(D37:L37)>($P35/'Example-657'!$B$14),($P35/'Example-657'!$B$14),SUM(D37:L37)) -> 0
B38: F2, 3, 4 | C38: =SUM(D38:L38) -> 0 | M38: =IF(SUM(D38:L38)>($P35/'Example-657'!$B$14),($P35/'Example-657'!$B$14),SUM(D38:L38)) -> 0
A39: 13 | B39: T1 | N39: =SUM(D39:L39) -> 0 | O39: =N39*'Example-657'!$B$15 -> 0
B40: F1 | C40: =SUM(D40:L40) -> 0 | N40: =IF(SUM(D40:L40)>'Example-657'!$L$3,'Example-657'!$L$3,SUM(D40:L40)) -> 0 | O40: =N40*'Example-657'!$B$15 -> 0 | P40: 0 | Q40: 0
...

Sheet Example-657
A1: Block Information | E1: Plot Standards
A2: Surveyor | B2: T. Brown | E2: BA (for coding) | F2: =IF(ISNUMBER(VALUE(LEFT(F3, FIND("-", F3)-1))), VALUE(LEFT(F3, FIND("-", F3)-1)), VALUE(MID(F3, FIND("=", F3)+1, 10))) -> 0 | G2: =IF(ISNUMBER(VALUE(LEFT(G3, FIND("-", G3)-1))), VALUE(LEFT(G3, FIND("-", G3)-1)), VALUE(MID(G3, FIND("=", G3)+1, 10))) -> 9 | H2: =IF(ISNUMBER(VALUE(LEFT(H3, FIND("-", H3)-1))), VALUE(LEFT(H3, FIND("-", H3)-1)), VALUE(MID(H3, FIND("=", H3)+1, 10))) -> 16 | I2: =IF(ISNUMBER(VALUE(LEFT(I3, FIND("-", I3)-1))), VALUE(LEFT(I3, FIND("-", I3)-1)), VALUE(MID(I3, FIND("=", I3)+1, 10))) -> 23 | J2: =IF(ISNUMBER(VALUE(LEFT(J3, FIND("-", J3)-1))), VALUE(LEFT(J3, FIND("-", J3)-1)), VALUE(MID(J3, FIND("=", J3)+1, 10))) -> 29 | K2: =IF(ISNUMBER(VALUE(LEFT(K3, FIND("-", K3)-1))), VALUE(LEFT(K3, FIND("-", K3)-1)), VALUE(MID(K3, FIND("=", K3)+1, 10))) -> 40 | L2: BA M-Value | O2: For FS 658 659 calculations to work, orange fields must be entered.
A3: Date | B3: 46141 | E3: BA | F3: 0-8.99 | G3: 9-15.99 | H3: 16-22.99 | I3: 23-28.99 | J3: 29-39.99 | K3: >=40 | L3: =40/$B$15 -> 8
A4: Opening ID # | B4: 435908 | E4: TSS | F4: 900 | G4: 800 | H4: 700 | I4: 600 | J4: 500 | K4: 0
A5: Block | B5: J4747 | E5: MSS | F5: 500 | G5: 400 | H5: 350 | I5: 300 | J5: 250 | K5: 0
A6: Standards Unit | B6: A | E6: M-value | F6: =F4/$B$14 -> 4.5 | G6: =G4/$B$14 -> 4 | H6: =H4/$B$14 -> 3.5 | I6: =I4/$B$14 -> 3 | J6: =J4/$B$14 -> 2.5 | K6: =K4/$B$14 -> 0
A7: Stratum | B7: 1
A8: Stratum Net Area | B8: 5.2
A9: Zone/subzone/variant | B9: CWH vm1 | E9: Species | F9: Restricted | G9: Height (m) | I9: Restriction clauses
A10: Site Series | B10: 101 | E10: Hw | G10: 3 | I10: *L2/3/4 Fdc: Fdc is suitable in non-stratifiable areas with <9 m2/ha total basal area (BA); otherwise it is unsuitable.
E11: Fdc* | F11: Yes | G11: 3
A12: Survey Parameters | E12: Ba | G12: 1.75
A13: Plot Radius | B13: 3.99 | E13: Cw | G13: 1.5
A14: Plot Multiplier | B14: 200
A15: BAF | B15: 5
A16: Total Completed Plots | B16: 5
A17: FG damage | B17: FS660
A19: Objectives | B19: Enter Y/N
A20: Regen delay | E20: MITD
A21: Stocking | B21: Y | E21: Minimum Inter Tree Distance (MITD) between L1 trees= 0m, between L2/3/4 trees= 2m, between L2/3/4 trees and L1 trees = outside of dripline
A22: Plantability
A23: Free growing | B23: Y
A24: Brushing
A25: Max density
A26: Forest health | B26: Y
A27: Other:
D39: =103*100 -> 10300

Sheet Example-658 659
R1: Stratum #1 species | U1: Stratum #2 species
C2: Totals W/O M-Value | D2: Hw | E2: Cw | F2: Fdc | G2: Ba | H2: Dr | M2: Totals W/ M-Value | N2: Total/ Capped Prism Count | O2: Total/ Capped BA | P2: Plot TSS | Q2: Plot MSS | R2: Species | S2: Height | T2: Age | U2: Species | V2: Height | W2: Age | X2: Crown Closure | Y2: Plantable | Z2: Preparable | AA2: Germs. | AB2: Ground Vegetation | AE2: Forest Health
A3: Plot # | B3: Layer/ Date Type | D3: P | E3: P | F3: R-P | G3: P | H3: U | AB3: Spp. | AC3: % Cover | AD3: Ht. (m) | AE3: Code | AF3: Layer (O/U) | AG3: Code-Layer | AH3: Species | AI3: Living | AJ3: Dead | AK3: Comments
A4: 1 | B4: T1 | D4: 2 | E4: 1 | M4: 2 | N4: =SUM(D4:L4) -> 3 | O4: =N4*'Example-657'!$B$15 -> 15 | R4: Hw | S4: 42 | T4: 160 | U4: Cw | V4: 30 | W4: 150 | X4: 0.4 | AB4: Gaul Sha | AC4: 0.35 | AD4: 0.55 | AE4: NW | AF4: O | AG4: =IF(AND(AE4<>"", AF4<>"", AH4<>""), AE4 & "-" & AF4 & " - " & TRIM(AH4), "") -> NW-O - Hw | AH4: Hw | AJ4: 2
B5: F1 | D5: 2 | E5: 1 | N5: =IF(SUM(D5:L5)>'Example-657'!$L$3,'Example-657'!$L$3,SUM(D5:L5)) -> 3 | O5: =N5*'Example-657'!$B$15 -> 15 | P5: =INDEX('Example-657'!$F$4:$K$4, MATCH(O5, 'Example-657'!$F$2:$K$2, 1)) -> 800 | Q5: =INDEX('Example-657'!$F$5:$K$5, MATCH(O5, 'Example-657'!$F$2:$K$2, 1)) -> 400 | R5: Hw | S5: 42 | T5: 160 | AB5: Vacc Par | AC5: 0.08 | AD5: 0.6 | AG5: =IF(AND(AE5<>"", AF5<>"", AH5<>""), AE5 & "-" & AF5 & " - " & TRIM(AH5), "")
B6: T2,3,4 | D6: 5 | E6: 1 | M6: =SUM(D6:L6) -> 6 | R6: Hw | S6: 4.2 | T6: 13 | U6: Cw | V6: 2.7 | W6: 13 | X6: 0.35 | AG6: =IF(AND(AE6<>"", AF6<>"", AH6<>""), AE6 & "-" & AF6 & " - " & TRIM(AH6), "")
B7: W2, 3, 4 | C7: =SUM(D7:L7) -> 2 | D7: 1 | E7: 1 | M7: =IF(SUM(D7:L7)>($P5/'Example-657'!$B$14),($P5/'Example-657'!$B$14),SUM(D7:L7)) -> 2 | AG7: =IF(AND(AE7<>"", AF7<>"", AH7<>""), AE7 & "-" & AF7 & " - " & TRIM(AH7), "")
B8: F2, 3, 4 | C8: =SUM(D8:L8) -> 2 | D8: 1 | E8: 1 | M8: =IF(SUM(D8:L8)>($P5/'Example-657'!$B$14),($P5/'Example-657'!$B$14),SUM(D8:L8)) -> 2 | R8: Cw | S8: 2.7 | T8: 13 | AG8: =IF(AND(AE8<>"", AF8<>"", AH8<>""), AE8 & "-" & AF8 & " - " & TRIM(AH8), "")
A9: 2 | B9: T1 | D9: 2 | E9: 1 | M9: 1 | N9: =SUM(D9:L9) -> 3 | O9: =N9*'Example-657'!$B$15 -> 15 | AE9: DMH | AF9: O | AG9: =IF(AND(AE9<>"", AF9<>"", AH9<>""), AE9 & "-" & AF9 & " - " & TRIM(AH9), "") -> DMH-O - Hw | AH9: Hw | AI9: 2
B10: F1 | E10: 1 | N10: =IF(SUM(D10:L10)>'Example-657'!$L$3,'Example-657'!$L$3,SUM(D10:L10)) -> 1 | O10: =N10*'Example-657'!$B$15 -> 5 | P10: =INDEX('Example-657'!$F$4:$K$4, MATCH(O10, 'Example-657'!$F$2:$K$2, 1)) -> 900 | Q10: =INDEX('Example-657'!$F$5:$K$5, MATCH(O10, 'Example-657'!$F$2:$K$2, 1)) -> 500 | AE10: NW | AF10: O | AG10: =IF(AND(AE10<>"", AF10<>"", AH10<>""), AE10 & "-" & AF10 & " - " & TRIM(AH10), "") -> NW-O - Cw | AH10: Cw | AJ10: 1
B11: T2,3,4 | D11: 12 | E11: 3 | G11: 1 | H11: 1 | M11: =SUM(D11:L11) -> 17 | AG11: =IF(AND(AE11<>"", AF11<>"", AH11<>""), AE11 & "-" & AF11 & " - " & TRIM(AH11), "")
B12: W2, 3, 4 | C12: =SUM(D12:L12) -> 3 | E12: 2 | G12: 1 | M12: =IF(SUM(D12:L12)>($P10/'Example-657'!$B$14),($P10/'Example-657'!$B$14),SUM(D12:L12)) -> 3 | AG12: =IF(AND(AE12<>"", AF12<>"", AH12<>""), AE12 & "-" & AF12 & " - " & TRIM(AH12), "")
B13: F2, 3, 4 | C13: =SUM(D13:L13) -> 3 | E13: 2 | G13: 1 | M13: =IF(SUM(D13:L13)>($P10/'Example-657'!$B$14),($P10/'Example-657'!$B$14),SUM(D13:L13)) -> 3 | AG13: =IF(AND(AE13<>"", AF13<>"", AH13<>""), AE13 & "-" & AF13 & " - " & TRIM(AH13), "")
A14: 3 | B14: T1 | D14: 3 | E14: 1 | M14: 1 | N14: =SUM(D14:L14) -> 4 | O14: =N14*'Example-657'!$B$15 -> 20 | R14: Hw | S14: 32 | T14: 120 | U14: Cw | V14: 28 | W14: 120 | X14: 0.55 | AB14: Vacc ova | AC14: 0.02 | AD14: 1.4 | AG14: =IF(AND(AE14<>"", AF14<>"", AH14<>""), AE14 & "-" & AF14 & " - " & TRIM(AH14), "")
B15: F1 | D15: 3 | E15: 1 | N15: =IF(SUM(D15:L15)>'Example-657'!$L$3,'Example-657'!$L$3,SUM(D15:L15)) -> 4 | O15: =N15*'Example-657'!$B$15 -> 20 | P15: =INDEX('Example-657'!$F$4:$K$4, MATCH(O15, 'Example-657'!$F$2:$K$2, 1)) -> 700 | Q15: =INDEX('Example-657'!$F$5:$K$5, MATCH(O15, 'Example-657'!$F$2:$K$2, 1)) -> 350 | R15: Hw | S15: 30 | T15: 120 | AG15: =IF(AND(AE15<>"", AF15<>"", AH15<>""), AE15 & "-" & AF15 & " - " & TRIM(AH15), "")
B16: T2,3,4 | D16: 5 | E16: 1 | F16: 1 | M16: =SUM(D16:L16) -> 7 | R16: Hw | S16: 4.5 | T16: 13 | U16: Cw | V16: 5.1 | W16: 13 | X16: 0.06 | AG16: =IF(AND(AE16<>"", AF16<>"", AH16<>""), AE16 & "-" & AF16 & " - " & TRIM(AH16), "")
B17: W2, 3, 4 | C17: =SUM(D17:L17) -> 6 | D17: 5 | E17: 1 | M17: =IF(SUM(D17:L17)>($P15/'Example-657'!$B$14),($P15/'Example-657'!$B$14),SUM(D17:L17)) -> 3.5 | AG17: =IF(AND(AE17<>"", AF17<>"", AH17<>""), AE17 & "-" & AF17 & " - " & TRIM(AH17), "")
B18: F2, 3, 4 | C18: =SUM(D18:L18) -> 2 | D18: 1 | E18: 1 | M18: =IF(SUM(D18:L18)>($P15/'Example-657'!$B$14),($P15/'Example-657'!$B$14),SUM(D18:L18)) -> 2 | R18: Cw | S18: 5.1 | T18: 13 | AG18: =IF(AND(AE18<>"", AF18<>"", AH18<>""), AE18 & "-" & AF18 & " - " & TRIM(AH18), "")
A19: 4 | B19: T1 | D19: 3 | M19: 1 | N19: =SUM(D19:L19) -> 3 | O19: =N19*'Example-657'!$B$15 -> 15 | AE19: DMH | AF19: O | AG19: =IF(AND(AE19<>"", AF19<>"", AH19<>""), AE19 & "-" & AF19 & " - " & TRIM(AH19), "") -> DMH-O - Hw | AH19: Hw | AI19: 1
B20: F1 | D20: 2 | N20: =IF(SUM(D20:L20)>'Example-657'!$L$3,'Example-657'!$L$3,SUM(D20:L20)) -> 2 | O20: =N20*'Example-657'!$B$15 -> 10 | P20: =INDEX('Example-657'!$F$4:$K$4, MATCH(O20, 'Example-657'!$F$2:$K$2, 1)) -> 800 | Q20: =INDEX('Example-657'!$F$5:$K$5, MATCH(O20, 'Example-657'!$F$2:$K$2, 1)) -> 400 | AE20: NW | AF20: O | AG20: =IF(AND(AE20<>"", AF20<>"", AH20<>""), AE20 & "-" & AF20 & " - " & TRIM(AH20), "") -> NW-O - Hw | AH20: Hw | AJ20: 1
B21: T2,3,4 | D21: 5 | E21: 3 | G21: 2 | M21: =SUM(D21:L21) -> 10 | AE21: AD | AF21: U | AG21: =IF(AND(AE21<>"", AF21<>"", AH21<>""), AE21 & "-" & AF21 & " - " & TRIM(AH21), "") -> AD-U - Cw | AH21: Cw | AI21: 1
B22: W2, 3, 4 | C22: =SUM(D22:L22) -> 2 | E22: 1 | G22: 1 | M22: =IF(SUM(D22:L22)>($P20/'Example-657'!$B$14),($P20/'Example-657'!$B$14),SUM(D22:L22)) -> 2 | AG22: =IF(AND(AE22<>"", AF22<>"", AH22<>""), AE22 & "-" & AF22 & " - " & TRIM(AH22), "")
B23: F2, 3, 4 | C23: =SUM(D23:L23) -> 2 | E23: 1 | G23: 1 | M23: =IF(SUM(D23:L23)>($P20/'Example-657'!$B$14),($P20/'Example-657'!$B$14),SUM(D23:L23)) -> 2 | AG23: =IF(AND(AE23<>"", AF23<>"", AH23<>""), AE23 & "-" & AF23 & " - " & TRIM(AH23), "")
A24: 5 | B24: T1 | D24: 2 | E24: 1 | M24: 2 | N24: =SUM(D24:L24) -> 3 | O24: =N24*'Example-657'!$B$15 -> 15 | R24: Hw | S24: 32 | T24: 120 | U24: Cw | V24: 28 | W24: 120 | X24: 0.5 | AB24: Gaul Sha | AC24: 0.4 | AD24: 0.8 | AE24: AD | AF24: U | AG24: =IF(AND(AE24<>"", AF24<>"", AH24<>""), AE24 & "-" & AF24 & " - " & TRIM(AH24), "") -> AD-U - Hw | AH24: Hw | AI24: 1
B25: F1 | D25: 2 | N25: =IF(SUM(D25:L25)>'Example-657'!$L$3,'Example-657'!$L$3,SUM(D25:L25)) -> 2 | O25: =N25*'Example-657'!$B$15 -> 10 | P25: =INDEX('Example-657'!$F$4:$K$4, MATCH(O25, 'Example-657'!$F$2:$K$2, 1)) -> 800 | Q25: =INDEX('Example-657'!$F$5:$K$5, MATCH(O25, 'Example-657'!$F$2:$K$2, 1)) -> 400 | R25: Hw | S25: 32 | T25: 120 | AG25: =IF(AND(AE25<>"", AF25<>"", AH25<>""), AE25 & "-" & AF25 & " - " & TRIM(AH25), "")
B26: T2,3,4 | D26: 4 | G26: 2 | H26: 1 | M26: =SUM(D26:L26) -> 7 | R26: Hw | S26: 4.5 | T26: 13 | U26: Cw | V26: 5.1 | W26: 13 | X26: 0.4 | AA26: 5 | AG26: =IF(AND(AE26<>"", AF26<>"", AH26<>""), AE26 & "-" & AF26 & " - " & TRIM(AH26), "")
B27: W2, 3, 4 | C27: =SUM(D27:L27) -> 5 | D27: 4 | G27: 1 | M27: =IF(SUM(D27:L27)>($P25/'Example-657'!$B$14),($P25/'Example-657'!$B$14),SUM(D27:L27)) -> 4 | AG27: =IF(AND(AE27<>"", AF27<>"", AH27<>""), AE27 & "-" & AF27 & " - " & TRIM(AH27), "")
B28: F2, 3, 4 | C28: =SUM(D28:L28) -> 2 | D28: 1 | G28: 1 | M28: =IF(SUM(D28:L28)>($P25/'Example-657'!$B$14),($P25/'Example-657'!$B$14),SUM(D28:L28)) -> 2 | R28: Cw | S28: 4.8 | T28: 13 | AG28: =IF(AND(AE28<>"", AF28<>"", AH28<>""), AE28 & "-" & AF28 & " - " & TRIM(AH28), "")
A29: 6 | B29: T1 | N29: =SUM(D29:L29) -> 0 | O29: =N29*'Example-657'!$B$15 -> 0 | AG29: =IF(AND(AE29<>"", AF29<>"", AH29<>""), AE29 & "-" & AF29 & " - " & TRIM(AH29), "")
B30: F1 | N30: =IF(SUM(D30:L30)>'Example-657'!$L$3,'Example-657'!$L$3,SUM(D30:L30)) -> 0 | O30: =N30*'Example-657'!$B$15 -> 0 | P30: =INDEX('Example-657'!$F$4:$K$4, MATCH(O30, 'Example-657'!$F$2:$K$2, 1)) -> 900 | Q30: =INDEX('Example-657'!$F$5:$K$5, MATCH(O30, 'Example-657'!$F$2:$K$2, 1)) -> 500 | AG30: =IF(AND(AE30<>"", AF30<>"", AH30<>""), AE30 & "-" & AF30 & " - " & TRIM(AH30), "")
B31: T2,3,4 | M31: =SUM(D31:L31) -> 0 | AG31: =IF(AND(AE31<>"", AF31<>"", AH31<>""), AE31 & "-" & AF31 & " - " & TRIM(AH31), "")
B32: W2, 3, 4 | C32: =SUM(D32:L32) -> 0 | M32: =IF(SUM(D32:L32)>($P30/'Example-657'!$B$14),($P30/'Example-657'!$B$14),SUM(D32:L32)) -> 0 | AG32: =IF(AND(AE32<>"", AF32<>"", AH32<>""), AE32 & "-" & AF32 & " - " & TRIM(AH32), "")
B33: F2, 3, 4 | C33: =SUM(D33:L33) -> 0 | M33: =IF(SUM(D33:L33)>($P30/'Example-657'!$B$14),($P30/'Example-657'!$B$14),SUM(D33:L33)) -> 0 | AG33: =IF(AND(AE33<>"", AF33<>"", AH33<>""), AE33 & "-" & AF33 & " - " & TRIM(AH33), "")
A34: 7 | B34: T1 | N34: =SUM(D34:L34) -> 0 | O34: =N34*'Example-657'!$B$15 -> 0 | AG34: =IF(AND(AE34<>"", AF34<>"", AH34<>""), AE34 & "-" & AF34 & " - " & TRIM(AH34), "")
B35: F1 | N35: =IF(SUM(D35:L35)>'Example-657'!$L$3,'Example-657'!$L$3,SUM(D35:L35)) -> 0 | O35: =N35*'Example-657'!$B$15 -> 0 | P35: =INDEX('Example-657'!$F$4:$K$4, MATCH(O35, 'Example-657'!$F$2:$K$2, 1)) -> 900 | Q35: =INDEX('Example-657'!$F$5:$K$5, MATCH(O35, 'Example-657'!$F$2:$K$2, 1)) -> 500 | AG35: =IF(AND(AE35<>"", AF35<>"", AH35<>""), AE35 & "-" & AF35 & " - " & TRIM(AH35), "")
B36: T2,3,4 | M36: =SUM(D36:L36) -> 0 | AG36: =IF(AND(AE36<>"", AF36<>"", AH36<>""), AE36 & "-" & AF36 & " - " & TRIM(AH36), "")
B37: W2, 3, 4 | C37: =SUM(D37:L37) -> 0 | M37: =IF(SUM(D37:L37)>($P35/'Example-657'!$B$14),($P35/'Example-657'!$B$14),SUM(D37:L37)) -> 0 | AG37: =IF(AND(AE37<>"", AF37<>"", AH37<>""), AE37 & "-" & AF37 & " - " & TRIM(AH37), "")
B38: F2, 3, 4 | C38: =SUM(D38:L38) -> 0 | M38: =IF(SUM(D38:L38)>($P35/'Example-657'!$B$14),($P35/'Example-657'!$B$14),SUM(D38:L38)) -> 0 | AG38: =IF(AND(AE38<>"", AF38<>"", AH38<>""), AE38 & "-" & AF38 & " - " & TRIM(AH38), "")
A39: 8 | B39: T1 | N39: =SUM(D39:L39) -> 0 | O39: =N39*'Example-657'!$B$15 -> 0 | AG39: =IF(AND(AE39<>"", AF39<>"", AH39<>""), AE39 & "-" & AF39 & " - " & TRIM(AH39), "")
B40: F1 | N40: =IF(SUM(D40:L40)>'Example-657'!$L$3,'Example-657'!$L$3,SUM(D40:L40)) -> 0 | O40: =N40*'Example-657'!$B$15 -> 0 | P40: =INDEX('Example-657'!$F$4:$K$4, MATCH(O40, 'Example-657'!$F$2:$K$2, 1)) -> 900 | Q40: =INDEX('Example-657'!$F$5:$K$5, MATCH(O40, 'Example-657'!$F$2:$K$2, 1)) -> 500 | AG40: =IF(AND(AE40<>"", AF40<>"", AH40<>""), AE40 & "-" & AF40 & " - " & TRIM(AH40), "")
...

Sheet Template-657
A1: STRATUM 1 | O1: STRATUM 2
A2: Block Information | E2: Plot Standards | O2: Block Information | S2: Plot Standards
A3: Surveyor | E3: BA (for coding) | F3: =IF(ISNUMBER(VALUE(LEFT(F4, FIND("-", F4)-1))), VALUE(LEFT(F4, FIND("-", F4)-1)), VALUE(MID(F4, FIND("=", F4)+1, 10))) -> #VALUE! | G3: =IF(ISNUMBER(VALUE(LEFT(G4, FIND("-", G4)-1))), VALUE(LEFT(G4, FIND("-", G4)-1)), VALUE(MID(G4, FIND("=", G4)+1, 10))) -> #VALUE! | H3: =IF(ISNUMBER(VALUE(LEFT(H4, FIND("-", H4)-1))), VALUE(LEFT(H4, FIND("-", H4)-1)), VALUE(MID(H4, FIND("=", H4)+1, 10))) -> #VALUE! | I3: =IF(ISNUMBER(VALUE(LEFT(I4, FIND("-", I4)-1))), VALUE(LEFT(I4, FIND("-", I4)-1)), VALUE(MID(I4, FIND("=", I4)+1, 10))) -> #VALUE! | J3: =IF(ISNUMBER(VALUE(LEFT(J4, FIND("-", J4)-1))), VALUE(LEFT(J4, FIND("-", J4)-1)), VALUE(MID(J4, FIND("=", J4)+1, 10))) -> #VALUE! | K3: =IF(ISNUMBER(VALUE(LEFT(K4, FIND("-", K4)-1))), VALUE(LEFT(K4, FIND("-", K4)-1)), VALUE(MID(K4, FIND("=", K4)+1, 10))) -> #VALUE! | L3: BA M-Value | O3: Surveyor | S3: BA (for coding) | T3: =IF(ISNUMBER(VALUE(LEFT(T4, FIND("-", T4)-1))), VALUE(LEFT(T4, FIND("-", T4)-1)), VALUE(MID(T4, FIND("=", T4)+1, 10))) -> #VALUE! | U3: =IF(ISNUMBER(VALUE(LEFT(U4, FIND("-", U4)-1))), VALUE(LEFT(U4, FIND("-", U4)-1)), VALUE(MID(U4, FIND("=", U4)+1, 10))) -> #VALUE! | V3: =IF(ISNUMBER(VALUE(LEFT(V4, FIND("-", V4)-1))), VALUE(LEFT(V4, FIND("-", V4)-1)), VALUE(MID(V4, FIND("=", V4)+1, 10))) -> #VALUE! | W3: =IF(ISNUMBER(VALUE(LEFT(W4, FIND("-", W4)-1))), VALUE(LEFT(W4, FIND("-", W4)-1)), VALUE(MID(W4, FIND("=", W4)+1, 10))) -> #VALUE! | X3: =IF(ISNUMBER(VALUE(LEFT(X4, FIND("-", X4)-1))), VALUE(LEFT(X4, FIND("-", X4)-1)), VALUE(MID(X4, FIND("=", X4)+1, 10))) -> #VALUE! | Y3: =IF(ISNUMBER(VALUE(LEFT(Y4, FIND("-", Y4)-1))), VALUE(LEFT(Y4, FIND("-", Y4)-1)), VALUE(MID(Y4, FIND("=", Y4)+1, 10))) -> #VALUE! | Z3: BA M-Value
A4: Date | E4: BA | L4: =40/$B$16 -> #DIV/0! | O4: Date | S4: BA | Z4: =40/$P$16 -> #DIV/0!
A5: Opening ID # | E5: TSS | O5: Opening ID # | S5: TSS
A6: Block | E6: MSS | O6: Block | S6: MSS
A7: Standards Unit | E7: M-value | F7: =F5/$B$15 -> #DIV/0! | G7: =G5/$B$15 -> #DIV/0! | H7: =H5/$B$15 -> #DIV/0! | I7: =I5/$B$15 -> #DIV/0! | J7: =J5/$B$15 -> #DIV/0! | K7: =K5/$B$15 -> #DIV/0! | O7: Standards Unit | S7: M-value | T7: =T5/$B$15 -> #DIV/0! | U7: =U5/$B$15 -> #DIV/0! | V7: =V5/$B$15 -> #DIV/0! | W7: =W5/$B$15 -> #DIV/0! | X7: =X5/$B$15 -> #DIV/0! | Y7: =Y5/$B$15 -> #DIV/0!
A8: Stratum | O8: Stratum
A9: Stratum Net Area | O9: Stratum Net Area
A10: Zone/subzone/variant | E10: Species | F10: Restricted | G10: Height (m) | I10: Restriction clauses | O10: Zone/subzone/variant | S10: Species | T10: Restricted | U10: Height (m) | W10: Restriction clauses
A11: Site Series | I11: For 2G Fdc standards: *L2/3/4 Fdc: Fdc is only ecologically suitable and unrestricted in areas with <11 m2/ha total basal area (BA). Fdc is restricted to a maximum of 200 WS/FG sph in areas with ≥11 m2/ha and <17 m2/ha total BA. Fdc is not ecologically suitable in areas with ≥17 m2/ha total BA. Fdc is not ecologically suitable on north aspects, at any BA level, unless no residual trees are within 1 tree length. L2/3/4 Cw: Cw is suitable in areas with <17 m2/ha total BA, restricted to 200 WS/FG sph in areas with ≥17 m2/ha and <24 m2/ha total BA, and not suitable in areas with ≥24 m2/ha total BA. For OG Cw/Hw standards: *L2/3/4 Fdc: Fdc is only suitable in non-stratifiable areas with <9 m2/ha total basal area (BA); otherwise they are unsuitable. | O11: Site Series | W11: For 2G Fdc standards: *L2/3/4 Fdc: Fdc is only ecologically suitable and unrestricted in areas with <11 m2/ha total basal area (BA). Fdc is restricted to a maximum of 200 WS/FG sph in areas with ≥11 m2/ha and <17 m2/ha total BA. Fdc is not ecologically suitable in areas with ≥17 m2/ha total BA. Fdc is not ecologically suitable on north aspects, at any BA level, unless no residual trees are within 1 tree length. L2/3/4 Cw: Cw is suitable in areas with <17 m2/ha total BA, restricted to 200 WS/FG sph in areas with ≥17 m2/ha and <24 m2/ha total BA, and not suitable in areas with ≥24 m2/ha total BA. For OG Cw/Hw standards: *L2/3/4 Fdc: Fdc is only suitable in non-stratifiable areas with <9 m2/ha total basal area (BA); otherwise they are unsuitable.
A13: Survey Parameters | O13: Survey Parameters
A14: Plot Radius | O14: Plot Radius
A15: Plot Multiplier | O15: Plot Multiplier
A16: BAF | O16: BAF
A17: Total Completed Plots | O17: Total Completed Plots
A18: FG damage | O18: FG damage
A20: Objectives | B20: Enter Y/N | O20: Objectives | P20: Enter Y/N
A21: Regen delay | E21: MITD | O21: Regen delay | S21: MITD
A22: Stocking | E22: Minimum Inter Tree Distance (MITD) between L1 trees= 0m, between L2/3/4 trees= 2m, between L2/3/4 trees and L1 trees = outside of dripline | O22: Stocking | S22: Minimum Inter Tree Distance (MITD) between L1 trees= 0m, between L2/3/4 trees= 2m, between L2/3/4 trees and L1 trees = outside of dripline
A23: Plantability | O23: Plantability
A24: Free growing | O24: Free growing
A25: Brushing | O25: Brushing
A26: Max density | O26: Max density
A27: Forest health | O27: Forest health
A28: Other: | O28: Other:
B31: For FS 658 659 calculations to work, orange fields must be entered.

Sheet Template-658 659-Stratum 1
R1: Stratum #1 species | U1: Stratum #2 species
C2: Totals W/O M-Value | M2: Totals W/ M-Value | N2: Total/ Capped Prism Count | O2: Total/ Capped BA | P2: Plot TSS | Q2: Plot MSS | R2: Species | S2: Height | T2: Age | U2: Species | V2: Height | W2: Age | X2: Crown Closure | Y2: Plantable | Z2: Preparable | AA2: Germs. | AB2: Ground Vegetation | AE2: Forest Health
A3: Plot # | B3: Layer/ Date Type | AB3: Spp. | AC3: % Cover | AD3: Ht. (m) | AE3: Code | AF3: Layer (O/U) | AG3: Code-Layer | AH3: Species | AI3: Living | AJ3: Dead | AK3: Comments
A4: 1 | B4: T1 | N4: =SUM(D4:L4) -> 0 | O4: =N4*'Template-657'!$B$16 -> 0 | AG4: =IF(AND(AE4<>"", AF4<>"", AH4<>""), AE4 & "-" & AF4 & " - " & TRIM(AH4), "")
B5: F1 | N5: =IF(SUM(D5:L5)>'Template-657'!$L$4,'Template-657'!$L$4,SUM(D5:L5)) -> #DIV/0! | O5: =N5*'Template-657'!$B$16 -> #DIV/0! | P5: =INDEX('Template-657'!$F$5:$K$5, MATCH(O5, 'Template-657'!$F$3:$K$3, 1)) -> #DIV/0! | Q5: =INDEX('Template-657'!$F$6:$K$6, MATCH(O5, 'Template-657'!$F$3:$K$3, 1)) -> #DIV/0!
B6: T2,3,4 | M6: =SUM(D6:L6) -> 0
B7: W2, 3, 4 | C7: =SUM(D7:L7) -> 0 | M7: =IF(SUM(D7:L7)>($P5/'Template-657'!$B$15),($P5/'Template-657'!$B$15),SUM(D7:L7)) -> #DIV/0! | AG7: =IF(AND(AE7<>"", AF7<>"", AH7<>""), AE7 & "-" & AF7 & " - " & TRIM(AH7), "")
B8: F2, 3, 4 | C8: =SUM(D8:L8) -> 0 | M8: =IF(SUM(D8:L8)>($P5/'Template-657'!$B$15),($P5/'Template-657'!$B$15),SUM(D8:L8)) -> #DIV/0! | AG8: =IF(AND(AE8<>"", AF8<>"", AH8<>""), AE8 & "-" & AF8 & " - " & TRIM(AH8), "")
A9: 2 | B9: T1 | N9: =SUM(D9:L9) -> 0 | O9: =N9*'Template-657'!$B$16 -> 0
B10: F1 | N10: =IF(SUM(D10:L10)>'Template-657'!$L$4,'Template-657'!$L$4,SUM(D10:L10)) -> #DIV/0! | O10: =N10*'Template-657'!$B$16 -> #DIV/0! | P10: =INDEX('Template-657'!$F$5:$K$5, MATCH(O10, 'Template-657'!$F$3:$K$3, 1)) -> #DIV/0! | Q10: =INDEX('Template-657'!$F$6:$K$6, MATCH(O10, 'Template-657'!$F$3:$K$3, 1)) -> #DIV/0!
B11: T2,3,4 | M11: =SUM(D11:L11) -> 0
B12: W2, 3, 4 | C12: =SUM(D12:L12) -> 0 | M12: =IF(SUM(D12:L12)>($P10/'Template-657'!$B$15),($P10/'Template-657'!$B$15),SUM(D12:L12)) -> #DIV/0!
B13: F2, 3, 4 | C13: =SUM(D13:L13) -> 0 | M13: =IF(SUM(D13:L13)>($P10/'Template-657'!$B$15),($P10/'Template-657'!$B$15),SUM(D13:L13)) -> #DIV/0!
A14: 3 | B14: T1 | N14: =SUM(D14:L14) -> 0 | O14: =N14*'Template-657'!$B$16 -> 0 | AG14: =IF(AND(AE14<>"", AF14<>"", AH14<>""), AE14 & "-" & AF14 & " - " & TRIM(AH14), "")
B15: F1 | N15: =IF(SUM(D15:L15)>'Template-657'!$L$4,'Template-657'!$L$4,SUM(D15:L15)) -> #DIV/0! | O15: =N15*'Template-657'!$B$16 -> #DIV/0! | P15: =INDEX('Template-657'!$F$5:$K$5, MATCH(O15, 'Template-657'!$F$3:$K$3, 1)) -> #DIV/0! | Q15: =INDEX('Template-657'!$F$6:$K$6, MATCH(O15, 'Template-657'!$F$3:$K$3, 1)) -> #DIV/0! | AG15: =IF(AND(AE15<>"", AF15<>"", AH15<>""), AE15 & "-" & AF15 & " - " & TRIM(AH15), "")
B16: T2,3,4 | M16: =SUM(D16:L16) -> 0 | AG16: =IF(AND(AE16<>"", AF16<>"", AH16<>""), AE16 & "-" & AF16 & " - " & TRIM(AH16), "")
B17: W2, 3, 4 | C17: =SUM(D17:L17) -> 0 | M17: =IF(SUM(D17:L17)>($P15/'Template-657'!$B$15),($P15/'Template-657'!$B$15),SUM(D17:L17)) -> #DIV/0! | AG17: =IF(AND(AE17<>"", AF17<>"", AH17<>""), AE17 & "-" & AF17 & " - " & TRIM(AH17), "")
B18: F2, 3, 4 | C18: =SUM(D18:L18) -> 0 | M18: =IF(SUM(D18:L18)>($P15/'Template-657'!$B$15),($P15/'Template-657'!$B$15),SUM(D18:L18)) -> #DIV/0! | AG18: =IF(AND(AE18<>"", AF18<>"", AH18<>""), AE18 & "-" & AF18 & " - " & TRIM(AH18), "")
A19: 4 | B19: T1 | N19: =SUM(D19:L19) -> 0 | O19: =N19*'Template-657'!$B$16 -> 0 | AG19: =IF(AND(AE19<>"", AF19<>"", AH19<>""), AE19 & "-" & AF19 & " - " & TRIM(AH19), "")
B20: F1 | N20: =IF(SUM(D20:L20)>'Template-657'!$L$4,'Template-657'!$L$4,SUM(D20:L20)) -> #DIV/0! | O20: =N20*'Template-657'!$B$16 -> #DIV/0! | P20: =INDEX('Template-657'!$F$5:$K$5, MATCH(O20, 'Template-657'!$F$3:$K$3, 1)) -> #DIV/0! | Q20: =INDEX('Template-657'!$F$6:$K$6, MATCH(O20, 'Template-657'!$F$3:$K$3, 1)) -> #DIV/0! | AG20: =IF(AND(AE20<>"", AF20<>"", AH20<>""), AE20 & "-" & AF20 & " - " & TRIM(AH20), "")
B21: T2,3,4 | M21: =SUM(D21:L21) -> 0 | AG21: =IF(AND(AE21<>"", AF21<>"", AH21<>""), AE21 & "-" & AF21 & " - " & TRIM(AH21), "")
B22: W2, 3, 4 | C22: =SUM(D22:L22) -> 0 | M22: =IF(SUM(D22:L22)>($P20/'Template-657'!$B$15),($P20/'Template-657'!$B$15),SUM(D22:L22)) -> #DIV/0! | AG22: =IF(AND(AE22<>"", AF22<>"", AH22<>""), AE22 & "-" & AF22 & " - " & TRIM(AH22), "")
B23: F2, 3, 4 | C23: =SUM(D23:L23) -> 0 | M23: =IF(SUM(D23:L23)>($P20/'Template-657'!$B$15),($P20/'Template-657'!$B$15),SUM(D23:L23)) -> #DIV/0! | AG23: =IF(AND(AE23<>"", AF23<>"", AH23<>""), AE23 & "-" & AF23 & " - " & TRIM(AH23), "")
A24: 5 | B24: T1 | N24: =SUM(D24:L24) -> 0 | O24: =N24*'Template-657'!$B$16 -> 0 | AG24: =IF(AND(AE24<>"", AF24<>"", AH24<>""), AE24 & "-" & AF24 & " - " & TRIM(AH24), "")
B25: F1 | N25: =IF(SUM(D25:L25)>'Template-657'!$L$4,'Template-657'!$L$4,SUM(D25:L25)) -> #DIV/0! | O25: =N25*'Template-657'!$B$16 -> #DIV/0! | P25: =INDEX('Template-657'!$F$5:$K$5, MATCH(O25, 'Template-657'!$F$3:$K$3, 1)) -> #DIV/0! | Q25: =INDEX('Template-657'!$F$6:$K$6, MATCH(O25, 'Template-657'!$F$3:$K$3, 1)) -> #DIV/0! | AG25: =IF(AND(AE25<>"", AF25<>"", AH25<>""), AE25 & "-" & AF25 & " - " & TRIM(AH25), "")
B26: T2,3,4 | M26: =SUM(D26:L26) -> 0 | AG26: =IF(AND(AE26<>"", AF26<>"", AH26<>""), AE26 & "-" & AF26 & " - " & TRIM(AH26), "")
B27: W2, 3, 4 | C27: =SUM(D27:L27) -> 0 | M27: =IF(SUM(D27:L27)>($P25/'Template-657'!$B$15),($P25/'Template-657'!$B$15),SUM(D27:L27)) -> #DIV/0! | AG27: =IF(AND(AE27<>"", AF27<>"", AH27<>""), AE27 & "-" & AF27 & " - " & TRIM(AH27), "")
B28: F2, 3, 4 | C28: =SUM(D28:L28) -> 0 | M28: =IF(SUM(D28:L28)>($P25/'Template-657'!$B$15),($P25/'Template-657'!$B$15),SUM(D28:L28)) -> #DIV/0! | AG28: =IF(AND(AE28<>"", AF28<>"", AH28<>""), AE28 & "-" & AF28 & " - " & TRIM(AH28), "")
A29: 6 | B29: T1 | N29: =SUM(D29:L29) -> 0 | O29: =N29*'Template-657'!$B$16 -> 0 | AG29: =IF(AND(AE29<>"", AF29<>"", AH29<>""), AE29 & "-" & AF29 & " - " & TRIM(AH29), "")
B30: F1 | N30: =IF(SUM(D30:L30)>'Template-657'!$L$4,'Template-657'!$L$4,SUM(D30:L30)) -> #DIV/0! | O30: =N30*'Template-657'!$B$16 -> #DIV/0! | P30: =INDEX('Template-657'!$F$5:$K$5, MATCH(O30, 'Template-657'!$F$3:$K$3, 1)) -> #DIV/0! | Q30: =INDEX('Template-657'!$F$6:$K$6, MATCH(O30, 'Template-657'!$F$3:$K$3, 1)) -> #DIV/0! | AG30: =IF(AND(AE30<>"", AF30<>"", AH30<>""), AE30 & "-" & AF30 & " - " & TRIM(AH30), "")
B31: T2,3,4 | M31: =SUM(D31:L31) -> 0 | AG31: =IF(AND(AE31<>"", AF31<>"", AH31<>""), AE31 & "-" & AF31 & " - " & TRIM(AH31), "")
B32: W2, 3, 4 | C32: =SUM(D32:L32) -> 0 | M32: =IF(SUM(D32:L32)>($P30/'Template-657'!$B$15),($P30/'Template-657'!$B$15),SUM(D32:L32)) -> #DIV/0! | AG32: =IF(AND(AE32<>"", AF32<>"", AH32<>""), AE32 & "-" & AF32 & " - " & TRIM(AH32), "")
B33: F2, 3, 4 | C33: =SUM(D33:L33) -> 0 | M33: =IF(SUM(D33:L33)>($P30/'Template-657'!$B$15),($P30/'Template-657'!$B$15),SUM(D33:L33)) -> #DIV/0! | AG33: =IF(AND(AE33<>"", AF33<>"", AH33<>""), AE33 & "-" & AF33 & " - " & TRIM(AH33), "")
A34: 7 | B34: T1 | N34: =SUM(D34:L34) -> 0 | O34: =N34*'Template-657'!$B$16 -> 0 | AG34: =IF(AND(AE34<>"", AF34<>"", AH34<>""), AE34 & "-" & AF34 & " - " & TRIM(AH34), "")
B35: F1 | N35: =IF(SUM(D35:L35)>'Template-657'!$L$4,'Template-657'!$L$4,SUM(D35:L35)) -> #DIV/0! | O35: =N35*'Template-657'!$B$16 -> #DIV/0! | P35: =INDEX('Template-657'!$F$5:$K$5, MATCH(O35, 'Template-657'!$F$3:$K$3, 1)) -> #DIV/0! | Q35: =INDEX('Template-657'!$F$6:$K$6, MATCH(O35, 'Template-657'!$F$3:$K$3, 1)) -> #DIV/0! | AG35: =IF(AND(AE35<>"", AF35<>"", AH35<>""), AE35 & "-" & AF35 & " - " & TRIM(AH35), "")
B36: T2,3,4 | M36: =SUM(D36:L36) -> 0 | AG36: =IF(AND(AE36<>"", AF36<>"", AH36<>""), AE36 & "-" & AF36 & " - " & TRIM(AH36), "")
B37: W2, 3, 4 | C37: =SUM(D37:L37) -> 0 | M37: =IF(SUM(D37:L37)>($P35/'Template-657'!$B$15),($P35/'Template-657'!$B$15),SUM(D37:L37)) -> #DIV/0! | AG37: =IF(AND(AE37<>"", AF37<>"", AH37<>""), AE37 & "-" & AF37 & " - " & TRIM(AH37), "")
B38: F2, 3, 4 | C38: =SUM(D38:L38) -> 0 | M38: =IF(SUM(D38:L38)>($P35/'Template-657'!$B$15),($P35/'Template-657'!$B$15),SUM(D38:L38)) -> #DIV/0! | AG38: =IF(AND(AE38<>"", AF38<>"", AH38<>""), AE38 & "-" & AF38 & " - " & TRIM(AH38), "")
A39: 8 | B39: T1 | N39: =SUM(D39:L39) -> 0 | O39: =N39*'Template-657'!$B$16 -> 0 | AG39: =IF(AND(AE39<>"", AF39<>"", AH39<>""), AE39 & "-" & AF39 & " - " & TRIM(AH39), "")
B40: F1 | N40: =IF(SUM(D40:L40)>'Template-657'!$L$4,'Template-657'!$L$4,SUM(D40:L40)) -> #DIV/0! | O40: =N40*'Template-657'!$B$16 -> #DIV/0! | P40: =INDEX('Template-657'!$F$5:$K$5, MATCH(O40, 'Template-657'!$F$3:$K$3, 1)) -> #DIV/0! | Q40: =INDEX('Template-657'!$F$6:$K$6, MATCH(O40, 'Template-657'!$F$3:$K$3, 1)) -> #DIV/0! | AG40: =IF(AND(AE40<>"", AF40<>"", AH40<>""), AE40 & "-" & AF40 & " - " & TRIM(AH40), "")
...

Sheet Template-658 659-Stratum 2
R1: Stratum #1 species | U1: Stratum #2 species
C2: Totals W/O M-Value | M2: Totals W/ M-Value | N2: Total/ Capped Prism Count | O2: Total/ Capped BA | P2: Plot TSS | Q2: Plot MSS | R2: Species | S2: Height | T2: Age | U2: Species | V2: Height | W2: Age | X2: Crown Closure | Y2: Plantable | Z2: Preparable | AA2: Germs. | AB2: Ground Vegetation | AE2: Forest Health
A3: Plot # | B3: Layer/ Date Type | AB3: Spp. | AC3: % Cover | AD3: Ht. (m) | AE3: Code | AF3: Layer (O/U) | AG3: Code-Layer | AH3: Species | AI3: Living | AJ3: Dead | AK3: Comments
A4: 1 | B4: T1 | N4: =SUM(D4:L4) -> 0 | O4: =N4*'Template-657'!$P$16 -> 0 | AG4: =IF(AND(AE4<>"", AF4<>"", AH4<>""), AE4 & "-" & AF4 & " - " & TRIM(AH4), "")
B5: F1 | N5: =IF(SUM(D5:L5)>'Template-657'!$Z$4,'Template-657'!$Z$4,SUM(D5:L5)) -> #DIV/0! | O5: =N5*'Template-657'!$P$16 -> #DIV/0! | P5: =INDEX('Template-657'!$T$5:$Y$5, MATCH(O5, 'Template-657'!$T$3:$Y$3, 1)) -> #DIV/0! | Q5: =INDEX('Template-657'!$T$6:$Y$6, MATCH(O5, 'Template-657'!$T$3:$Y$3, 1)) -> #DIV/0! | AG5: =IF(AND(AE5<>"", AF5<>"", AH5<>""), AE5 & "-" & AF5 & " - " & TRIM(AH5), "")
B6: T2,3,4 | M6: =SUM(D6:L6) -> 0 | AG6: =IF(AND(AE6<>"", AF6<>"", AH6<>""), AE6 & "-" & AF6 & " - " & TRIM(AH6), "")
B7: W2, 3, 4 | C7: =SUM(D7:L7) -> 0 | M7: =IF(SUM(D7:L7)>($P5/'Template-657'!$P$15),($P5/'Template-657'!$P$15),SUM(D7:L7)) -> #DIV/0! | AG7: =IF(AND(AE7<>"", AF7<>"", AH7<>""), AE7 & "-" & AF7 & " - " & TRIM(AH7), "")
B8: F2, 3, 4 | C8: =SUM(D8:L8) -> 0 | M8: =IF(SUM(D8:L8)>($P5/'Template-657'!$P$15),($P5/'Template-657'!$P$15),SUM(D8:L8)) -> #DIV/0! | AG8: =IF(AND(AE8<>"", AF8<>"", AH8<>""), AE8 & "-" & AF8 & " - " & TRIM(AH8), "")
A9: 2 | B9: T1 | N9: =SUM(D9:L9) -> 0 | O9: =N9*'Template-657'!$P$16 -> 0 | AG9: =IF(AND(AE9<>"", AF9<>"", AH9<>""), AE9 & "-" & AF9 & " - " & TRIM(AH9), "")
B10: F1 | N10: =IF(SUM(D10:L10)>'Template-657'!$Z$4,'Template-657'!$Z$4,SUM(D10:L10)) -> #DIV/0! | O10: =N10*'Template-657'!$P$16 -> #DIV/0! | P10: =INDEX('Template-657'!$T$5:$Y$5, MATCH(O10, 'Template-657'!$T$3:$Y$3, 1)) -> #DIV/0! | Q10: =INDEX('Template-657'!$T$6:$Y$6, MATCH(O10, 'Template-657'!$T$3:$Y$3, 1)) -> #DIV/0! | AG10: =IF(AND(AE10<>"", AF10<>"", AH10<>""), AE10 & "-" & AF10 & " - " & TRIM(AH10), "")
B11: T2,3,4 | M11: =SUM(D11:L11) -> 0 | AG11: =IF(AND(AE11<>"", AF11<>"", AH11<>""), AE11 & "-" & AF11 & " - " & TRIM(AH11), "")
B12: W2, 3, 4 | C12: =SUM(D12:L12) -> 0 | M12: =IF(SUM(D12:L12)>($P10/'Template-657'!$P$15),($P10/'Template-657'!$P$15),SUM(D12:L12)) -> #DIV/0! | AG12: =IF(AND(AE12<>"", AF12<>"", AH12<>""), AE12 & "-" & AF12 & " - " & TRIM(AH12), "")
B13: F2, 3, 4 | C13: =SUM(D13:L13) -> 0 | M13: =IF(SUM(D13:L13)>($P10/'Template-657'!$P$15),($P10/'Template-657'!$P$15),SUM(D13:L13)) -> #DIV/0! | AG13: =IF(AND(AE13<>"", AF13<>"", AH13<>""), AE13 & "-" & AF13 & " - " & TRIM(AH13), "")
A14: 3 | B14: T1 | N14: =SUM(D14:L14) -> 0 | O14: =N14*'Template-657'!$P$16 -> 0 | AG14: =IF(AND(AE14<>"", AF14<>"", AH14<>""), AE14 & "-" & AF14 & " - " & TRIM(AH14), "")
B15: F1 | N15: =IF(SUM(D15:L15)>'Template-657'!$Z$4,'Template-657'!$Z$4,SUM(D15:L15)) -> #DIV/0! | O15: =N15*'Template-657'!$P$16 -> #DIV/0! | P15: =INDEX('Template-657'!$T$5:$Y$5, MATCH(O15, 'Template-657'!$T$3:$Y$3, 1)) -> #DIV/0! | Q15: =INDEX('Template-657'!$T$6:$Y$6, MATCH(O15, 'Template-657'!$T$3:$Y$3, 1)) -> #DIV/0! | AG15: =IF(AND(AE15<>"", AF15<>"", AH15<>""), AE15 & "-" & AF15 & " - " & TRIM(AH15), "")
B16: T2,3,4 | M16: =SUM(D16:L16) -> 0 | AG16: =IF(AND(AE16<>"", AF16<>"", AH16<>""), AE16 & "-" & AF16 & " - " & TRIM(AH16), "")
B17: W2, 3, 4 | C17: =SUM(D17:L17) -> 0 | M17: =IF(SUM(D17:L17)>($P15/'Template-657'!$P$15),($P15/'Template-657'!$P$15),SUM(D17:L17)) -> #DIV/0! | AG17: =IF(AND(AE17<>"", AF17<>"", AH17<>""), AE17 & "-" & AF17 & " - " & TRIM(AH17), "")
B18: F2, 3, 4 | C18: =SUM(D18:L18) -> 0 | M18: =IF(SUM(D18:L18)>($P15/'Template-657'!$P$15),($P15/'Template-657'!$P$15),SUM(D18:L18)) -> #DIV/0! | AG18: =IF(AND(AE18<>"", AF18<>"", AH18<>""), AE18 & "-" & AF18 & " - " & TRIM(AH18), "")
A19: 4 | B19: T1 | N19: =SUM(D19:L19) -> 0 | O19: =N19*'Template-657'!$P$16 -> 0 | AG19: =IF(AND(AE19<>"", AF19<>"", AH19<>""), AE19 & "-" & AF19 & " - " & TRIM(AH19), "")
B20: F1 | N20: =IF(SUM(D20:L20)>'Template-657'!$Z$4,'Template-657'!$Z$4,SUM(D20:L20)) -> #DIV/0! | O20: =N20*'Template-657'!$P$16 -> #DIV/0! | P20: =INDEX('Template-657'!$T$5:$Y$5, MATCH(O20, 'Template-657'!$T$3:$Y$3, 1)) -> #DIV/0! | Q20: =INDEX('Template-657'!$T$6:$Y$6, MATCH(O20, 'Template-657'!$T$3:$Y$3, 1)) -> #DIV/0! | AG20: =IF(AND(AE20<>"", AF20<>"", AH20<>""), AE20 & "-" & AF20 & " - " & TRIM(AH20), "")
B21: T2,3,4 | M21: =SUM(D21:L21) -> 0 | AG21: =IF(AND(AE21<>"", AF21<>"", AH21<>""), AE21 & "-" & AF21 & " - " & TRIM(AH21), "")
B22: W2, 3, 4 | C22: =SUM(D22:L22) -> 0 | M22: =IF(SUM(D22:L22)>($P20/'Template-657'!$P$15),($P20/'Template-657'!$P$15),SUM(D22:L22)) -> #DIV/0! | AG22: =IF(AND(AE22<>"", AF22<>"", AH22<>""), AE22 & "-" & AF22 & " - " & TRIM(AH22), "")
B23: F2, 3, 4 | C23: =SUM(D23:L23) -> 0 | M23: =IF(SUM(D23:L23)>($P20/'Template-657'!$P$15),($P20/'Template-657'!$P$15),SUM(D23:L23)) -> #DIV/0! | AG23: =IF(AND(AE23<>"", AF23<>"", AH23<>""), AE23 & "-" & AF23 & " - " & TRIM(AH23), "")
A24: 5 | B24: T1 | N24: =SUM(D24:L24) -> 0 | O24: =N24*'Template-657'!$P$16 -> 0 | AG24: =IF(AND(AE24<>"", AF24<>"", AH24<>""), AE24 & "-" & AF24 & " - " & TRIM(AH24), "")
B25: F1 | N25: =IF(SUM(D25:L25)>'Template-657'!$Z$4,'Template-657'!$Z$4,SUM(D25:L25)) -> #DIV/0! | O25: =N25*'Template-657'!$P$16 -> #DIV/0! | P25: =INDEX('Template-657'!$T$5:$Y$5, MATCH(O25, 'Template-657'!$T$3:$Y$3, 1)) -> #DIV/0! | Q25: =INDEX('Template-657'!$T$6:$Y$6, MATCH(O25, 'Template-657'!$T$3:$Y$3, 1)) -> #DIV/0! | AG25: =IF(AND(AE25<>"", AF25<>"", AH25<>""), AE25 & "-" & AF25 & " - " & TRIM(AH25), "")
B26: T2,3,4 | M26: =SUM(D26:L26) -> 0 | AG26: =IF(AND(AE26<>"", AF26<>"", AH26<>""), AE26 & "-" & AF26 & " - " & TRIM(AH26), "")
B27: W2, 3, 4 | C27: =SUM(D27:L27) -> 0 | M27: =IF(SUM(D27:L27)>($P25/'Template-657'!$P$15),($P25/'Template-657'!$P$15),SUM(D27:L27)) -> #DIV/0! | AG27: =IF(AND(AE27<>"", AF27<>"", AH27<>""), AE27 & "-" & AF27 & " - " & TRIM(AH27), "")
B28: F2, 3, 4 | C28: =SUM(D28:L28) -> 0 | M28: =IF(SUM(D28:L28)>($P25/'Template-657'!$P$15),($P25/'Template-657'!$P$15),SUM(D28:L28)) -> #DIV/0! | AG28: =IF(AND(AE28<>"", AF28<>"", AH28<>""), AE28 & "-" & AF28 & " - " & TRIM(AH28), "")
A29: 6 | B29: T1 | N29: =SUM(D29:L29) -> 0 | O29: =N29*'Template-657'!$P$16 -> 0 | AG29: =IF(AND(AE29<>"", AF29<>"", AH29<>""), AE29 & "-" & AF29 & " - " & TRIM(AH29), "")
B30: F1 | N30: =IF(SUM(D30:L30)>'Template-657'!$Z$4,'Template-657'!$Z$4,SUM(D30:L30)) -> #DIV/0! | O30: =N30*'Template-657'!$P$16 -> #DIV/0! | P30: =INDEX('Template-657'!$T$5:$Y$5, MATCH(O30, 'Template-657'!$T$3:$Y$3, 1)) -> #DIV/0! | Q30: =INDEX('Template-657'!$T$6:$Y$6, MATCH(O30, 'Template-657'!$T$3:$Y$3, 1)) -> #DIV/0! | AG30: =IF(AND(AE30<>"", AF30<>"", AH30<>""), AE30 & "-" & AF30 & " - " & TRIM(AH30), "")
B31: T2,3,4 | M31: =SUM(D31:L31) -> 0 | AG31: =IF(AND(AE31<>"", AF31<>"", AH31<>""), AE31 & "-" & AF31 & " - " & TRIM(AH31), "")
B32: W2, 3, 4 | C32: =SUM(D32:L32) -> 0 | M32: =IF(SUM(D32:L32)>($P30/'Template-657'!$P$15),($P30/'Template-657'!$P$15),SUM(D32:L32)) -> #DIV/0! | AG32: =IF(AND(AE32<>"", AF32<>"", AH32<>""), AE32 & "-" & AF32 & " - " & TRIM(AH32), "")
B33: F2, 3, 4 | C33: =SUM(D33:L33) -> 0 | M33: =IF(SUM(D33:L33)>($P30/'Template-657'!$P$15),($P30/'Template-657'!$P$15),SUM(D33:L33)) -> #DIV/0! | AG33: =IF(AND(AE33<>"", AF33<>"", AH33<>""), AE33 & "-" & AF33 & " - " & TRIM(AH33), "")
A34: 7 | B34: T1 | N34: =SUM(D34:L34) -> 0 | O34: =N34*'Template-657'!$P$16 -> 0 | AG34: =IF(AND(AE34<>"", AF34<>"", AH34<>""), AE34 & "-" & AF34 & " - " & TRIM(AH34), "")
B35: F1 | N35: =IF(SUM(D35:L35)>'Template-657'!$Z$4,'Template-657'!$Z$4,SUM(D35:L35)) -> #DIV/0! | O35: =N35*'Template-657'!$P$16 -> #DIV/0! | P35: =INDEX('Template-657'!$T$5:$Y$5, MATCH(O35, 'Template-657'!$T$3:$Y$3, 1)) -> #DIV/0! | Q35: =INDEX('Template-657'!$T$6:$Y$6, MATCH(O35, 'Template-657'!$T$3:$Y$3, 1)) -> #DIV/0! | AG35: =IF(AND(AE35<>"", AF35<>"", AH35<>""), AE35 & "-" & AF35 & " - " & TRIM(AH35), "")
B36: T2,3,4 | M36: =SUM(D36:L36) -> 0 | AG36: =IF(AND(AE36<>"", AF36<>"", AH36<>""), AE36 & "-" & AF36 & " - " & TRIM(AH36), "")
B37: W2, 3, 4 | C37: =SUM(D37:L37) -> 0 | M37: =IF(SUM(D37:L37)>($P35/'Template-657'!$P$15),($P35/'Template-657'!$P$15),SUM(D37:L37)) -> #DIV/0! | AG37: =IF(AND(AE37<>"", AF37<>"", AH37<>""), AE37 & "-" & AF37 & " - " & TRIM(AH37), "")
B38: F2, 3, 4 | C38: =SUM(D38:L38) -> 0 | M38: =IF(SUM(D38:L38)>($P35/'Template-657'!$P$15),($P35/'Template-657'!$P$15),SUM(D38:L38)) -> #DIV/0! | AG38: =IF(AND(AE38<>"", AF38<>"", AH38<>""), AE38 & "-" & AF38 & " - " & TRIM(AH38), "")
A39: 8 | B39: T1 | N39: =SUM(D39:L39) -> 0 | O39: =N39*'Template-657'!$P$16 -> 0 | AG39: =IF(AND(AE39<>"", AF39<>"", AH39<>""), AE39 & "-" & AF39 & " - " & TRIM(AH39), "")
B40: F1 | N40: =IF(SUM(D40:L40)>'Template-657'!$Z$4,'Template-657'!$Z$4,SUM(D40:L40)) -> #DIV/0! | O40: =N40*'Template-657'!$P$16 -> #DIV/0! | P40: =INDEX('Template-657'!$T$5:$Y$5, MATCH(O40, 'Template-657'!$T$3:$Y$3, 1)) -> #DIV/0! | Q40: =INDEX('Template-657'!$T$6:$Y$6, MATCH(O40, 'Template-657'!$T$3:$Y$3, 1)) -> #DIV/0! | AG40: =IF(AND(AE40<>"", AF40<>"", AH40<>""), AE40 & "-" & AF40 & " - " & TRIM(AH40), "")
...
