Workbook

Sheet Read Me
B1: LIMING ECONOMIC CALCULATOR Developed by British Columbia Ministry of Agriculture and Food August, 2026 (Version 1.0)
A2: You can re-download this calculator by clicking | B2: Liming Economic Calculator
A3: NOTE TO USERS
A4: PURPOSE
A5: Help producers to select the most cost effective liming material for their fields by comparing the full cost of correcting soil pH (material + hauling + spreading, amortized over the years the lime will last) against the expected economic return (yield response to corrected pH, plus an optional nutrient-availability credit).
A6: CAVEATS
A7: Default lime source, cost, and crop pH response values reflect commonly cited ranges and are meant as reasonable starting points only. Soil chemistry, crop varieties, and local lime sources vary. Replace any default with your soil test lab's recommendation or your local extension's published values whenever available. This tool is a decision-support aid, not a substitute for a certified nutrient management plan or agronomist.
A8: COLOR KEY
A9: Yellow cell= Your input — replace with your local soil and economic data
A10: Orange cell = Select from dropdown
A11: These cells can not be override
A12: This cell can be override
A14: HOW TO USE
A15: Go to the Liming Economic Calculator sheet
... A20: Section E: Sensitivity analysis to show different ecnomic return based on expected yield scenarios.

Sheet Liming Economic Calculator
B1: PROVINCE OF BRITISH COLUMBIA MINISTRY OF AGRICULTURE AND FOOD LIMING ECONOMIC CALCULATOR
A2: A. SOIL AND CROP INPUT | E2: B. LIME SOURCE, COST, & LOGISTICS
A3: Field name | B3: GrowFood Ltd. | E3: Product | G3: CCE (%) | H3: Fineness factor | I3: Price ($/ton) | J3: Hauling ($/ton) | K3: Application cost ($/ac)
A4: Current soil pH | B4: 5.2
A5: Target soil pH | B5: 6.7 | E5: Dolomitic lime (CaMg(CO3)2) | G5: 138 | H5: 0.9 | I5: 890 | J5: 14 | K5: 24
A6: Soil test recommendation, 100% CCE (tons/ac) | B6: 3.3 | E6: Slaked/hydrated lime (Ca(OH)2) | G6: 108 | H6: 0.82 | I6: 870 | J6: 16 | K6: 25
A7: Soil texture | B7: Loam/silt loam/silty clay loam | E7: Wood ash | G7: 150 | H7: 0.8 | I7: 905 | J7: 12 | K7: 26
A8: Incorporation depth (inch) | B8: 6 | E8: Custom product 1 | G8: 82 | H8: 0.87 | I8: 750 | J8: 10 | K8: 25
A9: Field size (ac) | B9: 50
A10: Crop | B10: Forage grass | H10: D. RECOMMENDATION SUMMARY
A11: Expected yield increase (tons/ac/yr) | B11: 3 | H11: Required pure lime equivalent (tons/ac) | K11: ='Backend Calculation'!C12 -> 3.3
A12: Crop price ($/ton) | B12: 420 | H12: Best economic product | K12: ='Backend Calculation'!C13 -> Dolomitic lime (CaMg(CO3)2)
A13: Years of liming benefit | B13: ='Backend Calculation'!D8 -> 3 | H13: Lowest total cost product | K13: ='Backend Calculation'!C14 -> Dolomitic lime (CaMg(CO3)2)
H14: Recommended product rate (tons/ac) | K14: ='Backend Calculation'!C15 -> 2.6570048
A15: C. RESULTS: PRODUCT COMPARISON | H15: Total product required for field (tons) | K15: ='Backend Calculation'!C16 -> 132.85024
A16: Product | B16: Required lime rate (tons/ac) | C16: Total product cost ($/ac) | D16: Cumulative net return ($/ac) | E16: Payback (year) | F16: Rank | H16: Total product cost ($/ac) | K16: ='Backend Calculation'!C17 -> 2425.9324
H17: Total product cost for field ($) | K17: ='Backend Calculation'!C18 -> 121296.62
A18: ='Backend Calculation'!G4 -> Dolomitic lime (CaMg(CO3)2) | B18: ='Backend Calculation'!M4 -> 2.6570048 | C18: ='Backend Calculation'!P4 -> 2425.9324 | D18: ='Backend Calculation'!R4 -> 1354.0676 | E18: ='Backend Calculation'!T4 -> 1.9253431 | F18: ='Backend Calculation'!U4 -> 1 | H18: Cumulative net return ($/ac) | K18: ='Backend Calculation'!C19 -> 1354.0676
A19: ='Backend Calculation'!G5 -> Slaked/hydrated lime (Ca(OH)2) | B19: ='Backend Calculation'!M5 -> 3.7262873 | C19: ='Backend Calculation'!P5 -> 3326.4905 | D19: ='Backend Calculation'!R5 -> 453.50949 | E19: ='Backend Calculation'!T5 -> 2.6400718 | F19: ='Backend Calculation'!U5 -> 3 | H19: Benefit-cost ratio | K19: ='Backend Calculation'!C20 -> 1.5581638
A20: ='Backend Calculation'!G6 -> Wood ash | B20: ='Backend Calculation'!M6 -> 2.75 | C20: ='Backend Calculation'!P6 -> 2547.75 | D20: ='Backend Calculation'!R6 -> 1232.25 | E20: ='Backend Calculation'!T6 -> 2.0220238 | F20: ='Backend Calculation'!U6 -> 2 | H20: Payback period (years) | K20: ='Backend Calculation'!C21 -> 1.9253431
A21: ='Backend Calculation'!G7 -> Custom product 1 | B21: ='Backend Calculation'!M7 -> 4.6257359 | C21: ='Backend Calculation'!P7 -> 3540.5593 | D21: ='Backend Calculation'!R7 -> 239.44071 | E21: ='Backend Calculation'!T7 -> 2.8099677 | F21: ='Backend Calculation'!U7 -> 4 | H21: Decision flag | K21: ='Backend Calculation'!C22 -> Profitable
A24: E. SENSITIVITY: YIELD RESPONSE SCENARIOS
A25: Scenarios | B25: Yield increase (tons/ac/yr) | C25: Added revenue ($/ac) | D25: Best product | F25: Cumulative net return ($/ac) | G25: Comment
A27: Low | B27: 1.5 | C27: ='Backend Calculation'!I12 -> 1890 | D27: ='Backend Calculation'!J12 -> Dolomitic lime (CaMg(CO3)2) | F27: ='Backend Calculation'!K12 -> -535.93237 | G27: ='Backend Calculation'!N12 -> Not profitable
A28: Medium | B28: 2.5 | C28: ='Backend Calculation'!I13 -> 3150 | D28: ='Backend Calculation'!J13 -> Dolomitic lime (CaMg(CO3)2) | F28: ='Backend Calculation'!K13 -> 724.06763 | G28: ='Backend Calculation'!N13 -> Profitable
A29: High | B29: 4 | C29: ='Backend Calculation'!I14 -> 5040 | D29: ='Backend Calculation'!J14 -> Dolomitic lime (CaMg(CO3)2) | F29: ='Backend Calculation'!K14 -> 2614.0676 | G29: ='Backend Calculation'!N14 -> Profitable

Sheet Appendix
A1: APPENDIX
A2: I. LIME PROPERTIES | F2: II. CROP RESPONSE TO pH
A3: Lime source | B3: CCE (%) | F3: Crop | G3: Optimum soil pH
A4: Calcitic lime (CaCO3), pure | B4: 100 | C4: Multiply by %weight if not pure to get the corrected CCE | F4: Corn silage | G4: 6.8
A5: Dolomitic lime (CaMg(CO3)2), pure | B5: 108 | F5: Forage grass | G5: 6.8
A6: Slaked/hydrated lime (Ca(OH)2), pure | B6: 136 | F6: Alfalfa | G6: 6.8
A7: Burnt/quick lime (CaO), pure | B7: 179 | F7: Alfalfa/grass | G7: 6.8
A8: Marl | B8: 50-90 | F8: Barley | G8: 6.5
A9: Wood ash | B9: 40-50 | F9: Canola | G9: 6.5
F10: Wheat | G10: 6.5
A11: Click this link to learn more about liming soil | F11: Click this link to learn more about soil pH preference of various crops
A13: III. SOIL TEXTURE ASSUMPTION
A14: Soil texture | B14: Lime factor (tons/ac) | C14: Years of liming benefit
A15: Sandy/Sandy loam/Loamy sand | B15: 1.5 | C15: 2
A16: Loam/silt loam/silty clay loam | B16: 2.5 | C16: 3
A17: Clay/clay loam/silty clay | B17: 3.5 | C17: 4
A18: Click this Soils Information Finder Tool (SIFT) Map Application to determine your soil texture on BC map
A21: IV. DEFINITIONS
A22: Calcium Carbonate Equivalent (CCE): The neutralizing value of a liming material relative to pure calcium carbonate (100%). Printed on the lime tag/analysis
A23: Fineness Factor: The share of the material fine enough to react with soil within roughly a 3-4 year window. Coarser lime reacts slowly over several years while fine reacts fast. If the FF is not provided on the label, use the following steps to determine it a. Collect 3 sieve sizes (8 mesh, 20 mesh and 60 mesh) b. Collect a known weight sample of the lime product and pass through each sieve starting with 8 mesh then 20 mesh and lastly 60 mesh c. Determine the weight of product passing through each sieve and divide by the total product weight (% passing sieve) d. Enter the % passing sieve in “c” into the table below
A27: Screen/mesh size | B27: % Passing sieve | C27: Fineness factor
A28: 8 mesh | B28: 100 | C28: =((B28-B29)*0.2)+((B29-B30)*0.6)+(B30*1) -> 97.2
A29: 20 mesh | B29: 98
A30: 60 mesh | B30: 95
A31: Click this link to learn more about neutralizing effects of liming sources
A32: V. REFERENCES
A33: https://content.ces.ncsu.edu/soil-acidity-and-liming-basic-information-for-farmers-and-gardeners
A34: https://extension.msstate.edu/publications/agricultural-limestones-neutralizing-value
A35: https://nrcca.cals.cornell.edu/nutrient/CA5/CA0541.php
A36: https://extensionpubs.unl.edu/publication/g1504/html/view
A37: https://lgpress.clemson.edu/publication/basis-of-selecting-a-lime-material/
A38: Yang R, Mitchell CC, Howe JA. Relative neutralizing value as an indicator of actual liming ability of limestone and byproduct materials. Commun. Soil Sci. Plant Anal. 2018; 49:1144–56

Sheet Backend Calculation
B3: C. SOIL TEXTURE ASSUMPTION | F3: Product | G3: ='Liming Economic Calculator'!E3 -> Product | H3: ='Liming Economic Calculator'!G3 -> CCE (%) | I3: ='Liming Economic Calculator'!H3 -> Fineness factor | J3: ='Liming Economic Calculator'!I3 -> Price ($/ton) | K3: ='Liming Economic Calculator'!J3 -> Hauling ($/ton) | L3: ='Liming Economic Calculator'!K3 -> Application cost ($/ac) | M3: Required Lime Rate (ton/ac) | N3: Product cost ($/ac) | O3: Hauling ($/ac) | P3: Total cost ($/ac) | Q3: Added revenue ($/ac) | R3: Net return ($/ac) | S3: B:C | T3: Payback yr | U3: Rank
B4: Soil texture | C4: Lime factor (ton/ac) | D4: Years of liming benefit | F4: Calcitic lime (CaCO3) | G4: ='Liming Economic Calculator'!E5 -> Dolomitic lime (CaMg(CO3)2) | H4: ='Liming Economic Calculator'!G5 -> 138 | I4: ='Liming Economic Calculator'!H5 -> 0.9 | J4: ='Liming Economic Calculator'!I5 -> 890 | K4: ='Liming Economic Calculator'!J5 -> 14 | L4: ='Liming Economic Calculator'!K5 -> 24 | M4: =IF(OR(H4=0,I4=0),"",$C$12/((H4/100)*I4)) -> 2.6570048 | N4: =M4*J4 -> 2364.7343 | O4: =M4*K4 -> 37.198068 | P4: =N4+O4+L4 -> 2425.9324 | Q4: ='Liming Economic Calculator'!$B$11*'Liming Economic Calculator'!$B$12*'Liming Economic Calculator'!$B$13 -> 3780 | R4: =Q4-P4 -> 1354.0676 | S4: =IF(P4=0,"",Q4/P4) -> 1.5581638 | T4: =IF('Liming Economic Calculator'!$B$11*'Liming Economic Calculator'!$B$12=0,"",P4/('Liming Economic Calculator'!$B$11*'Liming Economic Calculator'!$B$12)) -> 1.9253431 | U4: =_xlfn.RANK.EQ(R4,$R$4:$R$7,0) -> 1
B5: Sandy/Sandy loam/Loamy sand | C5: 1.5 | D5: 2 | F5: Dolomitic lime (CaMg(CO3)2) | G5: ='Liming Economic Calculator'!E6 -> Slaked/hydrated lime (Ca(OH)2) | H5: ='Liming Economic Calculator'!G6 -> 108 | I5: ='Liming Economic Calculator'!H6 -> 0.82 | J5: ='Liming Economic Calculator'!I6 -> 870 | K5: ='Liming Economic Calculator'!J6 -> 16 | L5: ='Liming Economic Calculator'!K6 -> 25 | M5: =IF(OR(H5=0,I5=0),"",$C$12/((H5/100)*I5)) -> 3.7262873 | N5: =M5*J5 -> 3241.8699 | O5: =M5*K5 -> 59.620596 | P5: =N5+O5+L5 -> 3326.4905 | Q5: ='Liming Economic Calculator'!$B$11*'Liming Economic Calculator'!$B$12*'Liming Economic Calculator'!$B$13 -> 3780 | R5: =Q5-P5 -> 453.50949 | S5: =IF(P5=0,"",Q5/P5) -> 1.1363327 | T5: =IF('Liming Economic Calculator'!$B$11*'Liming Economic Calculator'!$B$12=0,"",P5/('Liming Economic Calculator'!$B$11*'Liming Economic Calculator'!$B$12)) -> 2.6400718 | U5: =_xlfn.RANK.EQ(R5,$R$4:$R$7,0) -> 3
B6: Loam/silt loam/silty clay loam | C6: 2.5 | D6: 3 | F6: Wood ash | G6: ='Liming Economic Calculator'!E7 -> Wood ash | H6: ='Liming Economic Calculator'!G7 -> 150 | I6: ='Liming Economic Calculator'!H7 -> 0.8 | J6: ='Liming Economic Calculator'!I7 -> 905 | K6: ='Liming Economic Calculator'!J7 -> 12 | L6: ='Liming Economic Calculator'!K7 -> 26 | M6: =IF(OR(H6=0,I6=0),"",$C$12/((H6/100)*I6)) -> 2.75 | N6: =M6*J6 -> 2488.75 | O6: =M6*K6 -> 33 | P6: =N6+O6+L6 -> 2547.75 | Q6: ='Liming Economic Calculator'!$B$11*'Liming Economic Calculator'!$B$12*'Liming Economic Calculator'!$B$13 -> 3780 | R6: =Q6-P6 -> 1232.25 | S6: =IF(P6=0,"",Q6/P6) -> 1.4836621 | T6: =IF('Liming Economic Calculator'!$B$11*'Liming Economic Calculator'!$B$12=0,"",P6/('Liming Economic Calculator'!$B$11*'Liming Economic Calculator'!$B$12)) -> 2.0220238 | U6: =_xlfn.RANK.EQ(R6,$R$4:$R$7,0) -> 2
B7: Clay/clay loam/silty clay | C7: 3.5 | D7: 4 | F7: Slaked/hydrated lime (Ca(OH)2) | G7: ='Liming Economic Calculator'!E8 -> Custom product 1 | H7: ='Liming Economic Calculator'!G8 -> 82 | I7: ='Liming Economic Calculator'!H8 -> 0.87 | J7: ='Liming Economic Calculator'!I8 -> 750 | K7: ='Liming Economic Calculator'!J8 -> 10 | L7: ='Liming Economic Calculator'!K8 -> 25 | M7: =IF(OR(H7=0,I7=0),"",$C$12/((H7/100)*I7)) -> 4.6257359 | N7: =M7*J7 -> 3469.3019 | O7: =M7*K7 -> 46.257359 | P7: =N7+O7+L7 -> 3540.5593 | Q7: ='Liming Economic Calculator'!$B$11*'Liming Economic Calculator'!$B$12*'Liming Economic Calculator'!$B$13 -> 3780 | R7: =Q7-P7 -> 239.44071 | S7: =IF(P7=0,"",Q7/P7) -> 1.0676279 | T7: =IF('Liming Economic Calculator'!$B$11*'Liming Economic Calculator'!$B$12=0,"",P7/('Liming Economic Calculator'!$B$11*'Liming Economic Calculator'!$B$12)) -> 2.8099677 | U7: =_xlfn.RANK.EQ(R7,$R$4:$R$7,0) -> 4
B8: Year of liming benefit | C8: ='Liming Economic Calculator'!B7 -> Loam/silt loam/silty clay loam | D8: =VLOOKUP(C8,B5:D7,3,FALSE) -> 3 | F8: Marl
F9: Burnt/quick lime (CaO) | G9: D. SENSITIVITY: YIELD RESPONSE SCENARIOS
F10: Custom product 1 | G10: Scenario | H10: Yield Increase ton/ac/yr | I10: Added Revenue ($/ac) | J10: Best Product | K10: Best Net Return ($/ac) | L10: Best B:C | M10: Net Return ($) | N10: Comment
B11: C. RECOMMENDATION SUMMARY | F11: Custom product 2
B12: Required pure lime equivalent (t/ac) | C12: =IF('Liming Economic Calculator'!$B$6="",MAX(0,'Liming Economic Calculator'!$B$5-'Liming Economic Calculator'!$B$4)*VLOOKUP('Liming Economic Calculator'!$B$7,$B$5:$C$8,2,FALSE)*'Liming Economic Calculator'!B8/6,'Liming Economic Calculator'!$B$6*'Liming Economic Calculator'!B8/6) -> 3.3 | G12: Low | H12: ='Liming Economic Calculator'!B27 -> 1.5 | I12: =H12*'Liming Economic Calculator'!$B$12*'Liming Economic Calculator'!$B$13 -> 1890 | J12: {=_xlfn.XLOOKUP(MAX('Backend Calculation'!$R$4:$R$7+($H12-'Liming Economic Calculator'!$B$11)*'Liming Economic Calculator'!$B$12*'Liming Economic Calculator'!$B$13),'Backend Calculation'!$R$4:$R$7+($H12-'Liming Economic Calculator'!$B$11)*'Liming Economic Calculator'!$B$12*'Liming Economic Calculator'!$B$13,'Liming Economic Calculator'!$E$5:$E$8)} -> Dolomitic lime (CaMg(CO3)2) | K12: {=MAX('Backend Calculation'!$R$4:$R$7+($H12-'Liming Economic Calculator'!$B$11)*'Liming Economic Calculator'!$B$12*'Liming Economic Calculator'!$B$13)} -> -535.93237 | L12: =IFERROR(I12/_xlfn.XLOOKUP(J12,'Liming Economic Calculator'!$E$5:$E$8,'Backend Calculation'!$P$4:$P$7),0) -> 0.7790819 | M12: =K12*'Liming Economic Calculator'!$B$9 -> -26796.618 | N12: =IF(K12>0,"Profitable","Not profitable") -> Not profitable
B13: Best economic product | C13: =_xlfn.XLOOKUP(MAX($R$4:$R$7),$R$4:$R$7,'Liming Economic Calculator'!$E$5:$E$8) -> Dolomitic lime (CaMg(CO3)2) | G13: Medium | H13: ='Liming Economic Calculator'!B28 -> 2.5 | I13: =H13*'Liming Economic Calculator'!$B$12*'Liming Economic Calculator'!$B$13 -> 3150 | J13: {=_xlfn.XLOOKUP(MAX('Backend Calculation'!$R$4:$R$7+($H13-'Liming Economic Calculator'!$B$11)*'Liming Economic Calculator'!$B$12*'Liming Economic Calculator'!$B$13),'Backend Calculation'!$R$4:$R$7+($H13-'Liming Economic Calculator'!$B$11)*'Liming Economic Calculator'!$B$12*'Liming Economic Calculator'!$B$13,'Liming Economic Calculator'!$E$5:$E$8)} -> Dolomitic lime (CaMg(CO3)2) | K13: {=MAX('Backend Calculation'!$R$4:$R$7+($H13-'Liming Economic Calculator'!$B$11)*'Liming Economic Calculator'!$B$12*'Liming Economic Calculator'!$B$13)} -> 724.06763 | L13: =IFERROR(I13/_xlfn.XLOOKUP(J13,'Liming Economic Calculator'!$E$5:$E$8,'Backend Calculation'!$P$4:$P$7),0) -> 1.2984698 | M13: =K13*'Liming Economic Calculator'!$B$9 -> 36203.382 | N13: =IF(K13>0,"Profitable","Not profitable") -> Profitable
B14: Lowest total cost product | C14: =_xlfn.XLOOKUP(MIN($P$4:$P$7),$P$4:$P$7,'Liming Economic Calculator'!$E$5:$E$8) -> Dolomitic lime (CaMg(CO3)2) | G14: High | H14: ='Liming Economic Calculator'!B29 -> 4 | I14: =H14*'Liming Economic Calculator'!$B$12*'Liming Economic Calculator'!$B$13 -> 5040 | J14: {=_xlfn.XLOOKUP(MAX('Backend Calculation'!$R$4:$R$7+($H14-'Liming Economic Calculator'!$B$11)*'Liming Economic Calculator'!$B$12*'Liming Economic Calculator'!$B$13),'Backend Calculation'!$R$4:$R$7+($H14-'Liming Economic Calculator'!$B$11)*'Liming Economic Calculator'!$B$12*'Liming Economic Calculator'!$B$13,'Liming Economic Calculator'!$E$5:$E$8)} -> Dolomitic lime (CaMg(CO3)2) | K14: {=MAX('Backend Calculation'!$R$4:$R$7+($H14-'Liming Economic Calculator'!$B$11)*'Liming Economic Calculator'!$B$12*'Liming Economic Calculator'!$B$13)} -> 2614.0676 | L14: =IFERROR(I14/_xlfn.XLOOKUP(J14,'Liming Economic Calculator'!$E$5:$E$8,'Backend Calculation'!$P$4:$P$7),0) -> 2.0775517 | M14: =K14*'Liming Economic Calculator'!$B$9 -> 130703.38 | N14: =IF(K14>0,"Profitable","Not profitable") -> Profitable
B15: Recommended product rate (ton/ac) | C15: =_xlfn.XLOOKUP(C13,'Liming Economic Calculator'!$E$5:$E$8,$M$4:$M$7) -> 2.6570048
B16: Total product for field (ton) | C16: =C15*'Liming Economic Calculator'!B9 -> 132.85024
B17: Product cost ($/ac) | C17: =_xlfn.XLOOKUP(C13,'Liming Economic Calculator'!$E$5:$E$8,$P$4:$P$7) -> 2425.9324
B18: Total field cost ($) | C18: =C17*'Liming Economic Calculator'!B9 -> 121296.62
B19: Net return ($/ac) | C19: =_xlfn.XLOOKUP(C13,'Liming Economic Calculator'!$E$5:$E$8,$R$4:$R$7) -> 1354.0676
B20: Benefit-cost ratio | C20: =_xlfn.XLOOKUP(C13,'Liming Economic Calculator'!$E$5:$E$8,$S$4:$S$7) -> 1.5581638
B21: Payback period (years) | C21: =_xlfn.XLOOKUP(C13,'Liming Economic Calculator'!$E$5:$E$8,$T$4:$T$7) -> 1.9253431
B22: Decision flag | C22: =IF(C19>0,"Profitable","Not profitable") -> Profitable
