{"text_format":"1","workbook":"xlsx","n_sheets":8,"sheets":["Instructions","Calculator","Results","Life Cycle","Calculations","Graphs","Lookup Tables","Conversions"],"not_rendered":{"charts":3,"images":3,"macros":1,"external_links":0,"defined_names":13,"comments":2,"pivot_tables":0},"unopened":[],"bounds":{"document_bytes":16777216,"sheet_cells":100000,"rows_first":2000,"rows_last":500,"rows_between":2000,"halvings":0,"cell_chars":16384,"cell_head_chars":4096},"cells_cut":0,"cells_raw":0,"read":"whole","date_system":"1900"}

{"sheet":"Instructions","index":0,"n_rows":68,"n_cols":4,"rows_kept":68,"cut":false,"hidden":false,"merged":[[1,1,1,11],[2,1,2,11],[57,1,57,11],[58,1,58,11],[4,1,4,11],[16,1,22,11],[29,1,34,11],[35,1,37,11],[38,1,43,11],[51,1,52,11],[53,1,55,11],[25,1,25,11],[26,1,27,11],[44,1,45,11],[5,1,12,11],[67,1,72,11],[63,1,66,11],[24,1,24,11],[13,1,15,11],[48,1,50,11],[46,1,47,11],[59,1,62,11]]}
[]
[null,"BRITISH COLUMBIA HARVESTED WOOD PRODUCT CARBON CALCULATOR "]
[null,"Ver 2, July 2016"]
[]
[null,"Origin and Purpose of the Calculator:"]
[null,"This spreadsheet tool uses data generated by a model produced by Caren Dymond of the B.C. Ministry of Forests, Lands, and Natural Resource Operations (called BC-HWPv1 or BC Harvested Wood Products, Version 1) that estimates wood carbon retention and emissions over time. The schematic to the right depicts how BC-HWPv1 works.  The Calculator tool is based on information from this model.  It uses data you provide on secondary wood products and automatically converts it to tonnes of carbon dioxide equivalent, providing you with information on total carbon storage and emissions for each product you use, where those products end up (e.g. single family homes), and how carbon levels change over time.  Graphs are automatically generated for key values to visually portray carbon flux over a 100 year period.  "]
[]
[]
[]
[]
[]
[]
[]
[null,"It is expected that this spreadsheet tool will be used by resource professionals, architects, designers, and people interested in carbon offset projects to estimate the retention and emission levels associated with the wood products they use."]
[]
[]
[null,"The calculator was designed to make it easy to obtain carbon estimates but does not allow you to modify the original model relationships that drive the calculations.  Some of the basic parameters affecting model outcome have been provided in a sheet called Conversion_Parameters.  More detailed information on the Calculator can be found in the User's Manual  and information on BC-HWPv1, including life cycle processes, wood product distribution, retirement statistics, and data sources, can be found in:  Dymond, C.C. 2012. Forest carbon in North America: annual storage and emissions from British Columbia's harvest, 1965-2065."]
[]
[]
[]
[]
[]
[]
[]
[null,"How To Use This Calculator:"]
[null,"- First, determine the amount of logs, lumber, plywood, OSB or MDF used in your project."]
[null,"- Enter that information in the yellow cells  called Input Quantity in the Calculator sheet.  "]
[]
[null,null,null,"User input required"]
[null,"- Be careful to select the correct metric (unit of measurement) for your products.  The calculator allows you to choose between tC (tonnes of carbon) or another unit of measure that is commonly used for that product (e.g. for lumber its bf or m3). To select the correct unit, just click the Input Metric cell above the chosen product and a drop down list will appear.  The calculator automatically converts the unit of measure you have chosen to tonnes of carbon dioxide equivalent.  Refer to the User's Manual if your input metric is not available in the drop down list."]
[]
[]
[]
[]
[]
[null,"- The next step is to choose the input type (e.g SPF, cedar) that you are using.  Again there is a drop down menu of available selections.  "]
[]
[]
[null,"- With plywood, OSB & MDF you will need to specify the thickness that you are using.  The options available in the drop down lists include thicknesses that are commonly used for these products (e.g. 1/2\").  If your project involves more than one thickness you will need to first convert the different thicknesses to a 3/8” basis (a standard thickness used in specifying quantities of plywood and panels), and then choose 3/8” from the drop down list (see the User's Manual for information on how to input more than one thickness)."]
[]
[]
[]
[]
[]
[null,"- Next, select a reporting interval (1, 5, or 10 years) to specify the time interval you would like storage and emissions to be reported by."]
[]
[null,"- Finally, select a value for the global warming potential of methane. The default in BC is GWP over 100 yrs from IPCC 1995"]
[]
[null,"- To see the results of the compilation, you have three choices.  Look in the Quick Results box to find total carbon retention and emissions for the project, on the Results sheet to see details by year and product type, and on the Graphs sheet to see how this information is represented graphically. On the Life Cycle page, you can see additional calculations that would be part of a Life Cycle Assessment, such as the fossil fuel emissions and the emissions avoided by using wood instead of other materials"]
[]
[]
[null,"- Conversion factors used, as well as retention/decay rates, are summarized in the Summary of Parameters sheet."]
[]
[null,"- All cells that do not require user input are locked and so information in them cannot be changed.  See the \"Getting More Information\" section of the User's Manual."]
[]
[]
[]
[null,"User Agreement:"]
[null,"By using this spreadsheet the user agrees to the following terms:"]
[null,"1. Copyright for the Spreadsheet Tool and User's Manual Reside with the Crown.  The copyright permits unrestricted use, distribution, and reproduction, provided that the original work is cited as  Dymond, C.C. 2012. Forest carbon in North America: annual storage and emissions from British Columbia's harvest, 1965-2065. Carbon Balance and Management 7/8.  "]
[]
[]
[]
[null,"2. Any changes to the default parameters and relationships must be clearly listed in any communication of results. Furthermore, the results cannot be said to have come from the model BC-HWPv1 or BC Harvested Wood Products, Version 1."]
[]
[]
[]
[null,"3. While this workbook and associated User's Manual have been developed carefully and with the best information available at the time, the individuals and organizations involved in their development do not, either collectively or individually, warrant their use for any purpose nor make any representations regarding their fitness for any use or purpose whatsoever.  Each user agrees to use them at their own risk and under no circumstances will the individuals or organizations involved in their development be liable for any damages whatsoever arising from the use of these materials, or from an inability to use them."]

{"sheet":"Calculator","index":1,"n_rows":40,"n_cols":15,"rows_kept":40,"cut":false,"hidden":false,"merged":[[38,0,38,4],[26,0,26,2],[12,14,12,26],[8,3,8,8],[4,0,4,2],[4,14,4,26],[5,3,5,8],[5,14,5,26],[6,3,6,8],[6,14,6,26],[7,3,7,8],[7,14,7,26],[26,3,26,5],[11,14,11,26],[12,3,12,8],[14,0,14,2],[25,6,25,8],[25,0,25,5],[14,3,14,5],[9,3,11,8],[9,14,9,26],[10,14,10,26],[1,11,1,13],[1,14,1,26],[2,14,2,26],[3,14,3,26],[1,0,2,9]]}
[]
["To determine how much of your wood product is retained in various solid wood and paper products, and the associated carbon emissions, by year, enter details in the yellow cells below",null,null,null,null,null,null,null,null,null,null,"Definitions and Acronyms"]
[null,null,null,null,null,null,null,null,null,null,null,null,null,"Roundwood","Harvested sawlogs or pulplogs that have been delivered to a milling facility."]
[null,null,null,null,null,null,null,null,null,null,null,null,null,"Products","Lumber, plywood, oriented strand board (OSB), medium density fibreboard (MDF), and paper produced from roundwood."]
["Project Description",null,null,null,null,null,null,null,null,null,null,null,null,"End Use ","Homes, commercial buildings, manufactured products like furniture, shipping products, repairs. Also referred to as a carbon pool."]
[null,null,"User Identification:",null,null,null,null,null,null,null,null,null,null,"Paper","Includes all paper products.  Paper is both a secondary wood product and a separate carbon pool."]
[null,null,null,"User name and affiliation",null,null,null,null,null,null,null,null,null,"tC","Mass of elemental carbon in metric tonnes."]
[null,null,"Project Identification:",null,null,null,null,null,null,null,null,null,null,"CO2e","Equivalent tonnes of carbon dioxide (e.g. 1 tonne of C is equivalent to 3.667 tonnes of CO2)."]
[null,null,null,"Short name/title for the project",null,null,null,null,null,null,null,null,null,"ft3","Volume in cubic feet.  A unit of measure for roundwood."]
[null,null,"Project Description:",null,null,null,null,null,null,null,null,null,null,"m3","Volume in cubic metres. A unit of measure for roundwood and lumber."]
[null,null,null,null,null,null,null,null,null,null,null,null,null,"bf","Board foot - a unit measure for sawn timber (also denoted as fbm) that is 12 inches long by 12 inches wide by 1 inch thick)."]
[null,null,null,null,null,null,null,null,null,null,null,null,null,"tonnes","Metric tonnes (1000kg)"]
[null,null,null,"Provide a description of the project (e.g. location, size, purpose)",null,null,null,null,null,null,null,null,null,"biogenic manufacturing emissions","Emissions released from the burning of excess wood e.g. sawdust in a lumber mill."]
[]
["Input Data"]
[null,null,"Input Product:","Roundwood","Lumber","Plywood","OSB","MDF"]
[null,null,"Input Metric:","tC","tC","sf"]
[null,null,null,"Select the correct input metric from the drop down list"]
[null,null,"Input Type","Cedar","Cedar","SPF","SPF","Hardwood"]
[null,null,null,"Select the correct input type from the drop down list"]
[null,null,"Thickness",null,null,0.75,0.5,0.375]
[null,null,null,"Select the correct panel thickness from the drop down list (inches)"]
[null,null,"Input Quantity:"]
[null,null,null,"Enter the quantity of input product being used in the project"]
[]
["Global Warming Potential of Methane"]
["BC Default is GWP over 100 yrs from IPCC 1995",null,null,"GWP over 100 yrs from IPCC 2007",null,null,{"$f":"VLOOKUP(D27,'Lookup Tables'!B56:D62,3,FALSE)","v":25}]
[]
[]
["Quick Results (tonnes of CO2e)"]
["Storage"]
[null,null,null,null,"Carbon stored in roundwood at year 0",{"$f":"Calculations!CO2","v":0}]
[null,null,null,null,"Carbon stored in products at year 0",{"$f":"Calculations!CL2","v":0}]
[null,null,null,null,"Carbon stored in products at year 100",{"$f":"Calculations!CS103","v":0}]
[null,null,null,null,"Carbon stored in landfills and dumps at year 100",{"$f":"Calculations!CT103","v":0}]
[null,null,null,null,"Total storage at year 100",{"$f":"F35+F34","v":0}]
["Emissions"]
[null,null,null,null,"Biogenic manufacturing emissions at year 0",{"$f":"Calculations!CX4","v":0}]
["Total carbon emissions from wood by year 100",null,null,null,null,{"$f":"F38+Calculations!CW103+Calculations!CV103*G27/21","v":0}]
[null,null,null,"Range of Carbon Emissions Over 100 Years",{"$f":"F39*0.82","v":0},{"$f":"F39*1.27","v":0}]

{"sheet":"Results","index":2,"n_rows":105,"n_cols":45,"rows_kept":105,"cut":false,"hidden":false,"merged":[[3,43,3,44],[3,1,3,12],[3,31,3,42],[3,16,3,27],[3,13,3,14],[3,28,3,29]]}
[null,{"$f":"IF(Calculator!$D$8 =0, \"Project Identifier\", Calculator!$D$8)","v":"Project Identifier"},null,null,null,null,null,null,null,null,null,null,null,null,null,null,{"$f":"IF(Calculator!$D$8 =0, \"Project Identifier\", Calculator!$D$8)","v":"Project Identifier"},null,null,null,null,null,null,null,null,null,null,null,null,null,null,{"$f":"IF(Calculator!$D$8 =0, \"Project Identifier\", Calculator!$D$8)","v":"Project Identifier"}]
[null,"Annual interval",null,"Scroll right for longer intervals",null,null,">>>>>>>>>>>>>>>>>>>>>>>>>>>>>>>>>>>>>>>>>>>>>>>>>>>>>>>>>>>>>>>>>>>>>>>>>>>>>>>>>>>>>>",null,null,null,null,null,null,null,">>>>>>>>",null,"5-year interval",null,"Scroll right for decades >>>>>>>>>>>>>>>>>>>>>>>",null,null,null,null,null,null,null,null,null,null,">>>>>>>>",null,"Decadal interval"]
[]
[null,"End Use Storage and Emissions (in Tonnes of CO2)",null,null,null,null,null,null,null,null,null,null,null,null,null,null,"Product Retention and Emissions (in Tonnes of CO2)",null,null,null,null,null,null,null,null,null,null,null,null,null,null,"Product Retention and Emissions (in Tonnes of CO2)"]
[null,{"$f":"Calculations!CJ3","v":"Year No."},{"$f":"Calculations!CK3","v":"Single Family Homes"},{"$f":"Calculations!CL3","v":"Multi-Family Homes"},{"$f":"Calculations!CM3","v":"Commercial Buildings"},{"$f":"Calculations!CN3","v":"Manuf. Prod.s (furniture etc)"},{"$f":"Calculations!CO3","v":"Paper"},{"$f":"Calculations!CP3","v":"Shipping"},{"$f":"Calculations!CQ3","v":"Repairs"},{"$f":"Calculations!CR3","v":"Other"},{"$f":"Calculations!CS3","v":"CO2e Storage in Products (exclude landfills)"},{"$f":"Calculations!CT3","v":"CO2e Storage In Landfills and Dumps"},{"$f":"Calculations!CU3","v":"CO2e Emissions from Landfill and Dumps"},"CO2e Total Storage","CO2e Total Emissions",null,{"$f":"Calculations!CJ3","v":"Year No."},{"$f":"Calculations!CK3","v":"Single Family Homes"},{"$f":"Calculations!CL3","v":"Multi-Family Homes"},{"$f":"Calculations!CM3","v":"Commercial Buildings"},{"$f":"Calculations!CN3","v":"Manuf. Prod.s (furniture etc)"},{"$f":"Calculations!CO3","v":"Paper"},{"$f":"Calculations!CP3","v":"Shipping"},{"$f":"Calculations!CQ3","v":"Repairs"},{"$f":"Calculations!CR3","v":"Other"},{"$f":"Calculations!CS3","v":"CO2e Storage in Products (exclude landfills)"},{"$f":"Calculations!CT3","v":"CO2e Storage In Landfills and Dumps"},{"$f":"Calculations!CU3","v":"CO2e Emissions from Landfill and Dumps"},"CO2e Total Storage","CO2e Total Emissions",null,{"$f":"Calculations!CJ3","v":"Year No."},{"$f":"Calculations!CK3","v":"Single Family Homes"},{"$f":"Calculations!CL3","v":"Multi-Family Homes"},{"$f":"Calculations!CM3","v":"Commercial Buildings"},{"$f":"Calculations!CN3","v":"Manuf. Prod.s (furniture etc)"},{"$f":"Calculations!CO3","v":"Paper"},{"$f":"Calculations!CP3","v":"Shipping"},{"$f":"Calculations!CQ3","v":"Repairs"},{"$f":"Calculations!CR3","v":"Other"},{"$f":"Calculations!CS3","v":"CO2e Storage in Products (exclude landfills)"},{"$f":"Calculations!CT3","v":"CO2e Storage In Landfills and Dumps"},{"$f":"Calculations!CU3","v":"CO2e Emissions from Landfill and Dumps"},"CO2e Total Storage","CO2e Total Emissions"]
[null,{"$f":"Calculations!CJ4","v":1},{"$f":"Calculations!CK4","v":0},{"$f":"Calculations!CL4","v":0},{"$f":"Calculations!CM4","v":0},{"$f":"Calculations!CN4","v":0},{"$f":"Calculations!CO4","v":0},{"$f":"Calculations!CP4","v":0},{"$f":"Calculations!CQ4","v":0},{"$f":"Calculations!CR4","v":0},{"$f":"Calculations!CS4","v":0},{"$f":"Calculations!CT4","v":0},{"$f":"Calculations!CU4","v":0},{"$f":"K6+L6","v":0},{"$f":"Calculations!CX4+Calculations!CW4+(Calculations!CV4*Calculator!$G$27/21)","v":0},null,{"$f":"Calculations!CJ8","v":5},{"$f":"Calculations!CK8","v":0},{"$f":"Calculations!CL8","v":0},{"$f":"Calculations!CM8","v":0},{"$f":"Calculations!CN8","v":0},{"$f":"Calculations!CO8","v":0},{"$f":"Calculations!CP8","v":0},{"$f":"Calculations!CQ8","v":0},{"$f":"Calculations!CR8","v":0},{"$f":"Calculations!CS8","v":0},{"$f":"Calculations!CT8","v":0},{"$f":"Calculations!CU8","v":0},{"$f":"Z6+AA6","v":0},{"$f":"Calculations!CX8+Calculations!CW4+(Calculations!CV8*Calculator!$G$27/21)","v":0},null,{"$f":"Calculations!CJ13","v":10},{"$f":"Calculations!CK13","v":0},{"$f":"Calculations!CL13","v":0},{"$f":"Calculations!CM13","v":0},{"$f":"Calculations!CN13","v":0},{"$f":"Calculations!CO13","v":0},{"$f":"Calculations!CP13","v":0},{"$f":"Calculations!CQ13","v":0},{"$f":"Calculations!CR13","v":0},{"$f":"Calculations!CS13","v":0},{"$f":"Calculations!CT13","v":0},{"$f":"Calculations!CU13","v":0},{"$f":"AO6+AP6","v":0},{"$f":"Calculations!CX13+Calculations!CW13+(Calculations!CV13*Calculator!$G$27/21)","v":0}]
[null,{"$f":"Calculations!CJ5","v":2},{"$f":"Calculations!CK5","v":0},{"$f":"Calculations!CL5","v":0},{"$f":"Calculations!CM5","v":0},{"$f":"Calculations!CN5","v":0},{"$f":"Calculations!CO5","v":0},{"$f":"Calculations!CP5","v":0},{"$f":"Calculations!CQ5","v":0},{"$f":"Calculations!CR5","v":0},{"$f":"Calculations!CS5","v":0},{"$f":"Calculations!CT5","v":0},{"$f":"Calculations!CU5","v":0},0,{"$f":"Calculations!CX5+Calculations!CW5+(Calculations!CV5*Calculator!$G$27/21)","v":0},null,{"$f":"Calculations!CJ13","v":10},{"$f":"Calculations!CK13","v":0},{"$f":"Calculations!CL13","v":0},{"$f":"Calculations!CM13","v":0},{"$f":"Calculations!CN13","v":0},{"$f":"Calculations!CO13","v":0},{"$f":"Calculations!CP13","v":0},{"$f":"Calculations!CQ13","v":0},{"$f":"Calculations!CR13","v":0},{"$f":"Calculations!CS13","v":0},{"$f":"Calculations!CT13","v":0},{"$f":"Calculations!CU13","v":0},0,{"$f":"Calculations!CX13++Calculations!CW13+(Calculations!CV13*Calculator!$G$27/21)","v":0},null,{"$f":"Calculations!CJ23","v":20},{"$f":"Calculations!CK23","v":0},{"$f":"Calculations!CL23","v":0},{"$f":"Calculations!CM23","v":0},{"$f":"Calculations!CN23","v":0},{"$f":"Calculations!CO23","v":0},{"$f":"Calculations!CP23","v":0},{"$f":"Calculations!CQ23","v":0},{"$f":"Calculations!CR23","v":0},{"$f":"Calculations!CS23","v":0},{"$f":"Calculations!CT23","v":0},{"$f":"Calculations!CU23","v":0},0,{"$f":"Calculations!CX23+Calculations!CW23+(Calculations!CV23*Calculator!$G$27/21)","v":0}]
[null,{"$f":"Calculations!CJ6","v":3},{"$f":"Calculations!CK6","v":0},{"$f":"Calculations!CL6","v":0},{"$f":"Calculations!CM6","v":0},{"$f":"Calculations!CN6","v":0},{"$f":"Calculations!CO6","v":0},{"$f":"Calculations!CP6","v":0},{"$f":"Calculations!CQ6","v":0},{"$f":"Calculations!CR6","v":0},{"$f":"Calculations!CS6","v":0},{"$f":"Calculations!CT6","v":0},{"$f":"Calculations!CU6","v":0},0,{"$f":"Calculations!CX6+Calculations!CW6+(Calculations!CV6*Calculator!$G$27/21)","v":0},null,{"$f":"Calculations!CJ18","v":15},{"$f":"Calculations!CK18","v":0},{"$f":"Calculations!CL18","v":0},{"$f":"Calculations!CM18","v":0},{"$f":"Calculations!CN18","v":0},{"$f":"Calculations!CO18","v":0},{"$f":"Calculations!CP18","v":0},{"$f":"Calculations!CQ18","v":0},{"$f":"Calculations!CR18","v":0},{"$f":"Calculations!CS18","v":0},{"$f":"Calculations!CT18","v":0},{"$f":"Calculations!CU18","v":0},0,{"$f":"Calculations!CX18+Calculations!CW18+(Calculations!CV18*Calculator!$G$27/21)","v":0},null,{"$f":"Calculations!CJ33","v":30},{"$f":"Calculations!CK33","v":0},{"$f":"Calculations!CL33","v":0},{"$f":"Calculations!CM33","v":0},{"$f":"Calculations!CN33","v":0},{"$f":"Calculations!CO33","v":0},{"$f":"Calculations!CP33","v":0},{"$f":"Calculations!CQ33","v":0},{"$f":"Calculations!CR33","v":0},{"$f":"Calculations!CS33","v":0},{"$f":"Calculations!CT33","v":0},{"$f":"Calculations!CU33","v":0},0,{"$f":"Calculations!CX33+Calculations!CW33+(Calculations!CV33*Calculator!$G$27/21)","v":0}]
[null,{"$f":"Calculations!CJ7","v":4},{"$f":"Calculations!CK7","v":0},{"$f":"Calculations!CL7","v":0},{"$f":"Calculations!CM7","v":0},{"$f":"Calculations!CN7","v":0},{"$f":"Calculations!CO7","v":0},{"$f":"Calculations!CP7","v":0},{"$f":"Calculations!CQ7","v":0},{"$f":"Calculations!CR7","v":0},{"$f":"Calculations!CS7","v":0},{"$f":"Calculations!CT7","v":0},{"$f":"Calculations!CU7","v":0},0,{"$f":"Calculations!CX7+Calculations!CW7+(Calculations!CV7*Calculator!$G$27/21)","v":0},null,{"$f":"Calculations!CJ23","v":20},{"$f":"Calculations!CK23","v":0},{"$f":"Calculations!CL23","v":0},{"$f":"Calculations!CM23","v":0},{"$f":"Calculations!CN23","v":0},{"$f":"Calculations!CO23","v":0},{"$f":"Calculations!CP23","v":0},{"$f":"Calculations!CQ23","v":0},{"$f":"Calculations!CR23","v":0},{"$f":"Calculations!CS23","v":0},{"$f":"Calculations!CT23","v":0},{"$f":"Calculations!CU23","v":0},0,{"$f":"Calculations!CX23+Calculations!CW23+(Calculations!CV23*Calculator!$G$27/21)","v":0},null,{"$f":"Calculations!CJ43","v":40},{"$f":"Calculations!CK43","v":0},{"$f":"Calculations!CL43","v":0},{"$f":"Calculations!CM43","v":0},{"$f":"Calculations!CN43","v":0},{"$f":"Calculations!CO43","v":0},{"$f":"Calculations!CP43","v":0},{"$f":"Calculations!CQ43","v":0},{"$f":"Calculations!CR43","v":0},{"$f":"Calculations!CS43","v":0},{"$f":"Calculations!CT43","v":0},{"$f":"Calculations!CU43","v":0},0,{"$f":"Calculations!CX43+Calculations!CW43+(Calculations!CV43*Calculator!$G$27/21)","v":0}]
[null,{"$f":"Calculations!CJ8","v":5},{"$f":"Calculations!CK8","v":0},{"$f":"Calculations!CL8","v":0},{"$f":"Calculations!CM8","v":0},{"$f":"Calculations!CN8","v":0},{"$f":"Calculations!CO8","v":0},{"$f":"Calculations!CP8","v":0},{"$f":"Calculations!CQ8","v":0},{"$f":"Calculations!CR8","v":0},{"$f":"Calculations!CS8","v":0},{"$f":"Calculations!CT8","v":0},{"$f":"Calculations!CU8","v":0},0,{"$f":"Calculations!CX8+Calculations!CW8+(Calculations!CV8*Calculator!$G$27/21)","v":0},null,{"$f":"Calculations!CJ28","v":25},{"$f":"Calculations!CK28","v":0},{"$f":"Calculations!CL28","v":0},{"$f":"Calculations!CM28","v":0},{"$f":"Calculations!CN28","v":0},{"$f":"Calculations!CO28","v":0},{"$f":"Calculations!CP28","v":0},{"$f":"Calculations!CQ28","v":0},{"$f":"Calculations!CR28","v":0},{"$f":"Calculations!CS28","v":0},{"$f":"Calculations!CT28","v":0},{"$f":"Calculations!CU28","v":0},0,{"$f":"Calculations!CX28+Calculations!CW28+(Calculations!CV28*Calculator!$G$27/21)","v":0},null,{"$f":"Calculations!CJ53","v":50},{"$f":"Calculations!CK53","v":0},{"$f":"Calculations!CL53","v":0},{"$f":"Calculations!CM53","v":0},{"$f":"Calculations!CN53","v":0},{"$f":"Calculations!CO53","v":0},{"$f":"Calculations!CP53","v":0},{"$f":"Calculations!CQ53","v":0},{"$f":"Calculations!CR53","v":0},{"$f":"Calculations!CS53","v":0},{"$f":"Calculations!CT53","v":0},{"$f":"Calculations!CU53","v":0},0,{"$f":"Calculations!CX53+Calculations!CW53+(Calculations!CV53*Calculator!$G$27/21)","v":0}]
[null,{"$f":"Calculations!CJ9","v":6},{"$f":"Calculations!CK9","v":0},{"$f":"Calculations!CL9","v":0},{"$f":"Calculations!CM9","v":0},{"$f":"Calculations!CN9","v":0},{"$f":"Calculations!CO9","v":0},{"$f":"Calculations!CP9","v":0},{"$f":"Calculations!CQ9","v":0},{"$f":"Calculations!CR9","v":0},{"$f":"Calculations!CS9","v":0},{"$f":"Calculations!CT9","v":0},{"$f":"Calculations!CU9","v":0},0,{"$f":"Calculations!CX9+Calculations!CW9+(Calculations!CV9*Calculator!$G$27/21)","v":0},null,{"$f":"Calculations!CJ33","v":30},{"$f":"Calculations!CK33","v":0},{"$f":"Calculations!CL33","v":0},{"$f":"Calculations!CM33","v":0},{"$f":"Calculations!CN33","v":0},{"$f":"Calculations!CO33","v":0},{"$f":"Calculations!CP33","v":0},{"$f":"Calculations!CQ33","v":0},{"$f":"Calculations!CR33","v":0},{"$f":"Calculations!CS33","v":0},{"$f":"Calculations!CT33","v":0},{"$f":"Calculations!CU33","v":0},0,{"$f":"Calculations!CX33+Calculations!CW33+(Calculations!CV33*Calculator!$G$27/21)","v":0},null,{"$f":"Calculations!CJ63","v":60},{"$f":"Calculations!CK63","v":0},{"$f":"Calculations!CL63","v":0},{"$f":"Calculations!CM63","v":0},{"$f":"Calculations!CN63","v":0},{"$f":"Calculations!CO63","v":0},{"$f":"Calculations!CP63","v":0},{"$f":"Calculations!CQ63","v":0},{"$f":"Calculations!CR63","v":0},{"$f":"Calculations!CS63","v":0},{"$f":"Calculations!CT63","v":0},{"$f":"Calculations!CU63","v":0},0,{"$f":"Calculations!CX63+Calculations!CW63+(Calculations!CV63*Calculator!$G$27/21)","v":0}]
[null,{"$f":"Calculations!CJ10","v":7},{"$f":"Calculations!CK10","v":0},{"$f":"Calculations!CL10","v":0},{"$f":"Calculations!CM10","v":0},{"$f":"Calculations!CN10","v":0},{"$f":"Calculations!CO10","v":0},{"$f":"Calculations!CP10","v":0},{"$f":"Calculations!CQ10","v":0},{"$f":"Calculations!CR10","v":0},{"$f":"Calculations!CS10","v":0},{"$f":"Calculations!CT10","v":0},{"$f":"Calculations!CU10","v":0},0,{"$f":"Calculations!CX10+Calculations!CW10+(Calculations!CV10*Calculator!$G$27/21)","v":0},null,{"$f":"Calculations!CJ38","v":35},{"$f":"Calculations!CK38","v":0},{"$f":"Calculations!CL38","v":0},{"$f":"Calculations!CM38","v":0},{"$f":"Calculations!CN38","v":0},{"$f":"Calculations!CO38","v":0},{"$f":"Calculations!CP38","v":0},{"$f":"Calculations!CQ38","v":0},{"$f":"Calculations!CR38","v":0},{"$f":"Calculations!CS38","v":0},{"$f":"Calculations!CT38","v":0},{"$f":"Calculations!CU38","v":0},0,{"$f":"Calculations!CX38+Calculations!CW38+(Calculations!CV38*Calculator!$G$27/21)","v":0},null,{"$f":"Calculations!CJ73","v":70},{"$f":"Calculations!CK73","v":0},{"$f":"Calculations!CL73","v":0},{"$f":"Calculations!CM73","v":0},{"$f":"Calculations!CN73","v":0},{"$f":"Calculations!CO73","v":0},{"$f":"Calculations!CP73","v":0},{"$f":"Calculations!CQ73","v":0},{"$f":"Calculations!CR73","v":0},{"$f":"Calculations!CS73","v":0},{"$f":"Calculations!CT73","v":0},{"$f":"Calculations!CU73","v":0},0,{"$f":"Calculations!CX73+Calculations!CW73+(Calculations!CV73*Calculator!$G$27/21)","v":0}]
[null,{"$f":"Calculations!CJ11","v":8},{"$f":"Calculations!CK11","v":0},{"$f":"Calculations!CL11","v":0},{"$f":"Calculations!CM11","v":0},{"$f":"Calculations!CN11","v":0},{"$f":"Calculations!CO11","v":0},{"$f":"Calculations!CP11","v":0},{"$f":"Calculations!CQ11","v":0},{"$f":"Calculations!CR11","v":0},{"$f":"Calculations!CS11","v":0},{"$f":"Calculations!CT11","v":0},{"$f":"Calculations!CU11","v":0},0,{"$f":"Calculations!CX11+Calculations!CW11+(Calculations!CV11*Calculator!$G$27/21)","v":0},null,{"$f":"Calculations!CJ43","v":40},{"$f":"Calculations!CK43","v":0},{"$f":"Calculations!CL43","v":0},{"$f":"Calculations!CM43","v":0},{"$f":"Calculations!CN43","v":0},{"$f":"Calculations!CO43","v":0},{"$f":"Calculations!CP43","v":0},{"$f":"Calculations!CQ43","v":0},{"$f":"Calculations!CR43","v":0},{"$f":"Calculations!CS43","v":0},{"$f":"Calculations!CT43","v":0},{"$f":"Calculations!CU43","v":0},0,{"$f":"Calculations!CX43+Calculations!CW43+(Calculations!CV43*Calculator!$G$27/21)","v":0},null,{"$f":"Calculations!CJ83","v":80},{"$f":"Calculations!CK83","v":0},{"$f":"Calculations!CL83","v":0},{"$f":"Calculations!CM83","v":0},{"$f":"Calculations!CN83","v":0},{"$f":"Calculations!CO83","v":0},{"$f":"Calculations!CP83","v":0},{"$f":"Calculations!CQ83","v":0},{"$f":"Calculations!CR83","v":0},{"$f":"Calculations!CS83","v":0},{"$f":"Calculations!CT83","v":0},{"$f":"Calculations!CU83","v":0},0,{"$f":"Calculations!CX83+Calculations!CW83+(Calculations!CV83*Calculator!$G$27/21)","v":0}]
[null,{"$f":"Calculations!CJ12","v":9},{"$f":"Calculations!CK12","v":0},{"$f":"Calculations!CL12","v":0},{"$f":"Calculations!CM12","v":0},{"$f":"Calculations!CN12","v":0},{"$f":"Calculations!CO12","v":0},{"$f":"Calculations!CP12","v":0},{"$f":"Calculations!CQ12","v":0},{"$f":"Calculations!CR12","v":0},{"$f":"Calculations!CS12","v":0},{"$f":"Calculations!CT12","v":0},{"$f":"Calculations!CU12","v":0},0,{"$f":"Calculations!CX12+Calculations!CW12+(Calculations!CV12*Calculator!$G$27/21)","v":0},null,{"$f":"Calculations!CJ48","v":45},{"$f":"Calculations!CK48","v":0},{"$f":"Calculations!CL48","v":0},{"$f":"Calculations!CM48","v":0},{"$f":"Calculations!CN48","v":0},{"$f":"Calculations!CO48","v":0},{"$f":"Calculations!CP48","v":0},{"$f":"Calculations!CQ48","v":0},{"$f":"Calculations!CR48","v":0},{"$f":"Calculations!CS48","v":0},{"$f":"Calculations!CT48","v":0},{"$f":"Calculations!CU48","v":0},0,{"$f":"Calculations!CX48+Calculations!CW48+(Calculations!CV48*Calculator!$G$27/21)","v":0},null,{"$f":"Calculations!CJ93","v":90},{"$f":"Calculations!CK93","v":0},{"$f":"Calculations!CL93","v":0},{"$f":"Calculations!CM93","v":0},{"$f":"Calculations!CN93","v":0},{"$f":"Calculations!CO93","v":0},{"$f":"Calculations!CP93","v":0},{"$f":"Calculations!CQ93","v":0},{"$f":"Calculations!CR93","v":0},{"$f":"Calculations!CS93","v":0},{"$f":"Calculations!CT93","v":0},{"$f":"Calculations!CU93","v":0},0,{"$f":"Calculations!CX93+Calculations!CW93+(Calculations!CV93*Calculator!$G$27/21)","v":0}]
[null,{"$f":"Calculations!CJ13","v":10},{"$f":"Calculations!CK13","v":0},{"$f":"Calculations!CL13","v":0},{"$f":"Calculations!CM13","v":0},{"$f":"Calculations!CN13","v":0},{"$f":"Calculations!CO13","v":0},{"$f":"Calculations!CP13","v":0},{"$f":"Calculations!CQ13","v":0},{"$f":"Calculations!CR13","v":0},{"$f":"Calculations!CS13","v":0},{"$f":"Calculations!CT13","v":0},{"$f":"Calculations!CU13","v":0},0,{"$f":"Calculations!CX13+Calculations!CW13+(Calculations!CV13*Calculator!$G$27/21)","v":0},null,50,{"$f":"Calculations!CK53","v":0},{"$f":"Calculations!CL53","v":0},{"$f":"Calculations!CM53","v":0},{"$f":"Calculations!CN53","v":0},{"$f":"Calculations!CO53","v":0},{"$f":"Calculations!CP53","v":0},{"$f":"Calculations!CQ53","v":0},{"$f":"Calculations!CR53","v":0},{"$f":"Calculations!CS53","v":0},{"$f":"Calculations!CT53","v":0},{"$f":"Calculations!CU53","v":0},0,{"$f":"Calculations!CX53+Calculations!CW53+(Calculations!CV53*Calculator!$G$27/21)","v":0},null,{"$f":"Calculations!CJ103","v":100},{"$f":"Calculations!CK103","v":0},{"$f":"Calculations!CL103","v":0},{"$f":"Calculations!CM103","v":0},{"$f":"Calculations!CN103","v":0},{"$f":"Calculations!CO103","v":0},{"$f":"Calculations!CP103","v":0},{"$f":"Calculations!CQ103","v":0},{"$f":"Calculations!CR103","v":0},{"$f":"Calculations!CS103","v":0},{"$f":"Calculations!CT103","v":0},{"$f":"Calculations!CU103","v":0},0,{"$f":"Calculations!CX103+Calculations!CW103+(Calculations!CV103*Calculator!$G$27/21)","v":0}]
[null,{"$f":"Calculations!CJ14","v":11},{"$f":"Calculations!CK14","v":0},{"$f":"Calculations!CL14","v":0},{"$f":"Calculations!CM14","v":0},{"$f":"Calculations!CN14","v":0},{"$f":"Calculations!CO14","v":0},{"$f":"Calculations!CP14","v":0},{"$f":"Calculations!CQ14","v":0},{"$f":"Calculations!CR14","v":0},{"$f":"Calculations!CS14","v":0},{"$f":"Calculations!CT14","v":0},{"$f":"Calculations!CU14","v":0},0,{"$f":"Calculations!CX14+Calculations!CW14+(Calculations!CV14*Calculator!$G$27/21)","v":0},null,{"$f":"Calculations!CJ58","v":55},{"$f":"Calculations!CK58","v":0},{"$f":"Calculations!CL58","v":0},{"$f":"Calculations!CM58","v":0},{"$f":"Calculations!CN58","v":0},{"$f":"Calculations!CO58","v":0},{"$f":"Calculations!CP58","v":0},{"$f":"Calculations!CQ58","v":0},{"$f":"Calculations!CR58","v":0},{"$f":"Calculations!CS58","v":0},{"$f":"Calculations!CT58","v":0},{"$f":"Calculations!CU58","v":0},0,{"$f":"Calculations!CX58+Calculations!CW58+(Calculations!CV58*Calculator!$G$27/21)","v":0}]
[null,{"$f":"Calculations!CJ15","v":12},{"$f":"Calculations!CK15","v":0},{"$f":"Calculations!CL15","v":0},{"$f":"Calculations!CM15","v":0},{"$f":"Calculations!CN15","v":0},{"$f":"Calculations!CO15","v":0},{"$f":"Calculations!CP15","v":0},{"$f":"Calculations!CQ15","v":0},{"$f":"Calculations!CR15","v":0},{"$f":"Calculations!CS15","v":0},{"$f":"Calculations!CT15","v":0},{"$f":"Calculations!CU15","v":0},0,{"$f":"Calculations!CX15+Calculations!CW15+(Calculations!CV15*Calculator!$G$27/21)","v":0},null,{"$f":"Calculations!CJ63","v":60},{"$f":"Calculations!CK63","v":0},{"$f":"Calculations!CL63","v":0},{"$f":"Calculations!CM63","v":0},{"$f":"Calculations!CN63","v":0},{"$f":"Calculations!CO63","v":0},{"$f":"Calculations!CP63","v":0},{"$f":"Calculations!CQ63","v":0},{"$f":"Calculations!CR63","v":0},{"$f":"Calculations!CS63","v":0},{"$f":"Calculations!CT63","v":0},{"$f":"Calculations!CU63","v":0},0,{"$f":"Calculations!CX63+Calculations!CW63+(Calculations!CV63*Calculator!$G$27/21)","v":0}]
[null,{"$f":"Calculations!CJ16","v":13},{"$f":"Calculations!CK16","v":0},{"$f":"Calculations!CL16","v":0},{"$f":"Calculations!CM16","v":0},{"$f":"Calculations!CN16","v":0},{"$f":"Calculations!CO16","v":0},{"$f":"Calculations!CP16","v":0},{"$f":"Calculations!CQ16","v":0},{"$f":"Calculations!CR16","v":0},{"$f":"Calculations!CS16","v":0},{"$f":"Calculations!CT16","v":0},{"$f":"Calculations!CU16","v":0},0,{"$f":"Calculations!CX16+Calculations!CW16+(Calculations!CV16*Calculator!$G$27/21)","v":0},null,{"$f":"Calculations!CJ68","v":65},{"$f":"Calculations!CK68","v":0},{"$f":"Calculations!CL68","v":0},{"$f":"Calculations!CM68","v":0},{"$f":"Calculations!CN68","v":0},{"$f":"Calculations!CO68","v":0},{"$f":"Calculations!CP68","v":0},{"$f":"Calculations!CQ68","v":0},{"$f":"Calculations!CR68","v":0},{"$f":"Calculations!CS68","v":0},{"$f":"Calculations!CT68","v":0},{"$f":"Calculations!CU68","v":0},0,{"$f":"Calculations!CX68+Calculations!CW68+(Calculations!CV68*Calculator!$G$27/21)","v":0}]
[null,{"$f":"Calculations!CJ17","v":14},{"$f":"Calculations!CK17","v":0},{"$f":"Calculations!CL17","v":0},{"$f":"Calculations!CM17","v":0},{"$f":"Calculations!CN17","v":0},{"$f":"Calculations!CO17","v":0},{"$f":"Calculations!CP17","v":0},{"$f":"Calculations!CQ17","v":0},{"$f":"Calculations!CR17","v":0},{"$f":"Calculations!CS17","v":0},{"$f":"Calculations!CT17","v":0},{"$f":"Calculations!CU17","v":0},0,{"$f":"Calculations!CX17+Calculations!CW17+(Calculations!CV17*Calculator!$G$27/21)","v":0},null,{"$f":"Calculations!CJ73","v":70},{"$f":"Calculations!CK73","v":0},{"$f":"Calculations!CL73","v":0},{"$f":"Calculations!CM73","v":0},{"$f":"Calculations!CN73","v":0},{"$f":"Calculations!CO73","v":0},{"$f":"Calculations!CP73","v":0},{"$f":"Calculations!CQ73","v":0},{"$f":"Calculations!CR73","v":0},{"$f":"Calculations!CS73","v":0},{"$f":"Calculations!CT73","v":0},{"$f":"Calculations!CU73","v":0},0,{"$f":"Calculations!CX73+Calculations!CW73+(Calculations!CV73*Calculator!$G$27/21)","v":0}]
[null,{"$f":"Calculations!CJ18","v":15},{"$f":"Calculations!CK18","v":0},{"$f":"Calculations!CL18","v":0},{"$f":"Calculations!CM18","v":0},{"$f":"Calculations!CN18","v":0},{"$f":"Calculations!CO18","v":0},{"$f":"Calculations!CP18","v":0},{"$f":"Calculations!CQ18","v":0},{"$f":"Calculations!CR18","v":0},{"$f":"Calculations!CS18","v":0},{"$f":"Calculations!CT18","v":0},{"$f":"Calculations!CU18","v":0},0,{"$f":"Calculations!CX18+Calculations!CW18+(Calculations!CV18*Calculator!$G$27/21)","v":0},null,{"$f":"Calculations!CJ78","v":75},{"$f":"Calculations!CK78","v":0},{"$f":"Calculations!CL78","v":0},{"$f":"Calculations!CM78","v":0},{"$f":"Calculations!CN78","v":0},{"$f":"Calculations!CO78","v":0},{"$f":"Calculations!CP78","v":0},{"$f":"Calculations!CQ78","v":0},{"$f":"Calculations!CR78","v":0},{"$f":"Calculations!CS78","v":0},{"$f":"Calculations!CT78","v":0},{"$f":"Calculations!CU78","v":0},0,{"$f":"Calculations!CX78+Calculations!CW78+(Calculations!CV78*Calculator!$G$27/21)","v":0}]
[null,{"$f":"Calculations!CJ19","v":16},{"$f":"Calculations!CK19","v":0},{"$f":"Calculations!CL19","v":0},{"$f":"Calculations!CM19","v":0},{"$f":"Calculations!CN19","v":0},{"$f":"Calculations!CO19","v":0},{"$f":"Calculations!CP19","v":0},{"$f":"Calculations!CQ19","v":0},{"$f":"Calculations!CR19","v":0},{"$f":"Calculations!CS19","v":0},{"$f":"Calculations!CT19","v":0},{"$f":"Calculations!CU19","v":0},0,{"$f":"Calculations!CX19+Calculations!CW19+(Calculations!CV19*Calculator!$G$27/21)","v":0},null,{"$f":"Calculations!CJ83","v":80},{"$f":"Calculations!CK83","v":0},{"$f":"Calculations!CL83","v":0},{"$f":"Calculations!CM83","v":0},{"$f":"Calculations!CN83","v":0},{"$f":"Calculations!CO83","v":0},{"$f":"Calculations!CP83","v":0},{"$f":"Calculations!CQ83","v":0},{"$f":"Calculations!CR83","v":0},{"$f":"Calculations!CS83","v":0},{"$f":"Calculations!CT83","v":0},{"$f":"Calculations!CU83","v":0},0,{"$f":"Calculations!CX83+Calculations!CW83+(Calculations!CV83*Calculator!$G$27/21)","v":0}]
[null,{"$f":"Calculations!CJ20","v":17},{"$f":"Calculations!CK20","v":0},{"$f":"Calculations!CL20","v":0},{"$f":"Calculations!CM20","v":0},{"$f":"Calculations!CN20","v":0},{"$f":"Calculations!CO20","v":0},{"$f":"Calculations!CP20","v":0},{"$f":"Calculations!CQ20","v":0},{"$f":"Calculations!CR20","v":0},{"$f":"Calculations!CS20","v":0},{"$f":"Calculations!CT20","v":0},{"$f":"Calculations!CU20","v":0},0,{"$f":"Calculations!CX20+Calculations!CW20+(Calculations!CV20*Calculator!$G$27/21)","v":0},null,{"$f":"Calculations!CJ88","v":85},{"$f":"Calculations!CK88","v":0},{"$f":"Calculations!CL88","v":0},{"$f":"Calculations!CM88","v":0},{"$f":"Calculations!CN88","v":0},{"$f":"Calculations!CO88","v":0},{"$f":"Calculations!CP88","v":0},{"$f":"Calculations!CQ88","v":0},{"$f":"Calculations!CR88","v":0},{"$f":"Calculations!CS88","v":0},{"$f":"Calculations!CT88","v":0},{"$f":"Calculations!CU88","v":0},0,{"$f":"Calculations!CX88+Calculations!CW88+(Calculations!CV88*Calculator!$G$27/21)","v":0}]
[null,{"$f":"Calculations!CJ21","v":18},{"$f":"Calculations!CK21","v":0},{"$f":"Calculations!CL21","v":0},{"$f":"Calculations!CM21","v":0},{"$f":"Calculations!CN21","v":0},{"$f":"Calculations!CO21","v":0},{"$f":"Calculations!CP21","v":0},{"$f":"Calculations!CQ21","v":0},{"$f":"Calculations!CR21","v":0},{"$f":"Calculations!CS21","v":0},{"$f":"Calculations!CT21","v":0},{"$f":"Calculations!CU21","v":0},0,{"$f":"Calculations!CX21+Calculations!CW21+(Calculations!CV21*Calculator!$G$27/21)","v":0},null,{"$f":"Calculations!CJ93","v":90},{"$f":"Calculations!CK93","v":0},{"$f":"Calculations!CL93","v":0},{"$f":"Calculations!CM93","v":0},{"$f":"Calculations!CN93","v":0},{"$f":"Calculations!CO93","v":0},{"$f":"Calculations!CP93","v":0},{"$f":"Calculations!CQ93","v":0},{"$f":"Calculations!CR93","v":0},{"$f":"Calculations!CS93","v":0},{"$f":"Calculations!CT93","v":0},{"$f":"Calculations!CU93","v":0},0,{"$f":"Calculations!CX93+Calculations!CW93+(Calculations!CV93*Calculator!$G$27/21)","v":0}]
[null,{"$f":"Calculations!CJ22","v":19},{"$f":"Calculations!CK22","v":0},{"$f":"Calculations!CL22","v":0},{"$f":"Calculations!CM22","v":0},{"$f":"Calculations!CN22","v":0},{"$f":"Calculations!CO22","v":0},{"$f":"Calculations!CP22","v":0},{"$f":"Calculations!CQ22","v":0},{"$f":"Calculations!CR22","v":0},{"$f":"Calculations!CS22","v":0},{"$f":"Calculations!CT22","v":0},{"$f":"Calculations!CU22","v":0},0,{"$f":"Calculations!CX22+Calculations!CW22+(Calculations!CV22*Calculator!$G$27/21)","v":0},null,{"$f":"Calculations!CJ98","v":95},{"$f":"Calculations!CK98","v":0},{"$f":"Calculations!CL98","v":0},{"$f":"Calculations!CM98","v":0},{"$f":"Calculations!CN98","v":0},{"$f":"Calculations!CO98","v":0},{"$f":"Calculations!CP98","v":0},{"$f":"Calculations!CQ98","v":0},{"$f":"Calculations!CR98","v":0},{"$f":"Calculations!CS98","v":0},{"$f":"Calculations!CT98","v":0},{"$f":"Calculations!CU98","v":0},0,{"$f":"Calculations!CX98+Calculations!CW13+(Calculations!CV98*Calculator!$G$27/21)","v":0}]
[null,{"$f":"Calculations!CJ23","v":20},{"$f":"Calculations!CK23","v":0},{"$f":"Calculations!CL23","v":0},{"$f":"Calculations!CM23","v":0},{"$f":"Calculations!CN23","v":0},{"$f":"Calculations!CO23","v":0},{"$f":"Calculations!CP23","v":0},{"$f":"Calculations!CQ23","v":0},{"$f":"Calculations!CR23","v":0},{"$f":"Calculations!CS23","v":0},{"$f":"Calculations!CT23","v":0},{"$f":"Calculations!CU23","v":0},0,{"$f":"Calculations!CX23+Calculations!CW23+(Calculations!CV23*Calculator!$G$27/21)","v":0},null,{"$f":"Calculations!CJ103","v":100},{"$f":"Calculations!CK103","v":0},{"$f":"Calculations!CL103","v":0},{"$f":"Calculations!CM103","v":0},{"$f":"Calculations!CN103","v":0},{"$f":"Calculations!CO103","v":0},{"$f":"Calculations!CP103","v":0},{"$f":"Calculations!CQ103","v":0},{"$f":"Calculations!CR103","v":0},{"$f":"Calculations!CS103","v":0},{"$f":"Calculations!CT103","v":0},{"$f":"Calculations!CU103","v":0},0,{"$f":"Calculations!CX103+Calculations!CW103+(Calculations!CV103*Calculator!$G$27/21)","v":0}]
[null,{"$f":"Calculations!CJ24","v":21},{"$f":"Calculations!CK24","v":0},{"$f":"Calculations!CL24","v":0},{"$f":"Calculations!CM24","v":0},{"$f":"Calculations!CN24","v":0},{"$f":"Calculations!CO24","v":0},{"$f":"Calculations!CP24","v":0},{"$f":"Calculations!CQ24","v":0},{"$f":"Calculations!CR24","v":0},{"$f":"Calculations!CS24","v":0},{"$f":"Calculations!CT24","v":0},{"$f":"Calculations!CU24","v":0},0,{"$f":"Calculations!CX24+Calculations!CW24+(Calculations!CV24*Calculator!$G$27/21)","v":0}]
[null,{"$f":"Calculations!CJ25","v":22},{"$f":"Calculations!CK25","v":0},{"$f":"Calculations!CL25","v":0},{"$f":"Calculations!CM25","v":0},{"$f":"Calculations!CN25","v":0},{"$f":"Calculations!CO25","v":0},{"$f":"Calculations!CP25","v":0},{"$f":"Calculations!CQ25","v":0},{"$f":"Calculations!CR25","v":0},{"$f":"Calculations!CS25","v":0},{"$f":"Calculations!CT25","v":0},{"$f":"Calculations!CU25","v":0},0,{"$f":"Calculations!CX25+Calculations!CW25+(Calculations!CV25*Calculator!$G$27/21)","v":0}]
[null,{"$f":"Calculations!CJ26","v":23},{"$f":"Calculations!CK26","v":0},{"$f":"Calculations!CL26","v":0},{"$f":"Calculations!CM26","v":0},{"$f":"Calculations!CN26","v":0},{"$f":"Calculations!CO26","v":0},{"$f":"Calculations!CP26","v":0},{"$f":"Calculations!CQ26","v":0},{"$f":"Calculations!CR26","v":0},{"$f":"Calculations!CS26","v":0},{"$f":"Calculations!CT26","v":0},{"$f":"Calculations!CU26","v":0},0,{"$f":"Calculations!CX26+Calculations!CW26+(Calculations!CV26*Calculator!$G$27/21)","v":0}]
[null,{"$f":"Calculations!CJ27","v":24},{"$f":"Calculations!CK27","v":0},{"$f":"Calculations!CL27","v":0},{"$f":"Calculations!CM27","v":0},{"$f":"Calculations!CN27","v":0},{"$f":"Calculations!CO27","v":0},{"$f":"Calculations!CP27","v":0},{"$f":"Calculations!CQ27","v":0},{"$f":"Calculations!CR27","v":0},{"$f":"Calculations!CS27","v":0},{"$f":"Calculations!CT27","v":0},{"$f":"Calculations!CU27","v":0},0,{"$f":"Calculations!CX27+Calculations!CW27+(Calculations!CV27*Calculator!$G$27/21)","v":0}]
[null,{"$f":"Calculations!CJ28","v":25},{"$f":"Calculations!CK28","v":0},{"$f":"Calculations!CL28","v":0},{"$f":"Calculations!CM28","v":0},{"$f":"Calculations!CN28","v":0},{"$f":"Calculations!CO28","v":0},{"$f":"Calculations!CP28","v":0},{"$f":"Calculations!CQ28","v":0},{"$f":"Calculations!CR28","v":0},{"$f":"Calculations!CS28","v":0},{"$f":"Calculations!CT28","v":0},{"$f":"Calculations!CU28","v":0},0,{"$f":"Calculations!CX28+Calculations!CW28+(Calculations!CV28*Calculator!$G$27/21)","v":0}]
[null,{"$f":"Calculations!CJ29","v":26},{"$f":"Calculations!CK29","v":0},{"$f":"Calculations!CL29","v":0},{"$f":"Calculations!CM29","v":0},{"$f":"Calculations!CN29","v":0},{"$f":"Calculations!CO29","v":0},{"$f":"Calculations!CP29","v":0},{"$f":"Calculations!CQ29","v":0},{"$f":"Calculations!CR29","v":0},{"$f":"Calculations!CS29","v":0},{"$f":"Calculations!CT29","v":0},{"$f":"Calculations!CU29","v":0},0,{"$f":"Calculations!CX29+Calculations!CW29+(Calculations!CV29*Calculator!$G$27/21)","v":0}]
[null,{"$f":"Calculations!CJ30","v":27},{"$f":"Calculations!CK30","v":0},{"$f":"Calculations!CL30","v":0},{"$f":"Calculations!CM30","v":0},{"$f":"Calculations!CN30","v":0},{"$f":"Calculations!CO30","v":0},{"$f":"Calculations!CP30","v":0},{"$f":"Calculations!CQ30","v":0},{"$f":"Calculations!CR30","v":0},{"$f":"Calculations!CS30","v":0},{"$f":"Calculations!CT30","v":0},{"$f":"Calculations!CU30","v":0},0,{"$f":"Calculations!CX30+Calculations!CW30+(Calculations!CV30*Calculator!$G$27/21)","v":0}]
[null,{"$f":"Calculations!CJ31","v":28},{"$f":"Calculations!CK31","v":0},{"$f":"Calculations!CL31","v":0},{"$f":"Calculations!CM31","v":0},{"$f":"Calculations!CN31","v":0},{"$f":"Calculations!CO31","v":0},{"$f":"Calculations!CP31","v":0},{"$f":"Calculations!CQ31","v":0},{"$f":"Calculations!CR31","v":0},{"$f":"Calculations!CS31","v":0},{"$f":"Calculations!CT31","v":0},{"$f":"Calculations!CU31","v":0},0,{"$f":"Calculations!CX31+Calculations!CW31+(Calculations!CV31*Calculator!$G$27/21)","v":0}]
[null,{"$f":"Calculations!CJ32","v":29},{"$f":"Calculations!CK32","v":0},{"$f":"Calculations!CL32","v":0},{"$f":"Calculations!CM32","v":0},{"$f":"Calculations!CN32","v":0},{"$f":"Calculations!CO32","v":0},{"$f":"Calculations!CP32","v":0},{"$f":"Calculations!CQ32","v":0},{"$f":"Calculations!CR32","v":0},{"$f":"Calculations!CS32","v":0},{"$f":"Calculations!CT32","v":0},{"$f":"Calculations!CU32","v":0},0,{"$f":"Calculations!CX32+Calculations!CW32+(Calculations!CV32*Calculator!$G$27/21)","v":0}]
[null,{"$f":"Calculations!CJ33","v":30},{"$f":"Calculations!CK33","v":0},{"$f":"Calculations!CL33","v":0},{"$f":"Calculations!CM33","v":0},{"$f":"Calculations!CN33","v":0},{"$f":"Calculations!CO33","v":0},{"$f":"Calculations!CP33","v":0},{"$f":"Calculations!CQ33","v":0},{"$f":"Calculations!CR33","v":0},{"$f":"Calculations!CS33","v":0},{"$f":"Calculations!CT33","v":0},{"$f":"Calculations!CU33","v":0},0,{"$f":"Calculations!CX33+Calculations!CW33+(Calculations!CV33*Calculator!$G$27/21)","v":0}]
[null,{"$f":"Calculations!CJ34","v":31},{"$f":"Calculations!CK34","v":0},{"$f":"Calculations!CL34","v":0},{"$f":"Calculations!CM34","v":0},{"$f":"Calculations!CN34","v":0},{"$f":"Calculations!CO34","v":0},{"$f":"Calculations!CP34","v":0},{"$f":"Calculations!CQ34","v":0},{"$f":"Calculations!CR34","v":0},{"$f":"Calculations!CS34","v":0},{"$f":"Calculations!CT34","v":0},{"$f":"Calculations!CU34","v":0},0,{"$f":"Calculations!CX34+Calculations!CW34+(Calculations!CV34*Calculator!$G$27/21)","v":0}]
[null,{"$f":"Calculations!CJ35","v":32},{"$f":"Calculations!CK35","v":0},{"$f":"Calculations!CL35","v":0},{"$f":"Calculations!CM35","v":0},{"$f":"Calculations!CN35","v":0},{"$f":"Calculations!CO35","v":0},{"$f":"Calculations!CP35","v":0},{"$f":"Calculations!CQ35","v":0},{"$f":"Calculations!CR35","v":0},{"$f":"Calculations!CS35","v":0},{"$f":"Calculations!CT35","v":0},{"$f":"Calculations!CU35","v":0},0,{"$f":"Calculations!CX35+Calculations!CW35+(Calculations!CV35*Calculator!$G$27/21)","v":0}]
[null,{"$f":"Calculations!CJ36","v":33},{"$f":"Calculations!CK36","v":0},{"$f":"Calculations!CL36","v":0},{"$f":"Calculations!CM36","v":0},{"$f":"Calculations!CN36","v":0},{"$f":"Calculations!CO36","v":0},{"$f":"Calculations!CP36","v":0},{"$f":"Calculations!CQ36","v":0},{"$f":"Calculations!CR36","v":0},{"$f":"Calculations!CS36","v":0},{"$f":"Calculations!CT36","v":0},{"$f":"Calculations!CU36","v":0},{"$f":"K38+L38","v":0},{"$f":"Calculations!CX36+Calculations!CW36+(Calculations!CV36*Calculator!$G$27/21)","v":0}]
[null,{"$f":"Calculations!CJ37","v":34},{"$f":"Calculations!CK37","v":0},{"$f":"Calculations!CL37","v":0},{"$f":"Calculations!CM37","v":0},{"$f":"Calculations!CN37","v":0},{"$f":"Calculations!CO37","v":0},{"$f":"Calculations!CP37","v":0},{"$f":"Calculations!CQ37","v":0},{"$f":"Calculations!CR37","v":0},{"$f":"Calculations!CS37","v":0},{"$f":"Calculations!CT37","v":0},{"$f":"Calculations!CU37","v":0},0,{"$f":"Calculations!CX37+Calculations!CW37+(Calculations!CV37*Calculator!$G$27/21)","v":0}]
[null,{"$f":"Calculations!CJ38","v":35},{"$f":"Calculations!CK38","v":0},{"$f":"Calculations!CL38","v":0},{"$f":"Calculations!CM38","v":0},{"$f":"Calculations!CN38","v":0},{"$f":"Calculations!CO38","v":0},{"$f":"Calculations!CP38","v":0},{"$f":"Calculations!CQ38","v":0},{"$f":"Calculations!CR38","v":0},{"$f":"Calculations!CS38","v":0},{"$f":"Calculations!CT38","v":0},{"$f":"Calculations!CU38","v":0},0,{"$f":"Calculations!CX38+Calculations!CW38+(Calculations!CV38*Calculator!$G$27/21)","v":0}]
[null,{"$f":"Calculations!CJ39","v":36},{"$f":"Calculations!CK39","v":0},{"$f":"Calculations!CL39","v":0},{"$f":"Calculations!CM39","v":0},{"$f":"Calculations!CN39","v":0},{"$f":"Calculations!CO39","v":0},{"$f":"Calculations!CP39","v":0},{"$f":"Calculations!CQ39","v":0},{"$f":"Calculations!CR39","v":0},{"$f":"Calculations!CS39","v":0},{"$f":"Calculations!CT39","v":0},{"$f":"Calculations!CU39","v":0},0,{"$f":"Calculations!CX39+Calculations!CW39+(Calculations!CV39*Calculator!$G$27/21)","v":0}]
[null,{"$f":"Calculations!CJ40","v":37},{"$f":"Calculations!CK40","v":0},{"$f":"Calculations!CL40","v":0},{"$f":"Calculations!CM40","v":0},{"$f":"Calculations!CN40","v":0},{"$f":"Calculations!CO40","v":0},{"$f":"Calculations!CP40","v":0},{"$f":"Calculations!CQ40","v":0},{"$f":"Calculations!CR40","v":0},{"$f":"Calculations!CS40","v":0},{"$f":"Calculations!CT40","v":0},{"$f":"Calculations!CU40","v":0},0,{"$f":"Calculations!CX40+Calculations!CW40+(Calculations!CV40*Calculator!$G$27/21)","v":0}]
[null,{"$f":"Calculations!CJ41","v":38},{"$f":"Calculations!CK41","v":0},{"$f":"Calculations!CL41","v":0},{"$f":"Calculations!CM41","v":0},{"$f":"Calculations!CN41","v":0},{"$f":"Calculations!CO41","v":0},{"$f":"Calculations!CP41","v":0},{"$f":"Calculations!CQ41","v":0},{"$f":"Calculations!CR41","v":0},{"$f":"Calculations!CS41","v":0},{"$f":"Calculations!CT41","v":0},{"$f":"Calculations!CU41","v":0},0,{"$f":"Calculations!CX41+Calculations!CW41+(Calculations!CV41*Calculator!$G$27/21)","v":0}]
[null,{"$f":"Calculations!CJ42","v":39},{"$f":"Calculations!CK42","v":0},{"$f":"Calculations!CL42","v":0},{"$f":"Calculations!CM42","v":0},{"$f":"Calculations!CN42","v":0},{"$f":"Calculations!CO42","v":0},{"$f":"Calculations!CP42","v":0},{"$f":"Calculations!CQ42","v":0},{"$f":"Calculations!CR42","v":0},{"$f":"Calculations!CS42","v":0},{"$f":"Calculations!CT42","v":0},{"$f":"Calculations!CU42","v":0},0,{"$f":"Calculations!CX42+Calculations!CW42+(Calculations!CV42*Calculator!$G$27/21)","v":0}]
[null,{"$f":"Calculations!CJ43","v":40},{"$f":"Calculations!CK43","v":0},{"$f":"Calculations!CL43","v":0},{"$f":"Calculations!CM43","v":0},{"$f":"Calculations!CN43","v":0},{"$f":"Calculations!CO43","v":0},{"$f":"Calculations!CP43","v":0},{"$f":"Calculations!CQ43","v":0},{"$f":"Calculations!CR43","v":0},{"$f":"Calculations!CS43","v":0},{"$f":"Calculations!CT43","v":0},{"$f":"Calculations!CU43","v":0},0,{"$f":"Calculations!CX43+Calculations!CW43+(Calculations!CV43*Calculator!$G$27/21)","v":0}]
[null,{"$f":"Calculations!CJ44","v":41},{"$f":"Calculations!CK44","v":0},{"$f":"Calculations!CL44","v":0},{"$f":"Calculations!CM44","v":0},{"$f":"Calculations!CN44","v":0},{"$f":"Calculations!CO44","v":0},{"$f":"Calculations!CP44","v":0},{"$f":"Calculations!CQ44","v":0},{"$f":"Calculations!CR44","v":0},{"$f":"Calculations!CS44","v":0},{"$f":"Calculations!CT44","v":0},{"$f":"Calculations!CU44","v":0},0,{"$f":"Calculations!CX44+Calculations!CW44+(Calculations!CV44*Calculator!$G$27/21)","v":0}]
[null,{"$f":"Calculations!CJ45","v":42},{"$f":"Calculations!CK45","v":0},{"$f":"Calculations!CL45","v":0},{"$f":"Calculations!CM45","v":0},{"$f":"Calculations!CN45","v":0},{"$f":"Calculations!CO45","v":0},{"$f":"Calculations!CP45","v":0},{"$f":"Calculations!CQ45","v":0},{"$f":"Calculations!CR45","v":0},{"$f":"Calculations!CS45","v":0},{"$f":"Calculations!CT45","v":0},{"$f":"Calculations!CU45","v":0},0,{"$f":"Calculations!CX45+Calculations!CW45+(Calculations!CV45*Calculator!$G$27/21)","v":0}]
[null,{"$f":"Calculations!CJ46","v":43},{"$f":"Calculations!CK46","v":0},{"$f":"Calculations!CL46","v":0},{"$f":"Calculations!CM46","v":0},{"$f":"Calculations!CN46","v":0},{"$f":"Calculations!CO46","v":0},{"$f":"Calculations!CP46","v":0},{"$f":"Calculations!CQ46","v":0},{"$f":"Calculations!CR46","v":0},{"$f":"Calculations!CS46","v":0},{"$f":"Calculations!CT46","v":0},{"$f":"Calculations!CU46","v":0},0,{"$f":"Calculations!CX46+Calculations!CW46+(Calculations!CV46*Calculator!$G$27/21)","v":0}]
[null,{"$f":"Calculations!CJ47","v":44},{"$f":"Calculations!CK47","v":0},{"$f":"Calculations!CL47","v":0},{"$f":"Calculations!CM47","v":0},{"$f":"Calculations!CN47","v":0},{"$f":"Calculations!CO47","v":0},{"$f":"Calculations!CP47","v":0},{"$f":"Calculations!CQ47","v":0},{"$f":"Calculations!CR47","v":0},{"$f":"Calculations!CS47","v":0},{"$f":"Calculations!CT47","v":0},{"$f":"Calculations!CU47","v":0},0,{"$f":"Calculations!CX47+Calculations!CW47+(Calculations!CV47*Calculator!$G$27/21)","v":0}]
[null,{"$f":"Calculations!CJ48","v":45},{"$f":"Calculations!CK48","v":0},{"$f":"Calculations!CL48","v":0},{"$f":"Calculations!CM48","v":0},{"$f":"Calculations!CN48","v":0},{"$f":"Calculations!CO48","v":0},{"$f":"Calculations!CP48","v":0},{"$f":"Calculations!CQ48","v":0},{"$f":"Calculations!CR48","v":0},{"$f":"Calculations!CS48","v":0},{"$f":"Calculations!CT48","v":0},{"$f":"Calculations!CU48","v":0},0,{"$f":"Calculations!CX48+Calculations!CW48+(Calculations!CV48*Calculator!$G$27/21)","v":0}]
[null,{"$f":"Calculations!CJ49","v":46},{"$f":"Calculations!CK49","v":0},{"$f":"Calculations!CL49","v":0},{"$f":"Calculations!CM49","v":0},{"$f":"Calculations!CN49","v":0},{"$f":"Calculations!CO49","v":0},{"$f":"Calculations!CP49","v":0},{"$f":"Calculations!CQ49","v":0},{"$f":"Calculations!CR49","v":0},{"$f":"Calculations!CS49","v":0},{"$f":"Calculations!CT49","v":0},{"$f":"Calculations!CU49","v":0},0,{"$f":"Calculations!CX49+Calculations!CW49+(Calculations!CV49*Calculator!$G$27/21)","v":0}]
[null,{"$f":"Calculations!CJ50","v":47},{"$f":"Calculations!CK50","v":0},{"$f":"Calculations!CL50","v":0},{"$f":"Calculations!CM50","v":0},{"$f":"Calculations!CN50","v":0},{"$f":"Calculations!CO50","v":0},{"$f":"Calculations!CP50","v":0},{"$f":"Calculations!CQ50","v":0},{"$f":"Calculations!CR50","v":0},{"$f":"Calculations!CS50","v":0},{"$f":"Calculations!CT50","v":0},{"$f":"Calculations!CU50","v":0},0,{"$f":"Calculations!CX50+Calculations!CW50+(Calculations!CV50*Calculator!$G$27/21)","v":0}]
[null,{"$f":"Calculations!CJ51","v":48},{"$f":"Calculations!CK51","v":0},{"$f":"Calculations!CL51","v":0},{"$f":"Calculations!CM51","v":0},{"$f":"Calculations!CN51","v":0},{"$f":"Calculations!CO51","v":0},{"$f":"Calculations!CP51","v":0},{"$f":"Calculations!CQ51","v":0},{"$f":"Calculations!CR51","v":0},{"$f":"Calculations!CS51","v":0},{"$f":"Calculations!CT51","v":0},{"$f":"Calculations!CU51","v":0},0,{"$f":"Calculations!CX51+Calculations!CW51+(Calculations!CV51*Calculator!$G$27/21)","v":0}]
[null,{"$f":"Calculations!CJ52","v":49},{"$f":"Calculations!CK52","v":0},{"$f":"Calculations!CL52","v":0},{"$f":"Calculations!CM52","v":0},{"$f":"Calculations!CN52","v":0},{"$f":"Calculations!CO52","v":0},{"$f":"Calculations!CP52","v":0},{"$f":"Calculations!CQ52","v":0},{"$f":"Calculations!CR52","v":0},{"$f":"Calculations!CS52","v":0},{"$f":"Calculations!CT52","v":0},{"$f":"Calculations!CU52","v":0},0,{"$f":"Calculations!CX52+Calculations!CW52+(Calculations!CV52*Calculator!$G$27/21)","v":0}]
[null,{"$f":"Calculations!CJ53","v":50},{"$f":"Calculations!CK53","v":0},{"$f":"Calculations!CL53","v":0},{"$f":"Calculations!CM53","v":0},{"$f":"Calculations!CN53","v":0},{"$f":"Calculations!CO53","v":0},{"$f":"Calculations!CP53","v":0},{"$f":"Calculations!CQ53","v":0},{"$f":"Calculations!CR53","v":0},{"$f":"Calculations!CS53","v":0},{"$f":"Calculations!CT53","v":0},{"$f":"Calculations!CU53","v":0},0,{"$f":"Calculations!CX53+Calculations!CW53+(Calculations!CV53*Calculator!$G$27/21)","v":0}]
[null,{"$f":"Calculations!CJ54","v":51},{"$f":"Calculations!CK54","v":0},{"$f":"Calculations!CL54","v":0},{"$f":"Calculations!CM54","v":0},{"$f":"Calculations!CN54","v":0},{"$f":"Calculations!CO54","v":0},{"$f":"Calculations!CP54","v":0},{"$f":"Calculations!CQ54","v":0},{"$f":"Calculations!CR54","v":0},{"$f":"Calculations!CS54","v":0},{"$f":"Calculations!CT54","v":0},{"$f":"Calculations!CU54","v":0},0,{"$f":"Calculations!CX54+Calculations!CW54+(Calculations!CV54*Calculator!$G$27/21)","v":0}]
[null,{"$f":"Calculations!CJ55","v":52},{"$f":"Calculations!CK55","v":0},{"$f":"Calculations!CL55","v":0},{"$f":"Calculations!CM55","v":0},{"$f":"Calculations!CN55","v":0},{"$f":"Calculations!CO55","v":0},{"$f":"Calculations!CP55","v":0},{"$f":"Calculations!CQ55","v":0},{"$f":"Calculations!CR55","v":0},{"$f":"Calculations!CS55","v":0},{"$f":"Calculations!CT55","v":0},{"$f":"Calculations!CU55","v":0},0,{"$f":"Calculations!CX55+Calculations!CW55+(Calculations!CV55*Calculator!$G$27/21)","v":0}]
[null,{"$f":"Calculations!CJ56","v":53},{"$f":"Calculations!CK56","v":0},{"$f":"Calculations!CL56","v":0},{"$f":"Calculations!CM56","v":0},{"$f":"Calculations!CN56","v":0},{"$f":"Calculations!CO56","v":0},{"$f":"Calculations!CP56","v":0},{"$f":"Calculations!CQ56","v":0},{"$f":"Calculations!CR56","v":0},{"$f":"Calculations!CS56","v":0},{"$f":"Calculations!CT56","v":0},{"$f":"Calculations!CU56","v":0},0,{"$f":"Calculations!CX56+Calculations!CW56+(Calculations!CV56*Calculator!$G$27/21)","v":0}]
[null,{"$f":"Calculations!CJ57","v":54},{"$f":"Calculations!CK57","v":0},{"$f":"Calculations!CL57","v":0},{"$f":"Calculations!CM57","v":0},{"$f":"Calculations!CN57","v":0},{"$f":"Calculations!CO57","v":0},{"$f":"Calculations!CP57","v":0},{"$f":"Calculations!CQ57","v":0},{"$f":"Calculations!CR57","v":0},{"$f":"Calculations!CS57","v":0},{"$f":"Calculations!CT57","v":0},{"$f":"Calculations!CU57","v":0},0,{"$f":"Calculations!CX57+Calculations!CW57+(Calculations!CV57*Calculator!$G$27/21)","v":0}]
[null,{"$f":"Calculations!CJ58","v":55},{"$f":"Calculations!CK58","v":0},{"$f":"Calculations!CL58","v":0},{"$f":"Calculations!CM58","v":0},{"$f":"Calculations!CN58","v":0},{"$f":"Calculations!CO58","v":0},{"$f":"Calculations!CP58","v":0},{"$f":"Calculations!CQ58","v":0},{"$f":"Calculations!CR58","v":0},{"$f":"Calculations!CS58","v":0},{"$f":"Calculations!CT58","v":0},{"$f":"Calculations!CU58","v":0},0,{"$f":"Calculations!CX58+Calculations!CW58+(Calculations!CV58*Calculator!$G$27/21)","v":0}]
[null,{"$f":"Calculations!CJ59","v":56},{"$f":"Calculations!CK59","v":0},{"$f":"Calculations!CL59","v":0},{"$f":"Calculations!CM59","v":0},{"$f":"Calculations!CN59","v":0},{"$f":"Calculations!CO59","v":0},{"$f":"Calculations!CP59","v":0},{"$f":"Calculations!CQ59","v":0},{"$f":"Calculations!CR59","v":0},{"$f":"Calculations!CS59","v":0},{"$f":"Calculations!CT59","v":0},{"$f":"Calculations!CU59","v":0},0,{"$f":"Calculations!CX59+Calculations!CW59+(Calculations!CV59*Calculator!$G$27/21)","v":0}]
[null,{"$f":"Calculations!CJ60","v":57},{"$f":"Calculations!CK60","v":0},{"$f":"Calculations!CL60","v":0},{"$f":"Calculations!CM60","v":0},{"$f":"Calculations!CN60","v":0},{"$f":"Calculations!CO60","v":0},{"$f":"Calculations!CP60","v":0},{"$f":"Calculations!CQ60","v":0},{"$f":"Calculations!CR60","v":0},{"$f":"Calculations!CS60","v":0},{"$f":"Calculations!CT60","v":0},{"$f":"Calculations!CU60","v":0},0,{"$f":"Calculations!CX60+Calculations!CW60+(Calculations!CV60*Calculator!$G$27/21)","v":0}]
[null,{"$f":"Calculations!CJ61","v":58},{"$f":"Calculations!CK61","v":0},{"$f":"Calculations!CL61","v":0},{"$f":"Calculations!CM61","v":0},{"$f":"Calculations!CN61","v":0},{"$f":"Calculations!CO61","v":0},{"$f":"Calculations!CP61","v":0},{"$f":"Calculations!CQ61","v":0},{"$f":"Calculations!CR61","v":0},{"$f":"Calculations!CS61","v":0},{"$f":"Calculations!CT61","v":0},{"$f":"Calculations!CU61","v":0},0,{"$f":"Calculations!CX61+Calculations!CW61+(Calculations!CV61*Calculator!$G$27/21)","v":0}]
[null,{"$f":"Calculations!CJ62","v":59},{"$f":"Calculations!CK62","v":0},{"$f":"Calculations!CL62","v":0},{"$f":"Calculations!CM62","v":0},{"$f":"Calculations!CN62","v":0},{"$f":"Calculations!CO62","v":0},{"$f":"Calculations!CP62","v":0},{"$f":"Calculations!CQ62","v":0},{"$f":"Calculations!CR62","v":0},{"$f":"Calculations!CS62","v":0},{"$f":"Calculations!CT62","v":0},{"$f":"Calculations!CU62","v":0},0,{"$f":"Calculations!CX62+Calculations!CW62+(Calculations!CV62*Calculator!$G$27/21)","v":0}]
[null,{"$f":"Calculations!CJ63","v":60},{"$f":"Calculations!CK63","v":0},{"$f":"Calculations!CL63","v":0},{"$f":"Calculations!CM63","v":0},{"$f":"Calculations!CN63","v":0},{"$f":"Calculations!CO63","v":0},{"$f":"Calculations!CP63","v":0},{"$f":"Calculations!CQ63","v":0},{"$f":"Calculations!CR63","v":0},{"$f":"Calculations!CS63","v":0},{"$f":"Calculations!CT63","v":0},{"$f":"Calculations!CU63","v":0},0,{"$f":"Calculations!CX63+Calculations!CW63+(Calculations!CV63*Calculator!$G$27/21)","v":0}]
[null,{"$f":"Calculations!CJ64","v":61},{"$f":"Calculations!CK64","v":0},{"$f":"Calculations!CL64","v":0},{"$f":"Calculations!CM64","v":0},{"$f":"Calculations!CN64","v":0},{"$f":"Calculations!CO64","v":0},{"$f":"Calculations!CP64","v":0},{"$f":"Calculations!CQ64","v":0},{"$f":"Calculations!CR64","v":0},{"$f":"Calculations!CS64","v":0},{"$f":"Calculations!CT64","v":0},{"$f":"Calculations!CU64","v":0},0,{"$f":"Calculations!CX64+Calculations!CW64+(Calculations!CV64*Calculator!$G$27/21)","v":0}]
[null,{"$f":"Calculations!CJ65","v":62},{"$f":"Calculations!CK65","v":0},{"$f":"Calculations!CL65","v":0},{"$f":"Calculations!CM65","v":0},{"$f":"Calculations!CN65","v":0},{"$f":"Calculations!CO65","v":0},{"$f":"Calculations!CP65","v":0},{"$f":"Calculations!CQ65","v":0},{"$f":"Calculations!CR65","v":0},{"$f":"Calculations!CS65","v":0},{"$f":"Calculations!CT65","v":0},{"$f":"Calculations!CU65","v":0},0,{"$f":"Calculations!CX65+Calculations!CW65+(Calculations!CV65*Calculator!$G$27/21)","v":0}]
[null,{"$f":"Calculations!CJ66","v":63},{"$f":"Calculations!CK66","v":0},{"$f":"Calculations!CL66","v":0},{"$f":"Calculations!CM66","v":0},{"$f":"Calculations!CN66","v":0},{"$f":"Calculations!CO66","v":0},{"$f":"Calculations!CP66","v":0},{"$f":"Calculations!CQ66","v":0},{"$f":"Calculations!CR66","v":0},{"$f":"Calculations!CS66","v":0},{"$f":"Calculations!CT66","v":0},{"$f":"Calculations!CU66","v":0},0,{"$f":"Calculations!CX66+Calculations!CW66+(Calculations!CV66*Calculator!$G$27/21)","v":0}]
[null,{"$f":"Calculations!CJ67","v":64},{"$f":"Calculations!CK67","v":0},{"$f":"Calculations!CL67","v":0},{"$f":"Calculations!CM67","v":0},{"$f":"Calculations!CN67","v":0},{"$f":"Calculations!CO67","v":0},{"$f":"Calculations!CP67","v":0},{"$f":"Calculations!CQ67","v":0},{"$f":"Calculations!CR67","v":0},{"$f":"Calculations!CS67","v":0},{"$f":"Calculations!CT67","v":0},{"$f":"Calculations!CU67","v":0},0,{"$f":"Calculations!CX67+Calculations!CW67+(Calculations!CV67*Calculator!$G$27/21)","v":0}]
[null,{"$f":"Calculations!CJ68","v":65},{"$f":"Calculations!CK68","v":0},{"$f":"Calculations!CL68","v":0},{"$f":"Calculations!CM68","v":0},{"$f":"Calculations!CN68","v":0},{"$f":"Calculations!CO68","v":0},{"$f":"Calculations!CP68","v":0},{"$f":"Calculations!CQ68","v":0},{"$f":"Calculations!CR68","v":0},{"$f":"Calculations!CS68","v":0},{"$f":"Calculations!CT68","v":0},{"$f":"Calculations!CU68","v":0},{"$f":"K70+L70","v":0},{"$f":"Calculations!CX68+Calculations!CW68+(Calculations!CV68*Calculator!$G$27/21)","v":0}]
[null,{"$f":"Calculations!CJ69","v":66},{"$f":"Calculations!CK69","v":0},{"$f":"Calculations!CL69","v":0},{"$f":"Calculations!CM69","v":0},{"$f":"Calculations!CN69","v":0},{"$f":"Calculations!CO69","v":0},{"$f":"Calculations!CP69","v":0},{"$f":"Calculations!CQ69","v":0},{"$f":"Calculations!CR69","v":0},{"$f":"Calculations!CS69","v":0},{"$f":"Calculations!CT69","v":0},{"$f":"Calculations!CU69","v":0},0,{"$f":"Calculations!CX69+Calculations!CW69+(Calculations!CV69*Calculator!$G$27/21)","v":0}]
[null,{"$f":"Calculations!CJ70","v":67},{"$f":"Calculations!CK70","v":0},{"$f":"Calculations!CL70","v":0},{"$f":"Calculations!CM70","v":0},{"$f":"Calculations!CN70","v":0},{"$f":"Calculations!CO70","v":0},{"$f":"Calculations!CP70","v":0},{"$f":"Calculations!CQ70","v":0},{"$f":"Calculations!CR70","v":0},{"$f":"Calculations!CS70","v":0},{"$f":"Calculations!CT70","v":0},{"$f":"Calculations!CU70","v":0},0,{"$f":"Calculations!CX70+Calculations!CW70+(Calculations!CV70*Calculator!$G$27/21)","v":0}]
[null,{"$f":"Calculations!CJ71","v":68},{"$f":"Calculations!CK71","v":0},{"$f":"Calculations!CL71","v":0},{"$f":"Calculations!CM71","v":0},{"$f":"Calculations!CN71","v":0},{"$f":"Calculations!CO71","v":0},{"$f":"Calculations!CP71","v":0},{"$f":"Calculations!CQ71","v":0},{"$f":"Calculations!CR71","v":0},{"$f":"Calculations!CS71","v":0},{"$f":"Calculations!CT71","v":0},{"$f":"Calculations!CU71","v":0},0,{"$f":"Calculations!CX71+Calculations!CW71+(Calculations!CV71*Calculator!$G$27/21)","v":0}]
[null,{"$f":"Calculations!CJ72","v":69},{"$f":"Calculations!CK72","v":0},{"$f":"Calculations!CL72","v":0},{"$f":"Calculations!CM72","v":0},{"$f":"Calculations!CN72","v":0},{"$f":"Calculations!CO72","v":0},{"$f":"Calculations!CP72","v":0},{"$f":"Calculations!CQ72","v":0},{"$f":"Calculations!CR72","v":0},{"$f":"Calculations!CS72","v":0},{"$f":"Calculations!CT72","v":0},{"$f":"Calculations!CU72","v":0},0,{"$f":"Calculations!CX72+Calculations!CW72+(Calculations!CV72*Calculator!$G$27/21)","v":0}]
[null,{"$f":"Calculations!CJ73","v":70},{"$f":"Calculations!CK73","v":0},{"$f":"Calculations!CL73","v":0},{"$f":"Calculations!CM73","v":0},{"$f":"Calculations!CN73","v":0},{"$f":"Calculations!CO73","v":0},{"$f":"Calculations!CP73","v":0},{"$f":"Calculations!CQ73","v":0},{"$f":"Calculations!CR73","v":0},{"$f":"Calculations!CS73","v":0},{"$f":"Calculations!CT73","v":0},{"$f":"Calculations!CU73","v":0},0,{"$f":"Calculations!CX73+Calculations!CW73+(Calculations!CV73*Calculator!$G$27/21)","v":0}]
[null,{"$f":"Calculations!CJ74","v":71},{"$f":"Calculations!CK74","v":0},{"$f":"Calculations!CL74","v":0},{"$f":"Calculations!CM74","v":0},{"$f":"Calculations!CN74","v":0},{"$f":"Calculations!CO74","v":0},{"$f":"Calculations!CP74","v":0},{"$f":"Calculations!CQ74","v":0},{"$f":"Calculations!CR74","v":0},{"$f":"Calculations!CS74","v":0},{"$f":"Calculations!CT74","v":0},{"$f":"Calculations!CU74","v":0},0,{"$f":"Calculations!CX74+Calculations!CW74+(Calculations!CV74*Calculator!$G$27/21)","v":0}]
[null,{"$f":"Calculations!CJ75","v":72},{"$f":"Calculations!CK75","v":0},{"$f":"Calculations!CL75","v":0},{"$f":"Calculations!CM75","v":0},{"$f":"Calculations!CN75","v":0},{"$f":"Calculations!CO75","v":0},{"$f":"Calculations!CP75","v":0},{"$f":"Calculations!CQ75","v":0},{"$f":"Calculations!CR75","v":0},{"$f":"Calculations!CS75","v":0},{"$f":"Calculations!CT75","v":0},{"$f":"Calculations!CU75","v":0},0,{"$f":"Calculations!CX75+Calculations!CW75+(Calculations!CV75*Calculator!$G$27/21)","v":0}]
[null,{"$f":"Calculations!CJ76","v":73},{"$f":"Calculations!CK76","v":0},{"$f":"Calculations!CL76","v":0},{"$f":"Calculations!CM76","v":0},{"$f":"Calculations!CN76","v":0},{"$f":"Calculations!CO76","v":0},{"$f":"Calculations!CP76","v":0},{"$f":"Calculations!CQ76","v":0},{"$f":"Calculations!CR76","v":0},{"$f":"Calculations!CS76","v":0},{"$f":"Calculations!CT76","v":0},{"$f":"Calculations!CU76","v":0},0,{"$f":"Calculations!CX76+Calculations!CW76+(Calculations!CV76*Calculator!$G$27/21)","v":0}]
[null,{"$f":"Calculations!CJ77","v":74},{"$f":"Calculations!CK77","v":0},{"$f":"Calculations!CL77","v":0},{"$f":"Calculations!CM77","v":0},{"$f":"Calculations!CN77","v":0},{"$f":"Calculations!CO77","v":0},{"$f":"Calculations!CP77","v":0},{"$f":"Calculations!CQ77","v":0},{"$f":"Calculations!CR77","v":0},{"$f":"Calculations!CS77","v":0},{"$f":"Calculations!CT77","v":0},{"$f":"Calculations!CU77","v":0},0,{"$f":"Calculations!CX77+Calculations!CW77+(Calculations!CV77*Calculator!$G$27/21)","v":0}]
[null,{"$f":"Calculations!CJ78","v":75},{"$f":"Calculations!CK78","v":0},{"$f":"Calculations!CL78","v":0},{"$f":"Calculations!CM78","v":0},{"$f":"Calculations!CN78","v":0},{"$f":"Calculations!CO78","v":0},{"$f":"Calculations!CP78","v":0},{"$f":"Calculations!CQ78","v":0},{"$f":"Calculations!CR78","v":0},{"$f":"Calculations!CS78","v":0},{"$f":"Calculations!CT78","v":0},{"$f":"Calculations!CU78","v":0},0,{"$f":"Calculations!CX78+Calculations!CW78+(Calculations!CV78*Calculator!$G$27/21)","v":0}]
[null,{"$f":"Calculations!CJ79","v":76},{"$f":"Calculations!CK79","v":0},{"$f":"Calculations!CL79","v":0},{"$f":"Calculations!CM79","v":0},{"$f":"Calculations!CN79","v":0},{"$f":"Calculations!CO79","v":0},{"$f":"Calculations!CP79","v":0},{"$f":"Calculations!CQ79","v":0},{"$f":"Calculations!CR79","v":0},{"$f":"Calculations!CS79","v":0},{"$f":"Calculations!CT79","v":0},{"$f":"Calculations!CU79","v":0},0,{"$f":"Calculations!CX79+Calculations!CW79+(Calculations!CV79*Calculator!$G$27/21)","v":0}]
[null,{"$f":"Calculations!CJ80","v":77},{"$f":"Calculations!CK80","v":0},{"$f":"Calculations!CL80","v":0},{"$f":"Calculations!CM80","v":0},{"$f":"Calculations!CN80","v":0},{"$f":"Calculations!CO80","v":0},{"$f":"Calculations!CP80","v":0},{"$f":"Calculations!CQ80","v":0},{"$f":"Calculations!CR80","v":0},{"$f":"Calculations!CS80","v":0},{"$f":"Calculations!CT80","v":0},{"$f":"Calculations!CU80","v":0},0,{"$f":"Calculations!CX80+Calculations!CW80+(Calculations!CV80*Calculator!$G$27/21)","v":0}]
[null,{"$f":"Calculations!CJ81","v":78},{"$f":"Calculations!CK81","v":0},{"$f":"Calculations!CL81","v":0},{"$f":"Calculations!CM81","v":0},{"$f":"Calculations!CN81","v":0},{"$f":"Calculations!CO81","v":0},{"$f":"Calculations!CP81","v":0},{"$f":"Calculations!CQ81","v":0},{"$f":"Calculations!CR81","v":0},{"$f":"Calculations!CS81","v":0},{"$f":"Calculations!CT81","v":0},{"$f":"Calculations!CU81","v":0},0,{"$f":"Calculations!CX81+Calculations!CW81+(Calculations!CV81*Calculator!$G$27/21)","v":0}]
[null,{"$f":"Calculations!CJ82","v":79},{"$f":"Calculations!CK82","v":0},{"$f":"Calculations!CL82","v":0},{"$f":"Calculations!CM82","v":0},{"$f":"Calculations!CN82","v":0},{"$f":"Calculations!CO82","v":0},{"$f":"Calculations!CP82","v":0},{"$f":"Calculations!CQ82","v":0},{"$f":"Calculations!CR82","v":0},{"$f":"Calculations!CS82","v":0},{"$f":"Calculations!CT82","v":0},{"$f":"Calculations!CU82","v":0},0,{"$f":"Calculations!CX82+Calculations!CW82+(Calculations!CV82*Calculator!$G$27/21)","v":0}]
[null,{"$f":"Calculations!CJ83","v":80},{"$f":"Calculations!CK83","v":0},{"$f":"Calculations!CL83","v":0},{"$f":"Calculations!CM83","v":0},{"$f":"Calculations!CN83","v":0},{"$f":"Calculations!CO83","v":0},{"$f":"Calculations!CP83","v":0},{"$f":"Calculations!CQ83","v":0},{"$f":"Calculations!CR83","v":0},{"$f":"Calculations!CS83","v":0},{"$f":"Calculations!CT83","v":0},{"$f":"Calculations!CU83","v":0},0,{"$f":"Calculations!CX83+Calculations!CW83+(Calculations!CV83*Calculator!$G$27/21)","v":0}]
[null,{"$f":"Calculations!CJ84","v":81},{"$f":"Calculations!CK84","v":0},{"$f":"Calculations!CL84","v":0},{"$f":"Calculations!CM84","v":0},{"$f":"Calculations!CN84","v":0},{"$f":"Calculations!CO84","v":0},{"$f":"Calculations!CP84","v":0},{"$f":"Calculations!CQ84","v":0},{"$f":"Calculations!CR84","v":0},{"$f":"Calculations!CS84","v":0},{"$f":"Calculations!CT84","v":0},{"$f":"Calculations!CU84","v":0},0,{"$f":"Calculations!CX84+Calculations!CW84+(Calculations!CV84*Calculator!$G$27/21)","v":0}]
[null,{"$f":"Calculations!CJ85","v":82},{"$f":"Calculations!CK85","v":0},{"$f":"Calculations!CL85","v":0},{"$f":"Calculations!CM85","v":0},{"$f":"Calculations!CN85","v":0},{"$f":"Calculations!CO85","v":0},{"$f":"Calculations!CP85","v":0},{"$f":"Calculations!CQ85","v":0},{"$f":"Calculations!CR85","v":0},{"$f":"Calculations!CS85","v":0},{"$f":"Calculations!CT85","v":0},{"$f":"Calculations!CU85","v":0},0,{"$f":"Calculations!CX85+Calculations!CW85+(Calculations!CV85*Calculator!$G$27/21)","v":0}]
[null,{"$f":"Calculations!CJ86","v":83},{"$f":"Calculations!CK86","v":0},{"$f":"Calculations!CL86","v":0},{"$f":"Calculations!CM86","v":0},{"$f":"Calculations!CN86","v":0},{"$f":"Calculations!CO86","v":0},{"$f":"Calculations!CP86","v":0},{"$f":"Calculations!CQ86","v":0},{"$f":"Calculations!CR86","v":0},{"$f":"Calculations!CS86","v":0},{"$f":"Calculations!CT86","v":0},{"$f":"Calculations!CU86","v":0},0,{"$f":"Calculations!CX86+Calculations!CW86+(Calculations!CV86*Calculator!$G$27/21)","v":0}]
[null,{"$f":"Calculations!CJ87","v":84},{"$f":"Calculations!CK87","v":0},{"$f":"Calculations!CL87","v":0},{"$f":"Calculations!CM87","v":0},{"$f":"Calculations!CN87","v":0},{"$f":"Calculations!CO87","v":0},{"$f":"Calculations!CP87","v":0},{"$f":"Calculations!CQ87","v":0},{"$f":"Calculations!CR87","v":0},{"$f":"Calculations!CS87","v":0},{"$f":"Calculations!CT87","v":0},{"$f":"Calculations!CU87","v":0},0,{"$f":"Calculations!CX87+Calculations!CW87+(Calculations!CV87*Calculator!$G$27/21)","v":0}]
[null,{"$f":"Calculations!CJ88","v":85},{"$f":"Calculations!CK88","v":0},{"$f":"Calculations!CL88","v":0},{"$f":"Calculations!CM88","v":0},{"$f":"Calculations!CN88","v":0},{"$f":"Calculations!CO88","v":0},{"$f":"Calculations!CP88","v":0},{"$f":"Calculations!CQ88","v":0},{"$f":"Calculations!CR88","v":0},{"$f":"Calculations!CS88","v":0},{"$f":"Calculations!CT88","v":0},{"$f":"Calculations!CU88","v":0},0,{"$f":"Calculations!CX88+Calculations!CW88+(Calculations!CV88*Calculator!$G$27/21)","v":0}]
[null,{"$f":"Calculations!CJ89","v":86},{"$f":"Calculations!CK89","v":0},{"$f":"Calculations!CL89","v":0},{"$f":"Calculations!CM89","v":0},{"$f":"Calculations!CN89","v":0},{"$f":"Calculations!CO89","v":0},{"$f":"Calculations!CP89","v":0},{"$f":"Calculations!CQ89","v":0},{"$f":"Calculations!CR89","v":0},{"$f":"Calculations!CS89","v":0},{"$f":"Calculations!CT89","v":0},{"$f":"Calculations!CU89","v":0},0,{"$f":"Calculations!CX89+Calculations!CW89+(Calculations!CV89*Calculator!$G$27/21)","v":0}]
[null,{"$f":"Calculations!CJ90","v":87},{"$f":"Calculations!CK90","v":0},{"$f":"Calculations!CL90","v":0},{"$f":"Calculations!CM90","v":0},{"$f":"Calculations!CN90","v":0},{"$f":"Calculations!CO90","v":0},{"$f":"Calculations!CP90","v":0},{"$f":"Calculations!CQ90","v":0},{"$f":"Calculations!CR90","v":0},{"$f":"Calculations!CS90","v":0},{"$f":"Calculations!CT90","v":0},{"$f":"Calculations!CU90","v":0},0,{"$f":"Calculations!CX90+Calculations!CW90+(Calculations!CV90*Calculator!$G$27/21)","v":0}]
[null,{"$f":"Calculations!CJ91","v":88},{"$f":"Calculations!CK91","v":0},{"$f":"Calculations!CL91","v":0},{"$f":"Calculations!CM91","v":0},{"$f":"Calculations!CN91","v":0},{"$f":"Calculations!CO91","v":0},{"$f":"Calculations!CP91","v":0},{"$f":"Calculations!CQ91","v":0},{"$f":"Calculations!CR91","v":0},{"$f":"Calculations!CS91","v":0},{"$f":"Calculations!CT91","v":0},{"$f":"Calculations!CU91","v":0},0,{"$f":"Calculations!CX91+Calculations!CW91+(Calculations!CV91*Calculator!$G$27/21)","v":0}]
[null,{"$f":"Calculations!CJ92","v":89},{"$f":"Calculations!CK92","v":0},{"$f":"Calculations!CL92","v":0},{"$f":"Calculations!CM92","v":0},{"$f":"Calculations!CN92","v":0},{"$f":"Calculations!CO92","v":0},{"$f":"Calculations!CP92","v":0},{"$f":"Calculations!CQ92","v":0},{"$f":"Calculations!CR92","v":0},{"$f":"Calculations!CS92","v":0},{"$f":"Calculations!CT92","v":0},{"$f":"Calculations!CU92","v":0},0,{"$f":"Calculations!CX92+Calculations!CW92+(Calculations!CV92*Calculator!$G$27/21)","v":0}]
[null,{"$f":"Calculations!CJ93","v":90},{"$f":"Calculations!CK93","v":0},{"$f":"Calculations!CL93","v":0},{"$f":"Calculations!CM93","v":0},{"$f":"Calculations!CN93","v":0},{"$f":"Calculations!CO93","v":0},{"$f":"Calculations!CP93","v":0},{"$f":"Calculations!CQ93","v":0},{"$f":"Calculations!CR93","v":0},{"$f":"Calculations!CS93","v":0},{"$f":"Calculations!CT93","v":0},{"$f":"Calculations!CU93","v":0},0,{"$f":"Calculations!CX93+Calculations!CW93+(Calculations!CV93*Calculator!$G$27/21)","v":0}]
[null,{"$f":"Calculations!CJ94","v":91},{"$f":"Calculations!CK94","v":0},{"$f":"Calculations!CL94","v":0},{"$f":"Calculations!CM94","v":0},{"$f":"Calculations!CN94","v":0},{"$f":"Calculations!CO94","v":0},{"$f":"Calculations!CP94","v":0},{"$f":"Calculations!CQ94","v":0},{"$f":"Calculations!CR94","v":0},{"$f":"Calculations!CS94","v":0},{"$f":"Calculations!CT94","v":0},{"$f":"Calculations!CU94","v":0},0,{"$f":"Calculations!CX94+Calculations!CW94+(Calculations!CV94*Calculator!$G$27/21)","v":0}]
[null,{"$f":"Calculations!CJ95","v":92},{"$f":"Calculations!CK95","v":0},{"$f":"Calculations!CL95","v":0},{"$f":"Calculations!CM95","v":0},{"$f":"Calculations!CN95","v":0},{"$f":"Calculations!CO95","v":0},{"$f":"Calculations!CP95","v":0},{"$f":"Calculations!CQ95","v":0},{"$f":"Calculations!CR95","v":0},{"$f":"Calculations!CS95","v":0},{"$f":"Calculations!CT95","v":0},{"$f":"Calculations!CU95","v":0},0,{"$f":"Calculations!CX95+Calculations!CW95+(Calculations!CV95*Calculator!$G$27/21)","v":0}]
[null,{"$f":"Calculations!CJ96","v":93},{"$f":"Calculations!CK96","v":0},{"$f":"Calculations!CL96","v":0},{"$f":"Calculations!CM96","v":0},{"$f":"Calculations!CN96","v":0},{"$f":"Calculations!CO96","v":0},{"$f":"Calculations!CP96","v":0},{"$f":"Calculations!CQ96","v":0},{"$f":"Calculations!CR96","v":0},{"$f":"Calculations!CS96","v":0},{"$f":"Calculations!CT96","v":0},{"$f":"Calculations!CU96","v":0},0,{"$f":"Calculations!CX96+Calculations!CW96+(Calculations!CV96*Calculator!$G$27/21)","v":0}]
[null,{"$f":"Calculations!CJ97","v":94},{"$f":"Calculations!CK97","v":0},{"$f":"Calculations!CL97","v":0},{"$f":"Calculations!CM97","v":0},{"$f":"Calculations!CN97","v":0},{"$f":"Calculations!CO97","v":0},{"$f":"Calculations!CP97","v":0},{"$f":"Calculations!CQ97","v":0},{"$f":"Calculations!CR97","v":0},{"$f":"Calculations!CS97","v":0},{"$f":"Calculations!CT97","v":0},{"$f":"Calculations!CU97","v":0},0,{"$f":"Calculations!CX97+Calculations!CW97+(Calculations!CV97*Calculator!$G$27/21)","v":0}]
[null,{"$f":"Calculations!CJ98","v":95},{"$f":"Calculations!CK98","v":0},{"$f":"Calculations!CL98","v":0},{"$f":"Calculations!CM98","v":0},{"$f":"Calculations!CN98","v":0},{"$f":"Calculations!CO98","v":0},{"$f":"Calculations!CP98","v":0},{"$f":"Calculations!CQ98","v":0},{"$f":"Calculations!CR98","v":0},{"$f":"Calculations!CS98","v":0},{"$f":"Calculations!CT98","v":0},{"$f":"Calculations!CU98","v":0},0,{"$f":"Calculations!CX98+Calculations!CW98+(Calculations!CV98*Calculator!$G$27/21)","v":0}]
[null,{"$f":"Calculations!CJ99","v":96},{"$f":"Calculations!CK99","v":0},{"$f":"Calculations!CL99","v":0},{"$f":"Calculations!CM99","v":0},{"$f":"Calculations!CN99","v":0},{"$f":"Calculations!CO99","v":0},{"$f":"Calculations!CP99","v":0},{"$f":"Calculations!CQ99","v":0},{"$f":"Calculations!CR99","v":0},{"$f":"Calculations!CS99","v":0},{"$f":"Calculations!CT99","v":0},{"$f":"Calculations!CU99","v":0},0,{"$f":"Calculations!CX99+Calculations!CW99+(Calculations!CV99*Calculator!$G$27/21)","v":0}]
[null,{"$f":"Calculations!CJ100","v":97},{"$f":"Calculations!CK100","v":0},{"$f":"Calculations!CL100","v":0},{"$f":"Calculations!CM100","v":0},{"$f":"Calculations!CN100","v":0},{"$f":"Calculations!CO100","v":0},{"$f":"Calculations!CP100","v":0},{"$f":"Calculations!CQ100","v":0},{"$f":"Calculations!CR100","v":0},{"$f":"Calculations!CS100","v":0},{"$f":"Calculations!CT100","v":0},{"$f":"Calculations!CU100","v":0},0,{"$f":"Calculations!CX100+Calculations!CW100+(Calculations!CV100*Calculator!$G$27/21)","v":0}]
[null,{"$f":"Calculations!CJ101","v":98},{"$f":"Calculations!CK101","v":0},{"$f":"Calculations!CL101","v":0},{"$f":"Calculations!CM101","v":0},{"$f":"Calculations!CN101","v":0},{"$f":"Calculations!CO101","v":0},{"$f":"Calculations!CP101","v":0},{"$f":"Calculations!CQ101","v":0},{"$f":"Calculations!CR101","v":0},{"$f":"Calculations!CS101","v":0},{"$f":"Calculations!CT101","v":0},{"$f":"Calculations!CU101","v":0},0,{"$f":"Calculations!CX101+Calculations!CW101+(Calculations!CV101*Calculator!$G$27/21)","v":0}]
[null,{"$f":"Calculations!CJ102","v":99},{"$f":"Calculations!CK102","v":0},{"$f":"Calculations!CL102","v":0},{"$f":"Calculations!CM102","v":0},{"$f":"Calculations!CN102","v":0},{"$f":"Calculations!CO102","v":0},{"$f":"Calculations!CP102","v":0},{"$f":"Calculations!CQ102","v":0},{"$f":"Calculations!CR102","v":0},{"$f":"Calculations!CS102","v":0},{"$f":"Calculations!CT102","v":0},{"$f":"Calculations!CU102","v":0},0,{"$f":"Calculations!CX102+Calculations!CW102+(Calculations!CV102*Calculator!$G$27/21)","v":0}]
[null,{"$f":"Calculations!CJ103","v":100},{"$f":"Calculations!CK103","v":0},{"$f":"Calculations!CL103","v":0},{"$f":"Calculations!CM103","v":0},{"$f":"Calculations!CN103","v":0},{"$f":"Calculations!CO103","v":0},{"$f":"Calculations!CP103","v":0},{"$f":"Calculations!CQ103","v":0},{"$f":"Calculations!CR103","v":0},{"$f":"Calculations!CS103","v":0},{"$f":"Calculations!CT103","v":0},{"$f":"Calculations!CU103","v":0},0,{"$f":"Calculations!CX103+Calculations!CW103+(Calculations!CV103*Calculator!$G$27/21)","v":0}]

{"sheet":"Life Cycle","index":3,"n_rows":20,"n_cols":7,"rows_kept":20,"cut":false,"hidden":false,"merged":[[1,0,1,4],[12,0,12,4],[16,0,16,4]]}
[{"$f":"IF(Calculator!$D$8 =0, \"Project Identifier\", Calculator!$D$8)","v":"Project Identifier"}]
["Product Carbon Footprint Including Fossil Fuel Use ",null,null,null,null,"tonnes of CO2e"]
[null,null,null,null,"Fossil fuel emissions from harvesting and manufacturing at year 0",{"$f":"Calculations!CY4","v":0},"Positive values indicate emissions"]
[null,null,null,null,"Carbon storage in products credit at year 0",{"$f":"-Calculations!CL2","v":0},"Negative values indicate storage"]
[]
[null,null,null,null,"Product carbon dioxide emissions from end-of-life at year 100",{"$f":"Calculations!CW103","v":0}]
[null,null,null,null,"Product methane emissions from end of life at year 100",{"$f":"Calculations!CV103*Calculator!G27/21","v":0}]
[null,null,null,null,"Product greenhouse gas emissions from end of life at year 100",{"$f":"F6+F7","v":0}]
[]
[null,null,null,null,"Product carbon footprint at year 100 (yr 0 storage minus emissions)",{"$f":"F3+F4+F8","v":0}]
[]
[]
["Carbon benefit of wood replacing plastic, concrete etc.",null,null,null,null,"tonnes of CO2e"]
[null,null,null,null,"Minimum",{"$f":"-Calculator!F33*'Lookup Tables'!D67","v":0}]
[null,null,null,null,"Middle estimate",{"$f":"-Calculator!F33*'Lookup Tables'!D68","v":0}]
[null,null,null,null,"Maximum ",{"$f":"-Calculator!F33*'Lookup Tables'!D69","v":0}]
["Carbon benefit if mill waste (sawdust etc.) burned with energy recovery "]
[null,null,null,null," instead of using coal ",{"$f":"-(Calculator!F32-Calculator!F33)*'Lookup Tables'!E72","v":0}]
[null,null,null,null,"instead of using oil",{"$f":"-(Calculator!F32-Calculator!F33)*'Lookup Tables'!E73","v":0}]
[null,null,null,null,"instead of using natural gas",{"$f":"-(Calculator!F32-Calculator!F33)*'Lookup Tables'!E74","v":0}]

{"sheet":"Calculations","index":4,"n_rows":109,"n_cols":107,"rows_kept":109,"cut":false,"hidden":true,"merged":[]}
[]
[null,"Roundwood","Products",{"$f":"IFERROR(IF(Calculator!D17=\"tC\",Calculator!D23,(Calculator!D23*VLOOKUP(Calculator!D19,'Lookup Tables'!B6:C8,2,FALSE)*VLOOKUP(Calculator!D17,'Lookup Tables'!D7:E8,2,FALSE)))*44/12*(1-0.339763655553752),0)","v":0},"tCO2eq","Roundwood",{"$f":"D2/(1-0.339763655553752)","v":0},"tCO2eq",null,null,null,null,null,null,null,null,null,null,"Lumber","Product",{"$f":"IFERROR(IF(Calculator!E17=\"tC\",Calculator!E23,(Calculator!E23*VLOOKUP(Calculator!E19,'Lookup Tables'!B10:C12,2,FALSE)*VLOOKUP(Calculator!E17,'Lookup Tables'!D11:E12,2,FALSE)))*44/12,0)","v":0},"tCO2eq","Roundwood",{"$f":"U2*(1+'Lookup Tables'!AL4)","v":0},"tCO2eq",null,null,null,null,null,null,null,null,null,null,"Plywood","Product",{"$f":"IFERROR(IF(Calculator!F17=\"tC\",Calculator!F23,Calculator!F23*'Lookup Tables'!C14*VLOOKUP(Calculator!F21,'Lookup Tables'!D26:E44,2,FALSE)*VLOOKUP(Calculator!F17,'Lookup Tables'!D15:E16,2,FALSE))*44/12,0)","v":0},"tCO2eq","Roundwood",{"$f":"AL2*(1+'Lookup Tables'!BC4)","v":0},"tCO2eq",null,null,null,null,null,null,null,null,null,null,"OSB","Product",{"$f":"IFERROR(IF(Calculator!G17=\"tC\",Calculator!G23,Calculator!G23*'Lookup Tables'!C18*VLOOKUP(Calculator!G21,'Lookup Tables'!D26:E44,2,FALSE)*VLOOKUP(Calculator!G17,'Lookup Tables'!D19:E20,2,FALSE))*44/12,0)","v":0},"tCO2eq","Roundwood",{"$f":"BC2*(1+'Lookup Tables'!BT4)","v":0},"tCO2eq",null,null,null,null,null,null,null,null,null,null,"MDF","Product",{"$f":"IFERROR(IF(Calculator!H17=\"tC\",Calculator!H23,Calculator!H23*'Lookup Tables'!C22*VLOOKUP(Calculator!H21,'Lookup Tables'!D26:E44,2,FALSE)*VLOOKUP(Calculator!H17,'Lookup Tables'!D23:E24,2,FALSE))*44/12,0)","v":0},"tCO2eq","Roundwood",{"$f":"BT2*(1+'Lookup Tables'!CK4)","v":0},"tCO2eq",null,null,null,null,null,null,null,null,null,null,null,"Total","Initial Carbon",{"$f":"SUM(D2,U2,AL2,BC2,BT2)","v":0},"tCO2eq","Roundwood",{"$f":"SUM(G2,X2,AO2,BF2,BW2)","v":0},"tCO2eq"]
[null,{"$f":"'Lookup Tables'!G3","v":"Year No."},{"$f":"'Lookup Tables'!H3","v":"Single Family Homes"},{"$f":"'Lookup Tables'!I3","v":"Multi-Family Homes"},{"$f":"'Lookup Tables'!J3","v":"Commercial Buildings"},{"$f":"'Lookup Tables'!K3","v":"Manuf. Prod.s (furniture etc)"},{"$f":"'Lookup Tables'!L3","v":"Paper"},{"$f":"'Lookup Tables'!M3","v":"Shipping"},{"$f":"'Lookup Tables'!N3","v":"Repairs"},{"$f":"'Lookup Tables'!O3","v":"Other"},{"$f":"'Lookup Tables'!P3","v":"CO2e Storage in Products (exclude landfills)"},{"$f":"'Lookup Tables'!Q3","v":"CO2e Storage In Landfills and Dumps"},{"$f":"'Lookup Tables'!R3","v":"CO2e Emissions from Landfill and Dumps"},{"$f":"'Lookup Tables'!S3","v":"CH4 (CO2e) Emissions from Landfills and Dumps"},{"$f":"'Lookup Tables'!T3","v":"CO2 Emissions from Landfills and Dumps"},{"$f":"'Lookup Tables'!U3","v":"Biogenic Manufacturing Emissions"},{"$f":"'Lookup Tables'!V3","v":"Cradle-to-Gate Fossil Emissions (CO2e)"},null,{"$f":"'Lookup Tables'!X3","v":"Year No."},{"$f":"'Lookup Tables'!Y3","v":"Single Family Homes"},{"$f":"'Lookup Tables'!Z3","v":"Multi-Family Homes"},{"$f":"'Lookup Tables'!AA3","v":"Commercial Buildings"},{"$f":"'Lookup Tables'!AB3","v":"Manuf. Prod.s (furniture etc)"},{"$f":"'Lookup Tables'!AC3","v":"Paper"},{"$f":"'Lookup Tables'!AD3","v":"Shipping"},{"$f":"'Lookup Tables'!AE3","v":"Repairs"},{"$f":"'Lookup Tables'!AF3","v":"Other"},{"$f":"'Lookup Tables'!AG3","v":"CO2e Retention Excl Landfills and Dumps"},{"$f":"'Lookup Tables'!AH3","v":"CO2e Retention In Landfills and Dumps"},{"$f":"'Lookup Tables'!AI3","v":"CO2e Emissions from Landfill and Dumps"},{"$f":"'Lookup Tables'!AJ3","v":"CH4 (CO2e) Emissions from Landfills and Dumps"},{"$f":"'Lookup Tables'!AK3","v":"CO2 Emissions from Landfills and Dumps"},{"$f":"'Lookup Tables'!AL3","v":"Biogenic Manufacturing Emissions"},{"$f":"'Lookup Tables'!AM3","v":"Cradle-to-Gate Fossil Emissions"},null,"Year No.",{"$f":"'Lookup Tables'!AP3","v":"Single Family Homes"},{"$f":"'Lookup Tables'!AQ3","v":"Multi-Family Homes"},{"$f":"'Lookup Tables'!AR3","v":"Commercial Buildings"},{"$f":"'Lookup Tables'!AS3","v":"Manuf. Prod.s (furniture etc)"},{"$f":"'Lookup Tables'!AT3","v":"Paper"},{"$f":"'Lookup Tables'!AU3","v":"Shipping"},{"$f":"'Lookup Tables'!AV3","v":"Repairs"},{"$f":"'Lookup Tables'!AW3","v":"Other"},{"$f":"'Lookup Tables'!AX3","v":"CO2e Retention Excl Landfills and Dumps"},{"$f":"'Lookup Tables'!AY3","v":"CO2e Retention In Landfills and Dumps"},{"$f":"'Lookup Tables'!AZ3","v":"CO2e Emissions from Landfill and Dumps"},{"$f":"'Lookup Tables'!BA3","v":"CH4 (CO2e) Emissions from Landfills and Dumps"},{"$f":"'Lookup Tables'!BB3","v":"CO2 Emissions from Landfills and Dumps"},{"$f":"'Lookup Tables'!BC3","v":"Biogenic Manufacturing Emissions"},{"$f":"'Lookup Tables'!BD3","v":"Cradle-to-Gate Fossil Emissions"},null,"Year No.",{"$f":"'Lookup Tables'!BG3","v":"Single Family Homes"},{"$f":"'Lookup Tables'!BH3","v":"Multi-Family Homes"},{"$f":"'Lookup Tables'!BI3","v":"Commercial Buildings"},{"$f":"'Lookup Tables'!BJ3","v":"Manuf. Prod.s (furniture etc)"},{"$f":"'Lookup Tables'!BK3","v":"Paper"},{"$f":"'Lookup Tables'!BL3","v":"Shipping"},{"$f":"'Lookup Tables'!BM3","v":"Repairs"},{"$f":"'Lookup Tables'!BN3","v":"Other"},{"$f":"'Lookup Tables'!BO3","v":"CO2e Retention Excl Landfills and Dumps"},{"$f":"'Lookup Tables'!BP3","v":"CO2e Retention In Landfills and Dumps"},{"$f":"'Lookup Tables'!BQ3","v":"CO2e Emissions from Landfill and Dumps"},{"$f":"'Lookup Tables'!BR3","v":"CH4 (CO2e) Emissions from Landfills and Dumps"},{"$f":"'Lookup Tables'!BS3","v":"CO2 Emissions from Landfills and Dumps"},{"$f":"'Lookup Tables'!BT3","v":"Biogenic Manufacturing Emissions"},{"$f":"'Lookup Tables'!BU3","v":"Cradle-to-Gate Fossil Emissions"},null,"Year No.",{"$f":"'Lookup Tables'!BX3","v":"Single Family Homes"},{"$f":"'Lookup Tables'!BY3","v":"Multi-Family Homes"},{"$f":"'Lookup Tables'!BZ3","v":"Commercial Buildings"},{"$f":"'Lookup Tables'!CA3","v":"Manuf. Prod.s (furniture etc)"},{"$f":"'Lookup Tables'!CB3","v":"Paper"},{"$f":"'Lookup Tables'!CC3","v":"Shipping"},{"$f":"'Lookup Tables'!CD3","v":"Repairs"},{"$f":"'Lookup Tables'!CE3","v":"Other"},{"$f":"'Lookup Tables'!CF3","v":"CO2e Retention Excl Landfills and Dumps"},{"$f":"'Lookup Tables'!CG3","v":"CO2e Retention In Landfills and Dumps"},{"$f":"'Lookup Tables'!CH3","v":"CO2e Emissions from Landfill and Dumps"},{"$f":"'Lookup Tables'!CI3","v":"CH4 (CO2e) Emissions from Landfills and Dumps"},{"$f":"'Lookup Tables'!CJ3","v":"CO2 Emissions from Landfills and Dumps"},{"$f":"'Lookup Tables'!CK3","v":"Biogenic Manufacturing Emissions"},{"$f":"'Lookup Tables'!CL3","v":"Cradle-to-Gate Fossil Emissions"},null,null,"Year No.",{"$f":"C3","v":"Single Family Homes"},"Multi-Family Homes","Commercial Buildings","Manuf. Prod.s (furniture etc)","Paper","Shipping","Repairs","Other","CO2e Storage in Products (exclude landfills)","CO2e Storage In Landfills and Dumps","CO2e Emissions from Landfill and Dumps","CH4 (CO2e) Emissions from Landfills and Dumps","CO2 Emissions from Landfills and Dumps","Biogenic Manufacturing Emissions","Cradle-to-Gate Fossil Emissions (CO2e)",null,"Landfill Methane Emissions Rescaled for Different GWP"]
[null,1,{"$f":"$D$2*'Lookup Tables'!H4","v":0},{"$f":"$D$2*'Lookup Tables'!I4","v":0},{"$f":"$D$2*'Lookup Tables'!J4","v":0},{"$f":"$D$2*'Lookup Tables'!K4","v":0},{"$f":"$D$2*'Lookup Tables'!L4","v":0},{"$f":"$D$2*'Lookup Tables'!M4","v":0},{"$f":"$D$2*'Lookup Tables'!N4","v":0},{"$f":"$D$2*'Lookup Tables'!O4","v":0},{"$f":"$D$2*'Lookup Tables'!P4","v":0},{"$f":"$D$2*'Lookup Tables'!Q4","v":0},{"$f":"$D$2*'Lookup Tables'!R4","v":0},{"$f":"$D$2*'Lookup Tables'!S4","v":0},{"$f":"$D$2*'Lookup Tables'!T4","v":0},{"$f":"$D$2*'Lookup Tables'!U4","v":0},{"$f":"$D$2*'Lookup Tables'!V4","v":0},null,1,{"$f":"$U$2*'Lookup Tables'!Y4","v":0},{"$f":"$U$2*'Lookup Tables'!Z4","v":0},{"$f":"$U$2*'Lookup Tables'!AA4","v":0},{"$f":"$U$2*'Lookup Tables'!AB4","v":0},{"$f":"$U$2*'Lookup Tables'!AC4","v":0},{"$f":"$U$2*'Lookup Tables'!AD4","v":0},{"$f":"$U$2*'Lookup Tables'!AE4","v":0},{"$f":"$U$2*'Lookup Tables'!AF4","v":0},{"$f":"$U$2*'Lookup Tables'!AG4","v":0},{"$f":"$U$2*'Lookup Tables'!AH4","v":0},{"$f":"$U$2*'Lookup Tables'!AI4","v":0},{"$f":"$U$2*'Lookup Tables'!AJ4","v":0},{"$f":"$U$2*'Lookup Tables'!AK4","v":0},{"$f":"$U$2*'Lookup Tables'!AL4","v":0},{"$f":"$U$2*'Lookup Tables'!AM4","v":0},null,1,{"$f":"$AL$2*'Lookup Tables'!AP4","v":0},{"$f":"$AL$2*'Lookup Tables'!AQ4","v":0},{"$f":"$AL$2*'Lookup Tables'!AR4","v":0},{"$f":"$AL$2*'Lookup Tables'!AS4","v":0},{"$f":"$AL$2*'Lookup Tables'!AT4","v":0},{"$f":"$AL$2*'Lookup Tables'!AU4","v":0},{"$f":"$AL$2*'Lookup Tables'!AV4","v":0},{"$f":"$AL$2*'Lookup Tables'!AW4","v":0},{"$f":"$AL$2*'Lookup Tables'!AX4","v":0},{"$f":"$AL$2*'Lookup Tables'!AY4","v":0},{"$f":"$AL$2*'Lookup Tables'!AZ4","v":0},{"$f":"$AL$2*'Lookup Tables'!BA4","v":0},{"$f":"$AL$2*'Lookup Tables'!BB4","v":0},{"$f":"$AL$2*'Lookup Tables'!BC4","v":0},{"$f":"$AL$2*'Lookup Tables'!BD4","v":0},null,1,{"$f":"$BC$2*'Lookup Tables'!BG4","v":0},{"$f":"$BC$2*'Lookup Tables'!BH4","v":0},{"$f":"$BC$2*'Lookup Tables'!BI4","v":0},{"$f":"$BC$2*'Lookup Tables'!BJ4","v":0},{"$f":"$BC$2*'Lookup Tables'!BK4","v":0},{"$f":"$BC$2*'Lookup Tables'!BL4","v":0},{"$f":"$BC$2*'Lookup Tables'!BM4","v":0},{"$f":"$BC$2*'Lookup Tables'!BN4","v":0},{"$f":"$BC$2*'Lookup Tables'!BO4","v":0},{"$f":"$BC$2*'Lookup Tables'!BP4","v":0},{"$f":"$BC$2*'Lookup Tables'!BQ4","v":0},{"$f":"$BC$2*'Lookup Tables'!BR4","v":0},{"$f":"$BC$2*'Lookup Tables'!BS4","v":0},{"$f":"$BC$2*'Lookup Tables'!BT4","v":0},{"$f":"$BC$2*'Lookup Tables'!BU4","v":0},null,1,{"$f":"$BT$2*'Lookup Tables'!BX4","v":0},{"$f":"$BT$2*'Lookup Tables'!BY4","v":0},{"$f":"$BT$2*'Lookup Tables'!BZ4","v":0},{"$f":"$BT$2*'Lookup Tables'!CA4","v":0},{"$f":"$BT$2*'Lookup Tables'!CB4","v":0},{"$f":"$BT$2*'Lookup Tables'!CC4","v":0},{"$f":"$BT$2*'Lookup Tables'!CD4","v":0},{"$f":"$BT$2*'Lookup Tables'!CE4","v":0},{"$f":"$BT$2*'Lookup Tables'!CF4","v":0},{"$f":"$BT$2*'Lookup Tables'!CG4","v":0},{"$f":"$BT$2*'Lookup Tables'!CH4","v":0},{"$f":"$BT$2*'Lookup Tables'!CI4","v":0},{"$f":"$BT$2*'Lookup Tables'!CJ4","v":0},{"$f":"$BT$2*'Lookup Tables'!CK4","v":0},{"$f":"$BT$2*'Lookup Tables'!CL4","v":0},null,null,1,{"$f":"SUM(C4,T4,AK4,BB4,BS4)","v":0},0,{"$f":"SUM(E4,V4,AM4,BD4,BU4)","v":0},{"$f":"SUM(F4,W4,AN4,BE4,BV4)","v":0},{"$f":"SUM(G4,X4,AO4,BF4,BW4)","v":0},{"$f":"SUM(H4,Y4,AP4,BG4,BX4)","v":0},{"$f":"SUM(I4,Z4,AQ4,BH4,BY4)","v":0},{"$f":"SUM(J4,AA4,AR4,BI4,BZ4)","v":0},{"$f":"K4+AB4+AS4+BJ4+CA4","v":0},{"$f":"L4+AC4+AT4+BK4+CB4","v":0},{"$f":"M4+AD4+AU4+BL4+CC4","v":0},{"$f":"N4+AE4+AV4+BM4+CD4","v":0},{"$f":"O4+AF4+AW4+BN4+CE4","v":0},{"$f":"P4+AG4+AX4+BO4+CF4","v":0},{"$f":"Q4+AH4+AY4+BP4+CG4","v":0},null,{"$f":"CV4*Calculator!G$27/21","v":0},null,{"$f":"CX4+CV4+CT4+CS4","v":0}]
[null,2,{"$f":"$D$2*'Lookup Tables'!H5","v":0},{"$f":"$D$2*'Lookup Tables'!I5","v":0},{"$f":"$D$2*'Lookup Tables'!J5","v":0},{"$f":"$D$2*'Lookup Tables'!K5","v":0},{"$f":"$D$2*'Lookup Tables'!L5","v":0},{"$f":"$D$2*'Lookup Tables'!M5","v":0},{"$f":"$D$2*'Lookup Tables'!N5","v":0},{"$f":"$D$2*'Lookup Tables'!O5","v":0},{"$f":"$D$2*'Lookup Tables'!P5","v":0},{"$f":"$D$2*'Lookup Tables'!Q5","v":0},{"$f":"$D$2*'Lookup Tables'!R5","v":0},{"$f":"$D$2*'Lookup Tables'!S5","v":0},{"$f":"$D$2*'Lookup Tables'!T5","v":0},{"$f":"$D$2*'Lookup Tables'!U5","v":0},{"$f":"$D$2*'Lookup Tables'!V5","v":0},null,2,{"$f":"$U$2*'Lookup Tables'!Y5","v":0},{"$f":"$U$2*'Lookup Tables'!Z5","v":0},{"$f":"$U$2*'Lookup Tables'!AA5","v":0},{"$f":"$U$2*'Lookup Tables'!AB5","v":0},{"$f":"$U$2*'Lookup Tables'!AC5","v":0},{"$f":"$U$2*'Lookup Tables'!AD5","v":0},{"$f":"$U$2*'Lookup Tables'!AE5","v":0},{"$f":"$U$2*'Lookup Tables'!AF5","v":0},{"$f":"$U$2*'Lookup Tables'!AG5","v":0},{"$f":"$U$2*'Lookup Tables'!AH5","v":0},{"$f":"$U$2*'Lookup Tables'!AI5","v":0},{"$f":"$U$2*'Lookup Tables'!AJ5","v":0},{"$f":"$U$2*'Lookup Tables'!AK5","v":0},{"$f":"$U$2*'Lookup Tables'!AL5","v":0},{"$f":"$U$2*'Lookup Tables'!AM5","v":0},null,2,{"$f":"$AL$2*'Lookup Tables'!AP5","v":0},{"$f":"$AL$2*'Lookup Tables'!AQ5","v":0},{"$f":"$AL$2*'Lookup Tables'!AR5","v":0},{"$f":"$AL$2*'Lookup Tables'!AS5","v":0},{"$f":"$AL$2*'Lookup Tables'!AT5","v":0},{"$f":"$AL$2*'Lookup Tables'!AU5","v":0},{"$f":"$AL$2*'Lookup Tables'!AV5","v":0},{"$f":"$AL$2*'Lookup Tables'!AW5","v":0},{"$f":"$AL$2*'Lookup Tables'!AX5","v":0},{"$f":"$AL$2*'Lookup Tables'!AY5","v":0},{"$f":"$AL$2*'Lookup Tables'!AZ5","v":0},{"$f":"$AL$2*'Lookup Tables'!BA5","v":0},{"$f":"$AL$2*'Lookup Tables'!BB5","v":0},{"$f":"$AL$2*'Lookup Tables'!BC5","v":0},{"$f":"$AL$2*'Lookup Tables'!BD5","v":0},null,2,{"$f":"$BC$2*'Lookup Tables'!BG5","v":0},{"$f":"$BC$2*'Lookup Tables'!BH5","v":0},{"$f":"$BC$2*'Lookup Tables'!BI5","v":0},{"$f":"$BC$2*'Lookup Tables'!BJ5","v":0},{"$f":"$BC$2*'Lookup Tables'!BK5","v":0},{"$f":"$BC$2*'Lookup Tables'!BL5","v":0},{"$f":"$BC$2*'Lookup Tables'!BM5","v":0},{"$f":"$BC$2*'Lookup Tables'!BN5","v":0},{"$f":"$BC$2*'Lookup Tables'!BO5","v":0},{"$f":"$BC$2*'Lookup Tables'!BP5","v":0},{"$f":"$BC$2*'Lookup Tables'!BQ5","v":0},{"$f":"$BC$2*'Lookup Tables'!BR5","v":0},{"$f":"$BC$2*'Lookup Tables'!BS5","v":0},{"$f":"$BC$2*'Lookup Tables'!BT5","v":0},{"$f":"$BC$2*'Lookup Tables'!BU5","v":0},null,2,{"$f":"$BT$2*'Lookup Tables'!BX5","v":0},{"$f":"$BT$2*'Lookup Tables'!BY5","v":0},{"$f":"$BT$2*'Lookup Tables'!BZ5","v":0},{"$f":"$BT$2*'Lookup Tables'!CA5","v":0},{"$f":"$BT$2*'Lookup Tables'!CB5","v":0},{"$f":"$BT$2*'Lookup Tables'!CC5","v":0},{"$f":"$BT$2*'Lookup Tables'!CD5","v":0},{"$f":"$BT$2*'Lookup Tables'!CE5","v":0},{"$f":"$BT$2*'Lookup Tables'!CF5","v":0},{"$f":"$BT$2*'Lookup Tables'!CG5","v":0},{"$f":"$BT$2*'Lookup Tables'!CH5","v":0},{"$f":"$BT$2*'Lookup Tables'!CI5","v":0},{"$f":"$BT$2*'Lookup Tables'!CJ5","v":0},{"$f":"$BT$2*'Lookup Tables'!CK5","v":0},{"$f":"$BT$2*'Lookup Tables'!CL5","v":0},null,null,2,{"$f":"SUM(C5,T5,AK5,BB5,BS5)","v":0},0,0,0,0,0,0,0,{"$f":"K5+AB5+AS5+BJ5+CA5","v":0},0,0,0,{"$f":"O5+AF5+AW5+BN5+CE5","v":0},0,0,null,{"$f":"CV5*Calculator!G$27/21","v":0}]
[null,3,{"$f":"$D$2*'Lookup Tables'!H6","v":0},{"$f":"$D$2*'Lookup Tables'!I6","v":0},{"$f":"$D$2*'Lookup Tables'!J6","v":0},{"$f":"$D$2*'Lookup Tables'!K6","v":0},{"$f":"$D$2*'Lookup Tables'!L6","v":0},{"$f":"$D$2*'Lookup Tables'!M6","v":0},{"$f":"$D$2*'Lookup Tables'!N6","v":0},{"$f":"$D$2*'Lookup Tables'!O6","v":0},{"$f":"$D$2*'Lookup Tables'!P6","v":0},{"$f":"$D$2*'Lookup Tables'!Q6","v":0},{"$f":"$D$2*'Lookup Tables'!R6","v":0},{"$f":"$D$2*'Lookup Tables'!S6","v":0},{"$f":"$D$2*'Lookup Tables'!T6","v":0},{"$f":"$D$2*'Lookup Tables'!U6","v":0},{"$f":"$D$2*'Lookup Tables'!V6","v":0},null,3,{"$f":"$U$2*'Lookup Tables'!Y6","v":0},{"$f":"$U$2*'Lookup Tables'!Z6","v":0},{"$f":"$U$2*'Lookup Tables'!AA6","v":0},{"$f":"$U$2*'Lookup Tables'!AB6","v":0},{"$f":"$U$2*'Lookup Tables'!AC6","v":0},{"$f":"$U$2*'Lookup Tables'!AD6","v":0},{"$f":"$U$2*'Lookup Tables'!AE6","v":0},{"$f":"$U$2*'Lookup Tables'!AF6","v":0},{"$f":"$U$2*'Lookup Tables'!AG6","v":0},{"$f":"$U$2*'Lookup Tables'!AH6","v":0},{"$f":"$U$2*'Lookup Tables'!AI6","v":0},{"$f":"$U$2*'Lookup Tables'!AJ6","v":0},{"$f":"$U$2*'Lookup Tables'!AK6","v":0},{"$f":"$U$2*'Lookup Tables'!AL6","v":0},{"$f":"$U$2*'Lookup Tables'!AM6","v":0},null,3,{"$f":"$AL$2*'Lookup Tables'!AP6","v":0},{"$f":"$AL$2*'Lookup Tables'!AQ6","v":0},{"$f":"$AL$2*'Lookup Tables'!AR6","v":0},{"$f":"$AL$2*'Lookup Tables'!AS6","v":0},{"$f":"$AL$2*'Lookup Tables'!AT6","v":0},{"$f":"$AL$2*'Lookup Tables'!AU6","v":0},{"$f":"$AL$2*'Lookup Tables'!AV6","v":0},{"$f":"$AL$2*'Lookup Tables'!AW6","v":0},{"$f":"$AL$2*'Lookup Tables'!AX6","v":0},{"$f":"$AL$2*'Lookup Tables'!AY6","v":0},{"$f":"$AL$2*'Lookup Tables'!AZ6","v":0},{"$f":"$AL$2*'Lookup Tables'!BA6","v":0},{"$f":"$AL$2*'Lookup Tables'!BB6","v":0},{"$f":"$AL$2*'Lookup Tables'!BC6","v":0},{"$f":"$AL$2*'Lookup Tables'!BD6","v":0},null,3,{"$f":"$BC$2*'Lookup Tables'!BG6","v":0},{"$f":"$BC$2*'Lookup Tables'!BH6","v":0},{"$f":"$BC$2*'Lookup Tables'!BI6","v":0},{"$f":"$BC$2*'Lookup Tables'!BJ6","v":0},{"$f":"$BC$2*'Lookup Tables'!BK6","v":0},{"$f":"$BC$2*'Lookup Tables'!BL6","v":0},{"$f":"$BC$2*'Lookup Tables'!BM6","v":0},{"$f":"$BC$2*'Lookup Tables'!BN6","v":0},{"$f":"$BC$2*'Lookup Tables'!BO6","v":0},{"$f":"$BC$2*'Lookup Tables'!BP6","v":0},{"$f":"$BC$2*'Lookup Tables'!BQ6","v":0},{"$f":"$BC$2*'Lookup Tables'!BR6","v":0},{"$f":"$BC$2*'Lookup Tables'!BS6","v":0},{"$f":"$BC$2*'Lookup Tables'!BT6","v":0},{"$f":"$BC$2*'Lookup Tables'!BU6","v":0},null,3,{"$f":"$BT$2*'Lookup Tables'!BX6","v":0},{"$f":"$BT$2*'Lookup Tables'!BY6","v":0},{"$f":"$BT$2*'Lookup Tables'!BZ6","v":0},{"$f":"$BT$2*'Lookup Tables'!CA6","v":0},{"$f":"$BT$2*'Lookup Tables'!CB6","v":0},{"$f":"$BT$2*'Lookup Tables'!CC6","v":0},{"$f":"$BT$2*'Lookup Tables'!CD6","v":0},{"$f":"$BT$2*'Lookup Tables'!CE6","v":0},{"$f":"$BT$2*'Lookup Tables'!CF6","v":0},{"$f":"$BT$2*'Lookup Tables'!CG6","v":0},{"$f":"$BT$2*'Lookup Tables'!CH6","v":0},{"$f":"$BT$2*'Lookup Tables'!CI6","v":0},{"$f":"$BT$2*'Lookup Tables'!CJ6","v":0},{"$f":"$BT$2*'Lookup Tables'!CK6","v":0},{"$f":"$BT$2*'Lookup Tables'!CL6","v":0},null,null,3,0,0,0,0,0,0,0,0,0,0,0,0,0,0,0,null,{"$f":"CV6*Calculator!G$27/21","v":0}]
[null,4,{"$f":"$D$2*'Lookup Tables'!H7","v":0},{"$f":"$D$2*'Lookup Tables'!I7","v":0},{"$f":"$D$2*'Lookup Tables'!J7","v":0},{"$f":"$D$2*'Lookup Tables'!K7","v":0},{"$f":"$D$2*'Lookup Tables'!L7","v":0},{"$f":"$D$2*'Lookup Tables'!M7","v":0},{"$f":"$D$2*'Lookup Tables'!N7","v":0},{"$f":"$D$2*'Lookup Tables'!O7","v":0},{"$f":"$D$2*'Lookup Tables'!P7","v":0},{"$f":"$D$2*'Lookup Tables'!Q7","v":0},{"$f":"$D$2*'Lookup Tables'!R7","v":0},{"$f":"$D$2*'Lookup Tables'!S7","v":0},{"$f":"$D$2*'Lookup Tables'!T7","v":0},{"$f":"$D$2*'Lookup Tables'!U7","v":0},{"$f":"$D$2*'Lookup Tables'!V7","v":0},null,4,{"$f":"$U$2*'Lookup Tables'!Y7","v":0},{"$f":"$U$2*'Lookup Tables'!Z7","v":0},{"$f":"$U$2*'Lookup Tables'!AA7","v":0},{"$f":"$U$2*'Lookup Tables'!AB7","v":0},{"$f":"$U$2*'Lookup Tables'!AC7","v":0},{"$f":"$U$2*'Lookup Tables'!AD7","v":0},{"$f":"$U$2*'Lookup Tables'!AE7","v":0},{"$f":"$U$2*'Lookup Tables'!AF7","v":0},{"$f":"$U$2*'Lookup Tables'!AG7","v":0},{"$f":"$U$2*'Lookup Tables'!AH7","v":0},{"$f":"$U$2*'Lookup Tables'!AI7","v":0},{"$f":"$U$2*'Lookup Tables'!AJ7","v":0},{"$f":"$U$2*'Lookup Tables'!AK7","v":0},{"$f":"$U$2*'Lookup Tables'!AL7","v":0},{"$f":"$U$2*'Lookup Tables'!AM7","v":0},null,4,{"$f":"$AL$2*'Lookup Tables'!AP7","v":0},{"$f":"$AL$2*'Lookup Tables'!AQ7","v":0},{"$f":"$AL$2*'Lookup Tables'!AR7","v":0},{"$f":"$AL$2*'Lookup Tables'!AS7","v":0},{"$f":"$AL$2*'Lookup Tables'!AT7","v":0},{"$f":"$AL$2*'Lookup Tables'!AU7","v":0},{"$f":"$AL$2*'Lookup Tables'!AV7","v":0},{"$f":"$AL$2*'Lookup Tables'!AW7","v":0},{"$f":"$AL$2*'Lookup Tables'!AX7","v":0},{"$f":"$AL$2*'Lookup Tables'!AY7","v":0},{"$f":"$AL$2*'Lookup Tables'!AZ7","v":0},{"$f":"$AL$2*'Lookup Tables'!BA7","v":0},{"$f":"$AL$2*'Lookup Tables'!BB7","v":0},{"$f":"$AL$2*'Lookup Tables'!BC7","v":0},{"$f":"$AL$2*'Lookup Tables'!BD7","v":0},null,4,{"$f":"$BC$2*'Lookup Tables'!BG7","v":0},{"$f":"$BC$2*'Lookup Tables'!BH7","v":0},{"$f":"$BC$2*'Lookup Tables'!BI7","v":0},{"$f":"$BC$2*'Lookup Tables'!BJ7","v":0},{"$f":"$BC$2*'Lookup Tables'!BK7","v":0},{"$f":"$BC$2*'Lookup Tables'!BL7","v":0},{"$f":"$BC$2*'Lookup Tables'!BM7","v":0},{"$f":"$BC$2*'Lookup Tables'!BN7","v":0},{"$f":"$BC$2*'Lookup Tables'!BO7","v":0},{"$f":"$BC$2*'Lookup Tables'!BP7","v":0},{"$f":"$BC$2*'Lookup Tables'!BQ7","v":0},{"$f":"$BC$2*'Lookup Tables'!BR7","v":0},{"$f":"$BC$2*'Lookup Tables'!BS7","v":0},{"$f":"$BC$2*'Lookup Tables'!BT7","v":0},{"$f":"$BC$2*'Lookup Tables'!BU7","v":0},null,4,{"$f":"$BT$2*'Lookup Tables'!BX7","v":0},{"$f":"$BT$2*'Lookup Tables'!BY7","v":0},{"$f":"$BT$2*'Lookup Tables'!BZ7","v":0},{"$f":"$BT$2*'Lookup Tables'!CA7","v":0},{"$f":"$BT$2*'Lookup Tables'!CB7","v":0},{"$f":"$BT$2*'Lookup Tables'!CC7","v":0},{"$f":"$BT$2*'Lookup Tables'!CD7","v":0},{"$f":"$BT$2*'Lookup Tables'!CE7","v":0},{"$f":"$BT$2*'Lookup Tables'!CF7","v":0},{"$f":"$BT$2*'Lookup Tables'!CG7","v":0},{"$f":"$BT$2*'Lookup Tables'!CH7","v":0},{"$f":"$BT$2*'Lookup Tables'!CI7","v":0},{"$f":"$BT$2*'Lookup Tables'!CJ7","v":0},{"$f":"$BT$2*'Lookup Tables'!CK7","v":0},{"$f":"$BT$2*'Lookup Tables'!CL7","v":0},null,null,4,0,0,0,0,0,0,0,0,0,0,0,0,0,0,0,null,{"$f":"CV7*Calculator!G$27/21","v":0}]
[null,5,{"$f":"$D$2*'Lookup Tables'!H8","v":0},{"$f":"$D$2*'Lookup Tables'!I8","v":0},{"$f":"$D$2*'Lookup Tables'!J8","v":0},{"$f":"$D$2*'Lookup Tables'!K8","v":0},{"$f":"$D$2*'Lookup Tables'!L8","v":0},{"$f":"$D$2*'Lookup Tables'!M8","v":0},{"$f":"$D$2*'Lookup Tables'!N8","v":0},{"$f":"$D$2*'Lookup Tables'!O8","v":0},{"$f":"$D$2*'Lookup Tables'!P8","v":0},{"$f":"$D$2*'Lookup Tables'!Q8","v":0},{"$f":"$D$2*'Lookup Tables'!R8","v":0},{"$f":"$D$2*'Lookup Tables'!S8","v":0},{"$f":"$D$2*'Lookup Tables'!T8","v":0},{"$f":"$D$2*'Lookup Tables'!U8","v":0},{"$f":"$D$2*'Lookup Tables'!V8","v":0},null,5,{"$f":"$U$2*'Lookup Tables'!Y8","v":0},{"$f":"$U$2*'Lookup Tables'!Z8","v":0},{"$f":"$U$2*'Lookup Tables'!AA8","v":0},{"$f":"$U$2*'Lookup Tables'!AB8","v":0},{"$f":"$U$2*'Lookup Tables'!AC8","v":0},{"$f":"$U$2*'Lookup Tables'!AD8","v":0},{"$f":"$U$2*'Lookup Tables'!AE8","v":0},{"$f":"$U$2*'Lookup Tables'!AF8","v":0},{"$f":"$U$2*'Lookup Tables'!AG8","v":0},{"$f":"$U$2*'Lookup Tables'!AH8","v":0},{"$f":"$U$2*'Lookup Tables'!AI8","v":0},{"$f":"$U$2*'Lookup Tables'!AJ8","v":0},{"$f":"$U$2*'Lookup Tables'!AK8","v":0},{"$f":"$U$2*'Lookup Tables'!AL8","v":0},{"$f":"$U$2*'Lookup Tables'!AM8","v":0},null,5,{"$f":"$AL$2*'Lookup Tables'!AP8","v":0},{"$f":"$AL$2*'Lookup Tables'!AQ8","v":0},{"$f":"$AL$2*'Lookup Tables'!AR8","v":0},{"$f":"$AL$2*'Lookup Tables'!AS8","v":0},{"$f":"$AL$2*'Lookup Tables'!AT8","v":0},{"$f":"$AL$2*'Lookup Tables'!AU8","v":0},{"$f":"$AL$2*'Lookup Tables'!AV8","v":0},{"$f":"$AL$2*'Lookup Tables'!AW8","v":0},{"$f":"$AL$2*'Lookup Tables'!AX8","v":0},{"$f":"$AL$2*'Lookup Tables'!AY8","v":0},{"$f":"$AL$2*'Lookup Tables'!AZ8","v":0},{"$f":"$AL$2*'Lookup Tables'!BA8","v":0},{"$f":"$AL$2*'Lookup Tables'!BB8","v":0},{"$f":"$AL$2*'Lookup Tables'!BC8","v":0},{"$f":"$AL$2*'Lookup Tables'!BD8","v":0},null,5,{"$f":"$BC$2*'Lookup Tables'!BG8","v":0},{"$f":"$BC$2*'Lookup Tables'!BH8","v":0},{"$f":"$BC$2*'Lookup Tables'!BI8","v":0},{"$f":"$BC$2*'Lookup Tables'!BJ8","v":0},{"$f":"$BC$2*'Lookup Tables'!BK8","v":0},{"$f":"$BC$2*'Lookup Tables'!BL8","v":0},{"$f":"$BC$2*'Lookup Tables'!BM8","v":0},{"$f":"$BC$2*'Lookup Tables'!BN8","v":0},{"$f":"$BC$2*'Lookup Tables'!BO8","v":0},{"$f":"$BC$2*'Lookup Tables'!BP8","v":0},{"$f":"$BC$2*'Lookup Tables'!BQ8","v":0},{"$f":"$BC$2*'Lookup Tables'!BR8","v":0},{"$f":"$BC$2*'Lookup Tables'!BS8","v":0},{"$f":"$BC$2*'Lookup Tables'!BT8","v":0},{"$f":"$BC$2*'Lookup Tables'!BU8","v":0},null,5,{"$f":"$BT$2*'Lookup Tables'!BX8","v":0},{"$f":"$BT$2*'Lookup Tables'!BY8","v":0},{"$f":"$BT$2*'Lookup Tables'!BZ8","v":0},{"$f":"$BT$2*'Lookup Tables'!CA8","v":0},{"$f":"$BT$2*'Lookup Tables'!CB8","v":0},{"$f":"$BT$2*'Lookup Tables'!CC8","v":0},{"$f":"$BT$2*'Lookup Tables'!CD8","v":0},{"$f":"$BT$2*'Lookup Tables'!CE8","v":0},{"$f":"$BT$2*'Lookup Tables'!CF8","v":0},{"$f":"$BT$2*'Lookup Tables'!CG8","v":0},{"$f":"$BT$2*'Lookup Tables'!CH8","v":0},{"$f":"$BT$2*'Lookup Tables'!CI8","v":0},{"$f":"$BT$2*'Lookup Tables'!CJ8","v":0},{"$f":"$BT$2*'Lookup Tables'!CK8","v":0},{"$f":"$BT$2*'Lookup Tables'!CL8","v":0},null,null,5,0,0,0,0,0,0,0,0,0,0,0,0,0,0,0,null,{"$f":"CV8*Calculator!G$27/21","v":0}]
[null,6,{"$f":"$D$2*'Lookup Tables'!H9","v":0},{"$f":"$D$2*'Lookup Tables'!I9","v":0},{"$f":"$D$2*'Lookup Tables'!J9","v":0},{"$f":"$D$2*'Lookup Tables'!K9","v":0},{"$f":"$D$2*'Lookup Tables'!L9","v":0},{"$f":"$D$2*'Lookup Tables'!M9","v":0},{"$f":"$D$2*'Lookup Tables'!N9","v":0},{"$f":"$D$2*'Lookup Tables'!O9","v":0},{"$f":"$D$2*'Lookup Tables'!P9","v":0},{"$f":"$D$2*'Lookup Tables'!Q9","v":0},{"$f":"$D$2*'Lookup Tables'!R9","v":0},{"$f":"$D$2*'Lookup Tables'!S9","v":0},{"$f":"$D$2*'Lookup Tables'!T9","v":0},{"$f":"$D$2*'Lookup Tables'!U9","v":0},{"$f":"$D$2*'Lookup Tables'!V9","v":0},null,6,{"$f":"$U$2*'Lookup Tables'!Y9","v":0},{"$f":"$U$2*'Lookup Tables'!Z9","v":0},{"$f":"$U$2*'Lookup Tables'!AA9","v":0},{"$f":"$U$2*'Lookup Tables'!AB9","v":0},{"$f":"$U$2*'Lookup Tables'!AC9","v":0},{"$f":"$U$2*'Lookup Tables'!AD9","v":0},{"$f":"$U$2*'Lookup Tables'!AE9","v":0},{"$f":"$U$2*'Lookup Tables'!AF9","v":0},{"$f":"$U$2*'Lookup Tables'!AG9","v":0},{"$f":"$U$2*'Lookup Tables'!AH9","v":0},{"$f":"$U$2*'Lookup Tables'!AI9","v":0},{"$f":"$U$2*'Lookup Tables'!AJ9","v":0},{"$f":"$U$2*'Lookup Tables'!AK9","v":0},{"$f":"$U$2*'Lookup Tables'!AL9","v":0},{"$f":"$U$2*'Lookup Tables'!AM9","v":0},null,6,{"$f":"$AL$2*'Lookup Tables'!AP9","v":0},{"$f":"$AL$2*'Lookup Tables'!AQ9","v":0},{"$f":"$AL$2*'Lookup Tables'!AR9","v":0},{"$f":"$AL$2*'Lookup Tables'!AS9","v":0},{"$f":"$AL$2*'Lookup Tables'!AT9","v":0},{"$f":"$AL$2*'Lookup Tables'!AU9","v":0},{"$f":"$AL$2*'Lookup Tables'!AV9","v":0},{"$f":"$AL$2*'Lookup Tables'!AW9","v":0},{"$f":"$AL$2*'Lookup Tables'!AX9","v":0},{"$f":"$AL$2*'Lookup Tables'!AY9","v":0},{"$f":"$AL$2*'Lookup Tables'!AZ9","v":0},{"$f":"$AL$2*'Lookup Tables'!BA9","v":0},{"$f":"$AL$2*'Lookup Tables'!BB9","v":0},{"$f":"$AL$2*'Lookup Tables'!BC9","v":0},{"$f":"$AL$2*'Lookup Tables'!BD9","v":0},null,6,{"$f":"$BC$2*'Lookup Tables'!BG9","v":0},{"$f":"$BC$2*'Lookup Tables'!BH9","v":0},{"$f":"$BC$2*'Lookup Tables'!BI9","v":0},{"$f":"$BC$2*'Lookup Tables'!BJ9","v":0},{"$f":"$BC$2*'Lookup Tables'!BK9","v":0},{"$f":"$BC$2*'Lookup Tables'!BL9","v":0},{"$f":"$BC$2*'Lookup Tables'!BM9","v":0},{"$f":"$BC$2*'Lookup Tables'!BN9","v":0},{"$f":"$BC$2*'Lookup Tables'!BO9","v":0},{"$f":"$BC$2*'Lookup Tables'!BP9","v":0},{"$f":"$BC$2*'Lookup Tables'!BQ9","v":0},{"$f":"$BC$2*'Lookup Tables'!BR9","v":0},{"$f":"$BC$2*'Lookup Tables'!BS9","v":0},{"$f":"$BC$2*'Lookup Tables'!BT9","v":0},{"$f":"$BC$2*'Lookup Tables'!BU9","v":0},null,6,{"$f":"$BT$2*'Lookup Tables'!BX9","v":0},{"$f":"$BT$2*'Lookup Tables'!BY9","v":0},{"$f":"$BT$2*'Lookup Tables'!BZ9","v":0},{"$f":"$BT$2*'Lookup Tables'!CA9","v":0},{"$f":"$BT$2*'Lookup Tables'!CB9","v":0},{"$f":"$BT$2*'Lookup Tables'!CC9","v":0},{"$f":"$BT$2*'Lookup Tables'!CD9","v":0},{"$f":"$BT$2*'Lookup Tables'!CE9","v":0},{"$f":"$BT$2*'Lookup Tables'!CF9","v":0},{"$f":"$BT$2*'Lookup Tables'!CG9","v":0},{"$f":"$BT$2*'Lookup Tables'!CH9","v":0},{"$f":"$BT$2*'Lookup Tables'!CI9","v":0},{"$f":"$BT$2*'Lookup Tables'!CJ9","v":0},{"$f":"$BT$2*'Lookup Tables'!CK9","v":0},{"$f":"$BT$2*'Lookup Tables'!CL9","v":0},null,null,6,0,0,0,0,0,0,0,0,0,0,0,0,0,0,0,null,{"$f":"CV9*Calculator!G$27/21","v":0}]
[null,7,{"$f":"$D$2*'Lookup Tables'!H10","v":0},{"$f":"$D$2*'Lookup Tables'!I10","v":0},{"$f":"$D$2*'Lookup Tables'!J10","v":0},{"$f":"$D$2*'Lookup Tables'!K10","v":0},{"$f":"$D$2*'Lookup Tables'!L10","v":0},{"$f":"$D$2*'Lookup Tables'!M10","v":0},{"$f":"$D$2*'Lookup Tables'!N10","v":0},{"$f":"$D$2*'Lookup Tables'!O10","v":0},{"$f":"$D$2*'Lookup Tables'!P10","v":0},{"$f":"$D$2*'Lookup Tables'!Q10","v":0},{"$f":"$D$2*'Lookup Tables'!R10","v":0},{"$f":"$D$2*'Lookup Tables'!S10","v":0},{"$f":"$D$2*'Lookup Tables'!T10","v":0},{"$f":"$D$2*'Lookup Tables'!U10","v":0},{"$f":"$D$2*'Lookup Tables'!V10","v":0},null,7,{"$f":"$U$2*'Lookup Tables'!Y10","v":0},{"$f":"$U$2*'Lookup Tables'!Z10","v":0},{"$f":"$U$2*'Lookup Tables'!AA10","v":0},{"$f":"$U$2*'Lookup Tables'!AB10","v":0},{"$f":"$U$2*'Lookup Tables'!AC10","v":0},{"$f":"$U$2*'Lookup Tables'!AD10","v":0},{"$f":"$U$2*'Lookup Tables'!AE10","v":0},{"$f":"$U$2*'Lookup Tables'!AF10","v":0},{"$f":"$U$2*'Lookup Tables'!AG10","v":0},{"$f":"$U$2*'Lookup Tables'!AH10","v":0},{"$f":"$U$2*'Lookup Tables'!AI10","v":0},{"$f":"$U$2*'Lookup Tables'!AJ10","v":0},{"$f":"$U$2*'Lookup Tables'!AK10","v":0},{"$f":"$U$2*'Lookup Tables'!AL10","v":0},{"$f":"$U$2*'Lookup Tables'!AM10","v":0},null,7,{"$f":"$AL$2*'Lookup Tables'!AP10","v":0},{"$f":"$AL$2*'Lookup Tables'!AQ10","v":0},{"$f":"$AL$2*'Lookup Tables'!AR10","v":0},{"$f":"$AL$2*'Lookup Tables'!AS10","v":0},{"$f":"$AL$2*'Lookup Tables'!AT10","v":0},{"$f":"$AL$2*'Lookup Tables'!AU10","v":0},{"$f":"$AL$2*'Lookup Tables'!AV10","v":0},{"$f":"$AL$2*'Lookup Tables'!AW10","v":0},{"$f":"$AL$2*'Lookup Tables'!AX10","v":0},{"$f":"$AL$2*'Lookup Tables'!AY10","v":0},{"$f":"$AL$2*'Lookup Tables'!AZ10","v":0},{"$f":"$AL$2*'Lookup Tables'!BA10","v":0},{"$f":"$AL$2*'Lookup Tables'!BB10","v":0},{"$f":"$AL$2*'Lookup Tables'!BC10","v":0},{"$f":"$AL$2*'Lookup Tables'!BD10","v":0},null,7,{"$f":"$BC$2*'Lookup Tables'!BG10","v":0},{"$f":"$BC$2*'Lookup Tables'!BH10","v":0},{"$f":"$BC$2*'Lookup Tables'!BI10","v":0},{"$f":"$BC$2*'Lookup Tables'!BJ10","v":0},{"$f":"$BC$2*'Lookup Tables'!BK10","v":0},{"$f":"$BC$2*'Lookup Tables'!BL10","v":0},{"$f":"$BC$2*'Lookup Tables'!BM10","v":0},{"$f":"$BC$2*'Lookup Tables'!BN10","v":0},{"$f":"$BC$2*'Lookup Tables'!BO10","v":0},{"$f":"$BC$2*'Lookup Tables'!BP10","v":0},{"$f":"$BC$2*'Lookup Tables'!BQ10","v":0},{"$f":"$BC$2*'Lookup Tables'!BR10","v":0},{"$f":"$BC$2*'Lookup Tables'!BS10","v":0},{"$f":"$BC$2*'Lookup Tables'!BT10","v":0},{"$f":"$BC$2*'Lookup Tables'!BU10","v":0},null,7,{"$f":"$BT$2*'Lookup Tables'!BX10","v":0},{"$f":"$BT$2*'Lookup Tables'!BY10","v":0},{"$f":"$BT$2*'Lookup Tables'!BZ10","v":0},{"$f":"$BT$2*'Lookup Tables'!CA10","v":0},{"$f":"$BT$2*'Lookup Tables'!CB10","v":0},{"$f":"$BT$2*'Lookup Tables'!CC10","v":0},{"$f":"$BT$2*'Lookup Tables'!CD10","v":0},{"$f":"$BT$2*'Lookup Tables'!CE10","v":0},{"$f":"$BT$2*'Lookup Tables'!CF10","v":0},{"$f":"$BT$2*'Lookup Tables'!CG10","v":0},{"$f":"$BT$2*'Lookup Tables'!CH10","v":0},{"$f":"$BT$2*'Lookup Tables'!CI10","v":0},{"$f":"$BT$2*'Lookup Tables'!CJ10","v":0},{"$f":"$BT$2*'Lookup Tables'!CK10","v":0},{"$f":"$BT$2*'Lookup Tables'!CL10","v":0},null,null,7,0,0,0,0,0,0,0,0,0,0,0,0,0,0,0,null,{"$f":"CV10*Calculator!G$27/21","v":0}]
[null,8,{"$f":"$D$2*'Lookup Tables'!H11","v":0},{"$f":"$D$2*'Lookup Tables'!I11","v":0},{"$f":"$D$2*'Lookup Tables'!J11","v":0},{"$f":"$D$2*'Lookup Tables'!K11","v":0},{"$f":"$D$2*'Lookup Tables'!L11","v":0},{"$f":"$D$2*'Lookup Tables'!M11","v":0},{"$f":"$D$2*'Lookup Tables'!N11","v":0},{"$f":"$D$2*'Lookup Tables'!O11","v":0},{"$f":"$D$2*'Lookup Tables'!P11","v":0},{"$f":"$D$2*'Lookup Tables'!Q11","v":0},{"$f":"$D$2*'Lookup Tables'!R11","v":0},{"$f":"$D$2*'Lookup Tables'!S11","v":0},{"$f":"$D$2*'Lookup Tables'!T11","v":0},{"$f":"$D$2*'Lookup Tables'!U11","v":0},{"$f":"$D$2*'Lookup Tables'!V11","v":0},null,8,{"$f":"$U$2*'Lookup Tables'!Y11","v":0},{"$f":"$U$2*'Lookup Tables'!Z11","v":0},{"$f":"$U$2*'Lookup Tables'!AA11","v":0},{"$f":"$U$2*'Lookup Tables'!AB11","v":0},{"$f":"$U$2*'Lookup Tables'!AC11","v":0},{"$f":"$U$2*'Lookup Tables'!AD11","v":0},{"$f":"$U$2*'Lookup Tables'!AE11","v":0},{"$f":"$U$2*'Lookup Tables'!AF11","v":0},{"$f":"$U$2*'Lookup Tables'!AG11","v":0},{"$f":"$U$2*'Lookup Tables'!AH11","v":0},{"$f":"$U$2*'Lookup Tables'!AI11","v":0},{"$f":"$U$2*'Lookup Tables'!AJ11","v":0},{"$f":"$U$2*'Lookup Tables'!AK11","v":0},{"$f":"$U$2*'Lookup Tables'!AL11","v":0},{"$f":"$U$2*'Lookup Tables'!AM11","v":0},null,8,{"$f":"$AL$2*'Lookup Tables'!AP11","v":0},{"$f":"$AL$2*'Lookup Tables'!AQ11","v":0},{"$f":"$AL$2*'Lookup Tables'!AR11","v":0},{"$f":"$AL$2*'Lookup Tables'!AS11","v":0},{"$f":"$AL$2*'Lookup Tables'!AT11","v":0},{"$f":"$AL$2*'Lookup Tables'!AU11","v":0},{"$f":"$AL$2*'Lookup Tables'!AV11","v":0},{"$f":"$AL$2*'Lookup Tables'!AW11","v":0},{"$f":"$AL$2*'Lookup Tables'!AX11","v":0},{"$f":"$AL$2*'Lookup Tables'!AY11","v":0},{"$f":"$AL$2*'Lookup Tables'!AZ11","v":0},{"$f":"$AL$2*'Lookup Tables'!BA11","v":0},{"$f":"$AL$2*'Lookup Tables'!BB11","v":0},{"$f":"$AL$2*'Lookup Tables'!BC11","v":0},{"$f":"$AL$2*'Lookup Tables'!BD11","v":0},null,8,{"$f":"$BC$2*'Lookup Tables'!BG11","v":0},{"$f":"$BC$2*'Lookup Tables'!BH11","v":0},{"$f":"$BC$2*'Lookup Tables'!BI11","v":0},{"$f":"$BC$2*'Lookup Tables'!BJ11","v":0},{"$f":"$BC$2*'Lookup Tables'!BK11","v":0},{"$f":"$BC$2*'Lookup Tables'!BL11","v":0},{"$f":"$BC$2*'Lookup Tables'!BM11","v":0},{"$f":"$BC$2*'Lookup Tables'!BN11","v":0},{"$f":"$BC$2*'Lookup Tables'!BO11","v":0},{"$f":"$BC$2*'Lookup Tables'!BP11","v":0},{"$f":"$BC$2*'Lookup Tables'!BQ11","v":0},{"$f":"$BC$2*'Lookup Tables'!BR11","v":0},{"$f":"$BC$2*'Lookup Tables'!BS11","v":0},{"$f":"$BC$2*'Lookup Tables'!BT11","v":0},{"$f":"$BC$2*'Lookup Tables'!BU11","v":0},null,8,{"$f":"$BT$2*'Lookup Tables'!BX11","v":0},{"$f":"$BT$2*'Lookup Tables'!BY11","v":0},{"$f":"$BT$2*'Lookup Tables'!BZ11","v":0},{"$f":"$BT$2*'Lookup Tables'!CA11","v":0},{"$f":"$BT$2*'Lookup Tables'!CB11","v":0},{"$f":"$BT$2*'Lookup Tables'!CC11","v":0},{"$f":"$BT$2*'Lookup Tables'!CD11","v":0},{"$f":"$BT$2*'Lookup Tables'!CE11","v":0},{"$f":"$BT$2*'Lookup Tables'!CF11","v":0},{"$f":"$BT$2*'Lookup Tables'!CG11","v":0},{"$f":"$BT$2*'Lookup Tables'!CH11","v":0},{"$f":"$BT$2*'Lookup Tables'!CI11","v":0},{"$f":"$BT$2*'Lookup Tables'!CJ11","v":0},{"$f":"$BT$2*'Lookup Tables'!CK11","v":0},{"$f":"$BT$2*'Lookup Tables'!CL11","v":0},null,null,8,0,0,0,0,0,0,0,0,0,0,0,0,0,0,0,null,{"$f":"CV11*Calculator!G$27/21","v":0}]
[null,9,{"$f":"$D$2*'Lookup Tables'!H12","v":0},{"$f":"$D$2*'Lookup Tables'!I12","v":0},{"$f":"$D$2*'Lookup Tables'!J12","v":0},{"$f":"$D$2*'Lookup Tables'!K12","v":0},{"$f":"$D$2*'Lookup Tables'!L12","v":0},{"$f":"$D$2*'Lookup Tables'!M12","v":0},{"$f":"$D$2*'Lookup Tables'!N12","v":0},{"$f":"$D$2*'Lookup Tables'!O12","v":0},{"$f":"$D$2*'Lookup Tables'!P12","v":0},{"$f":"$D$2*'Lookup Tables'!Q12","v":0},{"$f":"$D$2*'Lookup Tables'!R12","v":0},{"$f":"$D$2*'Lookup Tables'!S12","v":0},{"$f":"$D$2*'Lookup Tables'!T12","v":0},{"$f":"$D$2*'Lookup Tables'!U12","v":0},{"$f":"$D$2*'Lookup Tables'!V12","v":0},null,9,{"$f":"$U$2*'Lookup Tables'!Y12","v":0},{"$f":"$U$2*'Lookup Tables'!Z12","v":0},{"$f":"$U$2*'Lookup Tables'!AA12","v":0},{"$f":"$U$2*'Lookup Tables'!AB12","v":0},{"$f":"$U$2*'Lookup Tables'!AC12","v":0},{"$f":"$U$2*'Lookup Tables'!AD12","v":0},{"$f":"$U$2*'Lookup Tables'!AE12","v":0},{"$f":"$U$2*'Lookup Tables'!AF12","v":0},{"$f":"$U$2*'Lookup Tables'!AG12","v":0},{"$f":"$U$2*'Lookup Tables'!AH12","v":0},{"$f":"$U$2*'Lookup Tables'!AI12","v":0},{"$f":"$U$2*'Lookup Tables'!AJ12","v":0},{"$f":"$U$2*'Lookup Tables'!AK12","v":0},{"$f":"$U$2*'Lookup Tables'!AL12","v":0},{"$f":"$U$2*'Lookup Tables'!AM12","v":0},null,9,{"$f":"$AL$2*'Lookup Tables'!AP12","v":0},{"$f":"$AL$2*'Lookup Tables'!AQ12","v":0},{"$f":"$AL$2*'Lookup Tables'!AR12","v":0},{"$f":"$AL$2*'Lookup Tables'!AS12","v":0},{"$f":"$AL$2*'Lookup Tables'!AT12","v":0},{"$f":"$AL$2*'Lookup Tables'!AU12","v":0},{"$f":"$AL$2*'Lookup Tables'!AV12","v":0},{"$f":"$AL$2*'Lookup Tables'!AW12","v":0},{"$f":"$AL$2*'Lookup Tables'!AX12","v":0},{"$f":"$AL$2*'Lookup Tables'!AY12","v":0},{"$f":"$AL$2*'Lookup Tables'!AZ12","v":0},{"$f":"$AL$2*'Lookup Tables'!BA12","v":0},{"$f":"$AL$2*'Lookup Tables'!BB12","v":0},{"$f":"$AL$2*'Lookup Tables'!BC12","v":0},{"$f":"$AL$2*'Lookup Tables'!BD12","v":0},null,9,{"$f":"$BC$2*'Lookup Tables'!BG12","v":0},{"$f":"$BC$2*'Lookup Tables'!BH12","v":0},{"$f":"$BC$2*'Lookup Tables'!BI12","v":0},{"$f":"$BC$2*'Lookup Tables'!BJ12","v":0},{"$f":"$BC$2*'Lookup Tables'!BK12","v":0},{"$f":"$BC$2*'Lookup Tables'!BL12","v":0},{"$f":"$BC$2*'Lookup Tables'!BM12","v":0},{"$f":"$BC$2*'Lookup Tables'!BN12","v":0},{"$f":"$BC$2*'Lookup Tables'!BO12","v":0},{"$f":"$BC$2*'Lookup Tables'!BP12","v":0},{"$f":"$BC$2*'Lookup Tables'!BQ12","v":0},{"$f":"$BC$2*'Lookup Tables'!BR12","v":0},{"$f":"$BC$2*'Lookup Tables'!BS12","v":0},{"$f":"$BC$2*'Lookup Tables'!BT12","v":0},{"$f":"$BC$2*'Lookup Tables'!BU12","v":0},null,9,{"$f":"$BT$2*'Lookup Tables'!BX12","v":0},{"$f":"$BT$2*'Lookup Tables'!BY12","v":0},{"$f":"$BT$2*'Lookup Tables'!BZ12","v":0},{"$f":"$BT$2*'Lookup Tables'!CA12","v":0},{"$f":"$BT$2*'Lookup Tables'!CB12","v":0},{"$f":"$BT$2*'Lookup Tables'!CC12","v":0},{"$f":"$BT$2*'Lookup Tables'!CD12","v":0},{"$f":"$BT$2*'Lookup Tables'!CE12","v":0},{"$f":"$BT$2*'Lookup Tables'!CF12","v":0},{"$f":"$BT$2*'Lookup Tables'!CG12","v":0},{"$f":"$BT$2*'Lookup Tables'!CH12","v":0},{"$f":"$BT$2*'Lookup Tables'!CI12","v":0},{"$f":"$BT$2*'Lookup Tables'!CJ12","v":0},{"$f":"$BT$2*'Lookup Tables'!CK12","v":0},{"$f":"$BT$2*'Lookup Tables'!CL12","v":0},null,null,9,0,0,0,0,0,0,0,0,0,0,0,0,0,0,0,null,{"$f":"CV12*Calculator!G$27/21","v":0}]
[null,10,{"$f":"$D$2*'Lookup Tables'!H13","v":0},{"$f":"$D$2*'Lookup Tables'!I13","v":0},{"$f":"$D$2*'Lookup Tables'!J13","v":0},{"$f":"$D$2*'Lookup Tables'!K13","v":0},{"$f":"$D$2*'Lookup Tables'!L13","v":0},{"$f":"$D$2*'Lookup Tables'!M13","v":0},{"$f":"$D$2*'Lookup Tables'!N13","v":0},{"$f":"$D$2*'Lookup Tables'!O13","v":0},{"$f":"$D$2*'Lookup Tables'!P13","v":0},{"$f":"$D$2*'Lookup Tables'!Q13","v":0},{"$f":"$D$2*'Lookup Tables'!R13","v":0},{"$f":"$D$2*'Lookup Tables'!S13","v":0},{"$f":"$D$2*'Lookup Tables'!T13","v":0},{"$f":"$D$2*'Lookup Tables'!U13","v":0},{"$f":"$D$2*'Lookup Tables'!V13","v":0},null,10,{"$f":"$U$2*'Lookup Tables'!Y13","v":0},{"$f":"$U$2*'Lookup Tables'!Z13","v":0},{"$f":"$U$2*'Lookup Tables'!AA13","v":0},{"$f":"$U$2*'Lookup Tables'!AB13","v":0},{"$f":"$U$2*'Lookup Tables'!AC13","v":0},{"$f":"$U$2*'Lookup Tables'!AD13","v":0},{"$f":"$U$2*'Lookup Tables'!AE13","v":0},{"$f":"$U$2*'Lookup Tables'!AF13","v":0},{"$f":"$U$2*'Lookup Tables'!AG13","v":0},{"$f":"$U$2*'Lookup Tables'!AH13","v":0},{"$f":"$U$2*'Lookup Tables'!AI13","v":0},{"$f":"$U$2*'Lookup Tables'!AJ13","v":0},{"$f":"$U$2*'Lookup Tables'!AK13","v":0},{"$f":"$U$2*'Lookup Tables'!AL13","v":0},{"$f":"$U$2*'Lookup Tables'!AM13","v":0},null,10,{"$f":"$AL$2*'Lookup Tables'!AP13","v":0},{"$f":"$AL$2*'Lookup Tables'!AQ13","v":0},{"$f":"$AL$2*'Lookup Tables'!AR13","v":0},{"$f":"$AL$2*'Lookup Tables'!AS13","v":0},{"$f":"$AL$2*'Lookup Tables'!AT13","v":0},{"$f":"$AL$2*'Lookup Tables'!AU13","v":0},{"$f":"$AL$2*'Lookup Tables'!AV13","v":0},{"$f":"$AL$2*'Lookup Tables'!AW13","v":0},{"$f":"$AL$2*'Lookup Tables'!AX13","v":0},{"$f":"$AL$2*'Lookup Tables'!AY13","v":0},{"$f":"$AL$2*'Lookup Tables'!AZ13","v":0},{"$f":"$AL$2*'Lookup Tables'!BA13","v":0},{"$f":"$AL$2*'Lookup Tables'!BB13","v":0},{"$f":"$AL$2*'Lookup Tables'!BC13","v":0},{"$f":"$AL$2*'Lookup Tables'!BD13","v":0},null,10,{"$f":"$BC$2*'Lookup Tables'!BG13","v":0},{"$f":"$BC$2*'Lookup Tables'!BH13","v":0},{"$f":"$BC$2*'Lookup Tables'!BI13","v":0},{"$f":"$BC$2*'Lookup Tables'!BJ13","v":0},{"$f":"$BC$2*'Lookup Tables'!BK13","v":0},{"$f":"$BC$2*'Lookup Tables'!BL13","v":0},{"$f":"$BC$2*'Lookup Tables'!BM13","v":0},{"$f":"$BC$2*'Lookup Tables'!BN13","v":0},{"$f":"$BC$2*'Lookup Tables'!BO13","v":0},{"$f":"$BC$2*'Lookup Tables'!BP13","v":0},{"$f":"$BC$2*'Lookup Tables'!BQ13","v":0},{"$f":"$BC$2*'Lookup Tables'!BR13","v":0},{"$f":"$BC$2*'Lookup Tables'!BS13","v":0},{"$f":"$BC$2*'Lookup Tables'!BT13","v":0},{"$f":"$BC$2*'Lookup Tables'!BU13","v":0},null,10,{"$f":"$BT$2*'Lookup Tables'!BX13","v":0},{"$f":"$BT$2*'Lookup Tables'!BY13","v":0},{"$f":"$BT$2*'Lookup Tables'!BZ13","v":0},{"$f":"$BT$2*'Lookup Tables'!CA13","v":0},{"$f":"$BT$2*'Lookup Tables'!CB13","v":0},{"$f":"$BT$2*'Lookup Tables'!CC13","v":0},{"$f":"$BT$2*'Lookup Tables'!CD13","v":0},{"$f":"$BT$2*'Lookup Tables'!CE13","v":0},{"$f":"$BT$2*'Lookup Tables'!CF13","v":0},{"$f":"$BT$2*'Lookup Tables'!CG13","v":0},{"$f":"$BT$2*'Lookup Tables'!CH13","v":0},{"$f":"$BT$2*'Lookup Tables'!CI13","v":0},{"$f":"$BT$2*'Lookup Tables'!CJ13","v":0},{"$f":"$BT$2*'Lookup Tables'!CK13","v":0},{"$f":"$BT$2*'Lookup Tables'!CL13","v":0},null,null,10,0,0,0,0,0,0,0,0,0,0,0,0,0,0,0,null,{"$f":"CV13*Calculator!G$27/21","v":0}]
[null,11,{"$f":"$D$2*'Lookup Tables'!H14","v":0},{"$f":"$D$2*'Lookup Tables'!I14","v":0},{"$f":"$D$2*'Lookup Tables'!J14","v":0},{"$f":"$D$2*'Lookup Tables'!K14","v":0},{"$f":"$D$2*'Lookup Tables'!L14","v":0},{"$f":"$D$2*'Lookup Tables'!M14","v":0},{"$f":"$D$2*'Lookup Tables'!N14","v":0},{"$f":"$D$2*'Lookup Tables'!O14","v":0},{"$f":"$D$2*'Lookup Tables'!P14","v":0},{"$f":"$D$2*'Lookup Tables'!Q14","v":0},{"$f":"$D$2*'Lookup Tables'!R14","v":0},{"$f":"$D$2*'Lookup Tables'!S14","v":0},{"$f":"$D$2*'Lookup Tables'!T14","v":0},{"$f":"$D$2*'Lookup Tables'!U14","v":0},{"$f":"$D$2*'Lookup Tables'!V14","v":0},null,11,{"$f":"$U$2*'Lookup Tables'!Y14","v":0},{"$f":"$U$2*'Lookup Tables'!Z14","v":0},{"$f":"$U$2*'Lookup Tables'!AA14","v":0},{"$f":"$U$2*'Lookup Tables'!AB14","v":0},{"$f":"$U$2*'Lookup Tables'!AC14","v":0},{"$f":"$U$2*'Lookup Tables'!AD14","v":0},{"$f":"$U$2*'Lookup Tables'!AE14","v":0},{"$f":"$U$2*'Lookup Tables'!AF14","v":0},{"$f":"$U$2*'Lookup Tables'!AG14","v":0},{"$f":"$U$2*'Lookup Tables'!AH14","v":0},{"$f":"$U$2*'Lookup Tables'!AI14","v":0},{"$f":"$U$2*'Lookup Tables'!AJ14","v":0},{"$f":"$U$2*'Lookup Tables'!AK14","v":0},{"$f":"$U$2*'Lookup Tables'!AL14","v":0},{"$f":"$U$2*'Lookup Tables'!AM14","v":0},null,11,{"$f":"$AL$2*'Lookup Tables'!AP14","v":0},{"$f":"$AL$2*'Lookup Tables'!AQ14","v":0},{"$f":"$AL$2*'Lookup Tables'!AR14","v":0},{"$f":"$AL$2*'Lookup Tables'!AS14","v":0},{"$f":"$AL$2*'Lookup Tables'!AT14","v":0},{"$f":"$AL$2*'Lookup Tables'!AU14","v":0},{"$f":"$AL$2*'Lookup Tables'!AV14","v":0},{"$f":"$AL$2*'Lookup Tables'!AW14","v":0},{"$f":"$AL$2*'Lookup Tables'!AX14","v":0},{"$f":"$AL$2*'Lookup Tables'!AY14","v":0},{"$f":"$AL$2*'Lookup Tables'!AZ14","v":0},{"$f":"$AL$2*'Lookup Tables'!BA14","v":0},{"$f":"$AL$2*'Lookup Tables'!BB14","v":0},{"$f":"$AL$2*'Lookup Tables'!BC14","v":0},{"$f":"$AL$2*'Lookup Tables'!BD14","v":0},null,11,{"$f":"$BC$2*'Lookup Tables'!BG14","v":0},{"$f":"$BC$2*'Lookup Tables'!BH14","v":0},{"$f":"$BC$2*'Lookup Tables'!BI14","v":0},{"$f":"$BC$2*'Lookup Tables'!BJ14","v":0},{"$f":"$BC$2*'Lookup Tables'!BK14","v":0},{"$f":"$BC$2*'Lookup Tables'!BL14","v":0},{"$f":"$BC$2*'Lookup Tables'!BM14","v":0},{"$f":"$BC$2*'Lookup Tables'!BN14","v":0},{"$f":"$BC$2*'Lookup Tables'!BO14","v":0},{"$f":"$BC$2*'Lookup Tables'!BP14","v":0},{"$f":"$BC$2*'Lookup Tables'!BQ14","v":0},{"$f":"$BC$2*'Lookup Tables'!BR14","v":0},{"$f":"$BC$2*'Lookup Tables'!BS14","v":0},{"$f":"$BC$2*'Lookup Tables'!BT14","v":0},{"$f":"$BC$2*'Lookup Tables'!BU14","v":0},null,11,{"$f":"$BT$2*'Lookup Tables'!BX14","v":0},{"$f":"$BT$2*'Lookup Tables'!BY14","v":0},{"$f":"$BT$2*'Lookup Tables'!BZ14","v":0},{"$f":"$BT$2*'Lookup Tables'!CA14","v":0},{"$f":"$BT$2*'Lookup Tables'!CB14","v":0},{"$f":"$BT$2*'Lookup Tables'!CC14","v":0},{"$f":"$BT$2*'Lookup Tables'!CD14","v":0},{"$f":"$BT$2*'Lookup Tables'!CE14","v":0},{"$f":"$BT$2*'Lookup Tables'!CF14","v":0},{"$f":"$BT$2*'Lookup Tables'!CG14","v":0},{"$f":"$BT$2*'Lookup Tables'!CH14","v":0},{"$f":"$BT$2*'Lookup Tables'!CI14","v":0},{"$f":"$BT$2*'Lookup Tables'!CJ14","v":0},{"$f":"$BT$2*'Lookup Tables'!CK14","v":0},{"$f":"$BT$2*'Lookup Tables'!CL14","v":0},null,null,11,0,0,0,0,0,0,0,0,0,0,0,0,0,0,0,null,{"$f":"CV14*Calculator!G$27/21","v":0}]
[null,12,{"$f":"$D$2*'Lookup Tables'!H15","v":0},{"$f":"$D$2*'Lookup Tables'!I15","v":0},{"$f":"$D$2*'Lookup Tables'!J15","v":0},{"$f":"$D$2*'Lookup Tables'!K15","v":0},{"$f":"$D$2*'Lookup Tables'!L15","v":0},{"$f":"$D$2*'Lookup Tables'!M15","v":0},{"$f":"$D$2*'Lookup Tables'!N15","v":0},{"$f":"$D$2*'Lookup Tables'!O15","v":0},{"$f":"$D$2*'Lookup Tables'!P15","v":0},{"$f":"$D$2*'Lookup Tables'!Q15","v":0},{"$f":"$D$2*'Lookup Tables'!R15","v":0},{"$f":"$D$2*'Lookup Tables'!S15","v":0},{"$f":"$D$2*'Lookup Tables'!T15","v":0},{"$f":"$D$2*'Lookup Tables'!U15","v":0},{"$f":"$D$2*'Lookup Tables'!V15","v":0},null,12,{"$f":"$U$2*'Lookup Tables'!Y15","v":0},{"$f":"$U$2*'Lookup Tables'!Z15","v":0},{"$f":"$U$2*'Lookup Tables'!AA15","v":0},{"$f":"$U$2*'Lookup Tables'!AB15","v":0},{"$f":"$U$2*'Lookup Tables'!AC15","v":0},{"$f":"$U$2*'Lookup Tables'!AD15","v":0},{"$f":"$U$2*'Lookup Tables'!AE15","v":0},{"$f":"$U$2*'Lookup Tables'!AF15","v":0},{"$f":"$U$2*'Lookup Tables'!AG15","v":0},{"$f":"$U$2*'Lookup Tables'!AH15","v":0},{"$f":"$U$2*'Lookup Tables'!AI15","v":0},{"$f":"$U$2*'Lookup Tables'!AJ15","v":0},{"$f":"$U$2*'Lookup Tables'!AK15","v":0},{"$f":"$U$2*'Lookup Tables'!AL15","v":0},{"$f":"$U$2*'Lookup Tables'!AM15","v":0},null,12,{"$f":"$AL$2*'Lookup Tables'!AP15","v":0},{"$f":"$AL$2*'Lookup Tables'!AQ15","v":0},{"$f":"$AL$2*'Lookup Tables'!AR15","v":0},{"$f":"$AL$2*'Lookup Tables'!AS15","v":0},{"$f":"$AL$2*'Lookup Tables'!AT15","v":0},{"$f":"$AL$2*'Lookup Tables'!AU15","v":0},{"$f":"$AL$2*'Lookup Tables'!AV15","v":0},{"$f":"$AL$2*'Lookup Tables'!AW15","v":0},{"$f":"$AL$2*'Lookup Tables'!AX15","v":0},{"$f":"$AL$2*'Lookup Tables'!AY15","v":0},{"$f":"$AL$2*'Lookup Tables'!AZ15","v":0},{"$f":"$AL$2*'Lookup Tables'!BA15","v":0},{"$f":"$AL$2*'Lookup Tables'!BB15","v":0},{"$f":"$AL$2*'Lookup Tables'!BC15","v":0},{"$f":"$AL$2*'Lookup Tables'!BD15","v":0},null,12,{"$f":"$BC$2*'Lookup Tables'!BG15","v":0},{"$f":"$BC$2*'Lookup Tables'!BH15","v":0},{"$f":"$BC$2*'Lookup Tables'!BI15","v":0},{"$f":"$BC$2*'Lookup Tables'!BJ15","v":0},{"$f":"$BC$2*'Lookup Tables'!BK15","v":0},{"$f":"$BC$2*'Lookup Tables'!BL15","v":0},{"$f":"$BC$2*'Lookup Tables'!BM15","v":0},{"$f":"$BC$2*'Lookup Tables'!BN15","v":0},{"$f":"$BC$2*'Lookup Tables'!BO15","v":0},{"$f":"$BC$2*'Lookup Tables'!BP15","v":0},{"$f":"$BC$2*'Lookup Tables'!BQ15","v":0},{"$f":"$BC$2*'Lookup Tables'!BR15","v":0},{"$f":"$BC$2*'Lookup Tables'!BS15","v":0},{"$f":"$BC$2*'Lookup Tables'!BT15","v":0},{"$f":"$BC$2*'Lookup Tables'!BU15","v":0},null,12,{"$f":"$BT$2*'Lookup Tables'!BX15","v":0},{"$f":"$BT$2*'Lookup Tables'!BY15","v":0},{"$f":"$BT$2*'Lookup Tables'!BZ15","v":0},{"$f":"$BT$2*'Lookup Tables'!CA15","v":0},{"$f":"$BT$2*'Lookup Tables'!CB15","v":0},{"$f":"$BT$2*'Lookup Tables'!CC15","v":0},{"$f":"$BT$2*'Lookup Tables'!CD15","v":0},{"$f":"$BT$2*'Lookup Tables'!CE15","v":0},{"$f":"$BT$2*'Lookup Tables'!CF15","v":0},{"$f":"$BT$2*'Lookup Tables'!CG15","v":0},{"$f":"$BT$2*'Lookup Tables'!CH15","v":0},{"$f":"$BT$2*'Lookup Tables'!CI15","v":0},{"$f":"$BT$2*'Lookup Tables'!CJ15","v":0},{"$f":"$BT$2*'Lookup Tables'!CK15","v":0},{"$f":"$BT$2*'Lookup Tables'!CL15","v":0},null,null,12,0,0,0,0,0,0,0,0,0,0,0,0,0,0,0,null,{"$f":"CV15*Calculator!G$27/21","v":0}]
[null,13,{"$f":"$D$2*'Lookup Tables'!H16","v":0},{"$f":"$D$2*'Lookup Tables'!I16","v":0},{"$f":"$D$2*'Lookup Tables'!J16","v":0},{"$f":"$D$2*'Lookup Tables'!K16","v":0},{"$f":"$D$2*'Lookup Tables'!L16","v":0},{"$f":"$D$2*'Lookup Tables'!M16","v":0},{"$f":"$D$2*'Lookup Tables'!N16","v":0},{"$f":"$D$2*'Lookup Tables'!O16","v":0},{"$f":"$D$2*'Lookup Tables'!P16","v":0},{"$f":"$D$2*'Lookup Tables'!Q16","v":0},{"$f":"$D$2*'Lookup Tables'!R16","v":0},{"$f":"$D$2*'Lookup Tables'!S16","v":0},{"$f":"$D$2*'Lookup Tables'!T16","v":0},{"$f":"$D$2*'Lookup Tables'!U16","v":0},{"$f":"$D$2*'Lookup Tables'!V16","v":0},null,13,{"$f":"$U$2*'Lookup Tables'!Y16","v":0},{"$f":"$U$2*'Lookup Tables'!Z16","v":0},{"$f":"$U$2*'Lookup Tables'!AA16","v":0},{"$f":"$U$2*'Lookup Tables'!AB16","v":0},{"$f":"$U$2*'Lookup Tables'!AC16","v":0},{"$f":"$U$2*'Lookup Tables'!AD16","v":0},{"$f":"$U$2*'Lookup Tables'!AE16","v":0},{"$f":"$U$2*'Lookup Tables'!AF16","v":0},{"$f":"$U$2*'Lookup Tables'!AG16","v":0},{"$f":"$U$2*'Lookup Tables'!AH16","v":0},{"$f":"$U$2*'Lookup Tables'!AI16","v":0},{"$f":"$U$2*'Lookup Tables'!AJ16","v":0},{"$f":"$U$2*'Lookup Tables'!AK16","v":0},{"$f":"$U$2*'Lookup Tables'!AL16","v":0},{"$f":"$U$2*'Lookup Tables'!AM16","v":0},null,13,{"$f":"$AL$2*'Lookup Tables'!AP16","v":0},{"$f":"$AL$2*'Lookup Tables'!AQ16","v":0},{"$f":"$AL$2*'Lookup Tables'!AR16","v":0},{"$f":"$AL$2*'Lookup Tables'!AS16","v":0},{"$f":"$AL$2*'Lookup Tables'!AT16","v":0},{"$f":"$AL$2*'Lookup Tables'!AU16","v":0},{"$f":"$AL$2*'Lookup Tables'!AV16","v":0},{"$f":"$AL$2*'Lookup Tables'!AW16","v":0},{"$f":"$AL$2*'Lookup Tables'!AX16","v":0},{"$f":"$AL$2*'Lookup Tables'!AY16","v":0},{"$f":"$AL$2*'Lookup Tables'!AZ16","v":0},{"$f":"$AL$2*'Lookup Tables'!BA16","v":0},{"$f":"$AL$2*'Lookup Tables'!BB16","v":0},{"$f":"$AL$2*'Lookup Tables'!BC16","v":0},{"$f":"$AL$2*'Lookup Tables'!BD16","v":0},null,13,{"$f":"$BC$2*'Lookup Tables'!BG16","v":0},{"$f":"$BC$2*'Lookup Tables'!BH16","v":0},{"$f":"$BC$2*'Lookup Tables'!BI16","v":0},{"$f":"$BC$2*'Lookup Tables'!BJ16","v":0},{"$f":"$BC$2*'Lookup Tables'!BK16","v":0},{"$f":"$BC$2*'Lookup Tables'!BL16","v":0},{"$f":"$BC$2*'Lookup Tables'!BM16","v":0},{"$f":"$BC$2*'Lookup Tables'!BN16","v":0},{"$f":"$BC$2*'Lookup Tables'!BO16","v":0},{"$f":"$BC$2*'Lookup Tables'!BP16","v":0},{"$f":"$BC$2*'Lookup Tables'!BQ16","v":0},{"$f":"$BC$2*'Lookup Tables'!BR16","v":0},{"$f":"$BC$2*'Lookup Tables'!BS16","v":0},{"$f":"$BC$2*'Lookup Tables'!BT16","v":0},{"$f":"$BC$2*'Lookup Tables'!BU16","v":0},null,13,{"$f":"$BT$2*'Lookup Tables'!BX16","v":0},{"$f":"$BT$2*'Lookup Tables'!BY16","v":0},{"$f":"$BT$2*'Lookup Tables'!BZ16","v":0},{"$f":"$BT$2*'Lookup Tables'!CA16","v":0},{"$f":"$BT$2*'Lookup Tables'!CB16","v":0},{"$f":"$BT$2*'Lookup Tables'!CC16","v":0},{"$f":"$BT$2*'Lookup Tables'!CD16","v":0},{"$f":"$BT$2*'Lookup Tables'!CE16","v":0},{"$f":"$BT$2*'Lookup Tables'!CF16","v":0},{"$f":"$BT$2*'Lookup Tables'!CG16","v":0},{"$f":"$BT$2*'Lookup Tables'!CH16","v":0},{"$f":"$BT$2*'Lookup Tables'!CI16","v":0},{"$f":"$BT$2*'Lookup Tables'!CJ16","v":0},{"$f":"$BT$2*'Lookup Tables'!CK16","v":0},{"$f":"$BT$2*'Lookup Tables'!CL16","v":0},null,null,13,0,0,0,0,0,0,0,0,0,0,0,0,0,0,0,null,{"$f":"CV16*Calculator!G$27/21","v":0}]
[null,14,{"$f":"$D$2*'Lookup Tables'!H17","v":0},{"$f":"$D$2*'Lookup Tables'!I17","v":0},{"$f":"$D$2*'Lookup Tables'!J17","v":0},{"$f":"$D$2*'Lookup Tables'!K17","v":0},{"$f":"$D$2*'Lookup Tables'!L17","v":0},{"$f":"$D$2*'Lookup Tables'!M17","v":0},{"$f":"$D$2*'Lookup Tables'!N17","v":0},{"$f":"$D$2*'Lookup Tables'!O17","v":0},{"$f":"$D$2*'Lookup Tables'!P17","v":0},{"$f":"$D$2*'Lookup Tables'!Q17","v":0},{"$f":"$D$2*'Lookup Tables'!R17","v":0},{"$f":"$D$2*'Lookup Tables'!S17","v":0},{"$f":"$D$2*'Lookup Tables'!T17","v":0},{"$f":"$D$2*'Lookup Tables'!U17","v":0},{"$f":"$D$2*'Lookup Tables'!V17","v":0},null,14,{"$f":"$U$2*'Lookup Tables'!Y17","v":0},{"$f":"$U$2*'Lookup Tables'!Z17","v":0},{"$f":"$U$2*'Lookup Tables'!AA17","v":0},{"$f":"$U$2*'Lookup Tables'!AB17","v":0},{"$f":"$U$2*'Lookup Tables'!AC17","v":0},{"$f":"$U$2*'Lookup Tables'!AD17","v":0},{"$f":"$U$2*'Lookup Tables'!AE17","v":0},{"$f":"$U$2*'Lookup Tables'!AF17","v":0},{"$f":"$U$2*'Lookup Tables'!AG17","v":0},{"$f":"$U$2*'Lookup Tables'!AH17","v":0},{"$f":"$U$2*'Lookup Tables'!AI17","v":0},{"$f":"$U$2*'Lookup Tables'!AJ17","v":0},{"$f":"$U$2*'Lookup Tables'!AK17","v":0},{"$f":"$U$2*'Lookup Tables'!AL17","v":0},{"$f":"$U$2*'Lookup Tables'!AM17","v":0},null,14,{"$f":"$AL$2*'Lookup Tables'!AP17","v":0},{"$f":"$AL$2*'Lookup Tables'!AQ17","v":0},{"$f":"$AL$2*'Lookup Tables'!AR17","v":0},{"$f":"$AL$2*'Lookup Tables'!AS17","v":0},{"$f":"$AL$2*'Lookup Tables'!AT17","v":0},{"$f":"$AL$2*'Lookup Tables'!AU17","v":0},{"$f":"$AL$2*'Lookup Tables'!AV17","v":0},{"$f":"$AL$2*'Lookup Tables'!AW17","v":0},{"$f":"$AL$2*'Lookup Tables'!AX17","v":0},{"$f":"$AL$2*'Lookup Tables'!AY17","v":0},{"$f":"$AL$2*'Lookup Tables'!AZ17","v":0},{"$f":"$AL$2*'Lookup Tables'!BA17","v":0},{"$f":"$AL$2*'Lookup Tables'!BB17","v":0},{"$f":"$AL$2*'Lookup Tables'!BC17","v":0},{"$f":"$AL$2*'Lookup Tables'!BD17","v":0},null,14,{"$f":"$BC$2*'Lookup Tables'!BG17","v":0},{"$f":"$BC$2*'Lookup Tables'!BH17","v":0},{"$f":"$BC$2*'Lookup Tables'!BI17","v":0},{"$f":"$BC$2*'Lookup Tables'!BJ17","v":0},{"$f":"$BC$2*'Lookup Tables'!BK17","v":0},{"$f":"$BC$2*'Lookup Tables'!BL17","v":0},{"$f":"$BC$2*'Lookup Tables'!BM17","v":0},{"$f":"$BC$2*'Lookup Tables'!BN17","v":0},{"$f":"$BC$2*'Lookup Tables'!BO17","v":0},{"$f":"$BC$2*'Lookup Tables'!BP17","v":0},{"$f":"$BC$2*'Lookup Tables'!BQ17","v":0},{"$f":"$BC$2*'Lookup Tables'!BR17","v":0},{"$f":"$BC$2*'Lookup Tables'!BS17","v":0},{"$f":"$BC$2*'Lookup Tables'!BT17","v":0},{"$f":"$BC$2*'Lookup Tables'!BU17","v":0},null,14,{"$f":"$BT$2*'Lookup Tables'!BX17","v":0},{"$f":"$BT$2*'Lookup Tables'!BY17","v":0},{"$f":"$BT$2*'Lookup Tables'!BZ17","v":0},{"$f":"$BT$2*'Lookup Tables'!CA17","v":0},{"$f":"$BT$2*'Lookup Tables'!CB17","v":0},{"$f":"$BT$2*'Lookup Tables'!CC17","v":0},{"$f":"$BT$2*'Lookup Tables'!CD17","v":0},{"$f":"$BT$2*'Lookup Tables'!CE17","v":0},{"$f":"$BT$2*'Lookup Tables'!CF17","v":0},{"$f":"$BT$2*'Lookup Tables'!CG17","v":0},{"$f":"$BT$2*'Lookup Tables'!CH17","v":0},{"$f":"$BT$2*'Lookup Tables'!CI17","v":0},{"$f":"$BT$2*'Lookup Tables'!CJ17","v":0},{"$f":"$BT$2*'Lookup Tables'!CK17","v":0},{"$f":"$BT$2*'Lookup Tables'!CL17","v":0},null,null,14,0,0,0,0,0,0,0,0,0,0,0,0,0,0,0,null,{"$f":"CV17*Calculator!G$27/21","v":0}]
[null,15,{"$f":"$D$2*'Lookup Tables'!H18","v":0},{"$f":"$D$2*'Lookup Tables'!I18","v":0},{"$f":"$D$2*'Lookup Tables'!J18","v":0},{"$f":"$D$2*'Lookup Tables'!K18","v":0},{"$f":"$D$2*'Lookup Tables'!L18","v":0},{"$f":"$D$2*'Lookup Tables'!M18","v":0},{"$f":"$D$2*'Lookup Tables'!N18","v":0},{"$f":"$D$2*'Lookup Tables'!O18","v":0},{"$f":"$D$2*'Lookup Tables'!P18","v":0},{"$f":"$D$2*'Lookup Tables'!Q18","v":0},{"$f":"$D$2*'Lookup Tables'!R18","v":0},{"$f":"$D$2*'Lookup Tables'!S18","v":0},{"$f":"$D$2*'Lookup Tables'!T18","v":0},{"$f":"$D$2*'Lookup Tables'!U18","v":0},{"$f":"$D$2*'Lookup Tables'!V18","v":0},null,15,{"$f":"$U$2*'Lookup Tables'!Y18","v":0},{"$f":"$U$2*'Lookup Tables'!Z18","v":0},{"$f":"$U$2*'Lookup Tables'!AA18","v":0},{"$f":"$U$2*'Lookup Tables'!AB18","v":0},{"$f":"$U$2*'Lookup Tables'!AC18","v":0},{"$f":"$U$2*'Lookup Tables'!AD18","v":0},{"$f":"$U$2*'Lookup Tables'!AE18","v":0},{"$f":"$U$2*'Lookup Tables'!AF18","v":0},{"$f":"$U$2*'Lookup Tables'!AG18","v":0},{"$f":"$U$2*'Lookup Tables'!AH18","v":0},{"$f":"$U$2*'Lookup Tables'!AI18","v":0},{"$f":"$U$2*'Lookup Tables'!AJ18","v":0},{"$f":"$U$2*'Lookup Tables'!AK18","v":0},{"$f":"$U$2*'Lookup Tables'!AL18","v":0},{"$f":"$U$2*'Lookup Tables'!AM18","v":0},null,15,{"$f":"$AL$2*'Lookup Tables'!AP18","v":0},{"$f":"$AL$2*'Lookup Tables'!AQ18","v":0},{"$f":"$AL$2*'Lookup Tables'!AR18","v":0},{"$f":"$AL$2*'Lookup Tables'!AS18","v":0},{"$f":"$AL$2*'Lookup Tables'!AT18","v":0},{"$f":"$AL$2*'Lookup Tables'!AU18","v":0},{"$f":"$AL$2*'Lookup Tables'!AV18","v":0},{"$f":"$AL$2*'Lookup Tables'!AW18","v":0},{"$f":"$AL$2*'Lookup Tables'!AX18","v":0},{"$f":"$AL$2*'Lookup Tables'!AY18","v":0},{"$f":"$AL$2*'Lookup Tables'!AZ18","v":0},{"$f":"$AL$2*'Lookup Tables'!BA18","v":0},{"$f":"$AL$2*'Lookup Tables'!BB18","v":0},{"$f":"$AL$2*'Lookup Tables'!BC18","v":0},{"$f":"$AL$2*'Lookup Tables'!BD18","v":0},null,15,{"$f":"$BC$2*'Lookup Tables'!BG18","v":0},{"$f":"$BC$2*'Lookup Tables'!BH18","v":0},{"$f":"$BC$2*'Lookup Tables'!BI18","v":0},{"$f":"$BC$2*'Lookup Tables'!BJ18","v":0},{"$f":"$BC$2*'Lookup Tables'!BK18","v":0},{"$f":"$BC$2*'Lookup Tables'!BL18","v":0},{"$f":"$BC$2*'Lookup Tables'!BM18","v":0},{"$f":"$BC$2*'Lookup Tables'!BN18","v":0},{"$f":"$BC$2*'Lookup Tables'!BO18","v":0},{"$f":"$BC$2*'Lookup Tables'!BP18","v":0},{"$f":"$BC$2*'Lookup Tables'!BQ18","v":0},{"$f":"$BC$2*'Lookup Tables'!BR18","v":0},{"$f":"$BC$2*'Lookup Tables'!BS18","v":0},{"$f":"$BC$2*'Lookup Tables'!BT18","v":0},{"$f":"$BC$2*'Lookup Tables'!BU18","v":0},null,15,{"$f":"$BT$2*'Lookup Tables'!BX18","v":0},{"$f":"$BT$2*'Lookup Tables'!BY18","v":0},{"$f":"$BT$2*'Lookup Tables'!BZ18","v":0},{"$f":"$BT$2*'Lookup Tables'!CA18","v":0},{"$f":"$BT$2*'Lookup Tables'!CB18","v":0},{"$f":"$BT$2*'Lookup Tables'!CC18","v":0},{"$f":"$BT$2*'Lookup Tables'!CD18","v":0},{"$f":"$BT$2*'Lookup Tables'!CE18","v":0},{"$f":"$BT$2*'Lookup Tables'!CF18","v":0},{"$f":"$BT$2*'Lookup Tables'!CG18","v":0},{"$f":"$BT$2*'Lookup Tables'!CH18","v":0},{"$f":"$BT$2*'Lookup Tables'!CI18","v":0},{"$f":"$BT$2*'Lookup Tables'!CJ18","v":0},{"$f":"$BT$2*'Lookup Tables'!CK18","v":0},{"$f":"$BT$2*'Lookup Tables'!CL18","v":0},null,null,15,0,0,0,0,0,0,0,0,0,0,0,0,0,0,0,null,{"$f":"CV18*Calculator!G$27/21","v":0}]
[null,16,{"$f":"$D$2*'Lookup Tables'!H19","v":0},{"$f":"$D$2*'Lookup Tables'!I19","v":0},{"$f":"$D$2*'Lookup Tables'!J19","v":0},{"$f":"$D$2*'Lookup Tables'!K19","v":0},{"$f":"$D$2*'Lookup Tables'!L19","v":0},{"$f":"$D$2*'Lookup Tables'!M19","v":0},{"$f":"$D$2*'Lookup Tables'!N19","v":0},{"$f":"$D$2*'Lookup Tables'!O19","v":0},{"$f":"$D$2*'Lookup Tables'!P19","v":0},{"$f":"$D$2*'Lookup Tables'!Q19","v":0},{"$f":"$D$2*'Lookup Tables'!R19","v":0},{"$f":"$D$2*'Lookup Tables'!S19","v":0},{"$f":"$D$2*'Lookup Tables'!T19","v":0},{"$f":"$D$2*'Lookup Tables'!U19","v":0},{"$f":"$D$2*'Lookup Tables'!V19","v":0},null,16,{"$f":"$U$2*'Lookup Tables'!Y19","v":0},{"$f":"$U$2*'Lookup Tables'!Z19","v":0},{"$f":"$U$2*'Lookup Tables'!AA19","v":0},{"$f":"$U$2*'Lookup Tables'!AB19","v":0},{"$f":"$U$2*'Lookup Tables'!AC19","v":0},{"$f":"$U$2*'Lookup Tables'!AD19","v":0},{"$f":"$U$2*'Lookup Tables'!AE19","v":0},{"$f":"$U$2*'Lookup Tables'!AF19","v":0},{"$f":"$U$2*'Lookup Tables'!AG19","v":0},{"$f":"$U$2*'Lookup Tables'!AH19","v":0},{"$f":"$U$2*'Lookup Tables'!AI19","v":0},{"$f":"$U$2*'Lookup Tables'!AJ19","v":0},{"$f":"$U$2*'Lookup Tables'!AK19","v":0},{"$f":"$U$2*'Lookup Tables'!AL19","v":0},{"$f":"$U$2*'Lookup Tables'!AM19","v":0},null,16,{"$f":"$AL$2*'Lookup Tables'!AP19","v":0},{"$f":"$AL$2*'Lookup Tables'!AQ19","v":0},{"$f":"$AL$2*'Lookup Tables'!AR19","v":0},{"$f":"$AL$2*'Lookup Tables'!AS19","v":0},{"$f":"$AL$2*'Lookup Tables'!AT19","v":0},{"$f":"$AL$2*'Lookup Tables'!AU19","v":0},{"$f":"$AL$2*'Lookup Tables'!AV19","v":0},{"$f":"$AL$2*'Lookup Tables'!AW19","v":0},{"$f":"$AL$2*'Lookup Tables'!AX19","v":0},{"$f":"$AL$2*'Lookup Tables'!AY19","v":0},{"$f":"$AL$2*'Lookup Tables'!AZ19","v":0},{"$f":"$AL$2*'Lookup Tables'!BA19","v":0},{"$f":"$AL$2*'Lookup Tables'!BB19","v":0},{"$f":"$AL$2*'Lookup Tables'!BC19","v":0},{"$f":"$AL$2*'Lookup Tables'!BD19","v":0},null,16,{"$f":"$BC$2*'Lookup Tables'!BG19","v":0},{"$f":"$BC$2*'Lookup Tables'!BH19","v":0},{"$f":"$BC$2*'Lookup Tables'!BI19","v":0},{"$f":"$BC$2*'Lookup Tables'!BJ19","v":0},{"$f":"$BC$2*'Lookup Tables'!BK19","v":0},{"$f":"$BC$2*'Lookup Tables'!BL19","v":0},{"$f":"$BC$2*'Lookup Tables'!BM19","v":0},{"$f":"$BC$2*'Lookup Tables'!BN19","v":0},{"$f":"$BC$2*'Lookup Tables'!BO19","v":0},{"$f":"$BC$2*'Lookup Tables'!BP19","v":0},{"$f":"$BC$2*'Lookup Tables'!BQ19","v":0},{"$f":"$BC$2*'Lookup Tables'!BR19","v":0},{"$f":"$BC$2*'Lookup Tables'!BS19","v":0},{"$f":"$BC$2*'Lookup Tables'!BT19","v":0},{"$f":"$BC$2*'Lookup Tables'!BU19","v":0},null,16,{"$f":"$BT$2*'Lookup Tables'!BX19","v":0},{"$f":"$BT$2*'Lookup Tables'!BY19","v":0},{"$f":"$BT$2*'Lookup Tables'!BZ19","v":0},{"$f":"$BT$2*'Lookup Tables'!CA19","v":0},{"$f":"$BT$2*'Lookup Tables'!CB19","v":0},{"$f":"$BT$2*'Lookup Tables'!CC19","v":0},{"$f":"$BT$2*'Lookup Tables'!CD19","v":0},{"$f":"$BT$2*'Lookup Tables'!CE19","v":0},{"$f":"$BT$2*'Lookup Tables'!CF19","v":0},{"$f":"$BT$2*'Lookup Tables'!CG19","v":0},{"$f":"$BT$2*'Lookup Tables'!CH19","v":0},{"$f":"$BT$2*'Lookup Tables'!CI19","v":0},{"$f":"$BT$2*'Lookup Tables'!CJ19","v":0},{"$f":"$BT$2*'Lookup Tables'!CK19","v":0},{"$f":"$BT$2*'Lookup Tables'!CL19","v":0},null,null,16,0,0,0,0,0,0,0,0,0,0,0,0,0,0,0,null,{"$f":"CV19*Calculator!G$27/21","v":0}]
[null,17,{"$f":"$D$2*'Lookup Tables'!H20","v":0},{"$f":"$D$2*'Lookup Tables'!I20","v":0},{"$f":"$D$2*'Lookup Tables'!J20","v":0},{"$f":"$D$2*'Lookup Tables'!K20","v":0},{"$f":"$D$2*'Lookup Tables'!L20","v":0},{"$f":"$D$2*'Lookup Tables'!M20","v":0},{"$f":"$D$2*'Lookup Tables'!N20","v":0},{"$f":"$D$2*'Lookup Tables'!O20","v":0},{"$f":"$D$2*'Lookup Tables'!P20","v":0},{"$f":"$D$2*'Lookup Tables'!Q20","v":0},{"$f":"$D$2*'Lookup Tables'!R20","v":0},{"$f":"$D$2*'Lookup Tables'!S20","v":0},{"$f":"$D$2*'Lookup Tables'!T20","v":0},{"$f":"$D$2*'Lookup Tables'!U20","v":0},{"$f":"$D$2*'Lookup Tables'!V20","v":0},null,17,{"$f":"$U$2*'Lookup Tables'!Y20","v":0},{"$f":"$U$2*'Lookup Tables'!Z20","v":0},{"$f":"$U$2*'Lookup Tables'!AA20","v":0},{"$f":"$U$2*'Lookup Tables'!AB20","v":0},{"$f":"$U$2*'Lookup Tables'!AC20","v":0},{"$f":"$U$2*'Lookup Tables'!AD20","v":0},{"$f":"$U$2*'Lookup Tables'!AE20","v":0},{"$f":"$U$2*'Lookup Tables'!AF20","v":0},{"$f":"$U$2*'Lookup Tables'!AG20","v":0},{"$f":"$U$2*'Lookup Tables'!AH20","v":0},{"$f":"$U$2*'Lookup Tables'!AI20","v":0},{"$f":"$U$2*'Lookup Tables'!AJ20","v":0},{"$f":"$U$2*'Lookup Tables'!AK20","v":0},{"$f":"$U$2*'Lookup Tables'!AL20","v":0},{"$f":"$U$2*'Lookup Tables'!AM20","v":0},null,17,{"$f":"$AL$2*'Lookup Tables'!AP20","v":0},{"$f":"$AL$2*'Lookup Tables'!AQ20","v":0},{"$f":"$AL$2*'Lookup Tables'!AR20","v":0},{"$f":"$AL$2*'Lookup Tables'!AS20","v":0},{"$f":"$AL$2*'Lookup Tables'!AT20","v":0},{"$f":"$AL$2*'Lookup Tables'!AU20","v":0},{"$f":"$AL$2*'Lookup Tables'!AV20","v":0},{"$f":"$AL$2*'Lookup Tables'!AW20","v":0},{"$f":"$AL$2*'Lookup Tables'!AX20","v":0},{"$f":"$AL$2*'Lookup Tables'!AY20","v":0},{"$f":"$AL$2*'Lookup Tables'!AZ20","v":0},{"$f":"$AL$2*'Lookup Tables'!BA20","v":0},{"$f":"$AL$2*'Lookup Tables'!BB20","v":0},{"$f":"$AL$2*'Lookup Tables'!BC20","v":0},{"$f":"$AL$2*'Lookup Tables'!BD20","v":0},null,17,{"$f":"$BC$2*'Lookup Tables'!BG20","v":0},{"$f":"$BC$2*'Lookup Tables'!BH20","v":0},{"$f":"$BC$2*'Lookup Tables'!BI20","v":0},{"$f":"$BC$2*'Lookup Tables'!BJ20","v":0},{"$f":"$BC$2*'Lookup Tables'!BK20","v":0},{"$f":"$BC$2*'Lookup Tables'!BL20","v":0},{"$f":"$BC$2*'Lookup Tables'!BM20","v":0},{"$f":"$BC$2*'Lookup Tables'!BN20","v":0},{"$f":"$BC$2*'Lookup Tables'!BO20","v":0},{"$f":"$BC$2*'Lookup Tables'!BP20","v":0},{"$f":"$BC$2*'Lookup Tables'!BQ20","v":0},{"$f":"$BC$2*'Lookup Tables'!BR20","v":0},{"$f":"$BC$2*'Lookup Tables'!BS20","v":0},{"$f":"$BC$2*'Lookup Tables'!BT20","v":0},{"$f":"$BC$2*'Lookup Tables'!BU20","v":0},null,17,{"$f":"$BT$2*'Lookup Tables'!BX20","v":0},{"$f":"$BT$2*'Lookup Tables'!BY20","v":0},{"$f":"$BT$2*'Lookup Tables'!BZ20","v":0},{"$f":"$BT$2*'Lookup Tables'!CA20","v":0},{"$f":"$BT$2*'Lookup Tables'!CB20","v":0},{"$f":"$BT$2*'Lookup Tables'!CC20","v":0},{"$f":"$BT$2*'Lookup Tables'!CD20","v":0},{"$f":"$BT$2*'Lookup Tables'!CE20","v":0},{"$f":"$BT$2*'Lookup Tables'!CF20","v":0},{"$f":"$BT$2*'Lookup Tables'!CG20","v":0},{"$f":"$BT$2*'Lookup Tables'!CH20","v":0},{"$f":"$BT$2*'Lookup Tables'!CI20","v":0},{"$f":"$BT$2*'Lookup Tables'!CJ20","v":0},{"$f":"$BT$2*'Lookup Tables'!CK20","v":0},{"$f":"$BT$2*'Lookup Tables'!CL20","v":0},null,null,17,0,0,0,0,0,0,0,0,0,0,0,0,0,0,0,null,{"$f":"CV20*Calculator!G$27/21","v":0}]
[null,18,{"$f":"$D$2*'Lookup Tables'!H21","v":0},{"$f":"$D$2*'Lookup Tables'!I21","v":0},{"$f":"$D$2*'Lookup Tables'!J21","v":0},{"$f":"$D$2*'Lookup Tables'!K21","v":0},{"$f":"$D$2*'Lookup Tables'!L21","v":0},{"$f":"$D$2*'Lookup Tables'!M21","v":0},{"$f":"$D$2*'Lookup Tables'!N21","v":0},{"$f":"$D$2*'Lookup Tables'!O21","v":0},{"$f":"$D$2*'Lookup Tables'!P21","v":0},{"$f":"$D$2*'Lookup Tables'!Q21","v":0},{"$f":"$D$2*'Lookup Tables'!R21","v":0},{"$f":"$D$2*'Lookup Tables'!S21","v":0},{"$f":"$D$2*'Lookup Tables'!T21","v":0},{"$f":"$D$2*'Lookup Tables'!U21","v":0},{"$f":"$D$2*'Lookup Tables'!V21","v":0},null,18,{"$f":"$U$2*'Lookup Tables'!Y21","v":0},{"$f":"$U$2*'Lookup Tables'!Z21","v":0},{"$f":"$U$2*'Lookup Tables'!AA21","v":0},{"$f":"$U$2*'Lookup Tables'!AB21","v":0},{"$f":"$U$2*'Lookup Tables'!AC21","v":0},{"$f":"$U$2*'Lookup Tables'!AD21","v":0},{"$f":"$U$2*'Lookup Tables'!AE21","v":0},{"$f":"$U$2*'Lookup Tables'!AF21","v":0},{"$f":"$U$2*'Lookup Tables'!AG21","v":0},{"$f":"$U$2*'Lookup Tables'!AH21","v":0},{"$f":"$U$2*'Lookup Tables'!AI21","v":0},{"$f":"$U$2*'Lookup Tables'!AJ21","v":0},{"$f":"$U$2*'Lookup Tables'!AK21","v":0},{"$f":"$U$2*'Lookup Tables'!AL21","v":0},{"$f":"$U$2*'Lookup Tables'!AM21","v":0},null,18,{"$f":"$AL$2*'Lookup Tables'!AP21","v":0},{"$f":"$AL$2*'Lookup Tables'!AQ21","v":0},{"$f":"$AL$2*'Lookup Tables'!AR21","v":0},{"$f":"$AL$2*'Lookup Tables'!AS21","v":0},{"$f":"$AL$2*'Lookup Tables'!AT21","v":0},{"$f":"$AL$2*'Lookup Tables'!AU21","v":0},{"$f":"$AL$2*'Lookup Tables'!AV21","v":0},{"$f":"$AL$2*'Lookup Tables'!AW21","v":0},{"$f":"$AL$2*'Lookup Tables'!AX21","v":0},{"$f":"$AL$2*'Lookup Tables'!AY21","v":0},{"$f":"$AL$2*'Lookup Tables'!AZ21","v":0},{"$f":"$AL$2*'Lookup Tables'!BA21","v":0},{"$f":"$AL$2*'Lookup Tables'!BB21","v":0},{"$f":"$AL$2*'Lookup Tables'!BC21","v":0},{"$f":"$AL$2*'Lookup Tables'!BD21","v":0},null,18,{"$f":"$BC$2*'Lookup Tables'!BG21","v":0},{"$f":"$BC$2*'Lookup Tables'!BH21","v":0},{"$f":"$BC$2*'Lookup Tables'!BI21","v":0},{"$f":"$BC$2*'Lookup Tables'!BJ21","v":0},{"$f":"$BC$2*'Lookup Tables'!BK21","v":0},{"$f":"$BC$2*'Lookup Tables'!BL21","v":0},{"$f":"$BC$2*'Lookup Tables'!BM21","v":0},{"$f":"$BC$2*'Lookup Tables'!BN21","v":0},{"$f":"$BC$2*'Lookup Tables'!BO21","v":0},{"$f":"$BC$2*'Lookup Tables'!BP21","v":0},{"$f":"$BC$2*'Lookup Tables'!BQ21","v":0},{"$f":"$BC$2*'Lookup Tables'!BR21","v":0},{"$f":"$BC$2*'Lookup Tables'!BS21","v":0},{"$f":"$BC$2*'Lookup Tables'!BT21","v":0},{"$f":"$BC$2*'Lookup Tables'!BU21","v":0},null,18,{"$f":"$BT$2*'Lookup Tables'!BX21","v":0},{"$f":"$BT$2*'Lookup Tables'!BY21","v":0},{"$f":"$BT$2*'Lookup Tables'!BZ21","v":0},{"$f":"$BT$2*'Lookup Tables'!CA21","v":0},{"$f":"$BT$2*'Lookup Tables'!CB21","v":0},{"$f":"$BT$2*'Lookup Tables'!CC21","v":0},{"$f":"$BT$2*'Lookup Tables'!CD21","v":0},{"$f":"$BT$2*'Lookup Tables'!CE21","v":0},{"$f":"$BT$2*'Lookup Tables'!CF21","v":0},{"$f":"$BT$2*'Lookup Tables'!CG21","v":0},{"$f":"$BT$2*'Lookup Tables'!CH21","v":0},{"$f":"$BT$2*'Lookup Tables'!CI21","v":0},{"$f":"$BT$2*'Lookup Tables'!CJ21","v":0},{"$f":"$BT$2*'Lookup Tables'!CK21","v":0},{"$f":"$BT$2*'Lookup Tables'!CL21","v":0},null,null,18,0,0,0,0,0,0,0,0,0,0,0,0,0,0,0,null,{"$f":"CV21*Calculator!G$27/21","v":0}]
[null,19,{"$f":"$D$2*'Lookup Tables'!H22","v":0},{"$f":"$D$2*'Lookup Tables'!I22","v":0},{"$f":"$D$2*'Lookup Tables'!J22","v":0},{"$f":"$D$2*'Lookup Tables'!K22","v":0},{"$f":"$D$2*'Lookup Tables'!L22","v":0},{"$f":"$D$2*'Lookup Tables'!M22","v":0},{"$f":"$D$2*'Lookup Tables'!N22","v":0},{"$f":"$D$2*'Lookup Tables'!O22","v":0},{"$f":"$D$2*'Lookup Tables'!P22","v":0},{"$f":"$D$2*'Lookup Tables'!Q22","v":0},{"$f":"$D$2*'Lookup Tables'!R22","v":0},{"$f":"$D$2*'Lookup Tables'!S22","v":0},{"$f":"$D$2*'Lookup Tables'!T22","v":0},{"$f":"$D$2*'Lookup Tables'!U22","v":0},{"$f":"$D$2*'Lookup Tables'!V22","v":0},null,19,{"$f":"$U$2*'Lookup Tables'!Y22","v":0},{"$f":"$U$2*'Lookup Tables'!Z22","v":0},{"$f":"$U$2*'Lookup Tables'!AA22","v":0},{"$f":"$U$2*'Lookup Tables'!AB22","v":0},{"$f":"$U$2*'Lookup Tables'!AC22","v":0},{"$f":"$U$2*'Lookup Tables'!AD22","v":0},{"$f":"$U$2*'Lookup Tables'!AE22","v":0},{"$f":"$U$2*'Lookup Tables'!AF22","v":0},{"$f":"$U$2*'Lookup Tables'!AG22","v":0},{"$f":"$U$2*'Lookup Tables'!AH22","v":0},{"$f":"$U$2*'Lookup Tables'!AI22","v":0},{"$f":"$U$2*'Lookup Tables'!AJ22","v":0},{"$f":"$U$2*'Lookup Tables'!AK22","v":0},{"$f":"$U$2*'Lookup Tables'!AL22","v":0},{"$f":"$U$2*'Lookup Tables'!AM22","v":0},null,19,{"$f":"$AL$2*'Lookup Tables'!AP22","v":0},{"$f":"$AL$2*'Lookup Tables'!AQ22","v":0},{"$f":"$AL$2*'Lookup Tables'!AR22","v":0},{"$f":"$AL$2*'Lookup Tables'!AS22","v":0},{"$f":"$AL$2*'Lookup Tables'!AT22","v":0},{"$f":"$AL$2*'Lookup Tables'!AU22","v":0},{"$f":"$AL$2*'Lookup Tables'!AV22","v":0},{"$f":"$AL$2*'Lookup Tables'!AW22","v":0},{"$f":"$AL$2*'Lookup Tables'!AX22","v":0},{"$f":"$AL$2*'Lookup Tables'!AY22","v":0},{"$f":"$AL$2*'Lookup Tables'!AZ22","v":0},{"$f":"$AL$2*'Lookup Tables'!BA22","v":0},{"$f":"$AL$2*'Lookup Tables'!BB22","v":0},{"$f":"$AL$2*'Lookup Tables'!BC22","v":0},{"$f":"$AL$2*'Lookup Tables'!BD22","v":0},null,19,{"$f":"$BC$2*'Lookup Tables'!BG22","v":0},{"$f":"$BC$2*'Lookup Tables'!BH22","v":0},{"$f":"$BC$2*'Lookup Tables'!BI22","v":0},{"$f":"$BC$2*'Lookup Tables'!BJ22","v":0},{"$f":"$BC$2*'Lookup Tables'!BK22","v":0},{"$f":"$BC$2*'Lookup Tables'!BL22","v":0},{"$f":"$BC$2*'Lookup Tables'!BM22","v":0},{"$f":"$BC$2*'Lookup Tables'!BN22","v":0},{"$f":"$BC$2*'Lookup Tables'!BO22","v":0},{"$f":"$BC$2*'Lookup Tables'!BP22","v":0},{"$f":"$BC$2*'Lookup Tables'!BQ22","v":0},{"$f":"$BC$2*'Lookup Tables'!BR22","v":0},{"$f":"$BC$2*'Lookup Tables'!BS22","v":0},{"$f":"$BC$2*'Lookup Tables'!BT22","v":0},{"$f":"$BC$2*'Lookup Tables'!BU22","v":0},null,19,{"$f":"$BT$2*'Lookup Tables'!BX22","v":0},{"$f":"$BT$2*'Lookup Tables'!BY22","v":0},{"$f":"$BT$2*'Lookup Tables'!BZ22","v":0},{"$f":"$BT$2*'Lookup Tables'!CA22","v":0},{"$f":"$BT$2*'Lookup Tables'!CB22","v":0},{"$f":"$BT$2*'Lookup Tables'!CC22","v":0},{"$f":"$BT$2*'Lookup Tables'!CD22","v":0},{"$f":"$BT$2*'Lookup Tables'!CE22","v":0},{"$f":"$BT$2*'Lookup Tables'!CF22","v":0},{"$f":"$BT$2*'Lookup Tables'!CG22","v":0},{"$f":"$BT$2*'Lookup Tables'!CH22","v":0},{"$f":"$BT$2*'Lookup Tables'!CI22","v":0},{"$f":"$BT$2*'Lookup Tables'!CJ22","v":0},{"$f":"$BT$2*'Lookup Tables'!CK22","v":0},{"$f":"$BT$2*'Lookup Tables'!CL22","v":0},null,null,19,0,0,0,0,0,0,0,0,0,0,0,0,0,0,0,null,{"$f":"CV22*Calculator!G$27/21","v":0}]
[null,20,{"$f":"$D$2*'Lookup Tables'!H23","v":0},{"$f":"$D$2*'Lookup Tables'!I23","v":0},{"$f":"$D$2*'Lookup Tables'!J23","v":0},{"$f":"$D$2*'Lookup Tables'!K23","v":0},{"$f":"$D$2*'Lookup Tables'!L23","v":0},{"$f":"$D$2*'Lookup Tables'!M23","v":0},{"$f":"$D$2*'Lookup Tables'!N23","v":0},{"$f":"$D$2*'Lookup Tables'!O23","v":0},{"$f":"$D$2*'Lookup Tables'!P23","v":0},{"$f":"$D$2*'Lookup Tables'!Q23","v":0},{"$f":"$D$2*'Lookup Tables'!R23","v":0},{"$f":"$D$2*'Lookup Tables'!S23","v":0},{"$f":"$D$2*'Lookup Tables'!T23","v":0},{"$f":"$D$2*'Lookup Tables'!U23","v":0},{"$f":"$D$2*'Lookup Tables'!V23","v":0},null,20,{"$f":"$U$2*'Lookup Tables'!Y23","v":0},{"$f":"$U$2*'Lookup Tables'!Z23","v":0},{"$f":"$U$2*'Lookup Tables'!AA23","v":0},{"$f":"$U$2*'Lookup Tables'!AB23","v":0},{"$f":"$U$2*'Lookup Tables'!AC23","v":0},{"$f":"$U$2*'Lookup Tables'!AD23","v":0},{"$f":"$U$2*'Lookup Tables'!AE23","v":0},{"$f":"$U$2*'Lookup Tables'!AF23","v":0},{"$f":"$U$2*'Lookup Tables'!AG23","v":0},{"$f":"$U$2*'Lookup Tables'!AH23","v":0},{"$f":"$U$2*'Lookup Tables'!AI23","v":0},{"$f":"$U$2*'Lookup Tables'!AJ23","v":0},{"$f":"$U$2*'Lookup Tables'!AK23","v":0},{"$f":"$U$2*'Lookup Tables'!AL23","v":0},{"$f":"$U$2*'Lookup Tables'!AM23","v":0},null,20,{"$f":"$AL$2*'Lookup Tables'!AP23","v":0},{"$f":"$AL$2*'Lookup Tables'!AQ23","v":0},{"$f":"$AL$2*'Lookup Tables'!AR23","v":0},{"$f":"$AL$2*'Lookup Tables'!AS23","v":0},{"$f":"$AL$2*'Lookup Tables'!AT23","v":0},{"$f":"$AL$2*'Lookup Tables'!AU23","v":0},{"$f":"$AL$2*'Lookup Tables'!AV23","v":0},{"$f":"$AL$2*'Lookup Tables'!AW23","v":0},{"$f":"$AL$2*'Lookup Tables'!AX23","v":0},{"$f":"$AL$2*'Lookup Tables'!AY23","v":0},{"$f":"$AL$2*'Lookup Tables'!AZ23","v":0},{"$f":"$AL$2*'Lookup Tables'!BA23","v":0},{"$f":"$AL$2*'Lookup Tables'!BB23","v":0},{"$f":"$AL$2*'Lookup Tables'!BC23","v":0},{"$f":"$AL$2*'Lookup Tables'!BD23","v":0},null,20,{"$f":"$BC$2*'Lookup Tables'!BG23","v":0},{"$f":"$BC$2*'Lookup Tables'!BH23","v":0},{"$f":"$BC$2*'Lookup Tables'!BI23","v":0},{"$f":"$BC$2*'Lookup Tables'!BJ23","v":0},{"$f":"$BC$2*'Lookup Tables'!BK23","v":0},{"$f":"$BC$2*'Lookup Tables'!BL23","v":0},{"$f":"$BC$2*'Lookup Tables'!BM23","v":0},{"$f":"$BC$2*'Lookup Tables'!BN23","v":0},{"$f":"$BC$2*'Lookup Tables'!BO23","v":0},{"$f":"$BC$2*'Lookup Tables'!BP23","v":0},{"$f":"$BC$2*'Lookup Tables'!BQ23","v":0},{"$f":"$BC$2*'Lookup Tables'!BR23","v":0},{"$f":"$BC$2*'Lookup Tables'!BS23","v":0},{"$f":"$BC$2*'Lookup Tables'!BT23","v":0},{"$f":"$BC$2*'Lookup Tables'!BU23","v":0},null,20,{"$f":"$BT$2*'Lookup Tables'!BX23","v":0},{"$f":"$BT$2*'Lookup Tables'!BY23","v":0},{"$f":"$BT$2*'Lookup Tables'!BZ23","v":0},{"$f":"$BT$2*'Lookup Tables'!CA23","v":0},{"$f":"$BT$2*'Lookup Tables'!CB23","v":0},{"$f":"$BT$2*'Lookup Tables'!CC23","v":0},{"$f":"$BT$2*'Lookup Tables'!CD23","v":0},{"$f":"$BT$2*'Lookup Tables'!CE23","v":0},{"$f":"$BT$2*'Lookup Tables'!CF23","v":0},{"$f":"$BT$2*'Lookup Tables'!CG23","v":0},{"$f":"$BT$2*'Lookup Tables'!CH23","v":0},{"$f":"$BT$2*'Lookup Tables'!CI23","v":0},{"$f":"$BT$2*'Lookup Tables'!CJ23","v":0},{"$f":"$BT$2*'Lookup Tables'!CK23","v":0},{"$f":"$BT$2*'Lookup Tables'!CL23","v":0},null,null,20,0,0,0,0,0,0,0,0,0,0,0,0,0,0,0,null,{"$f":"CV23*Calculator!G$27/21","v":0}]
[null,21,{"$f":"$D$2*'Lookup Tables'!H24","v":0},{"$f":"$D$2*'Lookup Tables'!I24","v":0},{"$f":"$D$2*'Lookup Tables'!J24","v":0},{"$f":"$D$2*'Lookup Tables'!K24","v":0},{"$f":"$D$2*'Lookup Tables'!L24","v":0},{"$f":"$D$2*'Lookup Tables'!M24","v":0},{"$f":"$D$2*'Lookup Tables'!N24","v":0},{"$f":"$D$2*'Lookup Tables'!O24","v":0},{"$f":"$D$2*'Lookup Tables'!P24","v":0},{"$f":"$D$2*'Lookup Tables'!Q24","v":0},{"$f":"$D$2*'Lookup Tables'!R24","v":0},{"$f":"$D$2*'Lookup Tables'!S24","v":0},{"$f":"$D$2*'Lookup Tables'!T24","v":0},{"$f":"$D$2*'Lookup Tables'!U24","v":0},{"$f":"$D$2*'Lookup Tables'!V24","v":0},null,21,{"$f":"$U$2*'Lookup Tables'!Y24","v":0},{"$f":"$U$2*'Lookup Tables'!Z24","v":0},{"$f":"$U$2*'Lookup Tables'!AA24","v":0},{"$f":"$U$2*'Lookup Tables'!AB24","v":0},{"$f":"$U$2*'Lookup Tables'!AC24","v":0},{"$f":"$U$2*'Lookup Tables'!AD24","v":0},{"$f":"$U$2*'Lookup Tables'!AE24","v":0},{"$f":"$U$2*'Lookup Tables'!AF24","v":0},{"$f":"$U$2*'Lookup Tables'!AG24","v":0},{"$f":"$U$2*'Lookup Tables'!AH24","v":0},{"$f":"$U$2*'Lookup Tables'!AI24","v":0},{"$f":"$U$2*'Lookup Tables'!AJ24","v":0},{"$f":"$U$2*'Lookup Tables'!AK24","v":0},{"$f":"$U$2*'Lookup Tables'!AL24","v":0},{"$f":"$U$2*'Lookup Tables'!AM24","v":0},null,21,{"$f":"$AL$2*'Lookup Tables'!AP24","v":0},{"$f":"$AL$2*'Lookup Tables'!AQ24","v":0},{"$f":"$AL$2*'Lookup Tables'!AR24","v":0},{"$f":"$AL$2*'Lookup Tables'!AS24","v":0},{"$f":"$AL$2*'Lookup Tables'!AT24","v":0},{"$f":"$AL$2*'Lookup Tables'!AU24","v":0},{"$f":"$AL$2*'Lookup Tables'!AV24","v":0},{"$f":"$AL$2*'Lookup Tables'!AW24","v":0},{"$f":"$AL$2*'Lookup Tables'!AX24","v":0},{"$f":"$AL$2*'Lookup Tables'!AY24","v":0},{"$f":"$AL$2*'Lookup Tables'!AZ24","v":0},{"$f":"$AL$2*'Lookup Tables'!BA24","v":0},{"$f":"$AL$2*'Lookup Tables'!BB24","v":0},{"$f":"$AL$2*'Lookup Tables'!BC24","v":0},{"$f":"$AL$2*'Lookup Tables'!BD24","v":0},null,21,{"$f":"$BC$2*'Lookup Tables'!BG24","v":0},{"$f":"$BC$2*'Lookup Tables'!BH24","v":0},{"$f":"$BC$2*'Lookup Tables'!BI24","v":0},{"$f":"$BC$2*'Lookup Tables'!BJ24","v":0},{"$f":"$BC$2*'Lookup Tables'!BK24","v":0},{"$f":"$BC$2*'Lookup Tables'!BL24","v":0},{"$f":"$BC$2*'Lookup Tables'!BM24","v":0},{"$f":"$BC$2*'Lookup Tables'!BN24","v":0},{"$f":"$BC$2*'Lookup Tables'!BO24","v":0},{"$f":"$BC$2*'Lookup Tables'!BP24","v":0},{"$f":"$BC$2*'Lookup Tables'!BQ24","v":0},{"$f":"$BC$2*'Lookup Tables'!BR24","v":0},{"$f":"$BC$2*'Lookup Tables'!BS24","v":0},{"$f":"$BC$2*'Lookup Tables'!BT24","v":0},{"$f":"$BC$2*'Lookup Tables'!BU24","v":0},null,21,{"$f":"$BT$2*'Lookup Tables'!BX24","v":0},{"$f":"$BT$2*'Lookup Tables'!BY24","v":0},{"$f":"$BT$2*'Lookup Tables'!BZ24","v":0},{"$f":"$BT$2*'Lookup Tables'!CA24","v":0},{"$f":"$BT$2*'Lookup Tables'!CB24","v":0},{"$f":"$BT$2*'Lookup Tables'!CC24","v":0},{"$f":"$BT$2*'Lookup Tables'!CD24","v":0},{"$f":"$BT$2*'Lookup Tables'!CE24","v":0},{"$f":"$BT$2*'Lookup Tables'!CF24","v":0},{"$f":"$BT$2*'Lookup Tables'!CG24","v":0},{"$f":"$BT$2*'Lookup Tables'!CH24","v":0},{"$f":"$BT$2*'Lookup Tables'!CI24","v":0},{"$f":"$BT$2*'Lookup Tables'!CJ24","v":0},{"$f":"$BT$2*'Lookup Tables'!CK24","v":0},{"$f":"$BT$2*'Lookup Tables'!CL24","v":0},null,null,21,0,0,0,0,0,0,0,0,0,0,0,0,0,0,0,null,{"$f":"CV24*Calculator!G$27/21","v":0}]
[null,22,{"$f":"$D$2*'Lookup Tables'!H25","v":0},{"$f":"$D$2*'Lookup Tables'!I25","v":0},{"$f":"$D$2*'Lookup Tables'!J25","v":0},{"$f":"$D$2*'Lookup Tables'!K25","v":0},{"$f":"$D$2*'Lookup Tables'!L25","v":0},{"$f":"$D$2*'Lookup Tables'!M25","v":0},{"$f":"$D$2*'Lookup Tables'!N25","v":0},{"$f":"$D$2*'Lookup Tables'!O25","v":0},{"$f":"$D$2*'Lookup Tables'!P25","v":0},{"$f":"$D$2*'Lookup Tables'!Q25","v":0},{"$f":"$D$2*'Lookup Tables'!R25","v":0},{"$f":"$D$2*'Lookup Tables'!S25","v":0},{"$f":"$D$2*'Lookup Tables'!T25","v":0},{"$f":"$D$2*'Lookup Tables'!U25","v":0},{"$f":"$D$2*'Lookup Tables'!V25","v":0},null,22,{"$f":"$U$2*'Lookup Tables'!Y25","v":0},{"$f":"$U$2*'Lookup Tables'!Z25","v":0},{"$f":"$U$2*'Lookup Tables'!AA25","v":0},{"$f":"$U$2*'Lookup Tables'!AB25","v":0},{"$f":"$U$2*'Lookup Tables'!AC25","v":0},{"$f":"$U$2*'Lookup Tables'!AD25","v":0},{"$f":"$U$2*'Lookup Tables'!AE25","v":0},{"$f":"$U$2*'Lookup Tables'!AF25","v":0},{"$f":"$U$2*'Lookup Tables'!AG25","v":0},{"$f":"$U$2*'Lookup Tables'!AH25","v":0},{"$f":"$U$2*'Lookup Tables'!AI25","v":0},{"$f":"$U$2*'Lookup Tables'!AJ25","v":0},{"$f":"$U$2*'Lookup Tables'!AK25","v":0},{"$f":"$U$2*'Lookup Tables'!AL25","v":0},{"$f":"$U$2*'Lookup Tables'!AM25","v":0},null,22,{"$f":"$AL$2*'Lookup Tables'!AP25","v":0},{"$f":"$AL$2*'Lookup Tables'!AQ25","v":0},{"$f":"$AL$2*'Lookup Tables'!AR25","v":0},{"$f":"$AL$2*'Lookup Tables'!AS25","v":0},{"$f":"$AL$2*'Lookup Tables'!AT25","v":0},{"$f":"$AL$2*'Lookup Tables'!AU25","v":0},{"$f":"$AL$2*'Lookup Tables'!AV25","v":0},{"$f":"$AL$2*'Lookup Tables'!AW25","v":0},{"$f":"$AL$2*'Lookup Tables'!AX25","v":0},{"$f":"$AL$2*'Lookup Tables'!AY25","v":0},{"$f":"$AL$2*'Lookup Tables'!AZ25","v":0},{"$f":"$AL$2*'Lookup Tables'!BA25","v":0},{"$f":"$AL$2*'Lookup Tables'!BB25","v":0},{"$f":"$AL$2*'Lookup Tables'!BC25","v":0},{"$f":"$AL$2*'Lookup Tables'!BD25","v":0},null,22,{"$f":"$BC$2*'Lookup Tables'!BG25","v":0},{"$f":"$BC$2*'Lookup Tables'!BH25","v":0},{"$f":"$BC$2*'Lookup Tables'!BI25","v":0},{"$f":"$BC$2*'Lookup Tables'!BJ25","v":0},{"$f":"$BC$2*'Lookup Tables'!BK25","v":0},{"$f":"$BC$2*'Lookup Tables'!BL25","v":0},{"$f":"$BC$2*'Lookup Tables'!BM25","v":0},{"$f":"$BC$2*'Lookup Tables'!BN25","v":0},{"$f":"$BC$2*'Lookup Tables'!BO25","v":0},{"$f":"$BC$2*'Lookup Tables'!BP25","v":0},{"$f":"$BC$2*'Lookup Tables'!BQ25","v":0},{"$f":"$BC$2*'Lookup Tables'!BR25","v":0},{"$f":"$BC$2*'Lookup Tables'!BS25","v":0},{"$f":"$BC$2*'Lookup Tables'!BT25","v":0},{"$f":"$BC$2*'Lookup Tables'!BU25","v":0},null,22,{"$f":"$BT$2*'Lookup Tables'!BX25","v":0},{"$f":"$BT$2*'Lookup Tables'!BY25","v":0},{"$f":"$BT$2*'Lookup Tables'!BZ25","v":0},{"$f":"$BT$2*'Lookup Tables'!CA25","v":0},{"$f":"$BT$2*'Lookup Tables'!CB25","v":0},{"$f":"$BT$2*'Lookup Tables'!CC25","v":0},{"$f":"$BT$2*'Lookup Tables'!CD25","v":0},{"$f":"$BT$2*'Lookup Tables'!CE25","v":0},{"$f":"$BT$2*'Lookup Tables'!CF25","v":0},{"$f":"$BT$2*'Lookup Tables'!CG25","v":0},{"$f":"$BT$2*'Lookup Tables'!CH25","v":0},{"$f":"$BT$2*'Lookup Tables'!CI25","v":0},{"$f":"$BT$2*'Lookup Tables'!CJ25","v":0},{"$f":"$BT$2*'Lookup Tables'!CK25","v":0},{"$f":"$BT$2*'Lookup Tables'!CL25","v":0},null,null,22,0,0,0,0,0,0,0,0,0,0,0,0,0,0,0,null,{"$f":"CV25*Calculator!G$27/21","v":0}]
[null,23,{"$f":"$D$2*'Lookup Tables'!H26","v":0},{"$f":"$D$2*'Lookup Tables'!I26","v":0},{"$f":"$D$2*'Lookup Tables'!J26","v":0},{"$f":"$D$2*'Lookup Tables'!K26","v":0},{"$f":"$D$2*'Lookup Tables'!L26","v":0},{"$f":"$D$2*'Lookup Tables'!M26","v":0},{"$f":"$D$2*'Lookup Tables'!N26","v":0},{"$f":"$D$2*'Lookup Tables'!O26","v":0},{"$f":"$D$2*'Lookup Tables'!P26","v":0},{"$f":"$D$2*'Lookup Tables'!Q26","v":0},{"$f":"$D$2*'Lookup Tables'!R26","v":0},{"$f":"$D$2*'Lookup Tables'!S26","v":0},{"$f":"$D$2*'Lookup Tables'!T26","v":0},{"$f":"$D$2*'Lookup Tables'!U26","v":0},{"$f":"$D$2*'Lookup Tables'!V26","v":0},null,23,{"$f":"$U$2*'Lookup Tables'!Y26","v":0},{"$f":"$U$2*'Lookup Tables'!Z26","v":0},{"$f":"$U$2*'Lookup Tables'!AA26","v":0},{"$f":"$U$2*'Lookup Tables'!AB26","v":0},{"$f":"$U$2*'Lookup Tables'!AC26","v":0},{"$f":"$U$2*'Lookup Tables'!AD26","v":0},{"$f":"$U$2*'Lookup Tables'!AE26","v":0},{"$f":"$U$2*'Lookup Tables'!AF26","v":0},{"$f":"$U$2*'Lookup Tables'!AG26","v":0},{"$f":"$U$2*'Lookup Tables'!AH26","v":0},{"$f":"$U$2*'Lookup Tables'!AI26","v":0},{"$f":"$U$2*'Lookup Tables'!AJ26","v":0},{"$f":"$U$2*'Lookup Tables'!AK26","v":0},{"$f":"$U$2*'Lookup Tables'!AL26","v":0},{"$f":"$U$2*'Lookup Tables'!AM26","v":0},null,23,{"$f":"$AL$2*'Lookup Tables'!AP26","v":0},{"$f":"$AL$2*'Lookup Tables'!AQ26","v":0},{"$f":"$AL$2*'Lookup Tables'!AR26","v":0},{"$f":"$AL$2*'Lookup Tables'!AS26","v":0},{"$f":"$AL$2*'Lookup Tables'!AT26","v":0},{"$f":"$AL$2*'Lookup Tables'!AU26","v":0},{"$f":"$AL$2*'Lookup Tables'!AV26","v":0},{"$f":"$AL$2*'Lookup Tables'!AW26","v":0},{"$f":"$AL$2*'Lookup Tables'!AX26","v":0},{"$f":"$AL$2*'Lookup Tables'!AY26","v":0},{"$f":"$AL$2*'Lookup Tables'!AZ26","v":0},{"$f":"$AL$2*'Lookup Tables'!BA26","v":0},{"$f":"$AL$2*'Lookup Tables'!BB26","v":0},{"$f":"$AL$2*'Lookup Tables'!BC26","v":0},{"$f":"$AL$2*'Lookup Tables'!BD26","v":0},null,23,{"$f":"$BC$2*'Lookup Tables'!BG26","v":0},{"$f":"$BC$2*'Lookup Tables'!BH26","v":0},{"$f":"$BC$2*'Lookup Tables'!BI26","v":0},{"$f":"$BC$2*'Lookup Tables'!BJ26","v":0},{"$f":"$BC$2*'Lookup Tables'!BK26","v":0},{"$f":"$BC$2*'Lookup Tables'!BL26","v":0},{"$f":"$BC$2*'Lookup Tables'!BM26","v":0},{"$f":"$BC$2*'Lookup Tables'!BN26","v":0},{"$f":"$BC$2*'Lookup Tables'!BO26","v":0},{"$f":"$BC$2*'Lookup Tables'!BP26","v":0},{"$f":"$BC$2*'Lookup Tables'!BQ26","v":0},{"$f":"$BC$2*'Lookup Tables'!BR26","v":0},{"$f":"$BC$2*'Lookup Tables'!BS26","v":0},{"$f":"$BC$2*'Lookup Tables'!BT26","v":0},{"$f":"$BC$2*'Lookup Tables'!BU26","v":0},null,23,{"$f":"$BT$2*'Lookup Tables'!BX26","v":0},{"$f":"$BT$2*'Lookup Tables'!BY26","v":0},{"$f":"$BT$2*'Lookup Tables'!BZ26","v":0},{"$f":"$BT$2*'Lookup Tables'!CA26","v":0},{"$f":"$BT$2*'Lookup Tables'!CB26","v":0},{"$f":"$BT$2*'Lookup Tables'!CC26","v":0},{"$f":"$BT$2*'Lookup Tables'!CD26","v":0},{"$f":"$BT$2*'Lookup Tables'!CE26","v":0},{"$f":"$BT$2*'Lookup Tables'!CF26","v":0},{"$f":"$BT$2*'Lookup Tables'!CG26","v":0},{"$f":"$BT$2*'Lookup Tables'!CH26","v":0},{"$f":"$BT$2*'Lookup Tables'!CI26","v":0},{"$f":"$BT$2*'Lookup Tables'!CJ26","v":0},{"$f":"$BT$2*'Lookup Tables'!CK26","v":0},{"$f":"$BT$2*'Lookup Tables'!CL26","v":0},null,null,23,0,0,0,0,0,0,0,0,0,0,0,0,0,0,0,null,{"$f":"CV26*Calculator!G$27/21","v":0}]
[null,24,{"$f":"$D$2*'Lookup Tables'!H27","v":0},{"$f":"$D$2*'Lookup Tables'!I27","v":0},{"$f":"$D$2*'Lookup Tables'!J27","v":0},{"$f":"$D$2*'Lookup Tables'!K27","v":0},{"$f":"$D$2*'Lookup Tables'!L27","v":0},{"$f":"$D$2*'Lookup Tables'!M27","v":0},{"$f":"$D$2*'Lookup Tables'!N27","v":0},{"$f":"$D$2*'Lookup Tables'!O27","v":0},{"$f":"$D$2*'Lookup Tables'!P27","v":0},{"$f":"$D$2*'Lookup Tables'!Q27","v":0},{"$f":"$D$2*'Lookup Tables'!R27","v":0},{"$f":"$D$2*'Lookup Tables'!S27","v":0},{"$f":"$D$2*'Lookup Tables'!T27","v":0},{"$f":"$D$2*'Lookup Tables'!U27","v":0},{"$f":"$D$2*'Lookup Tables'!V27","v":0},null,24,{"$f":"$U$2*'Lookup Tables'!Y27","v":0},{"$f":"$U$2*'Lookup Tables'!Z27","v":0},{"$f":"$U$2*'Lookup Tables'!AA27","v":0},{"$f":"$U$2*'Lookup Tables'!AB27","v":0},{"$f":"$U$2*'Lookup Tables'!AC27","v":0},{"$f":"$U$2*'Lookup Tables'!AD27","v":0},{"$f":"$U$2*'Lookup Tables'!AE27","v":0},{"$f":"$U$2*'Lookup Tables'!AF27","v":0},{"$f":"$U$2*'Lookup Tables'!AG27","v":0},{"$f":"$U$2*'Lookup Tables'!AH27","v":0},{"$f":"$U$2*'Lookup Tables'!AI27","v":0},{"$f":"$U$2*'Lookup Tables'!AJ27","v":0},{"$f":"$U$2*'Lookup Tables'!AK27","v":0},{"$f":"$U$2*'Lookup Tables'!AL27","v":0},{"$f":"$U$2*'Lookup Tables'!AM27","v":0},null,24,{"$f":"$AL$2*'Lookup Tables'!AP27","v":0},{"$f":"$AL$2*'Lookup Tables'!AQ27","v":0},{"$f":"$AL$2*'Lookup Tables'!AR27","v":0},{"$f":"$AL$2*'Lookup Tables'!AS27","v":0},{"$f":"$AL$2*'Lookup Tables'!AT27","v":0},{"$f":"$AL$2*'Lookup Tables'!AU27","v":0},{"$f":"$AL$2*'Lookup Tables'!AV27","v":0},{"$f":"$AL$2*'Lookup Tables'!AW27","v":0},{"$f":"$AL$2*'Lookup Tables'!AX27","v":0},{"$f":"$AL$2*'Lookup Tables'!AY27","v":0},{"$f":"$AL$2*'Lookup Tables'!AZ27","v":0},{"$f":"$AL$2*'Lookup Tables'!BA27","v":0},{"$f":"$AL$2*'Lookup Tables'!BB27","v":0},{"$f":"$AL$2*'Lookup Tables'!BC27","v":0},{"$f":"$AL$2*'Lookup Tables'!BD27","v":0},null,24,{"$f":"$BC$2*'Lookup Tables'!BG27","v":0},{"$f":"$BC$2*'Lookup Tables'!BH27","v":0},{"$f":"$BC$2*'Lookup Tables'!BI27","v":0},{"$f":"$BC$2*'Lookup Tables'!BJ27","v":0},{"$f":"$BC$2*'Lookup Tables'!BK27","v":0},{"$f":"$BC$2*'Lookup Tables'!BL27","v":0},{"$f":"$BC$2*'Lookup Tables'!BM27","v":0},{"$f":"$BC$2*'Lookup Tables'!BN27","v":0},{"$f":"$BC$2*'Lookup Tables'!BO27","v":0},{"$f":"$BC$2*'Lookup Tables'!BP27","v":0},{"$f":"$BC$2*'Lookup Tables'!BQ27","v":0},{"$f":"$BC$2*'Lookup Tables'!BR27","v":0},{"$f":"$BC$2*'Lookup Tables'!BS27","v":0},{"$f":"$BC$2*'Lookup Tables'!BT27","v":0},{"$f":"$BC$2*'Lookup Tables'!BU27","v":0},null,24,{"$f":"$BT$2*'Lookup Tables'!BX27","v":0},{"$f":"$BT$2*'Lookup Tables'!BY27","v":0},{"$f":"$BT$2*'Lookup Tables'!BZ27","v":0},{"$f":"$BT$2*'Lookup Tables'!CA27","v":0},{"$f":"$BT$2*'Lookup Tables'!CB27","v":0},{"$f":"$BT$2*'Lookup Tables'!CC27","v":0},{"$f":"$BT$2*'Lookup Tables'!CD27","v":0},{"$f":"$BT$2*'Lookup Tables'!CE27","v":0},{"$f":"$BT$2*'Lookup Tables'!CF27","v":0},{"$f":"$BT$2*'Lookup Tables'!CG27","v":0},{"$f":"$BT$2*'Lookup Tables'!CH27","v":0},{"$f":"$BT$2*'Lookup Tables'!CI27","v":0},{"$f":"$BT$2*'Lookup Tables'!CJ27","v":0},{"$f":"$BT$2*'Lookup Tables'!CK27","v":0},{"$f":"$BT$2*'Lookup Tables'!CL27","v":0},null,null,24,0,0,0,0,0,0,0,0,0,0,0,0,0,0,0,null,{"$f":"CV27*Calculator!G$27/21","v":0}]
[null,25,{"$f":"$D$2*'Lookup Tables'!H28","v":0},{"$f":"$D$2*'Lookup Tables'!I28","v":0},{"$f":"$D$2*'Lookup Tables'!J28","v":0},{"$f":"$D$2*'Lookup Tables'!K28","v":0},{"$f":"$D$2*'Lookup Tables'!L28","v":0},{"$f":"$D$2*'Lookup Tables'!M28","v":0},{"$f":"$D$2*'Lookup Tables'!N28","v":0},{"$f":"$D$2*'Lookup Tables'!O28","v":0},{"$f":"$D$2*'Lookup Tables'!P28","v":0},{"$f":"$D$2*'Lookup Tables'!Q28","v":0},{"$f":"$D$2*'Lookup Tables'!R28","v":0},{"$f":"$D$2*'Lookup Tables'!S28","v":0},{"$f":"$D$2*'Lookup Tables'!T28","v":0},{"$f":"$D$2*'Lookup Tables'!U28","v":0},{"$f":"$D$2*'Lookup Tables'!V28","v":0},null,25,{"$f":"$U$2*'Lookup Tables'!Y28","v":0},{"$f":"$U$2*'Lookup Tables'!Z28","v":0},{"$f":"$U$2*'Lookup Tables'!AA28","v":0},{"$f":"$U$2*'Lookup Tables'!AB28","v":0},{"$f":"$U$2*'Lookup Tables'!AC28","v":0},{"$f":"$U$2*'Lookup Tables'!AD28","v":0},{"$f":"$U$2*'Lookup Tables'!AE28","v":0},{"$f":"$U$2*'Lookup Tables'!AF28","v":0},{"$f":"$U$2*'Lookup Tables'!AG28","v":0},{"$f":"$U$2*'Lookup Tables'!AH28","v":0},{"$f":"$U$2*'Lookup Tables'!AI28","v":0},{"$f":"$U$2*'Lookup Tables'!AJ28","v":0},{"$f":"$U$2*'Lookup Tables'!AK28","v":0},{"$f":"$U$2*'Lookup Tables'!AL28","v":0},{"$f":"$U$2*'Lookup Tables'!AM28","v":0},null,25,{"$f":"$AL$2*'Lookup Tables'!AP28","v":0},{"$f":"$AL$2*'Lookup Tables'!AQ28","v":0},{"$f":"$AL$2*'Lookup Tables'!AR28","v":0},{"$f":"$AL$2*'Lookup Tables'!AS28","v":0},{"$f":"$AL$2*'Lookup Tables'!AT28","v":0},{"$f":"$AL$2*'Lookup Tables'!AU28","v":0},{"$f":"$AL$2*'Lookup Tables'!AV28","v":0},{"$f":"$AL$2*'Lookup Tables'!AW28","v":0},{"$f":"$AL$2*'Lookup Tables'!AX28","v":0},{"$f":"$AL$2*'Lookup Tables'!AY28","v":0},{"$f":"$AL$2*'Lookup Tables'!AZ28","v":0},{"$f":"$AL$2*'Lookup Tables'!BA28","v":0},{"$f":"$AL$2*'Lookup Tables'!BB28","v":0},{"$f":"$AL$2*'Lookup Tables'!BC28","v":0},{"$f":"$AL$2*'Lookup Tables'!BD28","v":0},null,25,{"$f":"$BC$2*'Lookup Tables'!BG28","v":0},{"$f":"$BC$2*'Lookup Tables'!BH28","v":0},{"$f":"$BC$2*'Lookup Tables'!BI28","v":0},{"$f":"$BC$2*'Lookup Tables'!BJ28","v":0},{"$f":"$BC$2*'Lookup Tables'!BK28","v":0},{"$f":"$BC$2*'Lookup Tables'!BL28","v":0},{"$f":"$BC$2*'Lookup Tables'!BM28","v":0},{"$f":"$BC$2*'Lookup Tables'!BN28","v":0},{"$f":"$BC$2*'Lookup Tables'!BO28","v":0},{"$f":"$BC$2*'Lookup Tables'!BP28","v":0},{"$f":"$BC$2*'Lookup Tables'!BQ28","v":0},{"$f":"$BC$2*'Lookup Tables'!BR28","v":0},{"$f":"$BC$2*'Lookup Tables'!BS28","v":0},{"$f":"$BC$2*'Lookup Tables'!BT28","v":0},{"$f":"$BC$2*'Lookup Tables'!BU28","v":0},null,25,{"$f":"$BT$2*'Lookup Tables'!BX28","v":0},{"$f":"$BT$2*'Lookup Tables'!BY28","v":0},{"$f":"$BT$2*'Lookup Tables'!BZ28","v":0},{"$f":"$BT$2*'Lookup Tables'!CA28","v":0},{"$f":"$BT$2*'Lookup Tables'!CB28","v":0},{"$f":"$BT$2*'Lookup Tables'!CC28","v":0},{"$f":"$BT$2*'Lookup Tables'!CD28","v":0},{"$f":"$BT$2*'Lookup Tables'!CE28","v":0},{"$f":"$BT$2*'Lookup Tables'!CF28","v":0},{"$f":"$BT$2*'Lookup Tables'!CG28","v":0},{"$f":"$BT$2*'Lookup Tables'!CH28","v":0},{"$f":"$BT$2*'Lookup Tables'!CI28","v":0},{"$f":"$BT$2*'Lookup Tables'!CJ28","v":0},{"$f":"$BT$2*'Lookup Tables'!CK28","v":0},{"$f":"$BT$2*'Lookup Tables'!CL28","v":0},null,null,25,0,0,0,0,0,0,0,0,0,0,0,0,0,0,0,null,{"$f":"CV28*Calculator!G$27/21","v":0}]
[null,26,{"$f":"$D$2*'Lookup Tables'!H29","v":0},{"$f":"$D$2*'Lookup Tables'!I29","v":0},{"$f":"$D$2*'Lookup Tables'!J29","v":0},{"$f":"$D$2*'Lookup Tables'!K29","v":0},{"$f":"$D$2*'Lookup Tables'!L29","v":0},{"$f":"$D$2*'Lookup Tables'!M29","v":0},{"$f":"$D$2*'Lookup Tables'!N29","v":0},{"$f":"$D$2*'Lookup Tables'!O29","v":0},{"$f":"$D$2*'Lookup Tables'!P29","v":0},{"$f":"$D$2*'Lookup Tables'!Q29","v":0},{"$f":"$D$2*'Lookup Tables'!R29","v":0},{"$f":"$D$2*'Lookup Tables'!S29","v":0},{"$f":"$D$2*'Lookup Tables'!T29","v":0},{"$f":"$D$2*'Lookup Tables'!U29","v":0},{"$f":"$D$2*'Lookup Tables'!V29","v":0},null,26,{"$f":"$U$2*'Lookup Tables'!Y29","v":0},{"$f":"$U$2*'Lookup Tables'!Z29","v":0},{"$f":"$U$2*'Lookup Tables'!AA29","v":0},{"$f":"$U$2*'Lookup Tables'!AB29","v":0},{"$f":"$U$2*'Lookup Tables'!AC29","v":0},{"$f":"$U$2*'Lookup Tables'!AD29","v":0},{"$f":"$U$2*'Lookup Tables'!AE29","v":0},{"$f":"$U$2*'Lookup Tables'!AF29","v":0},{"$f":"$U$2*'Lookup Tables'!AG29","v":0},{"$f":"$U$2*'Lookup Tables'!AH29","v":0},{"$f":"$U$2*'Lookup Tables'!AI29","v":0},{"$f":"$U$2*'Lookup Tables'!AJ29","v":0},{"$f":"$U$2*'Lookup Tables'!AK29","v":0},{"$f":"$U$2*'Lookup Tables'!AL29","v":0},{"$f":"$U$2*'Lookup Tables'!AM29","v":0},null,26,{"$f":"$AL$2*'Lookup Tables'!AP29","v":0},{"$f":"$AL$2*'Lookup Tables'!AQ29","v":0},{"$f":"$AL$2*'Lookup Tables'!AR29","v":0},{"$f":"$AL$2*'Lookup Tables'!AS29","v":0},{"$f":"$AL$2*'Lookup Tables'!AT29","v":0},{"$f":"$AL$2*'Lookup Tables'!AU29","v":0},{"$f":"$AL$2*'Lookup Tables'!AV29","v":0},{"$f":"$AL$2*'Lookup Tables'!AW29","v":0},{"$f":"$AL$2*'Lookup Tables'!AX29","v":0},{"$f":"$AL$2*'Lookup Tables'!AY29","v":0},{"$f":"$AL$2*'Lookup Tables'!AZ29","v":0},{"$f":"$AL$2*'Lookup Tables'!BA29","v":0},{"$f":"$AL$2*'Lookup Tables'!BB29","v":0},{"$f":"$AL$2*'Lookup Tables'!BC29","v":0},{"$f":"$AL$2*'Lookup Tables'!BD29","v":0},null,26,{"$f":"$BC$2*'Lookup Tables'!BG29","v":0},{"$f":"$BC$2*'Lookup Tables'!BH29","v":0},{"$f":"$BC$2*'Lookup Tables'!BI29","v":0},{"$f":"$BC$2*'Lookup Tables'!BJ29","v":0},{"$f":"$BC$2*'Lookup Tables'!BK29","v":0},{"$f":"$BC$2*'Lookup Tables'!BL29","v":0},{"$f":"$BC$2*'Lookup Tables'!BM29","v":0},{"$f":"$BC$2*'Lookup Tables'!BN29","v":0},{"$f":"$BC$2*'Lookup Tables'!BO29","v":0},{"$f":"$BC$2*'Lookup Tables'!BP29","v":0},{"$f":"$BC$2*'Lookup Tables'!BQ29","v":0},{"$f":"$BC$2*'Lookup Tables'!BR29","v":0},{"$f":"$BC$2*'Lookup Tables'!BS29","v":0},{"$f":"$BC$2*'Lookup Tables'!BT29","v":0},{"$f":"$BC$2*'Lookup Tables'!BU29","v":0},null,26,{"$f":"$BT$2*'Lookup Tables'!BX29","v":0},{"$f":"$BT$2*'Lookup Tables'!BY29","v":0},{"$f":"$BT$2*'Lookup Tables'!BZ29","v":0},{"$f":"$BT$2*'Lookup Tables'!CA29","v":0},{"$f":"$BT$2*'Lookup Tables'!CB29","v":0},{"$f":"$BT$2*'Lookup Tables'!CC29","v":0},{"$f":"$BT$2*'Lookup Tables'!CD29","v":0},{"$f":"$BT$2*'Lookup Tables'!CE29","v":0},{"$f":"$BT$2*'Lookup Tables'!CF29","v":0},{"$f":"$BT$2*'Lookup Tables'!CG29","v":0},{"$f":"$BT$2*'Lookup Tables'!CH29","v":0},{"$f":"$BT$2*'Lookup Tables'!CI29","v":0},{"$f":"$BT$2*'Lookup Tables'!CJ29","v":0},{"$f":"$BT$2*'Lookup Tables'!CK29","v":0},{"$f":"$BT$2*'Lookup Tables'!CL29","v":0},null,null,26,0,0,0,0,0,0,0,0,0,0,0,0,0,0,0,null,{"$f":"CV29*Calculator!G$27/21","v":0}]
[null,27,{"$f":"$D$2*'Lookup Tables'!H30","v":0},{"$f":"$D$2*'Lookup Tables'!I30","v":0},{"$f":"$D$2*'Lookup Tables'!J30","v":0},{"$f":"$D$2*'Lookup Tables'!K30","v":0},{"$f":"$D$2*'Lookup Tables'!L30","v":0},{"$f":"$D$2*'Lookup Tables'!M30","v":0},{"$f":"$D$2*'Lookup Tables'!N30","v":0},{"$f":"$D$2*'Lookup Tables'!O30","v":0},{"$f":"$D$2*'Lookup Tables'!P30","v":0},{"$f":"$D$2*'Lookup Tables'!Q30","v":0},{"$f":"$D$2*'Lookup Tables'!R30","v":0},{"$f":"$D$2*'Lookup Tables'!S30","v":0},{"$f":"$D$2*'Lookup Tables'!T30","v":0},{"$f":"$D$2*'Lookup Tables'!U30","v":0},{"$f":"$D$2*'Lookup Tables'!V30","v":0},null,27,{"$f":"$U$2*'Lookup Tables'!Y30","v":0},{"$f":"$U$2*'Lookup Tables'!Z30","v":0},{"$f":"$U$2*'Lookup Tables'!AA30","v":0},{"$f":"$U$2*'Lookup Tables'!AB30","v":0},{"$f":"$U$2*'Lookup Tables'!AC30","v":0},{"$f":"$U$2*'Lookup Tables'!AD30","v":0},{"$f":"$U$2*'Lookup Tables'!AE30","v":0},{"$f":"$U$2*'Lookup Tables'!AF30","v":0},{"$f":"$U$2*'Lookup Tables'!AG30","v":0},{"$f":"$U$2*'Lookup Tables'!AH30","v":0},{"$f":"$U$2*'Lookup Tables'!AI30","v":0},{"$f":"$U$2*'Lookup Tables'!AJ30","v":0},{"$f":"$U$2*'Lookup Tables'!AK30","v":0},{"$f":"$U$2*'Lookup Tables'!AL30","v":0},{"$f":"$U$2*'Lookup Tables'!AM30","v":0},null,27,{"$f":"$AL$2*'Lookup Tables'!AP30","v":0},{"$f":"$AL$2*'Lookup Tables'!AQ30","v":0},{"$f":"$AL$2*'Lookup Tables'!AR30","v":0},{"$f":"$AL$2*'Lookup Tables'!AS30","v":0},{"$f":"$AL$2*'Lookup Tables'!AT30","v":0},{"$f":"$AL$2*'Lookup Tables'!AU30","v":0},{"$f":"$AL$2*'Lookup Tables'!AV30","v":0},{"$f":"$AL$2*'Lookup Tables'!AW30","v":0},{"$f":"$AL$2*'Lookup Tables'!AX30","v":0},{"$f":"$AL$2*'Lookup Tables'!AY30","v":0},{"$f":"$AL$2*'Lookup Tables'!AZ30","v":0},{"$f":"$AL$2*'Lookup Tables'!BA30","v":0},{"$f":"$AL$2*'Lookup Tables'!BB30","v":0},{"$f":"$AL$2*'Lookup Tables'!BC30","v":0},{"$f":"$AL$2*'Lookup Tables'!BD30","v":0},null,27,{"$f":"$BC$2*'Lookup Tables'!BG30","v":0},{"$f":"$BC$2*'Lookup Tables'!BH30","v":0},{"$f":"$BC$2*'Lookup Tables'!BI30","v":0},{"$f":"$BC$2*'Lookup Tables'!BJ30","v":0},{"$f":"$BC$2*'Lookup Tables'!BK30","v":0},{"$f":"$BC$2*'Lookup Tables'!BL30","v":0},{"$f":"$BC$2*'Lookup Tables'!BM30","v":0},{"$f":"$BC$2*'Lookup Tables'!BN30","v":0},{"$f":"$BC$2*'Lookup Tables'!BO30","v":0},{"$f":"$BC$2*'Lookup Tables'!BP30","v":0},{"$f":"$BC$2*'Lookup Tables'!BQ30","v":0},{"$f":"$BC$2*'Lookup Tables'!BR30","v":0},{"$f":"$BC$2*'Lookup Tables'!BS30","v":0},{"$f":"$BC$2*'Lookup Tables'!BT30","v":0},{"$f":"$BC$2*'Lookup Tables'!BU30","v":0},null,27,{"$f":"$BT$2*'Lookup Tables'!BX30","v":0},{"$f":"$BT$2*'Lookup Tables'!BY30","v":0},{"$f":"$BT$2*'Lookup Tables'!BZ30","v":0},{"$f":"$BT$2*'Lookup Tables'!CA30","v":0},{"$f":"$BT$2*'Lookup Tables'!CB30","v":0},{"$f":"$BT$2*'Lookup Tables'!CC30","v":0},{"$f":"$BT$2*'Lookup Tables'!CD30","v":0},{"$f":"$BT$2*'Lookup Tables'!CE30","v":0},{"$f":"$BT$2*'Lookup Tables'!CF30","v":0},{"$f":"$BT$2*'Lookup Tables'!CG30","v":0},{"$f":"$BT$2*'Lookup Tables'!CH30","v":0},{"$f":"$BT$2*'Lookup Tables'!CI30","v":0},{"$f":"$BT$2*'Lookup Tables'!CJ30","v":0},{"$f":"$BT$2*'Lookup Tables'!CK30","v":0},{"$f":"$BT$2*'Lookup Tables'!CL30","v":0},null,null,27,0,0,0,0,0,0,0,0,0,0,0,0,0,0,0,null,{"$f":"CV30*Calculator!G$27/21","v":0}]
[null,28,{"$f":"$D$2*'Lookup Tables'!H31","v":0},{"$f":"$D$2*'Lookup Tables'!I31","v":0},{"$f":"$D$2*'Lookup Tables'!J31","v":0},{"$f":"$D$2*'Lookup Tables'!K31","v":0},{"$f":"$D$2*'Lookup Tables'!L31","v":0},{"$f":"$D$2*'Lookup Tables'!M31","v":0},{"$f":"$D$2*'Lookup Tables'!N31","v":0},{"$f":"$D$2*'Lookup Tables'!O31","v":0},{"$f":"$D$2*'Lookup Tables'!P31","v":0},{"$f":"$D$2*'Lookup Tables'!Q31","v":0},{"$f":"$D$2*'Lookup Tables'!R31","v":0},{"$f":"$D$2*'Lookup Tables'!S31","v":0},{"$f":"$D$2*'Lookup Tables'!T31","v":0},{"$f":"$D$2*'Lookup Tables'!U31","v":0},{"$f":"$D$2*'Lookup Tables'!V31","v":0},null,28,{"$f":"$U$2*'Lookup Tables'!Y31","v":0},{"$f":"$U$2*'Lookup Tables'!Z31","v":0},{"$f":"$U$2*'Lookup Tables'!AA31","v":0},{"$f":"$U$2*'Lookup Tables'!AB31","v":0},{"$f":"$U$2*'Lookup Tables'!AC31","v":0},{"$f":"$U$2*'Lookup Tables'!AD31","v":0},{"$f":"$U$2*'Lookup Tables'!AE31","v":0},{"$f":"$U$2*'Lookup Tables'!AF31","v":0},{"$f":"$U$2*'Lookup Tables'!AG31","v":0},{"$f":"$U$2*'Lookup Tables'!AH31","v":0},{"$f":"$U$2*'Lookup Tables'!AI31","v":0},{"$f":"$U$2*'Lookup Tables'!AJ31","v":0},{"$f":"$U$2*'Lookup Tables'!AK31","v":0},{"$f":"$U$2*'Lookup Tables'!AL31","v":0},{"$f":"$U$2*'Lookup Tables'!AM31","v":0},null,28,{"$f":"$AL$2*'Lookup Tables'!AP31","v":0},{"$f":"$AL$2*'Lookup Tables'!AQ31","v":0},{"$f":"$AL$2*'Lookup Tables'!AR31","v":0},{"$f":"$AL$2*'Lookup Tables'!AS31","v":0},{"$f":"$AL$2*'Lookup Tables'!AT31","v":0},{"$f":"$AL$2*'Lookup Tables'!AU31","v":0},{"$f":"$AL$2*'Lookup Tables'!AV31","v":0},{"$f":"$AL$2*'Lookup Tables'!AW31","v":0},{"$f":"$AL$2*'Lookup Tables'!AX31","v":0},{"$f":"$AL$2*'Lookup Tables'!AY31","v":0},{"$f":"$AL$2*'Lookup Tables'!AZ31","v":0},{"$f":"$AL$2*'Lookup Tables'!BA31","v":0},{"$f":"$AL$2*'Lookup Tables'!BB31","v":0},{"$f":"$AL$2*'Lookup Tables'!BC31","v":0},{"$f":"$AL$2*'Lookup Tables'!BD31","v":0},null,28,{"$f":"$BC$2*'Lookup Tables'!BG31","v":0},{"$f":"$BC$2*'Lookup Tables'!BH31","v":0},{"$f":"$BC$2*'Lookup Tables'!BI31","v":0},{"$f":"$BC$2*'Lookup Tables'!BJ31","v":0},{"$f":"$BC$2*'Lookup Tables'!BK31","v":0},{"$f":"$BC$2*'Lookup Tables'!BL31","v":0},{"$f":"$BC$2*'Lookup Tables'!BM31","v":0},{"$f":"$BC$2*'Lookup Tables'!BN31","v":0},{"$f":"$BC$2*'Lookup Tables'!BO31","v":0},{"$f":"$BC$2*'Lookup Tables'!BP31","v":0},{"$f":"$BC$2*'Lookup Tables'!BQ31","v":0},{"$f":"$BC$2*'Lookup Tables'!BR31","v":0},{"$f":"$BC$2*'Lookup Tables'!BS31","v":0},{"$f":"$BC$2*'Lookup Tables'!BT31","v":0},{"$f":"$BC$2*'Lookup Tables'!BU31","v":0},null,28,{"$f":"$BT$2*'Lookup Tables'!BX31","v":0},{"$f":"$BT$2*'Lookup Tables'!BY31","v":0},{"$f":"$BT$2*'Lookup Tables'!BZ31","v":0},{"$f":"$BT$2*'Lookup Tables'!CA31","v":0},{"$f":"$BT$2*'Lookup Tables'!CB31","v":0},{"$f":"$BT$2*'Lookup Tables'!CC31","v":0},{"$f":"$BT$2*'Lookup Tables'!CD31","v":0},{"$f":"$BT$2*'Lookup Tables'!CE31","v":0},{"$f":"$BT$2*'Lookup Tables'!CF31","v":0},{"$f":"$BT$2*'Lookup Tables'!CG31","v":0},{"$f":"$BT$2*'Lookup Tables'!CH31","v":0},{"$f":"$BT$2*'Lookup Tables'!CI31","v":0},{"$f":"$BT$2*'Lookup Tables'!CJ31","v":0},{"$f":"$BT$2*'Lookup Tables'!CK31","v":0},{"$f":"$BT$2*'Lookup Tables'!CL31","v":0},null,null,28,0,0,0,0,0,0,0,0,0,0,0,0,0,0,0,null,{"$f":"CV31*Calculator!G$27/21","v":0}]
[null,29,{"$f":"$D$2*'Lookup Tables'!H32","v":0},{"$f":"$D$2*'Lookup Tables'!I32","v":0},{"$f":"$D$2*'Lookup Tables'!J32","v":0},{"$f":"$D$2*'Lookup Tables'!K32","v":0},{"$f":"$D$2*'Lookup Tables'!L32","v":0},{"$f":"$D$2*'Lookup Tables'!M32","v":0},{"$f":"$D$2*'Lookup Tables'!N32","v":0},{"$f":"$D$2*'Lookup Tables'!O32","v":0},{"$f":"$D$2*'Lookup Tables'!P32","v":0},{"$f":"$D$2*'Lookup Tables'!Q32","v":0},{"$f":"$D$2*'Lookup Tables'!R32","v":0},{"$f":"$D$2*'Lookup Tables'!S32","v":0},{"$f":"$D$2*'Lookup Tables'!T32","v":0},{"$f":"$D$2*'Lookup Tables'!U32","v":0},{"$f":"$D$2*'Lookup Tables'!V32","v":0},null,29,{"$f":"$U$2*'Lookup Tables'!Y32","v":0},{"$f":"$U$2*'Lookup Tables'!Z32","v":0},{"$f":"$U$2*'Lookup Tables'!AA32","v":0},{"$f":"$U$2*'Lookup Tables'!AB32","v":0},{"$f":"$U$2*'Lookup Tables'!AC32","v":0},{"$f":"$U$2*'Lookup Tables'!AD32","v":0},{"$f":"$U$2*'Lookup Tables'!AE32","v":0},{"$f":"$U$2*'Lookup Tables'!AF32","v":0},{"$f":"$U$2*'Lookup Tables'!AG32","v":0},{"$f":"$U$2*'Lookup Tables'!AH32","v":0},{"$f":"$U$2*'Lookup Tables'!AI32","v":0},{"$f":"$U$2*'Lookup Tables'!AJ32","v":0},{"$f":"$U$2*'Lookup Tables'!AK32","v":0},{"$f":"$U$2*'Lookup Tables'!AL32","v":0},{"$f":"$U$2*'Lookup Tables'!AM32","v":0},null,29,{"$f":"$AL$2*'Lookup Tables'!AP32","v":0},{"$f":"$AL$2*'Lookup Tables'!AQ32","v":0},{"$f":"$AL$2*'Lookup Tables'!AR32","v":0},{"$f":"$AL$2*'Lookup Tables'!AS32","v":0},{"$f":"$AL$2*'Lookup Tables'!AT32","v":0},{"$f":"$AL$2*'Lookup Tables'!AU32","v":0},{"$f":"$AL$2*'Lookup Tables'!AV32","v":0},{"$f":"$AL$2*'Lookup Tables'!AW32","v":0},{"$f":"$AL$2*'Lookup Tables'!AX32","v":0},{"$f":"$AL$2*'Lookup Tables'!AY32","v":0},{"$f":"$AL$2*'Lookup Tables'!AZ32","v":0},{"$f":"$AL$2*'Lookup Tables'!BA32","v":0},{"$f":"$AL$2*'Lookup Tables'!BB32","v":0},{"$f":"$AL$2*'Lookup Tables'!BC32","v":0},{"$f":"$AL$2*'Lookup Tables'!BD32","v":0},null,29,{"$f":"$BC$2*'Lookup Tables'!BG32","v":0},{"$f":"$BC$2*'Lookup Tables'!BH32","v":0},{"$f":"$BC$2*'Lookup Tables'!BI32","v":0},{"$f":"$BC$2*'Lookup Tables'!BJ32","v":0},{"$f":"$BC$2*'Lookup Tables'!BK32","v":0},{"$f":"$BC$2*'Lookup Tables'!BL32","v":0},{"$f":"$BC$2*'Lookup Tables'!BM32","v":0},{"$f":"$BC$2*'Lookup Tables'!BN32","v":0},{"$f":"$BC$2*'Lookup Tables'!BO32","v":0},{"$f":"$BC$2*'Lookup Tables'!BP32","v":0},{"$f":"$BC$2*'Lookup Tables'!BQ32","v":0},{"$f":"$BC$2*'Lookup Tables'!BR32","v":0},{"$f":"$BC$2*'Lookup Tables'!BS32","v":0},{"$f":"$BC$2*'Lookup Tables'!BT32","v":0},{"$f":"$BC$2*'Lookup Tables'!BU32","v":0},null,29,{"$f":"$BT$2*'Lookup Tables'!BX32","v":0},{"$f":"$BT$2*'Lookup Tables'!BY32","v":0},{"$f":"$BT$2*'Lookup Tables'!BZ32","v":0},{"$f":"$BT$2*'Lookup Tables'!CA32","v":0},{"$f":"$BT$2*'Lookup Tables'!CB32","v":0},{"$f":"$BT$2*'Lookup Tables'!CC32","v":0},{"$f":"$BT$2*'Lookup Tables'!CD32","v":0},{"$f":"$BT$2*'Lookup Tables'!CE32","v":0},{"$f":"$BT$2*'Lookup Tables'!CF32","v":0},{"$f":"$BT$2*'Lookup Tables'!CG32","v":0},{"$f":"$BT$2*'Lookup Tables'!CH32","v":0},{"$f":"$BT$2*'Lookup Tables'!CI32","v":0},{"$f":"$BT$2*'Lookup Tables'!CJ32","v":0},{"$f":"$BT$2*'Lookup Tables'!CK32","v":0},{"$f":"$BT$2*'Lookup Tables'!CL32","v":0},null,null,29,0,0,0,0,0,0,0,0,0,0,0,0,0,0,0,null,{"$f":"CV32*Calculator!G$27/21","v":0}]
[null,30,{"$f":"$D$2*'Lookup Tables'!H33","v":0},{"$f":"$D$2*'Lookup Tables'!I33","v":0},{"$f":"$D$2*'Lookup Tables'!J33","v":0},{"$f":"$D$2*'Lookup Tables'!K33","v":0},{"$f":"$D$2*'Lookup Tables'!L33","v":0},{"$f":"$D$2*'Lookup Tables'!M33","v":0},{"$f":"$D$2*'Lookup Tables'!N33","v":0},{"$f":"$D$2*'Lookup Tables'!O33","v":0},{"$f":"$D$2*'Lookup Tables'!P33","v":0},{"$f":"$D$2*'Lookup Tables'!Q33","v":0},{"$f":"$D$2*'Lookup Tables'!R33","v":0},{"$f":"$D$2*'Lookup Tables'!S33","v":0},{"$f":"$D$2*'Lookup Tables'!T33","v":0},{"$f":"$D$2*'Lookup Tables'!U33","v":0},{"$f":"$D$2*'Lookup Tables'!V33","v":0},null,30,{"$f":"$U$2*'Lookup Tables'!Y33","v":0},{"$f":"$U$2*'Lookup Tables'!Z33","v":0},{"$f":"$U$2*'Lookup Tables'!AA33","v":0},{"$f":"$U$2*'Lookup Tables'!AB33","v":0},{"$f":"$U$2*'Lookup Tables'!AC33","v":0},{"$f":"$U$2*'Lookup Tables'!AD33","v":0},{"$f":"$U$2*'Lookup Tables'!AE33","v":0},{"$f":"$U$2*'Lookup Tables'!AF33","v":0},{"$f":"$U$2*'Lookup Tables'!AG33","v":0},{"$f":"$U$2*'Lookup Tables'!AH33","v":0},{"$f":"$U$2*'Lookup Tables'!AI33","v":0},{"$f":"$U$2*'Lookup Tables'!AJ33","v":0},{"$f":"$U$2*'Lookup Tables'!AK33","v":0},{"$f":"$U$2*'Lookup Tables'!AL33","v":0},{"$f":"$U$2*'Lookup Tables'!AM33","v":0},null,30,{"$f":"$AL$2*'Lookup Tables'!AP33","v":0},{"$f":"$AL$2*'Lookup Tables'!AQ33","v":0},{"$f":"$AL$2*'Lookup Tables'!AR33","v":0},{"$f":"$AL$2*'Lookup Tables'!AS33","v":0},{"$f":"$AL$2*'Lookup Tables'!AT33","v":0},{"$f":"$AL$2*'Lookup Tables'!AU33","v":0},{"$f":"$AL$2*'Lookup Tables'!AV33","v":0},{"$f":"$AL$2*'Lookup Tables'!AW33","v":0},{"$f":"$AL$2*'Lookup Tables'!AX33","v":0},{"$f":"$AL$2*'Lookup Tables'!AY33","v":0},{"$f":"$AL$2*'Lookup Tables'!AZ33","v":0},{"$f":"$AL$2*'Lookup Tables'!BA33","v":0},{"$f":"$AL$2*'Lookup Tables'!BB33","v":0},{"$f":"$AL$2*'Lookup Tables'!BC33","v":0},{"$f":"$AL$2*'Lookup Tables'!BD33","v":0},null,30,{"$f":"$BC$2*'Lookup Tables'!BG33","v":0},{"$f":"$BC$2*'Lookup Tables'!BH33","v":0},{"$f":"$BC$2*'Lookup Tables'!BI33","v":0},{"$f":"$BC$2*'Lookup Tables'!BJ33","v":0},{"$f":"$BC$2*'Lookup Tables'!BK33","v":0},{"$f":"$BC$2*'Lookup Tables'!BL33","v":0},{"$f":"$BC$2*'Lookup Tables'!BM33","v":0},{"$f":"$BC$2*'Lookup Tables'!BN33","v":0},{"$f":"$BC$2*'Lookup Tables'!BO33","v":0},{"$f":"$BC$2*'Lookup Tables'!BP33","v":0},{"$f":"$BC$2*'Lookup Tables'!BQ33","v":0},{"$f":"$BC$2*'Lookup Tables'!BR33","v":0},{"$f":"$BC$2*'Lookup Tables'!BS33","v":0},{"$f":"$BC$2*'Lookup Tables'!BT33","v":0},{"$f":"$BC$2*'Lookup Tables'!BU33","v":0},null,30,{"$f":"$BT$2*'Lookup Tables'!BX33","v":0},{"$f":"$BT$2*'Lookup Tables'!BY33","v":0},{"$f":"$BT$2*'Lookup Tables'!BZ33","v":0},{"$f":"$BT$2*'Lookup Tables'!CA33","v":0},{"$f":"$BT$2*'Lookup Tables'!CB33","v":0},{"$f":"$BT$2*'Lookup Tables'!CC33","v":0},{"$f":"$BT$2*'Lookup Tables'!CD33","v":0},{"$f":"$BT$2*'Lookup Tables'!CE33","v":0},{"$f":"$BT$2*'Lookup Tables'!CF33","v":0},{"$f":"$BT$2*'Lookup Tables'!CG33","v":0},{"$f":"$BT$2*'Lookup Tables'!CH33","v":0},{"$f":"$BT$2*'Lookup Tables'!CI33","v":0},{"$f":"$BT$2*'Lookup Tables'!CJ33","v":0},{"$f":"$BT$2*'Lookup Tables'!CK33","v":0},{"$f":"$BT$2*'Lookup Tables'!CL33","v":0},null,null,30,0,0,0,0,0,0,0,0,0,0,0,0,0,0,0,null,{"$f":"CV33*Calculator!G$27/21","v":0}]
[null,31,{"$f":"$D$2*'Lookup Tables'!H34","v":0},{"$f":"$D$2*'Lookup Tables'!I34","v":0},{"$f":"$D$2*'Lookup Tables'!J34","v":0},{"$f":"$D$2*'Lookup Tables'!K34","v":0},{"$f":"$D$2*'Lookup Tables'!L34","v":0},{"$f":"$D$2*'Lookup Tables'!M34","v":0},{"$f":"$D$2*'Lookup Tables'!N34","v":0},{"$f":"$D$2*'Lookup Tables'!O34","v":0},{"$f":"$D$2*'Lookup Tables'!P34","v":0},{"$f":"$D$2*'Lookup Tables'!Q34","v":0},{"$f":"$D$2*'Lookup Tables'!R34","v":0},{"$f":"$D$2*'Lookup Tables'!S34","v":0},{"$f":"$D$2*'Lookup Tables'!T34","v":0},{"$f":"$D$2*'Lookup Tables'!U34","v":0},{"$f":"$D$2*'Lookup Tables'!V34","v":0},null,31,{"$f":"$U$2*'Lookup Tables'!Y34","v":0},{"$f":"$U$2*'Lookup Tables'!Z34","v":0},{"$f":"$U$2*'Lookup Tables'!AA34","v":0},{"$f":"$U$2*'Lookup Tables'!AB34","v":0},{"$f":"$U$2*'Lookup Tables'!AC34","v":0},{"$f":"$U$2*'Lookup Tables'!AD34","v":0},{"$f":"$U$2*'Lookup Tables'!AE34","v":0},{"$f":"$U$2*'Lookup Tables'!AF34","v":0},{"$f":"$U$2*'Lookup Tables'!AG34","v":0},{"$f":"$U$2*'Lookup Tables'!AH34","v":0},{"$f":"$U$2*'Lookup Tables'!AI34","v":0},{"$f":"$U$2*'Lookup Tables'!AJ34","v":0},{"$f":"$U$2*'Lookup Tables'!AK34","v":0},{"$f":"$U$2*'Lookup Tables'!AL34","v":0},{"$f":"$U$2*'Lookup Tables'!AM34","v":0},null,31,{"$f":"$AL$2*'Lookup Tables'!AP34","v":0},{"$f":"$AL$2*'Lookup Tables'!AQ34","v":0},{"$f":"$AL$2*'Lookup Tables'!AR34","v":0},{"$f":"$AL$2*'Lookup Tables'!AS34","v":0},{"$f":"$AL$2*'Lookup Tables'!AT34","v":0},{"$f":"$AL$2*'Lookup Tables'!AU34","v":0},{"$f":"$AL$2*'Lookup Tables'!AV34","v":0},{"$f":"$AL$2*'Lookup Tables'!AW34","v":0},{"$f":"$AL$2*'Lookup Tables'!AX34","v":0},{"$f":"$AL$2*'Lookup Tables'!AY34","v":0},{"$f":"$AL$2*'Lookup Tables'!AZ34","v":0},{"$f":"$AL$2*'Lookup Tables'!BA34","v":0},{"$f":"$AL$2*'Lookup Tables'!BB34","v":0},{"$f":"$AL$2*'Lookup Tables'!BC34","v":0},{"$f":"$AL$2*'Lookup Tables'!BD34","v":0},null,31,{"$f":"$BC$2*'Lookup Tables'!BG34","v":0},{"$f":"$BC$2*'Lookup Tables'!BH34","v":0},{"$f":"$BC$2*'Lookup Tables'!BI34","v":0},{"$f":"$BC$2*'Lookup Tables'!BJ34","v":0},{"$f":"$BC$2*'Lookup Tables'!BK34","v":0},{"$f":"$BC$2*'Lookup Tables'!BL34","v":0},{"$f":"$BC$2*'Lookup Tables'!BM34","v":0},{"$f":"$BC$2*'Lookup Tables'!BN34","v":0},{"$f":"$BC$2*'Lookup Tables'!BO34","v":0},{"$f":"$BC$2*'Lookup Tables'!BP34","v":0},{"$f":"$BC$2*'Lookup Tables'!BQ34","v":0},{"$f":"$BC$2*'Lookup Tables'!BR34","v":0},{"$f":"$BC$2*'Lookup Tables'!BS34","v":0},{"$f":"$BC$2*'Lookup Tables'!BT34","v":0},{"$f":"$BC$2*'Lookup Tables'!BU34","v":0},null,31,{"$f":"$BT$2*'Lookup Tables'!BX34","v":0},{"$f":"$BT$2*'Lookup Tables'!BY34","v":0},{"$f":"$BT$2*'Lookup Tables'!BZ34","v":0},{"$f":"$BT$2*'Lookup Tables'!CA34","v":0},{"$f":"$BT$2*'Lookup Tables'!CB34","v":0},{"$f":"$BT$2*'Lookup Tables'!CC34","v":0},{"$f":"$BT$2*'Lookup Tables'!CD34","v":0},{"$f":"$BT$2*'Lookup Tables'!CE34","v":0},{"$f":"$BT$2*'Lookup Tables'!CF34","v":0},{"$f":"$BT$2*'Lookup Tables'!CG34","v":0},{"$f":"$BT$2*'Lookup Tables'!CH34","v":0},{"$f":"$BT$2*'Lookup Tables'!CI34","v":0},{"$f":"$BT$2*'Lookup Tables'!CJ34","v":0},{"$f":"$BT$2*'Lookup Tables'!CK34","v":0},{"$f":"$BT$2*'Lookup Tables'!CL34","v":0},null,null,31,0,0,0,0,0,0,0,0,0,0,0,0,0,0,0,null,{"$f":"CV34*Calculator!G$27/21","v":0}]
[null,32,{"$f":"$D$2*'Lookup Tables'!H35","v":0},{"$f":"$D$2*'Lookup Tables'!I35","v":0},{"$f":"$D$2*'Lookup Tables'!J35","v":0},{"$f":"$D$2*'Lookup Tables'!K35","v":0},{"$f":"$D$2*'Lookup Tables'!L35","v":0},{"$f":"$D$2*'Lookup Tables'!M35","v":0},{"$f":"$D$2*'Lookup Tables'!N35","v":0},{"$f":"$D$2*'Lookup Tables'!O35","v":0},{"$f":"$D$2*'Lookup Tables'!P35","v":0},{"$f":"$D$2*'Lookup Tables'!Q35","v":0},{"$f":"$D$2*'Lookup Tables'!R35","v":0},{"$f":"$D$2*'Lookup Tables'!S35","v":0},{"$f":"$D$2*'Lookup Tables'!T35","v":0},{"$f":"$D$2*'Lookup Tables'!U35","v":0},{"$f":"$D$2*'Lookup Tables'!V35","v":0},null,32,{"$f":"$U$2*'Lookup Tables'!Y35","v":0},{"$f":"$U$2*'Lookup Tables'!Z35","v":0},{"$f":"$U$2*'Lookup Tables'!AA35","v":0},{"$f":"$U$2*'Lookup Tables'!AB35","v":0},{"$f":"$U$2*'Lookup Tables'!AC35","v":0},{"$f":"$U$2*'Lookup Tables'!AD35","v":0},{"$f":"$U$2*'Lookup Tables'!AE35","v":0},{"$f":"$U$2*'Lookup Tables'!AF35","v":0},{"$f":"$U$2*'Lookup Tables'!AG35","v":0},{"$f":"$U$2*'Lookup Tables'!AH35","v":0},{"$f":"$U$2*'Lookup Tables'!AI35","v":0},{"$f":"$U$2*'Lookup Tables'!AJ35","v":0},{"$f":"$U$2*'Lookup Tables'!AK35","v":0},{"$f":"$U$2*'Lookup Tables'!AL35","v":0},{"$f":"$U$2*'Lookup Tables'!AM35","v":0},null,32,{"$f":"$AL$2*'Lookup Tables'!AP35","v":0},{"$f":"$AL$2*'Lookup Tables'!AQ35","v":0},{"$f":"$AL$2*'Lookup Tables'!AR35","v":0},{"$f":"$AL$2*'Lookup Tables'!AS35","v":0},{"$f":"$AL$2*'Lookup Tables'!AT35","v":0},{"$f":"$AL$2*'Lookup Tables'!AU35","v":0},{"$f":"$AL$2*'Lookup Tables'!AV35","v":0},{"$f":"$AL$2*'Lookup Tables'!AW35","v":0},{"$f":"$AL$2*'Lookup Tables'!AX35","v":0},{"$f":"$AL$2*'Lookup Tables'!AY35","v":0},{"$f":"$AL$2*'Lookup Tables'!AZ35","v":0},{"$f":"$AL$2*'Lookup Tables'!BA35","v":0},{"$f":"$AL$2*'Lookup Tables'!BB35","v":0},{"$f":"$AL$2*'Lookup Tables'!BC35","v":0},{"$f":"$AL$2*'Lookup Tables'!BD35","v":0},null,32,{"$f":"$BC$2*'Lookup Tables'!BG35","v":0},{"$f":"$BC$2*'Lookup Tables'!BH35","v":0},{"$f":"$BC$2*'Lookup Tables'!BI35","v":0},{"$f":"$BC$2*'Lookup Tables'!BJ35","v":0},{"$f":"$BC$2*'Lookup Tables'!BK35","v":0},{"$f":"$BC$2*'Lookup Tables'!BL35","v":0},{"$f":"$BC$2*'Lookup Tables'!BM35","v":0},{"$f":"$BC$2*'Lookup Tables'!BN35","v":0},{"$f":"$BC$2*'Lookup Tables'!BO35","v":0},{"$f":"$BC$2*'Lookup Tables'!BP35","v":0},{"$f":"$BC$2*'Lookup Tables'!BQ35","v":0},{"$f":"$BC$2*'Lookup Tables'!BR35","v":0},{"$f":"$BC$2*'Lookup Tables'!BS35","v":0},{"$f":"$BC$2*'Lookup Tables'!BT35","v":0},{"$f":"$BC$2*'Lookup Tables'!BU35","v":0},null,32,{"$f":"$BT$2*'Lookup Tables'!BX35","v":0},{"$f":"$BT$2*'Lookup Tables'!BY35","v":0},{"$f":"$BT$2*'Lookup Tables'!BZ35","v":0},{"$f":"$BT$2*'Lookup Tables'!CA35","v":0},{"$f":"$BT$2*'Lookup Tables'!CB35","v":0},{"$f":"$BT$2*'Lookup Tables'!CC35","v":0},{"$f":"$BT$2*'Lookup Tables'!CD35","v":0},{"$f":"$BT$2*'Lookup Tables'!CE35","v":0},{"$f":"$BT$2*'Lookup Tables'!CF35","v":0},{"$f":"$BT$2*'Lookup Tables'!CG35","v":0},{"$f":"$BT$2*'Lookup Tables'!CH35","v":0},{"$f":"$BT$2*'Lookup Tables'!CI35","v":0},{"$f":"$BT$2*'Lookup Tables'!CJ35","v":0},{"$f":"$BT$2*'Lookup Tables'!CK35","v":0},{"$f":"$BT$2*'Lookup Tables'!CL35","v":0},null,null,32,0,0,0,0,0,0,0,0,0,0,0,0,0,0,0,null,{"$f":"CV35*Calculator!G$27/21","v":0}]
[null,33,{"$f":"$D$2*'Lookup Tables'!H36","v":0},{"$f":"$D$2*'Lookup Tables'!I36","v":0},{"$f":"$D$2*'Lookup Tables'!J36","v":0},{"$f":"$D$2*'Lookup Tables'!K36","v":0},{"$f":"$D$2*'Lookup Tables'!L36","v":0},{"$f":"$D$2*'Lookup Tables'!M36","v":0},{"$f":"$D$2*'Lookup Tables'!N36","v":0},{"$f":"$D$2*'Lookup Tables'!O36","v":0},{"$f":"$D$2*'Lookup Tables'!P36","v":0},{"$f":"$D$2*'Lookup Tables'!Q36","v":0},{"$f":"$D$2*'Lookup Tables'!R36","v":0},{"$f":"$D$2*'Lookup Tables'!S36","v":0},{"$f":"$D$2*'Lookup Tables'!T36","v":0},{"$f":"$D$2*'Lookup Tables'!U36","v":0},{"$f":"$D$2*'Lookup Tables'!V36","v":0},null,33,{"$f":"$U$2*'Lookup Tables'!Y36","v":0},{"$f":"$U$2*'Lookup Tables'!Z36","v":0},{"$f":"$U$2*'Lookup Tables'!AA36","v":0},{"$f":"$U$2*'Lookup Tables'!AB36","v":0},{"$f":"$U$2*'Lookup Tables'!AC36","v":0},{"$f":"$U$2*'Lookup Tables'!AD36","v":0},{"$f":"$U$2*'Lookup Tables'!AE36","v":0},{"$f":"$U$2*'Lookup Tables'!AF36","v":0},{"$f":"$U$2*'Lookup Tables'!AG36","v":0},{"$f":"$U$2*'Lookup Tables'!AH36","v":0},{"$f":"$U$2*'Lookup Tables'!AI36","v":0},{"$f":"$U$2*'Lookup Tables'!AJ36","v":0},{"$f":"$U$2*'Lookup Tables'!AK36","v":0},{"$f":"$U$2*'Lookup Tables'!AL36","v":0},{"$f":"$U$2*'Lookup Tables'!AM36","v":0},null,33,{"$f":"$AL$2*'Lookup Tables'!AP36","v":0},{"$f":"$AL$2*'Lookup Tables'!AQ36","v":0},{"$f":"$AL$2*'Lookup Tables'!AR36","v":0},{"$f":"$AL$2*'Lookup Tables'!AS36","v":0},{"$f":"$AL$2*'Lookup Tables'!AT36","v":0},{"$f":"$AL$2*'Lookup Tables'!AU36","v":0},{"$f":"$AL$2*'Lookup Tables'!AV36","v":0},{"$f":"$AL$2*'Lookup Tables'!AW36","v":0},{"$f":"$AL$2*'Lookup Tables'!AX36","v":0},{"$f":"$AL$2*'Lookup Tables'!AY36","v":0},{"$f":"$AL$2*'Lookup Tables'!AZ36","v":0},{"$f":"$AL$2*'Lookup Tables'!BA36","v":0},{"$f":"$AL$2*'Lookup Tables'!BB36","v":0},{"$f":"$AL$2*'Lookup Tables'!BC36","v":0},{"$f":"$AL$2*'Lookup Tables'!BD36","v":0},null,33,{"$f":"$BC$2*'Lookup Tables'!BG36","v":0},{"$f":"$BC$2*'Lookup Tables'!BH36","v":0},{"$f":"$BC$2*'Lookup Tables'!BI36","v":0},{"$f":"$BC$2*'Lookup Tables'!BJ36","v":0},{"$f":"$BC$2*'Lookup Tables'!BK36","v":0},{"$f":"$BC$2*'Lookup Tables'!BL36","v":0},{"$f":"$BC$2*'Lookup Tables'!BM36","v":0},{"$f":"$BC$2*'Lookup Tables'!BN36","v":0},{"$f":"$BC$2*'Lookup Tables'!BO36","v":0},{"$f":"$BC$2*'Lookup Tables'!BP36","v":0},{"$f":"$BC$2*'Lookup Tables'!BQ36","v":0},{"$f":"$BC$2*'Lookup Tables'!BR36","v":0},{"$f":"$BC$2*'Lookup Tables'!BS36","v":0},{"$f":"$BC$2*'Lookup Tables'!BT36","v":0},{"$f":"$BC$2*'Lookup Tables'!BU36","v":0},null,33,{"$f":"$BT$2*'Lookup Tables'!BX36","v":0},{"$f":"$BT$2*'Lookup Tables'!BY36","v":0},{"$f":"$BT$2*'Lookup Tables'!BZ36","v":0},{"$f":"$BT$2*'Lookup Tables'!CA36","v":0},{"$f":"$BT$2*'Lookup Tables'!CB36","v":0},{"$f":"$BT$2*'Lookup Tables'!CC36","v":0},{"$f":"$BT$2*'Lookup Tables'!CD36","v":0},{"$f":"$BT$2*'Lookup Tables'!CE36","v":0},{"$f":"$BT$2*'Lookup Tables'!CF36","v":0},{"$f":"$BT$2*'Lookup Tables'!CG36","v":0},{"$f":"$BT$2*'Lookup Tables'!CH36","v":0},{"$f":"$BT$2*'Lookup Tables'!CI36","v":0},{"$f":"$BT$2*'Lookup Tables'!CJ36","v":0},{"$f":"$BT$2*'Lookup Tables'!CK36","v":0},{"$f":"$BT$2*'Lookup Tables'!CL36","v":0},null,null,33,0,0,0,0,0,0,0,0,0,0,0,0,0,0,0,null,{"$f":"CV36*Calculator!G$27/21","v":0}]
[null,34,{"$f":"$D$2*'Lookup Tables'!H37","v":0},{"$f":"$D$2*'Lookup Tables'!I37","v":0},{"$f":"$D$2*'Lookup Tables'!J37","v":0},{"$f":"$D$2*'Lookup Tables'!K37","v":0},{"$f":"$D$2*'Lookup Tables'!L37","v":0},{"$f":"$D$2*'Lookup Tables'!M37","v":0},{"$f":"$D$2*'Lookup Tables'!N37","v":0},{"$f":"$D$2*'Lookup Tables'!O37","v":0},{"$f":"$D$2*'Lookup Tables'!P37","v":0},{"$f":"$D$2*'Lookup Tables'!Q37","v":0},{"$f":"$D$2*'Lookup Tables'!R37","v":0},{"$f":"$D$2*'Lookup Tables'!S37","v":0},{"$f":"$D$2*'Lookup Tables'!T37","v":0},{"$f":"$D$2*'Lookup Tables'!U37","v":0},{"$f":"$D$2*'Lookup Tables'!V37","v":0},null,34,{"$f":"$U$2*'Lookup Tables'!Y37","v":0},{"$f":"$U$2*'Lookup Tables'!Z37","v":0},{"$f":"$U$2*'Lookup Tables'!AA37","v":0},{"$f":"$U$2*'Lookup Tables'!AB37","v":0},{"$f":"$U$2*'Lookup Tables'!AC37","v":0},{"$f":"$U$2*'Lookup Tables'!AD37","v":0},{"$f":"$U$2*'Lookup Tables'!AE37","v":0},{"$f":"$U$2*'Lookup Tables'!AF37","v":0},{"$f":"$U$2*'Lookup Tables'!AG37","v":0},{"$f":"$U$2*'Lookup Tables'!AH37","v":0},{"$f":"$U$2*'Lookup Tables'!AI37","v":0},{"$f":"$U$2*'Lookup Tables'!AJ37","v":0},{"$f":"$U$2*'Lookup Tables'!AK37","v":0},{"$f":"$U$2*'Lookup Tables'!AL37","v":0},{"$f":"$U$2*'Lookup Tables'!AM37","v":0},null,34,{"$f":"$AL$2*'Lookup Tables'!AP37","v":0},{"$f":"$AL$2*'Lookup Tables'!AQ37","v":0},{"$f":"$AL$2*'Lookup Tables'!AR37","v":0},{"$f":"$AL$2*'Lookup Tables'!AS37","v":0},{"$f":"$AL$2*'Lookup Tables'!AT37","v":0},{"$f":"$AL$2*'Lookup Tables'!AU37","v":0},{"$f":"$AL$2*'Lookup Tables'!AV37","v":0},{"$f":"$AL$2*'Lookup Tables'!AW37","v":0},{"$f":"$AL$2*'Lookup Tables'!AX37","v":0},{"$f":"$AL$2*'Lookup Tables'!AY37","v":0},{"$f":"$AL$2*'Lookup Tables'!AZ37","v":0},{"$f":"$AL$2*'Lookup Tables'!BA37","v":0},{"$f":"$AL$2*'Lookup Tables'!BB37","v":0},{"$f":"$AL$2*'Lookup Tables'!BC37","v":0},{"$f":"$AL$2*'Lookup Tables'!BD37","v":0},null,34,{"$f":"$BC$2*'Lookup Tables'!BG37","v":0},{"$f":"$BC$2*'Lookup Tables'!BH37","v":0},{"$f":"$BC$2*'Lookup Tables'!BI37","v":0},{"$f":"$BC$2*'Lookup Tables'!BJ37","v":0},{"$f":"$BC$2*'Lookup Tables'!BK37","v":0},{"$f":"$BC$2*'Lookup Tables'!BL37","v":0},{"$f":"$BC$2*'Lookup Tables'!BM37","v":0},{"$f":"$BC$2*'Lookup Tables'!BN37","v":0},{"$f":"$BC$2*'Lookup Tables'!BO37","v":0},{"$f":"$BC$2*'Lookup Tables'!BP37","v":0},{"$f":"$BC$2*'Lookup Tables'!BQ37","v":0},{"$f":"$BC$2*'Lookup Tables'!BR37","v":0},{"$f":"$BC$2*'Lookup Tables'!BS37","v":0},{"$f":"$BC$2*'Lookup Tables'!BT37","v":0},{"$f":"$BC$2*'Lookup Tables'!BU37","v":0},null,34,{"$f":"$BT$2*'Lookup Tables'!BX37","v":0},{"$f":"$BT$2*'Lookup Tables'!BY37","v":0},{"$f":"$BT$2*'Lookup Tables'!BZ37","v":0},{"$f":"$BT$2*'Lookup Tables'!CA37","v":0},{"$f":"$BT$2*'Lookup Tables'!CB37","v":0},{"$f":"$BT$2*'Lookup Tables'!CC37","v":0},{"$f":"$BT$2*'Lookup Tables'!CD37","v":0},{"$f":"$BT$2*'Lookup Tables'!CE37","v":0},{"$f":"$BT$2*'Lookup Tables'!CF37","v":0},{"$f":"$BT$2*'Lookup Tables'!CG37","v":0},{"$f":"$BT$2*'Lookup Tables'!CH37","v":0},{"$f":"$BT$2*'Lookup Tables'!CI37","v":0},{"$f":"$BT$2*'Lookup Tables'!CJ37","v":0},{"$f":"$BT$2*'Lookup Tables'!CK37","v":0},{"$f":"$BT$2*'Lookup Tables'!CL37","v":0},null,null,34,0,0,0,0,0,0,0,0,0,0,0,0,0,0,0,null,{"$f":"CV37*Calculator!G$27/21","v":0}]
[null,35,{"$f":"$D$2*'Lookup Tables'!H38","v":0},{"$f":"$D$2*'Lookup Tables'!I38","v":0},{"$f":"$D$2*'Lookup Tables'!J38","v":0},{"$f":"$D$2*'Lookup Tables'!K38","v":0},{"$f":"$D$2*'Lookup Tables'!L38","v":0},{"$f":"$D$2*'Lookup Tables'!M38","v":0},{"$f":"$D$2*'Lookup Tables'!N38","v":0},{"$f":"$D$2*'Lookup Tables'!O38","v":0},{"$f":"$D$2*'Lookup Tables'!P38","v":0},{"$f":"$D$2*'Lookup Tables'!Q38","v":0},{"$f":"$D$2*'Lookup Tables'!R38","v":0},{"$f":"$D$2*'Lookup Tables'!S38","v":0},{"$f":"$D$2*'Lookup Tables'!T38","v":0},{"$f":"$D$2*'Lookup Tables'!U38","v":0},{"$f":"$D$2*'Lookup Tables'!V38","v":0},null,35,{"$f":"$U$2*'Lookup Tables'!Y38","v":0},{"$f":"$U$2*'Lookup Tables'!Z38","v":0},{"$f":"$U$2*'Lookup Tables'!AA38","v":0},{"$f":"$U$2*'Lookup Tables'!AB38","v":0},{"$f":"$U$2*'Lookup Tables'!AC38","v":0},{"$f":"$U$2*'Lookup Tables'!AD38","v":0},{"$f":"$U$2*'Lookup Tables'!AE38","v":0},{"$f":"$U$2*'Lookup Tables'!AF38","v":0},{"$f":"$U$2*'Lookup Tables'!AG38","v":0},{"$f":"$U$2*'Lookup Tables'!AH38","v":0},{"$f":"$U$2*'Lookup Tables'!AI38","v":0},{"$f":"$U$2*'Lookup Tables'!AJ38","v":0},{"$f":"$U$2*'Lookup Tables'!AK38","v":0},{"$f":"$U$2*'Lookup Tables'!AL38","v":0},{"$f":"$U$2*'Lookup Tables'!AM38","v":0},null,35,{"$f":"$AL$2*'Lookup Tables'!AP38","v":0},{"$f":"$AL$2*'Lookup Tables'!AQ38","v":0},{"$f":"$AL$2*'Lookup Tables'!AR38","v":0},{"$f":"$AL$2*'Lookup Tables'!AS38","v":0},{"$f":"$AL$2*'Lookup Tables'!AT38","v":0},{"$f":"$AL$2*'Lookup Tables'!AU38","v":0},{"$f":"$AL$2*'Lookup Tables'!AV38","v":0},{"$f":"$AL$2*'Lookup Tables'!AW38","v":0},{"$f":"$AL$2*'Lookup Tables'!AX38","v":0},{"$f":"$AL$2*'Lookup Tables'!AY38","v":0},{"$f":"$AL$2*'Lookup Tables'!AZ38","v":0},{"$f":"$AL$2*'Lookup Tables'!BA38","v":0},{"$f":"$AL$2*'Lookup Tables'!BB38","v":0},{"$f":"$AL$2*'Lookup Tables'!BC38","v":0},{"$f":"$AL$2*'Lookup Tables'!BD38","v":0},null,35,{"$f":"$BC$2*'Lookup Tables'!BG38","v":0},{"$f":"$BC$2*'Lookup Tables'!BH38","v":0},{"$f":"$BC$2*'Lookup Tables'!BI38","v":0},{"$f":"$BC$2*'Lookup Tables'!BJ38","v":0},{"$f":"$BC$2*'Lookup Tables'!BK38","v":0},{"$f":"$BC$2*'Lookup Tables'!BL38","v":0},{"$f":"$BC$2*'Lookup Tables'!BM38","v":0},{"$f":"$BC$2*'Lookup Tables'!BN38","v":0},{"$f":"$BC$2*'Lookup Tables'!BO38","v":0},{"$f":"$BC$2*'Lookup Tables'!BP38","v":0},{"$f":"$BC$2*'Lookup Tables'!BQ38","v":0},{"$f":"$BC$2*'Lookup Tables'!BR38","v":0},{"$f":"$BC$2*'Lookup Tables'!BS38","v":0},{"$f":"$BC$2*'Lookup Tables'!BT38","v":0},{"$f":"$BC$2*'Lookup Tables'!BU38","v":0},null,35,{"$f":"$BT$2*'Lookup Tables'!BX38","v":0},{"$f":"$BT$2*'Lookup Tables'!BY38","v":0},{"$f":"$BT$2*'Lookup Tables'!BZ38","v":0},{"$f":"$BT$2*'Lookup Tables'!CA38","v":0},{"$f":"$BT$2*'Lookup Tables'!CB38","v":0},{"$f":"$BT$2*'Lookup Tables'!CC38","v":0},{"$f":"$BT$2*'Lookup Tables'!CD38","v":0},{"$f":"$BT$2*'Lookup Tables'!CE38","v":0},{"$f":"$BT$2*'Lookup Tables'!CF38","v":0},{"$f":"$BT$2*'Lookup Tables'!CG38","v":0},{"$f":"$BT$2*'Lookup Tables'!CH38","v":0},{"$f":"$BT$2*'Lookup Tables'!CI38","v":0},{"$f":"$BT$2*'Lookup Tables'!CJ38","v":0},{"$f":"$BT$2*'Lookup Tables'!CK38","v":0},{"$f":"$BT$2*'Lookup Tables'!CL38","v":0},null,null,35,0,0,0,0,0,0,0,0,0,0,0,0,0,0,0,null,{"$f":"CV38*Calculator!G$27/21","v":0}]
[null,36,{"$f":"$D$2*'Lookup Tables'!H39","v":0},{"$f":"$D$2*'Lookup Tables'!I39","v":0},{"$f":"$D$2*'Lookup Tables'!J39","v":0},{"$f":"$D$2*'Lookup Tables'!K39","v":0},{"$f":"$D$2*'Lookup Tables'!L39","v":0},{"$f":"$D$2*'Lookup Tables'!M39","v":0},{"$f":"$D$2*'Lookup Tables'!N39","v":0},{"$f":"$D$2*'Lookup Tables'!O39","v":0},{"$f":"$D$2*'Lookup Tables'!P39","v":0},{"$f":"$D$2*'Lookup Tables'!Q39","v":0},{"$f":"$D$2*'Lookup Tables'!R39","v":0},{"$f":"$D$2*'Lookup Tables'!S39","v":0},{"$f":"$D$2*'Lookup Tables'!T39","v":0},{"$f":"$D$2*'Lookup Tables'!U39","v":0},{"$f":"$D$2*'Lookup Tables'!V39","v":0},null,36,{"$f":"$U$2*'Lookup Tables'!Y39","v":0},{"$f":"$U$2*'Lookup Tables'!Z39","v":0},{"$f":"$U$2*'Lookup Tables'!AA39","v":0},{"$f":"$U$2*'Lookup Tables'!AB39","v":0},{"$f":"$U$2*'Lookup Tables'!AC39","v":0},{"$f":"$U$2*'Lookup Tables'!AD39","v":0},{"$f":"$U$2*'Lookup Tables'!AE39","v":0},{"$f":"$U$2*'Lookup Tables'!AF39","v":0},{"$f":"$U$2*'Lookup Tables'!AG39","v":0},{"$f":"$U$2*'Lookup Tables'!AH39","v":0},{"$f":"$U$2*'Lookup Tables'!AI39","v":0},{"$f":"$U$2*'Lookup Tables'!AJ39","v":0},{"$f":"$U$2*'Lookup Tables'!AK39","v":0},{"$f":"$U$2*'Lookup Tables'!AL39","v":0},{"$f":"$U$2*'Lookup Tables'!AM39","v":0},null,36,{"$f":"$AL$2*'Lookup Tables'!AP39","v":0},{"$f":"$AL$2*'Lookup Tables'!AQ39","v":0},{"$f":"$AL$2*'Lookup Tables'!AR39","v":0},{"$f":"$AL$2*'Lookup Tables'!AS39","v":0},{"$f":"$AL$2*'Lookup Tables'!AT39","v":0},{"$f":"$AL$2*'Lookup Tables'!AU39","v":0},{"$f":"$AL$2*'Lookup Tables'!AV39","v":0},{"$f":"$AL$2*'Lookup Tables'!AW39","v":0},{"$f":"$AL$2*'Lookup Tables'!AX39","v":0},{"$f":"$AL$2*'Lookup Tables'!AY39","v":0},{"$f":"$AL$2*'Lookup Tables'!AZ39","v":0},{"$f":"$AL$2*'Lookup Tables'!BA39","v":0},{"$f":"$AL$2*'Lookup Tables'!BB39","v":0},{"$f":"$AL$2*'Lookup Tables'!BC39","v":0},{"$f":"$AL$2*'Lookup Tables'!BD39","v":0},null,36,{"$f":"$BC$2*'Lookup Tables'!BG39","v":0},{"$f":"$BC$2*'Lookup Tables'!BH39","v":0},{"$f":"$BC$2*'Lookup Tables'!BI39","v":0},{"$f":"$BC$2*'Lookup Tables'!BJ39","v":0},{"$f":"$BC$2*'Lookup Tables'!BK39","v":0},{"$f":"$BC$2*'Lookup Tables'!BL39","v":0},{"$f":"$BC$2*'Lookup Tables'!BM39","v":0},{"$f":"$BC$2*'Lookup Tables'!BN39","v":0},{"$f":"$BC$2*'Lookup Tables'!BO39","v":0},{"$f":"$BC$2*'Lookup Tables'!BP39","v":0},{"$f":"$BC$2*'Lookup Tables'!BQ39","v":0},{"$f":"$BC$2*'Lookup Tables'!BR39","v":0},{"$f":"$BC$2*'Lookup Tables'!BS39","v":0},{"$f":"$BC$2*'Lookup Tables'!BT39","v":0},{"$f":"$BC$2*'Lookup Tables'!BU39","v":0},null,36,{"$f":"$BT$2*'Lookup Tables'!BX39","v":0},{"$f":"$BT$2*'Lookup Tables'!BY39","v":0},{"$f":"$BT$2*'Lookup Tables'!BZ39","v":0},{"$f":"$BT$2*'Lookup Tables'!CA39","v":0},{"$f":"$BT$2*'Lookup Tables'!CB39","v":0},{"$f":"$BT$2*'Lookup Tables'!CC39","v":0},{"$f":"$BT$2*'Lookup Tables'!CD39","v":0},{"$f":"$BT$2*'Lookup Tables'!CE39","v":0},{"$f":"$BT$2*'Lookup Tables'!CF39","v":0},{"$f":"$BT$2*'Lookup Tables'!CG39","v":0},{"$f":"$BT$2*'Lookup Tables'!CH39","v":0},{"$f":"$BT$2*'Lookup Tables'!CI39","v":0},{"$f":"$BT$2*'Lookup Tables'!CJ39","v":0},{"$f":"$BT$2*'Lookup Tables'!CK39","v":0},{"$f":"$BT$2*'Lookup Tables'!CL39","v":0},null,null,36,0,0,0,0,0,0,0,0,0,0,0,0,0,0,0,null,{"$f":"CV39*Calculator!G$27/21","v":0}]
[null,37,{"$f":"$D$2*'Lookup Tables'!H40","v":0},{"$f":"$D$2*'Lookup Tables'!I40","v":0},{"$f":"$D$2*'Lookup Tables'!J40","v":0},{"$f":"$D$2*'Lookup Tables'!K40","v":0},{"$f":"$D$2*'Lookup Tables'!L40","v":0},{"$f":"$D$2*'Lookup Tables'!M40","v":0},{"$f":"$D$2*'Lookup Tables'!N40","v":0},{"$f":"$D$2*'Lookup Tables'!O40","v":0},{"$f":"$D$2*'Lookup Tables'!P40","v":0},{"$f":"$D$2*'Lookup Tables'!Q40","v":0},{"$f":"$D$2*'Lookup Tables'!R40","v":0},{"$f":"$D$2*'Lookup Tables'!S40","v":0},{"$f":"$D$2*'Lookup Tables'!T40","v":0},{"$f":"$D$2*'Lookup Tables'!U40","v":0},{"$f":"$D$2*'Lookup Tables'!V40","v":0},null,37,{"$f":"$U$2*'Lookup Tables'!Y40","v":0},{"$f":"$U$2*'Lookup Tables'!Z40","v":0},{"$f":"$U$2*'Lookup Tables'!AA40","v":0},{"$f":"$U$2*'Lookup Tables'!AB40","v":0},{"$f":"$U$2*'Lookup Tables'!AC40","v":0},{"$f":"$U$2*'Lookup Tables'!AD40","v":0},{"$f":"$U$2*'Lookup Tables'!AE40","v":0},{"$f":"$U$2*'Lookup Tables'!AF40","v":0},{"$f":"$U$2*'Lookup Tables'!AG40","v":0},{"$f":"$U$2*'Lookup Tables'!AH40","v":0},{"$f":"$U$2*'Lookup Tables'!AI40","v":0},{"$f":"$U$2*'Lookup Tables'!AJ40","v":0},{"$f":"$U$2*'Lookup Tables'!AK40","v":0},{"$f":"$U$2*'Lookup Tables'!AL40","v":0},{"$f":"$U$2*'Lookup Tables'!AM40","v":0},null,37,{"$f":"$AL$2*'Lookup Tables'!AP40","v":0},{"$f":"$AL$2*'Lookup Tables'!AQ40","v":0},{"$f":"$AL$2*'Lookup Tables'!AR40","v":0},{"$f":"$AL$2*'Lookup Tables'!AS40","v":0},{"$f":"$AL$2*'Lookup Tables'!AT40","v":0},{"$f":"$AL$2*'Lookup Tables'!AU40","v":0},{"$f":"$AL$2*'Lookup Tables'!AV40","v":0},{"$f":"$AL$2*'Lookup Tables'!AW40","v":0},{"$f":"$AL$2*'Lookup Tables'!AX40","v":0},{"$f":"$AL$2*'Lookup Tables'!AY40","v":0},{"$f":"$AL$2*'Lookup Tables'!AZ40","v":0},{"$f":"$AL$2*'Lookup Tables'!BA40","v":0},{"$f":"$AL$2*'Lookup Tables'!BB40","v":0},{"$f":"$AL$2*'Lookup Tables'!BC40","v":0},{"$f":"$AL$2*'Lookup Tables'!BD40","v":0},null,37,{"$f":"$BC$2*'Lookup Tables'!BG40","v":0},{"$f":"$BC$2*'Lookup Tables'!BH40","v":0},{"$f":"$BC$2*'Lookup Tables'!BI40","v":0},{"$f":"$BC$2*'Lookup Tables'!BJ40","v":0},{"$f":"$BC$2*'Lookup Tables'!BK40","v":0},{"$f":"$BC$2*'Lookup Tables'!BL40","v":0},{"$f":"$BC$2*'Lookup Tables'!BM40","v":0},{"$f":"$BC$2*'Lookup Tables'!BN40","v":0},{"$f":"$BC$2*'Lookup Tables'!BO40","v":0},{"$f":"$BC$2*'Lookup Tables'!BP40","v":0},{"$f":"$BC$2*'Lookup Tables'!BQ40","v":0},{"$f":"$BC$2*'Lookup Tables'!BR40","v":0},{"$f":"$BC$2*'Lookup Tables'!BS40","v":0},{"$f":"$BC$2*'Lookup Tables'!BT40","v":0},{"$f":"$BC$2*'Lookup Tables'!BU40","v":0},null,37,{"$f":"$BT$2*'Lookup Tables'!BX40","v":0},{"$f":"$BT$2*'Lookup Tables'!BY40","v":0},{"$f":"$BT$2*'Lookup Tables'!BZ40","v":0},{"$f":"$BT$2*'Lookup Tables'!CA40","v":0},{"$f":"$BT$2*'Lookup Tables'!CB40","v":0},{"$f":"$BT$2*'Lookup Tables'!CC40","v":0},{"$f":"$BT$2*'Lookup Tables'!CD40","v":0},{"$f":"$BT$2*'Lookup Tables'!CE40","v":0},{"$f":"$BT$2*'Lookup Tables'!CF40","v":0},{"$f":"$BT$2*'Lookup Tables'!CG40","v":0},{"$f":"$BT$2*'Lookup Tables'!CH40","v":0},{"$f":"$BT$2*'Lookup Tables'!CI40","v":0},{"$f":"$BT$2*'Lookup Tables'!CJ40","v":0},{"$f":"$BT$2*'Lookup Tables'!CK40","v":0},{"$f":"$BT$2*'Lookup Tables'!CL40","v":0},null,null,37,0,0,0,0,0,0,0,0,0,0,0,0,0,0,0,null,{"$f":"CV40*Calculator!G$27/21","v":0}]
[null,38,{"$f":"$D$2*'Lookup Tables'!H41","v":0},{"$f":"$D$2*'Lookup Tables'!I41","v":0},{"$f":"$D$2*'Lookup Tables'!J41","v":0},{"$f":"$D$2*'Lookup Tables'!K41","v":0},{"$f":"$D$2*'Lookup Tables'!L41","v":0},{"$f":"$D$2*'Lookup Tables'!M41","v":0},{"$f":"$D$2*'Lookup Tables'!N41","v":0},{"$f":"$D$2*'Lookup Tables'!O41","v":0},{"$f":"$D$2*'Lookup Tables'!P41","v":0},{"$f":"$D$2*'Lookup Tables'!Q41","v":0},{"$f":"$D$2*'Lookup Tables'!R41","v":0},{"$f":"$D$2*'Lookup Tables'!S41","v":0},{"$f":"$D$2*'Lookup Tables'!T41","v":0},{"$f":"$D$2*'Lookup Tables'!U41","v":0},{"$f":"$D$2*'Lookup Tables'!V41","v":0},null,38,{"$f":"$U$2*'Lookup Tables'!Y41","v":0},{"$f":"$U$2*'Lookup Tables'!Z41","v":0},{"$f":"$U$2*'Lookup Tables'!AA41","v":0},{"$f":"$U$2*'Lookup Tables'!AB41","v":0},{"$f":"$U$2*'Lookup Tables'!AC41","v":0},{"$f":"$U$2*'Lookup Tables'!AD41","v":0},{"$f":"$U$2*'Lookup Tables'!AE41","v":0},{"$f":"$U$2*'Lookup Tables'!AF41","v":0},{"$f":"$U$2*'Lookup Tables'!AG41","v":0},{"$f":"$U$2*'Lookup Tables'!AH41","v":0},{"$f":"$U$2*'Lookup Tables'!AI41","v":0},{"$f":"$U$2*'Lookup Tables'!AJ41","v":0},{"$f":"$U$2*'Lookup Tables'!AK41","v":0},{"$f":"$U$2*'Lookup Tables'!AL41","v":0},{"$f":"$U$2*'Lookup Tables'!AM41","v":0},null,38,{"$f":"$AL$2*'Lookup Tables'!AP41","v":0},{"$f":"$AL$2*'Lookup Tables'!AQ41","v":0},{"$f":"$AL$2*'Lookup Tables'!AR41","v":0},{"$f":"$AL$2*'Lookup Tables'!AS41","v":0},{"$f":"$AL$2*'Lookup Tables'!AT41","v":0},{"$f":"$AL$2*'Lookup Tables'!AU41","v":0},{"$f":"$AL$2*'Lookup Tables'!AV41","v":0},{"$f":"$AL$2*'Lookup Tables'!AW41","v":0},{"$f":"$AL$2*'Lookup Tables'!AX41","v":0},{"$f":"$AL$2*'Lookup Tables'!AY41","v":0},{"$f":"$AL$2*'Lookup Tables'!AZ41","v":0},{"$f":"$AL$2*'Lookup Tables'!BA41","v":0},{"$f":"$AL$2*'Lookup Tables'!BB41","v":0},{"$f":"$AL$2*'Lookup Tables'!BC41","v":0},{"$f":"$AL$2*'Lookup Tables'!BD41","v":0},null,38,{"$f":"$BC$2*'Lookup Tables'!BG41","v":0},{"$f":"$BC$2*'Lookup Tables'!BH41","v":0},{"$f":"$BC$2*'Lookup Tables'!BI41","v":0},{"$f":"$BC$2*'Lookup Tables'!BJ41","v":0},{"$f":"$BC$2*'Lookup Tables'!BK41","v":0},{"$f":"$BC$2*'Lookup Tables'!BL41","v":0},{"$f":"$BC$2*'Lookup Tables'!BM41","v":0},{"$f":"$BC$2*'Lookup Tables'!BN41","v":0},{"$f":"$BC$2*'Lookup Tables'!BO41","v":0},{"$f":"$BC$2*'Lookup Tables'!BP41","v":0},{"$f":"$BC$2*'Lookup Tables'!BQ41","v":0},{"$f":"$BC$2*'Lookup Tables'!BR41","v":0},{"$f":"$BC$2*'Lookup Tables'!BS41","v":0},{"$f":"$BC$2*'Lookup Tables'!BT41","v":0},{"$f":"$BC$2*'Lookup Tables'!BU41","v":0},null,38,{"$f":"$BT$2*'Lookup Tables'!BX41","v":0},{"$f":"$BT$2*'Lookup Tables'!BY41","v":0},{"$f":"$BT$2*'Lookup Tables'!BZ41","v":0},{"$f":"$BT$2*'Lookup Tables'!CA41","v":0},{"$f":"$BT$2*'Lookup Tables'!CB41","v":0},{"$f":"$BT$2*'Lookup Tables'!CC41","v":0},{"$f":"$BT$2*'Lookup Tables'!CD41","v":0},{"$f":"$BT$2*'Lookup Tables'!CE41","v":0},{"$f":"$BT$2*'Lookup Tables'!CF41","v":0},{"$f":"$BT$2*'Lookup Tables'!CG41","v":0},{"$f":"$BT$2*'Lookup Tables'!CH41","v":0},{"$f":"$BT$2*'Lookup Tables'!CI41","v":0},{"$f":"$BT$2*'Lookup Tables'!CJ41","v":0},{"$f":"$BT$2*'Lookup Tables'!CK41","v":0},{"$f":"$BT$2*'Lookup Tables'!CL41","v":0},null,null,38,0,0,0,0,0,0,0,0,0,0,0,0,0,0,0,null,{"$f":"CV41*Calculator!G$27/21","v":0}]
[null,39,{"$f":"$D$2*'Lookup Tables'!H42","v":0},{"$f":"$D$2*'Lookup Tables'!I42","v":0},{"$f":"$D$2*'Lookup Tables'!J42","v":0},{"$f":"$D$2*'Lookup Tables'!K42","v":0},{"$f":"$D$2*'Lookup Tables'!L42","v":0},{"$f":"$D$2*'Lookup Tables'!M42","v":0},{"$f":"$D$2*'Lookup Tables'!N42","v":0},{"$f":"$D$2*'Lookup Tables'!O42","v":0},{"$f":"$D$2*'Lookup Tables'!P42","v":0},{"$f":"$D$2*'Lookup Tables'!Q42","v":0},{"$f":"$D$2*'Lookup Tables'!R42","v":0},{"$f":"$D$2*'Lookup Tables'!S42","v":0},{"$f":"$D$2*'Lookup Tables'!T42","v":0},{"$f":"$D$2*'Lookup Tables'!U42","v":0},{"$f":"$D$2*'Lookup Tables'!V42","v":0},null,39,{"$f":"$U$2*'Lookup Tables'!Y42","v":0},{"$f":"$U$2*'Lookup Tables'!Z42","v":0},{"$f":"$U$2*'Lookup Tables'!AA42","v":0},{"$f":"$U$2*'Lookup Tables'!AB42","v":0},{"$f":"$U$2*'Lookup Tables'!AC42","v":0},{"$f":"$U$2*'Lookup Tables'!AD42","v":0},{"$f":"$U$2*'Lookup Tables'!AE42","v":0},{"$f":"$U$2*'Lookup Tables'!AF42","v":0},{"$f":"$U$2*'Lookup Tables'!AG42","v":0},{"$f":"$U$2*'Lookup Tables'!AH42","v":0},{"$f":"$U$2*'Lookup Tables'!AI42","v":0},{"$f":"$U$2*'Lookup Tables'!AJ42","v":0},{"$f":"$U$2*'Lookup Tables'!AK42","v":0},{"$f":"$U$2*'Lookup Tables'!AL42","v":0},{"$f":"$U$2*'Lookup Tables'!AM42","v":0},null,39,{"$f":"$AL$2*'Lookup Tables'!AP42","v":0},{"$f":"$AL$2*'Lookup Tables'!AQ42","v":0},{"$f":"$AL$2*'Lookup Tables'!AR42","v":0},{"$f":"$AL$2*'Lookup Tables'!AS42","v":0},{"$f":"$AL$2*'Lookup Tables'!AT42","v":0},{"$f":"$AL$2*'Lookup Tables'!AU42","v":0},{"$f":"$AL$2*'Lookup Tables'!AV42","v":0},{"$f":"$AL$2*'Lookup Tables'!AW42","v":0},{"$f":"$AL$2*'Lookup Tables'!AX42","v":0},{"$f":"$AL$2*'Lookup Tables'!AY42","v":0},{"$f":"$AL$2*'Lookup Tables'!AZ42","v":0},{"$f":"$AL$2*'Lookup Tables'!BA42","v":0},{"$f":"$AL$2*'Lookup Tables'!BB42","v":0},{"$f":"$AL$2*'Lookup Tables'!BC42","v":0},{"$f":"$AL$2*'Lookup Tables'!BD42","v":0},null,39,{"$f":"$BC$2*'Lookup Tables'!BG42","v":0},{"$f":"$BC$2*'Lookup Tables'!BH42","v":0},{"$f":"$BC$2*'Lookup Tables'!BI42","v":0},{"$f":"$BC$2*'Lookup Tables'!BJ42","v":0},{"$f":"$BC$2*'Lookup Tables'!BK42","v":0},{"$f":"$BC$2*'Lookup Tables'!BL42","v":0},{"$f":"$BC$2*'Lookup Tables'!BM42","v":0},{"$f":"$BC$2*'Lookup Tables'!BN42","v":0},{"$f":"$BC$2*'Lookup Tables'!BO42","v":0},{"$f":"$BC$2*'Lookup Tables'!BP42","v":0},{"$f":"$BC$2*'Lookup Tables'!BQ42","v":0},{"$f":"$BC$2*'Lookup Tables'!BR42","v":0},{"$f":"$BC$2*'Lookup Tables'!BS42","v":0},{"$f":"$BC$2*'Lookup Tables'!BT42","v":0},{"$f":"$BC$2*'Lookup Tables'!BU42","v":0},null,39,{"$f":"$BT$2*'Lookup Tables'!BX42","v":0},{"$f":"$BT$2*'Lookup Tables'!BY42","v":0},{"$f":"$BT$2*'Lookup Tables'!BZ42","v":0},{"$f":"$BT$2*'Lookup Tables'!CA42","v":0},{"$f":"$BT$2*'Lookup Tables'!CB42","v":0},{"$f":"$BT$2*'Lookup Tables'!CC42","v":0},{"$f":"$BT$2*'Lookup Tables'!CD42","v":0},{"$f":"$BT$2*'Lookup Tables'!CE42","v":0},{"$f":"$BT$2*'Lookup Tables'!CF42","v":0},{"$f":"$BT$2*'Lookup Tables'!CG42","v":0},{"$f":"$BT$2*'Lookup Tables'!CH42","v":0},{"$f":"$BT$2*'Lookup Tables'!CI42","v":0},{"$f":"$BT$2*'Lookup Tables'!CJ42","v":0},{"$f":"$BT$2*'Lookup Tables'!CK42","v":0},{"$f":"$BT$2*'Lookup Tables'!CL42","v":0},null,null,39,0,0,0,0,0,0,0,0,0,0,0,0,0,0,0,null,{"$f":"CV42*Calculator!G$27/21","v":0}]
[null,40,{"$f":"$D$2*'Lookup Tables'!H43","v":0},{"$f":"$D$2*'Lookup Tables'!I43","v":0},{"$f":"$D$2*'Lookup Tables'!J43","v":0},{"$f":"$D$2*'Lookup Tables'!K43","v":0},{"$f":"$D$2*'Lookup Tables'!L43","v":0},{"$f":"$D$2*'Lookup Tables'!M43","v":0},{"$f":"$D$2*'Lookup Tables'!N43","v":0},{"$f":"$D$2*'Lookup Tables'!O43","v":0},{"$f":"$D$2*'Lookup Tables'!P43","v":0},{"$f":"$D$2*'Lookup Tables'!Q43","v":0},{"$f":"$D$2*'Lookup Tables'!R43","v":0},{"$f":"$D$2*'Lookup Tables'!S43","v":0},{"$f":"$D$2*'Lookup Tables'!T43","v":0},{"$f":"$D$2*'Lookup Tables'!U43","v":0},{"$f":"$D$2*'Lookup Tables'!V43","v":0},null,40,{"$f":"$U$2*'Lookup Tables'!Y43","v":0},{"$f":"$U$2*'Lookup Tables'!Z43","v":0},{"$f":"$U$2*'Lookup Tables'!AA43","v":0},{"$f":"$U$2*'Lookup Tables'!AB43","v":0},{"$f":"$U$2*'Lookup Tables'!AC43","v":0},{"$f":"$U$2*'Lookup Tables'!AD43","v":0},{"$f":"$U$2*'Lookup Tables'!AE43","v":0},{"$f":"$U$2*'Lookup Tables'!AF43","v":0},{"$f":"$U$2*'Lookup Tables'!AG43","v":0},{"$f":"$U$2*'Lookup Tables'!AH43","v":0},{"$f":"$U$2*'Lookup Tables'!AI43","v":0},{"$f":"$U$2*'Lookup Tables'!AJ43","v":0},{"$f":"$U$2*'Lookup Tables'!AK43","v":0},{"$f":"$U$2*'Lookup Tables'!AL43","v":0},{"$f":"$U$2*'Lookup Tables'!AM43","v":0},null,40,{"$f":"$AL$2*'Lookup Tables'!AP43","v":0},{"$f":"$AL$2*'Lookup Tables'!AQ43","v":0},{"$f":"$AL$2*'Lookup Tables'!AR43","v":0},{"$f":"$AL$2*'Lookup Tables'!AS43","v":0},{"$f":"$AL$2*'Lookup Tables'!AT43","v":0},{"$f":"$AL$2*'Lookup Tables'!AU43","v":0},{"$f":"$AL$2*'Lookup Tables'!AV43","v":0},{"$f":"$AL$2*'Lookup Tables'!AW43","v":0},{"$f":"$AL$2*'Lookup Tables'!AX43","v":0},{"$f":"$AL$2*'Lookup Tables'!AY43","v":0},{"$f":"$AL$2*'Lookup Tables'!AZ43","v":0},{"$f":"$AL$2*'Lookup Tables'!BA43","v":0},{"$f":"$AL$2*'Lookup Tables'!BB43","v":0},{"$f":"$AL$2*'Lookup Tables'!BC43","v":0},{"$f":"$AL$2*'Lookup Tables'!BD43","v":0},null,40,{"$f":"$BC$2*'Lookup Tables'!BG43","v":0},{"$f":"$BC$2*'Lookup Tables'!BH43","v":0},{"$f":"$BC$2*'Lookup Tables'!BI43","v":0},{"$f":"$BC$2*'Lookup Tables'!BJ43","v":0},{"$f":"$BC$2*'Lookup Tables'!BK43","v":0},{"$f":"$BC$2*'Lookup Tables'!BL43","v":0},{"$f":"$BC$2*'Lookup Tables'!BM43","v":0},{"$f":"$BC$2*'Lookup Tables'!BN43","v":0},{"$f":"$BC$2*'Lookup Tables'!BO43","v":0},{"$f":"$BC$2*'Lookup Tables'!BP43","v":0},{"$f":"$BC$2*'Lookup Tables'!BQ43","v":0},{"$f":"$BC$2*'Lookup Tables'!BR43","v":0},{"$f":"$BC$2*'Lookup Tables'!BS43","v":0},{"$f":"$BC$2*'Lookup Tables'!BT43","v":0},{"$f":"$BC$2*'Lookup Tables'!BU43","v":0},null,40,{"$f":"$BT$2*'Lookup Tables'!BX43","v":0},{"$f":"$BT$2*'Lookup Tables'!BY43","v":0},{"$f":"$BT$2*'Lookup Tables'!BZ43","v":0},{"$f":"$BT$2*'Lookup Tables'!CA43","v":0},{"$f":"$BT$2*'Lookup Tables'!CB43","v":0},{"$f":"$BT$2*'Lookup Tables'!CC43","v":0},{"$f":"$BT$2*'Lookup Tables'!CD43","v":0},{"$f":"$BT$2*'Lookup Tables'!CE43","v":0},{"$f":"$BT$2*'Lookup Tables'!CF43","v":0},{"$f":"$BT$2*'Lookup Tables'!CG43","v":0},{"$f":"$BT$2*'Lookup Tables'!CH43","v":0},{"$f":"$BT$2*'Lookup Tables'!CI43","v":0},{"$f":"$BT$2*'Lookup Tables'!CJ43","v":0},{"$f":"$BT$2*'Lookup Tables'!CK43","v":0},{"$f":"$BT$2*'Lookup Tables'!CL43","v":0},null,null,40,0,0,0,0,0,0,0,0,0,0,0,0,0,0,0,null,{"$f":"CV43*Calculator!G$27/21","v":0}]
[null,41,{"$f":"$D$2*'Lookup Tables'!H44","v":0},{"$f":"$D$2*'Lookup Tables'!I44","v":0},{"$f":"$D$2*'Lookup Tables'!J44","v":0},{"$f":"$D$2*'Lookup Tables'!K44","v":0},{"$f":"$D$2*'Lookup Tables'!L44","v":0},{"$f":"$D$2*'Lookup Tables'!M44","v":0},{"$f":"$D$2*'Lookup Tables'!N44","v":0},{"$f":"$D$2*'Lookup Tables'!O44","v":0},{"$f":"$D$2*'Lookup Tables'!P44","v":0},{"$f":"$D$2*'Lookup Tables'!Q44","v":0},{"$f":"$D$2*'Lookup Tables'!R44","v":0},{"$f":"$D$2*'Lookup Tables'!S44","v":0},{"$f":"$D$2*'Lookup Tables'!T44","v":0},{"$f":"$D$2*'Lookup Tables'!U44","v":0},{"$f":"$D$2*'Lookup Tables'!V44","v":0},null,41,{"$f":"$U$2*'Lookup Tables'!Y44","v":0},{"$f":"$U$2*'Lookup Tables'!Z44","v":0},{"$f":"$U$2*'Lookup Tables'!AA44","v":0},{"$f":"$U$2*'Lookup Tables'!AB44","v":0},{"$f":"$U$2*'Lookup Tables'!AC44","v":0},{"$f":"$U$2*'Lookup Tables'!AD44","v":0},{"$f":"$U$2*'Lookup Tables'!AE44","v":0},{"$f":"$U$2*'Lookup Tables'!AF44","v":0},{"$f":"$U$2*'Lookup Tables'!AG44","v":0},{"$f":"$U$2*'Lookup Tables'!AH44","v":0},{"$f":"$U$2*'Lookup Tables'!AI44","v":0},{"$f":"$U$2*'Lookup Tables'!AJ44","v":0},{"$f":"$U$2*'Lookup Tables'!AK44","v":0},{"$f":"$U$2*'Lookup Tables'!AL44","v":0},{"$f":"$U$2*'Lookup Tables'!AM44","v":0},null,41,{"$f":"$AL$2*'Lookup Tables'!AP44","v":0},{"$f":"$AL$2*'Lookup Tables'!AQ44","v":0},{"$f":"$AL$2*'Lookup Tables'!AR44","v":0},{"$f":"$AL$2*'Lookup Tables'!AS44","v":0},{"$f":"$AL$2*'Lookup Tables'!AT44","v":0},{"$f":"$AL$2*'Lookup Tables'!AU44","v":0},{"$f":"$AL$2*'Lookup Tables'!AV44","v":0},{"$f":"$AL$2*'Lookup Tables'!AW44","v":0},{"$f":"$AL$2*'Lookup Tables'!AX44","v":0},{"$f":"$AL$2*'Lookup Tables'!AY44","v":0},{"$f":"$AL$2*'Lookup Tables'!AZ44","v":0},{"$f":"$AL$2*'Lookup Tables'!BA44","v":0},{"$f":"$AL$2*'Lookup Tables'!BB44","v":0},{"$f":"$AL$2*'Lookup Tables'!BC44","v":0},{"$f":"$AL$2*'Lookup Tables'!BD44","v":0},null,41,{"$f":"$BC$2*'Lookup Tables'!BG44","v":0},{"$f":"$BC$2*'Lookup Tables'!BH44","v":0},{"$f":"$BC$2*'Lookup Tables'!BI44","v":0},{"$f":"$BC$2*'Lookup Tables'!BJ44","v":0},{"$f":"$BC$2*'Lookup Tables'!BK44","v":0},{"$f":"$BC$2*'Lookup Tables'!BL44","v":0},{"$f":"$BC$2*'Lookup Tables'!BM44","v":0},{"$f":"$BC$2*'Lookup Tables'!BN44","v":0},{"$f":"$BC$2*'Lookup Tables'!BO44","v":0},{"$f":"$BC$2*'Lookup Tables'!BP44","v":0},{"$f":"$BC$2*'Lookup Tables'!BQ44","v":0},{"$f":"$BC$2*'Lookup Tables'!BR44","v":0},{"$f":"$BC$2*'Lookup Tables'!BS44","v":0},{"$f":"$BC$2*'Lookup Tables'!BT44","v":0},{"$f":"$BC$2*'Lookup Tables'!BU44","v":0},null,41,{"$f":"$BT$2*'Lookup Tables'!BX44","v":0},{"$f":"$BT$2*'Lookup Tables'!BY44","v":0},{"$f":"$BT$2*'Lookup Tables'!BZ44","v":0},{"$f":"$BT$2*'Lookup Tables'!CA44","v":0},{"$f":"$BT$2*'Lookup Tables'!CB44","v":0},{"$f":"$BT$2*'Lookup Tables'!CC44","v":0},{"$f":"$BT$2*'Lookup Tables'!CD44","v":0},{"$f":"$BT$2*'Lookup Tables'!CE44","v":0},{"$f":"$BT$2*'Lookup Tables'!CF44","v":0},{"$f":"$BT$2*'Lookup Tables'!CG44","v":0},{"$f":"$BT$2*'Lookup Tables'!CH44","v":0},{"$f":"$BT$2*'Lookup Tables'!CI44","v":0},{"$f":"$BT$2*'Lookup Tables'!CJ44","v":0},{"$f":"$BT$2*'Lookup Tables'!CK44","v":0},{"$f":"$BT$2*'Lookup Tables'!CL44","v":0},null,null,41,0,0,0,0,0,0,0,0,0,0,0,0,0,0,0,null,{"$f":"CV44*Calculator!G$27/21","v":0}]
[null,42,{"$f":"$D$2*'Lookup Tables'!H45","v":0},{"$f":"$D$2*'Lookup Tables'!I45","v":0},{"$f":"$D$2*'Lookup Tables'!J45","v":0},{"$f":"$D$2*'Lookup Tables'!K45","v":0},{"$f":"$D$2*'Lookup Tables'!L45","v":0},{"$f":"$D$2*'Lookup Tables'!M45","v":0},{"$f":"$D$2*'Lookup Tables'!N45","v":0},{"$f":"$D$2*'Lookup Tables'!O45","v":0},{"$f":"$D$2*'Lookup Tables'!P45","v":0},{"$f":"$D$2*'Lookup Tables'!Q45","v":0},{"$f":"$D$2*'Lookup Tables'!R45","v":0},{"$f":"$D$2*'Lookup Tables'!S45","v":0},{"$f":"$D$2*'Lookup Tables'!T45","v":0},{"$f":"$D$2*'Lookup Tables'!U45","v":0},{"$f":"$D$2*'Lookup Tables'!V45","v":0},null,42,{"$f":"$U$2*'Lookup Tables'!Y45","v":0},{"$f":"$U$2*'Lookup Tables'!Z45","v":0},{"$f":"$U$2*'Lookup Tables'!AA45","v":0},{"$f":"$U$2*'Lookup Tables'!AB45","v":0},{"$f":"$U$2*'Lookup Tables'!AC45","v":0},{"$f":"$U$2*'Lookup Tables'!AD45","v":0},{"$f":"$U$2*'Lookup Tables'!AE45","v":0},{"$f":"$U$2*'Lookup Tables'!AF45","v":0},{"$f":"$U$2*'Lookup Tables'!AG45","v":0},{"$f":"$U$2*'Lookup Tables'!AH45","v":0},{"$f":"$U$2*'Lookup Tables'!AI45","v":0},{"$f":"$U$2*'Lookup Tables'!AJ45","v":0},{"$f":"$U$2*'Lookup Tables'!AK45","v":0},{"$f":"$U$2*'Lookup Tables'!AL45","v":0},{"$f":"$U$2*'Lookup Tables'!AM45","v":0},null,42,{"$f":"$AL$2*'Lookup Tables'!AP45","v":0},{"$f":"$AL$2*'Lookup Tables'!AQ45","v":0},{"$f":"$AL$2*'Lookup Tables'!AR45","v":0},{"$f":"$AL$2*'Lookup Tables'!AS45","v":0},{"$f":"$AL$2*'Lookup Tables'!AT45","v":0},{"$f":"$AL$2*'Lookup Tables'!AU45","v":0},{"$f":"$AL$2*'Lookup Tables'!AV45","v":0},{"$f":"$AL$2*'Lookup Tables'!AW45","v":0},{"$f":"$AL$2*'Lookup Tables'!AX45","v":0},{"$f":"$AL$2*'Lookup Tables'!AY45","v":0},{"$f":"$AL$2*'Lookup Tables'!AZ45","v":0},{"$f":"$AL$2*'Lookup Tables'!BA45","v":0},{"$f":"$AL$2*'Lookup Tables'!BB45","v":0},{"$f":"$AL$2*'Lookup Tables'!BC45","v":0},{"$f":"$AL$2*'Lookup Tables'!BD45","v":0},null,42,{"$f":"$BC$2*'Lookup Tables'!BG45","v":0},{"$f":"$BC$2*'Lookup Tables'!BH45","v":0},{"$f":"$BC$2*'Lookup Tables'!BI45","v":0},{"$f":"$BC$2*'Lookup Tables'!BJ45","v":0},{"$f":"$BC$2*'Lookup Tables'!BK45","v":0},{"$f":"$BC$2*'Lookup Tables'!BL45","v":0},{"$f":"$BC$2*'Lookup Tables'!BM45","v":0},{"$f":"$BC$2*'Lookup Tables'!BN45","v":0},{"$f":"$BC$2*'Lookup Tables'!BO45","v":0},{"$f":"$BC$2*'Lookup Tables'!BP45","v":0},{"$f":"$BC$2*'Lookup Tables'!BQ45","v":0},{"$f":"$BC$2*'Lookup Tables'!BR45","v":0},{"$f":"$BC$2*'Lookup Tables'!BS45","v":0},{"$f":"$BC$2*'Lookup Tables'!BT45","v":0},{"$f":"$BC$2*'Lookup Tables'!BU45","v":0},null,42,{"$f":"$BT$2*'Lookup Tables'!BX45","v":0},{"$f":"$BT$2*'Lookup Tables'!BY45","v":0},{"$f":"$BT$2*'Lookup Tables'!BZ45","v":0},{"$f":"$BT$2*'Lookup Tables'!CA45","v":0},{"$f":"$BT$2*'Lookup Tables'!CB45","v":0},{"$f":"$BT$2*'Lookup Tables'!CC45","v":0},{"$f":"$BT$2*'Lookup Tables'!CD45","v":0},{"$f":"$BT$2*'Lookup Tables'!CE45","v":0},{"$f":"$BT$2*'Lookup Tables'!CF45","v":0},{"$f":"$BT$2*'Lookup Tables'!CG45","v":0},{"$f":"$BT$2*'Lookup Tables'!CH45","v":0},{"$f":"$BT$2*'Lookup Tables'!CI45","v":0},{"$f":"$BT$2*'Lookup Tables'!CJ45","v":0},{"$f":"$BT$2*'Lookup Tables'!CK45","v":0},{"$f":"$BT$2*'Lookup Tables'!CL45","v":0},null,null,42,0,0,0,0,0,0,0,0,0,0,0,0,0,0,0,null,{"$f":"CV45*Calculator!G$27/21","v":0}]
[null,43,{"$f":"$D$2*'Lookup Tables'!H46","v":0},{"$f":"$D$2*'Lookup Tables'!I46","v":0},{"$f":"$D$2*'Lookup Tables'!J46","v":0},{"$f":"$D$2*'Lookup Tables'!K46","v":0},{"$f":"$D$2*'Lookup Tables'!L46","v":0},{"$f":"$D$2*'Lookup Tables'!M46","v":0},{"$f":"$D$2*'Lookup Tables'!N46","v":0},{"$f":"$D$2*'Lookup Tables'!O46","v":0},{"$f":"$D$2*'Lookup Tables'!P46","v":0},{"$f":"$D$2*'Lookup Tables'!Q46","v":0},{"$f":"$D$2*'Lookup Tables'!R46","v":0},{"$f":"$D$2*'Lookup Tables'!S46","v":0},{"$f":"$D$2*'Lookup Tables'!T46","v":0},{"$f":"$D$2*'Lookup Tables'!U46","v":0},{"$f":"$D$2*'Lookup Tables'!V46","v":0},null,43,{"$f":"$U$2*'Lookup Tables'!Y46","v":0},{"$f":"$U$2*'Lookup Tables'!Z46","v":0},{"$f":"$U$2*'Lookup Tables'!AA46","v":0},{"$f":"$U$2*'Lookup Tables'!AB46","v":0},{"$f":"$U$2*'Lookup Tables'!AC46","v":0},{"$f":"$U$2*'Lookup Tables'!AD46","v":0},{"$f":"$U$2*'Lookup Tables'!AE46","v":0},{"$f":"$U$2*'Lookup Tables'!AF46","v":0},{"$f":"$U$2*'Lookup Tables'!AG46","v":0},{"$f":"$U$2*'Lookup Tables'!AH46","v":0},{"$f":"$U$2*'Lookup Tables'!AI46","v":0},{"$f":"$U$2*'Lookup Tables'!AJ46","v":0},{"$f":"$U$2*'Lookup Tables'!AK46","v":0},{"$f":"$U$2*'Lookup Tables'!AL46","v":0},{"$f":"$U$2*'Lookup Tables'!AM46","v":0},null,43,{"$f":"$AL$2*'Lookup Tables'!AP46","v":0},{"$f":"$AL$2*'Lookup Tables'!AQ46","v":0},{"$f":"$AL$2*'Lookup Tables'!AR46","v":0},{"$f":"$AL$2*'Lookup Tables'!AS46","v":0},{"$f":"$AL$2*'Lookup Tables'!AT46","v":0},{"$f":"$AL$2*'Lookup Tables'!AU46","v":0},{"$f":"$AL$2*'Lookup Tables'!AV46","v":0},{"$f":"$AL$2*'Lookup Tables'!AW46","v":0},{"$f":"$AL$2*'Lookup Tables'!AX46","v":0},{"$f":"$AL$2*'Lookup Tables'!AY46","v":0},{"$f":"$AL$2*'Lookup Tables'!AZ46","v":0},{"$f":"$AL$2*'Lookup Tables'!BA46","v":0},{"$f":"$AL$2*'Lookup Tables'!BB46","v":0},{"$f":"$AL$2*'Lookup Tables'!BC46","v":0},{"$f":"$AL$2*'Lookup Tables'!BD46","v":0},null,43,{"$f":"$BC$2*'Lookup Tables'!BG46","v":0},{"$f":"$BC$2*'Lookup Tables'!BH46","v":0},{"$f":"$BC$2*'Lookup Tables'!BI46","v":0},{"$f":"$BC$2*'Lookup Tables'!BJ46","v":0},{"$f":"$BC$2*'Lookup Tables'!BK46","v":0},{"$f":"$BC$2*'Lookup Tables'!BL46","v":0},{"$f":"$BC$2*'Lookup Tables'!BM46","v":0},{"$f":"$BC$2*'Lookup Tables'!BN46","v":0},{"$f":"$BC$2*'Lookup Tables'!BO46","v":0},{"$f":"$BC$2*'Lookup Tables'!BP46","v":0},{"$f":"$BC$2*'Lookup Tables'!BQ46","v":0},{"$f":"$BC$2*'Lookup Tables'!BR46","v":0},{"$f":"$BC$2*'Lookup Tables'!BS46","v":0},{"$f":"$BC$2*'Lookup Tables'!BT46","v":0},{"$f":"$BC$2*'Lookup Tables'!BU46","v":0},null,43,{"$f":"$BT$2*'Lookup Tables'!BX46","v":0},{"$f":"$BT$2*'Lookup Tables'!BY46","v":0},{"$f":"$BT$2*'Lookup Tables'!BZ46","v":0},{"$f":"$BT$2*'Lookup Tables'!CA46","v":0},{"$f":"$BT$2*'Lookup Tables'!CB46","v":0},{"$f":"$BT$2*'Lookup Tables'!CC46","v":0},{"$f":"$BT$2*'Lookup Tables'!CD46","v":0},{"$f":"$BT$2*'Lookup Tables'!CE46","v":0},{"$f":"$BT$2*'Lookup Tables'!CF46","v":0},{"$f":"$BT$2*'Lookup Tables'!CG46","v":0},{"$f":"$BT$2*'Lookup Tables'!CH46","v":0},{"$f":"$BT$2*'Lookup Tables'!CI46","v":0},{"$f":"$BT$2*'Lookup Tables'!CJ46","v":0},{"$f":"$BT$2*'Lookup Tables'!CK46","v":0},{"$f":"$BT$2*'Lookup Tables'!CL46","v":0},null,null,43,0,0,0,0,0,0,0,0,0,0,0,0,0,0,0,null,{"$f":"CV46*Calculator!G$27/21","v":0}]
[null,44,{"$f":"$D$2*'Lookup Tables'!H47","v":0},{"$f":"$D$2*'Lookup Tables'!I47","v":0},{"$f":"$D$2*'Lookup Tables'!J47","v":0},{"$f":"$D$2*'Lookup Tables'!K47","v":0},{"$f":"$D$2*'Lookup Tables'!L47","v":0},{"$f":"$D$2*'Lookup Tables'!M47","v":0},{"$f":"$D$2*'Lookup Tables'!N47","v":0},{"$f":"$D$2*'Lookup Tables'!O47","v":0},{"$f":"$D$2*'Lookup Tables'!P47","v":0},{"$f":"$D$2*'Lookup Tables'!Q47","v":0},{"$f":"$D$2*'Lookup Tables'!R47","v":0},{"$f":"$D$2*'Lookup Tables'!S47","v":0},{"$f":"$D$2*'Lookup Tables'!T47","v":0},{"$f":"$D$2*'Lookup Tables'!U47","v":0},{"$f":"$D$2*'Lookup Tables'!V47","v":0},null,44,{"$f":"$U$2*'Lookup Tables'!Y47","v":0},{"$f":"$U$2*'Lookup Tables'!Z47","v":0},{"$f":"$U$2*'Lookup Tables'!AA47","v":0},{"$f":"$U$2*'Lookup Tables'!AB47","v":0},{"$f":"$U$2*'Lookup Tables'!AC47","v":0},{"$f":"$U$2*'Lookup Tables'!AD47","v":0},{"$f":"$U$2*'Lookup Tables'!AE47","v":0},{"$f":"$U$2*'Lookup Tables'!AF47","v":0},{"$f":"$U$2*'Lookup Tables'!AG47","v":0},{"$f":"$U$2*'Lookup Tables'!AH47","v":0},{"$f":"$U$2*'Lookup Tables'!AI47","v":0},{"$f":"$U$2*'Lookup Tables'!AJ47","v":0},{"$f":"$U$2*'Lookup Tables'!AK47","v":0},{"$f":"$U$2*'Lookup Tables'!AL47","v":0},{"$f":"$U$2*'Lookup Tables'!AM47","v":0},null,44,{"$f":"$AL$2*'Lookup Tables'!AP47","v":0},{"$f":"$AL$2*'Lookup Tables'!AQ47","v":0},{"$f":"$AL$2*'Lookup Tables'!AR47","v":0},{"$f":"$AL$2*'Lookup Tables'!AS47","v":0},{"$f":"$AL$2*'Lookup Tables'!AT47","v":0},{"$f":"$AL$2*'Lookup Tables'!AU47","v":0},{"$f":"$AL$2*'Lookup Tables'!AV47","v":0},{"$f":"$AL$2*'Lookup Tables'!AW47","v":0},{"$f":"$AL$2*'Lookup Tables'!AX47","v":0},{"$f":"$AL$2*'Lookup Tables'!AY47","v":0},{"$f":"$AL$2*'Lookup Tables'!AZ47","v":0},{"$f":"$AL$2*'Lookup Tables'!BA47","v":0},{"$f":"$AL$2*'Lookup Tables'!BB47","v":0},{"$f":"$AL$2*'Lookup Tables'!BC47","v":0},{"$f":"$AL$2*'Lookup Tables'!BD47","v":0},null,44,{"$f":"$BC$2*'Lookup Tables'!BG47","v":0},{"$f":"$BC$2*'Lookup Tables'!BH47","v":0},{"$f":"$BC$2*'Lookup Tables'!BI47","v":0},{"$f":"$BC$2*'Lookup Tables'!BJ47","v":0},{"$f":"$BC$2*'Lookup Tables'!BK47","v":0},{"$f":"$BC$2*'Lookup Tables'!BL47","v":0},{"$f":"$BC$2*'Lookup Tables'!BM47","v":0},{"$f":"$BC$2*'Lookup Tables'!BN47","v":0},{"$f":"$BC$2*'Lookup Tables'!BO47","v":0},{"$f":"$BC$2*'Lookup Tables'!BP47","v":0},{"$f":"$BC$2*'Lookup Tables'!BQ47","v":0},{"$f":"$BC$2*'Lookup Tables'!BR47","v":0},{"$f":"$BC$2*'Lookup Tables'!BS47","v":0},{"$f":"$BC$2*'Lookup Tables'!BT47","v":0},{"$f":"$BC$2*'Lookup Tables'!BU47","v":0},null,44,{"$f":"$BT$2*'Lookup Tables'!BX47","v":0},{"$f":"$BT$2*'Lookup Tables'!BY47","v":0},{"$f":"$BT$2*'Lookup Tables'!BZ47","v":0},{"$f":"$BT$2*'Lookup Tables'!CA47","v":0},{"$f":"$BT$2*'Lookup Tables'!CB47","v":0},{"$f":"$BT$2*'Lookup Tables'!CC47","v":0},{"$f":"$BT$2*'Lookup Tables'!CD47","v":0},{"$f":"$BT$2*'Lookup Tables'!CE47","v":0},{"$f":"$BT$2*'Lookup Tables'!CF47","v":0},{"$f":"$BT$2*'Lookup Tables'!CG47","v":0},{"$f":"$BT$2*'Lookup Tables'!CH47","v":0},{"$f":"$BT$2*'Lookup Tables'!CI47","v":0},{"$f":"$BT$2*'Lookup Tables'!CJ47","v":0},{"$f":"$BT$2*'Lookup Tables'!CK47","v":0},{"$f":"$BT$2*'Lookup Tables'!CL47","v":0},null,null,44,0,0,0,0,0,0,0,0,0,0,0,0,0,0,0,null,{"$f":"CV47*Calculator!G$27/21","v":0}]
[null,45,{"$f":"$D$2*'Lookup Tables'!H48","v":0},{"$f":"$D$2*'Lookup Tables'!I48","v":0},{"$f":"$D$2*'Lookup Tables'!J48","v":0},{"$f":"$D$2*'Lookup Tables'!K48","v":0},{"$f":"$D$2*'Lookup Tables'!L48","v":0},{"$f":"$D$2*'Lookup Tables'!M48","v":0},{"$f":"$D$2*'Lookup Tables'!N48","v":0},{"$f":"$D$2*'Lookup Tables'!O48","v":0},{"$f":"$D$2*'Lookup Tables'!P48","v":0},{"$f":"$D$2*'Lookup Tables'!Q48","v":0},{"$f":"$D$2*'Lookup Tables'!R48","v":0},{"$f":"$D$2*'Lookup Tables'!S48","v":0},{"$f":"$D$2*'Lookup Tables'!T48","v":0},{"$f":"$D$2*'Lookup Tables'!U48","v":0},{"$f":"$D$2*'Lookup Tables'!V48","v":0},null,45,{"$f":"$U$2*'Lookup Tables'!Y48","v":0},{"$f":"$U$2*'Lookup Tables'!Z48","v":0},{"$f":"$U$2*'Lookup Tables'!AA48","v":0},{"$f":"$U$2*'Lookup Tables'!AB48","v":0},{"$f":"$U$2*'Lookup Tables'!AC48","v":0},{"$f":"$U$2*'Lookup Tables'!AD48","v":0},{"$f":"$U$2*'Lookup Tables'!AE48","v":0},{"$f":"$U$2*'Lookup Tables'!AF48","v":0},{"$f":"$U$2*'Lookup Tables'!AG48","v":0},{"$f":"$U$2*'Lookup Tables'!AH48","v":0},{"$f":"$U$2*'Lookup Tables'!AI48","v":0},{"$f":"$U$2*'Lookup Tables'!AJ48","v":0},{"$f":"$U$2*'Lookup Tables'!AK48","v":0},{"$f":"$U$2*'Lookup Tables'!AL48","v":0},{"$f":"$U$2*'Lookup Tables'!AM48","v":0},null,45,{"$f":"$AL$2*'Lookup Tables'!AP48","v":0},{"$f":"$AL$2*'Lookup Tables'!AQ48","v":0},{"$f":"$AL$2*'Lookup Tables'!AR48","v":0},{"$f":"$AL$2*'Lookup Tables'!AS48","v":0},{"$f":"$AL$2*'Lookup Tables'!AT48","v":0},{"$f":"$AL$2*'Lookup Tables'!AU48","v":0},{"$f":"$AL$2*'Lookup Tables'!AV48","v":0},{"$f":"$AL$2*'Lookup Tables'!AW48","v":0},{"$f":"$AL$2*'Lookup Tables'!AX48","v":0},{"$f":"$AL$2*'Lookup Tables'!AY48","v":0},{"$f":"$AL$2*'Lookup Tables'!AZ48","v":0},{"$f":"$AL$2*'Lookup Tables'!BA48","v":0},{"$f":"$AL$2*'Lookup Tables'!BB48","v":0},{"$f":"$AL$2*'Lookup Tables'!BC48","v":0},{"$f":"$AL$2*'Lookup Tables'!BD48","v":0},null,45,{"$f":"$BC$2*'Lookup Tables'!BG48","v":0},{"$f":"$BC$2*'Lookup Tables'!BH48","v":0},{"$f":"$BC$2*'Lookup Tables'!BI48","v":0},{"$f":"$BC$2*'Lookup Tables'!BJ48","v":0},{"$f":"$BC$2*'Lookup Tables'!BK48","v":0},{"$f":"$BC$2*'Lookup Tables'!BL48","v":0},{"$f":"$BC$2*'Lookup Tables'!BM48","v":0},{"$f":"$BC$2*'Lookup Tables'!BN48","v":0},{"$f":"$BC$2*'Lookup Tables'!BO48","v":0},{"$f":"$BC$2*'Lookup Tables'!BP48","v":0},{"$f":"$BC$2*'Lookup Tables'!BQ48","v":0},{"$f":"$BC$2*'Lookup Tables'!BR48","v":0},{"$f":"$BC$2*'Lookup Tables'!BS48","v":0},{"$f":"$BC$2*'Lookup Tables'!BT48","v":0},{"$f":"$BC$2*'Lookup Tables'!BU48","v":0},null,45,{"$f":"$BT$2*'Lookup Tables'!BX48","v":0},{"$f":"$BT$2*'Lookup Tables'!BY48","v":0},{"$f":"$BT$2*'Lookup Tables'!BZ48","v":0},{"$f":"$BT$2*'Lookup Tables'!CA48","v":0},{"$f":"$BT$2*'Lookup Tables'!CB48","v":0},{"$f":"$BT$2*'Lookup Tables'!CC48","v":0},{"$f":"$BT$2*'Lookup Tables'!CD48","v":0},{"$f":"$BT$2*'Lookup Tables'!CE48","v":0},{"$f":"$BT$2*'Lookup Tables'!CF48","v":0},{"$f":"$BT$2*'Lookup Tables'!CG48","v":0},{"$f":"$BT$2*'Lookup Tables'!CH48","v":0},{"$f":"$BT$2*'Lookup Tables'!CI48","v":0},{"$f":"$BT$2*'Lookup Tables'!CJ48","v":0},{"$f":"$BT$2*'Lookup Tables'!CK48","v":0},{"$f":"$BT$2*'Lookup Tables'!CL48","v":0},null,null,45,0,0,0,0,0,0,0,0,0,0,0,0,0,0,0,null,{"$f":"CV48*Calculator!G$27/21","v":0}]
[null,46,{"$f":"$D$2*'Lookup Tables'!H49","v":0},{"$f":"$D$2*'Lookup Tables'!I49","v":0},{"$f":"$D$2*'Lookup Tables'!J49","v":0},{"$f":"$D$2*'Lookup Tables'!K49","v":0},{"$f":"$D$2*'Lookup Tables'!L49","v":0},{"$f":"$D$2*'Lookup Tables'!M49","v":0},{"$f":"$D$2*'Lookup Tables'!N49","v":0},{"$f":"$D$2*'Lookup Tables'!O49","v":0},{"$f":"$D$2*'Lookup Tables'!P49","v":0},{"$f":"$D$2*'Lookup Tables'!Q49","v":0},{"$f":"$D$2*'Lookup Tables'!R49","v":0},{"$f":"$D$2*'Lookup Tables'!S49","v":0},{"$f":"$D$2*'Lookup Tables'!T49","v":0},{"$f":"$D$2*'Lookup Tables'!U49","v":0},{"$f":"$D$2*'Lookup Tables'!V49","v":0},null,46,{"$f":"$U$2*'Lookup Tables'!Y49","v":0},{"$f":"$U$2*'Lookup Tables'!Z49","v":0},{"$f":"$U$2*'Lookup Tables'!AA49","v":0},{"$f":"$U$2*'Lookup Tables'!AB49","v":0},{"$f":"$U$2*'Lookup Tables'!AC49","v":0},{"$f":"$U$2*'Lookup Tables'!AD49","v":0},{"$f":"$U$2*'Lookup Tables'!AE49","v":0},{"$f":"$U$2*'Lookup Tables'!AF49","v":0},{"$f":"$U$2*'Lookup Tables'!AG49","v":0},{"$f":"$U$2*'Lookup Tables'!AH49","v":0},{"$f":"$U$2*'Lookup Tables'!AI49","v":0},{"$f":"$U$2*'Lookup Tables'!AJ49","v":0},{"$f":"$U$2*'Lookup Tables'!AK49","v":0},{"$f":"$U$2*'Lookup Tables'!AL49","v":0},{"$f":"$U$2*'Lookup Tables'!AM49","v":0},null,46,{"$f":"$AL$2*'Lookup Tables'!AP49","v":0},{"$f":"$AL$2*'Lookup Tables'!AQ49","v":0},{"$f":"$AL$2*'Lookup Tables'!AR49","v":0},{"$f":"$AL$2*'Lookup Tables'!AS49","v":0},{"$f":"$AL$2*'Lookup Tables'!AT49","v":0},{"$f":"$AL$2*'Lookup Tables'!AU49","v":0},{"$f":"$AL$2*'Lookup Tables'!AV49","v":0},{"$f":"$AL$2*'Lookup Tables'!AW49","v":0},{"$f":"$AL$2*'Lookup Tables'!AX49","v":0},{"$f":"$AL$2*'Lookup Tables'!AY49","v":0},{"$f":"$AL$2*'Lookup Tables'!AZ49","v":0},{"$f":"$AL$2*'Lookup Tables'!BA49","v":0},{"$f":"$AL$2*'Lookup Tables'!BB49","v":0},{"$f":"$AL$2*'Lookup Tables'!BC49","v":0},{"$f":"$AL$2*'Lookup Tables'!BD49","v":0},null,46,{"$f":"$BC$2*'Lookup Tables'!BG49","v":0},{"$f":"$BC$2*'Lookup Tables'!BH49","v":0},{"$f":"$BC$2*'Lookup Tables'!BI49","v":0},{"$f":"$BC$2*'Lookup Tables'!BJ49","v":0},{"$f":"$BC$2*'Lookup Tables'!BK49","v":0},{"$f":"$BC$2*'Lookup Tables'!BL49","v":0},{"$f":"$BC$2*'Lookup Tables'!BM49","v":0},{"$f":"$BC$2*'Lookup Tables'!BN49","v":0},{"$f":"$BC$2*'Lookup Tables'!BO49","v":0},{"$f":"$BC$2*'Lookup Tables'!BP49","v":0},{"$f":"$BC$2*'Lookup Tables'!BQ49","v":0},{"$f":"$BC$2*'Lookup Tables'!BR49","v":0},{"$f":"$BC$2*'Lookup Tables'!BS49","v":0},{"$f":"$BC$2*'Lookup Tables'!BT49","v":0},{"$f":"$BC$2*'Lookup Tables'!BU49","v":0},null,46,{"$f":"$BT$2*'Lookup Tables'!BX49","v":0},{"$f":"$BT$2*'Lookup Tables'!BY49","v":0},{"$f":"$BT$2*'Lookup Tables'!BZ49","v":0},{"$f":"$BT$2*'Lookup Tables'!CA49","v":0},{"$f":"$BT$2*'Lookup Tables'!CB49","v":0},{"$f":"$BT$2*'Lookup Tables'!CC49","v":0},{"$f":"$BT$2*'Lookup Tables'!CD49","v":0},{"$f":"$BT$2*'Lookup Tables'!CE49","v":0},{"$f":"$BT$2*'Lookup Tables'!CF49","v":0},{"$f":"$BT$2*'Lookup Tables'!CG49","v":0},{"$f":"$BT$2*'Lookup Tables'!CH49","v":0},{"$f":"$BT$2*'Lookup Tables'!CI49","v":0},{"$f":"$BT$2*'Lookup Tables'!CJ49","v":0},{"$f":"$BT$2*'Lookup Tables'!CK49","v":0},{"$f":"$BT$2*'Lookup Tables'!CL49","v":0},null,null,46,0,0,0,0,0,0,0,0,0,0,0,0,0,0,0,null,{"$f":"CV49*Calculator!G$27/21","v":0}]
[null,47,{"$f":"$D$2*'Lookup Tables'!H50","v":0},{"$f":"$D$2*'Lookup Tables'!I50","v":0},{"$f":"$D$2*'Lookup Tables'!J50","v":0},{"$f":"$D$2*'Lookup Tables'!K50","v":0},{"$f":"$D$2*'Lookup Tables'!L50","v":0},{"$f":"$D$2*'Lookup Tables'!M50","v":0},{"$f":"$D$2*'Lookup Tables'!N50","v":0},{"$f":"$D$2*'Lookup Tables'!O50","v":0},{"$f":"$D$2*'Lookup Tables'!P50","v":0},{"$f":"$D$2*'Lookup Tables'!Q50","v":0},{"$f":"$D$2*'Lookup Tables'!R50","v":0},{"$f":"$D$2*'Lookup Tables'!S50","v":0},{"$f":"$D$2*'Lookup Tables'!T50","v":0},{"$f":"$D$2*'Lookup Tables'!U50","v":0},{"$f":"$D$2*'Lookup Tables'!V50","v":0},null,47,{"$f":"$U$2*'Lookup Tables'!Y50","v":0},{"$f":"$U$2*'Lookup Tables'!Z50","v":0},{"$f":"$U$2*'Lookup Tables'!AA50","v":0},{"$f":"$U$2*'Lookup Tables'!AB50","v":0},{"$f":"$U$2*'Lookup Tables'!AC50","v":0},{"$f":"$U$2*'Lookup Tables'!AD50","v":0},{"$f":"$U$2*'Lookup Tables'!AE50","v":0},{"$f":"$U$2*'Lookup Tables'!AF50","v":0},{"$f":"$U$2*'Lookup Tables'!AG50","v":0},{"$f":"$U$2*'Lookup Tables'!AH50","v":0},{"$f":"$U$2*'Lookup Tables'!AI50","v":0},{"$f":"$U$2*'Lookup Tables'!AJ50","v":0},{"$f":"$U$2*'Lookup Tables'!AK50","v":0},{"$f":"$U$2*'Lookup Tables'!AL50","v":0},{"$f":"$U$2*'Lookup Tables'!AM50","v":0},null,47,{"$f":"$AL$2*'Lookup Tables'!AP50","v":0},{"$f":"$AL$2*'Lookup Tables'!AQ50","v":0},{"$f":"$AL$2*'Lookup Tables'!AR50","v":0},{"$f":"$AL$2*'Lookup Tables'!AS50","v":0},{"$f":"$AL$2*'Lookup Tables'!AT50","v":0},{"$f":"$AL$2*'Lookup Tables'!AU50","v":0},{"$f":"$AL$2*'Lookup Tables'!AV50","v":0},{"$f":"$AL$2*'Lookup Tables'!AW50","v":0},{"$f":"$AL$2*'Lookup Tables'!AX50","v":0},{"$f":"$AL$2*'Lookup Tables'!AY50","v":0},{"$f":"$AL$2*'Lookup Tables'!AZ50","v":0},{"$f":"$AL$2*'Lookup Tables'!BA50","v":0},{"$f":"$AL$2*'Lookup Tables'!BB50","v":0},{"$f":"$AL$2*'Lookup Tables'!BC50","v":0},{"$f":"$AL$2*'Lookup Tables'!BD50","v":0},null,47,{"$f":"$BC$2*'Lookup Tables'!BG50","v":0},{"$f":"$BC$2*'Lookup Tables'!BH50","v":0},{"$f":"$BC$2*'Lookup Tables'!BI50","v":0},{"$f":"$BC$2*'Lookup Tables'!BJ50","v":0},{"$f":"$BC$2*'Lookup Tables'!BK50","v":0},{"$f":"$BC$2*'Lookup Tables'!BL50","v":0},{"$f":"$BC$2*'Lookup Tables'!BM50","v":0},{"$f":"$BC$2*'Lookup Tables'!BN50","v":0},{"$f":"$BC$2*'Lookup Tables'!BO50","v":0},{"$f":"$BC$2*'Lookup Tables'!BP50","v":0},{"$f":"$BC$2*'Lookup Tables'!BQ50","v":0},{"$f":"$BC$2*'Lookup Tables'!BR50","v":0},{"$f":"$BC$2*'Lookup Tables'!BS50","v":0},{"$f":"$BC$2*'Lookup Tables'!BT50","v":0},{"$f":"$BC$2*'Lookup Tables'!BU50","v":0},null,47,{"$f":"$BT$2*'Lookup Tables'!BX50","v":0},{"$f":"$BT$2*'Lookup Tables'!BY50","v":0},{"$f":"$BT$2*'Lookup Tables'!BZ50","v":0},{"$f":"$BT$2*'Lookup Tables'!CA50","v":0},{"$f":"$BT$2*'Lookup Tables'!CB50","v":0},{"$f":"$BT$2*'Lookup Tables'!CC50","v":0},{"$f":"$BT$2*'Lookup Tables'!CD50","v":0},{"$f":"$BT$2*'Lookup Tables'!CE50","v":0},{"$f":"$BT$2*'Lookup Tables'!CF50","v":0},{"$f":"$BT$2*'Lookup Tables'!CG50","v":0},{"$f":"$BT$2*'Lookup Tables'!CH50","v":0},{"$f":"$BT$2*'Lookup Tables'!CI50","v":0},{"$f":"$BT$2*'Lookup Tables'!CJ50","v":0},{"$f":"$BT$2*'Lookup Tables'!CK50","v":0},{"$f":"$BT$2*'Lookup Tables'!CL50","v":0},null,null,47,0,0,0,0,0,0,0,0,0,0,0,0,0,0,0,null,{"$f":"CV50*Calculator!G$27/21","v":0}]
[null,48,{"$f":"$D$2*'Lookup Tables'!H51","v":0},{"$f":"$D$2*'Lookup Tables'!I51","v":0},{"$f":"$D$2*'Lookup Tables'!J51","v":0},{"$f":"$D$2*'Lookup Tables'!K51","v":0},{"$f":"$D$2*'Lookup Tables'!L51","v":0},{"$f":"$D$2*'Lookup Tables'!M51","v":0},{"$f":"$D$2*'Lookup Tables'!N51","v":0},{"$f":"$D$2*'Lookup Tables'!O51","v":0},{"$f":"$D$2*'Lookup Tables'!P51","v":0},{"$f":"$D$2*'Lookup Tables'!Q51","v":0},{"$f":"$D$2*'Lookup Tables'!R51","v":0},{"$f":"$D$2*'Lookup Tables'!S51","v":0},{"$f":"$D$2*'Lookup Tables'!T51","v":0},{"$f":"$D$2*'Lookup Tables'!U51","v":0},{"$f":"$D$2*'Lookup Tables'!V51","v":0},null,48,{"$f":"$U$2*'Lookup Tables'!Y51","v":0},{"$f":"$U$2*'Lookup Tables'!Z51","v":0},{"$f":"$U$2*'Lookup Tables'!AA51","v":0},{"$f":"$U$2*'Lookup Tables'!AB51","v":0},{"$f":"$U$2*'Lookup Tables'!AC51","v":0},{"$f":"$U$2*'Lookup Tables'!AD51","v":0},{"$f":"$U$2*'Lookup Tables'!AE51","v":0},{"$f":"$U$2*'Lookup Tables'!AF51","v":0},{"$f":"$U$2*'Lookup Tables'!AG51","v":0},{"$f":"$U$2*'Lookup Tables'!AH51","v":0},{"$f":"$U$2*'Lookup Tables'!AI51","v":0},{"$f":"$U$2*'Lookup Tables'!AJ51","v":0},{"$f":"$U$2*'Lookup Tables'!AK51","v":0},{"$f":"$U$2*'Lookup Tables'!AL51","v":0},{"$f":"$U$2*'Lookup Tables'!AM51","v":0},null,48,{"$f":"$AL$2*'Lookup Tables'!AP51","v":0},{"$f":"$AL$2*'Lookup Tables'!AQ51","v":0},{"$f":"$AL$2*'Lookup Tables'!AR51","v":0},{"$f":"$AL$2*'Lookup Tables'!AS51","v":0},{"$f":"$AL$2*'Lookup Tables'!AT51","v":0},{"$f":"$AL$2*'Lookup Tables'!AU51","v":0},{"$f":"$AL$2*'Lookup Tables'!AV51","v":0},{"$f":"$AL$2*'Lookup Tables'!AW51","v":0},{"$f":"$AL$2*'Lookup Tables'!AX51","v":0},{"$f":"$AL$2*'Lookup Tables'!AY51","v":0},{"$f":"$AL$2*'Lookup Tables'!AZ51","v":0},{"$f":"$AL$2*'Lookup Tables'!BA51","v":0},{"$f":"$AL$2*'Lookup Tables'!BB51","v":0},{"$f":"$AL$2*'Lookup Tables'!BC51","v":0},{"$f":"$AL$2*'Lookup Tables'!BD51","v":0},null,48,{"$f":"$BC$2*'Lookup Tables'!BG51","v":0},{"$f":"$BC$2*'Lookup Tables'!BH51","v":0},{"$f":"$BC$2*'Lookup Tables'!BI51","v":0},{"$f":"$BC$2*'Lookup Tables'!BJ51","v":0},{"$f":"$BC$2*'Lookup Tables'!BK51","v":0},{"$f":"$BC$2*'Lookup Tables'!BL51","v":0},{"$f":"$BC$2*'Lookup Tables'!BM51","v":0},{"$f":"$BC$2*'Lookup Tables'!BN51","v":0},{"$f":"$BC$2*'Lookup Tables'!BO51","v":0},{"$f":"$BC$2*'Lookup Tables'!BP51","v":0},{"$f":"$BC$2*'Lookup Tables'!BQ51","v":0},{"$f":"$BC$2*'Lookup Tables'!BR51","v":0},{"$f":"$BC$2*'Lookup Tables'!BS51","v":0},{"$f":"$BC$2*'Lookup Tables'!BT51","v":0},{"$f":"$BC$2*'Lookup Tables'!BU51","v":0},null,48,{"$f":"$BT$2*'Lookup Tables'!BX51","v":0},{"$f":"$BT$2*'Lookup Tables'!BY51","v":0},{"$f":"$BT$2*'Lookup Tables'!BZ51","v":0},{"$f":"$BT$2*'Lookup Tables'!CA51","v":0},{"$f":"$BT$2*'Lookup Tables'!CB51","v":0},{"$f":"$BT$2*'Lookup Tables'!CC51","v":0},{"$f":"$BT$2*'Lookup Tables'!CD51","v":0},{"$f":"$BT$2*'Lookup Tables'!CE51","v":0},{"$f":"$BT$2*'Lookup Tables'!CF51","v":0},{"$f":"$BT$2*'Lookup Tables'!CG51","v":0},{"$f":"$BT$2*'Lookup Tables'!CH51","v":0},{"$f":"$BT$2*'Lookup Tables'!CI51","v":0},{"$f":"$BT$2*'Lookup Tables'!CJ51","v":0},{"$f":"$BT$2*'Lookup Tables'!CK51","v":0},{"$f":"$BT$2*'Lookup Tables'!CL51","v":0},null,null,48,0,0,0,0,0,0,0,0,0,0,0,0,0,0,0,null,{"$f":"CV51*Calculator!G$27/21","v":0}]
[null,49,{"$f":"$D$2*'Lookup Tables'!H52","v":0},{"$f":"$D$2*'Lookup Tables'!I52","v":0},{"$f":"$D$2*'Lookup Tables'!J52","v":0},{"$f":"$D$2*'Lookup Tables'!K52","v":0},{"$f":"$D$2*'Lookup Tables'!L52","v":0},{"$f":"$D$2*'Lookup Tables'!M52","v":0},{"$f":"$D$2*'Lookup Tables'!N52","v":0},{"$f":"$D$2*'Lookup Tables'!O52","v":0},{"$f":"$D$2*'Lookup Tables'!P52","v":0},{"$f":"$D$2*'Lookup Tables'!Q52","v":0},{"$f":"$D$2*'Lookup Tables'!R52","v":0},{"$f":"$D$2*'Lookup Tables'!S52","v":0},{"$f":"$D$2*'Lookup Tables'!T52","v":0},{"$f":"$D$2*'Lookup Tables'!U52","v":0},{"$f":"$D$2*'Lookup Tables'!V52","v":0},null,49,{"$f":"$U$2*'Lookup Tables'!Y52","v":0},{"$f":"$U$2*'Lookup Tables'!Z52","v":0},{"$f":"$U$2*'Lookup Tables'!AA52","v":0},{"$f":"$U$2*'Lookup Tables'!AB52","v":0},{"$f":"$U$2*'Lookup Tables'!AC52","v":0},{"$f":"$U$2*'Lookup Tables'!AD52","v":0},{"$f":"$U$2*'Lookup Tables'!AE52","v":0},{"$f":"$U$2*'Lookup Tables'!AF52","v":0},{"$f":"$U$2*'Lookup Tables'!AG52","v":0},{"$f":"$U$2*'Lookup Tables'!AH52","v":0},{"$f":"$U$2*'Lookup Tables'!AI52","v":0},{"$f":"$U$2*'Lookup Tables'!AJ52","v":0},{"$f":"$U$2*'Lookup Tables'!AK52","v":0},{"$f":"$U$2*'Lookup Tables'!AL52","v":0},{"$f":"$U$2*'Lookup Tables'!AM52","v":0},null,49,{"$f":"$AL$2*'Lookup Tables'!AP52","v":0},{"$f":"$AL$2*'Lookup Tables'!AQ52","v":0},{"$f":"$AL$2*'Lookup Tables'!AR52","v":0},{"$f":"$AL$2*'Lookup Tables'!AS52","v":0},{"$f":"$AL$2*'Lookup Tables'!AT52","v":0},{"$f":"$AL$2*'Lookup Tables'!AU52","v":0},{"$f":"$AL$2*'Lookup Tables'!AV52","v":0},{"$f":"$AL$2*'Lookup Tables'!AW52","v":0},{"$f":"$AL$2*'Lookup Tables'!AX52","v":0},{"$f":"$AL$2*'Lookup Tables'!AY52","v":0},{"$f":"$AL$2*'Lookup Tables'!AZ52","v":0},{"$f":"$AL$2*'Lookup Tables'!BA52","v":0},{"$f":"$AL$2*'Lookup Tables'!BB52","v":0},{"$f":"$AL$2*'Lookup Tables'!BC52","v":0},{"$f":"$AL$2*'Lookup Tables'!BD52","v":0},null,49,{"$f":"$BC$2*'Lookup Tables'!BG52","v":0},{"$f":"$BC$2*'Lookup Tables'!BH52","v":0},{"$f":"$BC$2*'Lookup Tables'!BI52","v":0},{"$f":"$BC$2*'Lookup Tables'!BJ52","v":0},{"$f":"$BC$2*'Lookup Tables'!BK52","v":0},{"$f":"$BC$2*'Lookup Tables'!BL52","v":0},{"$f":"$BC$2*'Lookup Tables'!BM52","v":0},{"$f":"$BC$2*'Lookup Tables'!BN52","v":0},{"$f":"$BC$2*'Lookup Tables'!BO52","v":0},{"$f":"$BC$2*'Lookup Tables'!BP52","v":0},{"$f":"$BC$2*'Lookup Tables'!BQ52","v":0},{"$f":"$BC$2*'Lookup Tables'!BR52","v":0},{"$f":"$BC$2*'Lookup Tables'!BS52","v":0},{"$f":"$BC$2*'Lookup Tables'!BT52","v":0},{"$f":"$BC$2*'Lookup Tables'!BU52","v":0},null,49,{"$f":"$BT$2*'Lookup Tables'!BX52","v":0},{"$f":"$BT$2*'Lookup Tables'!BY52","v":0},{"$f":"$BT$2*'Lookup Tables'!BZ52","v":0},{"$f":"$BT$2*'Lookup Tables'!CA52","v":0},{"$f":"$BT$2*'Lookup Tables'!CB52","v":0},{"$f":"$BT$2*'Lookup Tables'!CC52","v":0},{"$f":"$BT$2*'Lookup Tables'!CD52","v":0},{"$f":"$BT$2*'Lookup Tables'!CE52","v":0},{"$f":"$BT$2*'Lookup Tables'!CF52","v":0},{"$f":"$BT$2*'Lookup Tables'!CG52","v":0},{"$f":"$BT$2*'Lookup Tables'!CH52","v":0},{"$f":"$BT$2*'Lookup Tables'!CI52","v":0},{"$f":"$BT$2*'Lookup Tables'!CJ52","v":0},{"$f":"$BT$2*'Lookup Tables'!CK52","v":0},{"$f":"$BT$2*'Lookup Tables'!CL52","v":0},null,null,49,0,0,0,0,0,0,0,0,0,0,0,0,0,0,0,null,{"$f":"CV52*Calculator!G$27/21","v":0}]
[null,50,{"$f":"$D$2*'Lookup Tables'!H53","v":0},{"$f":"$D$2*'Lookup Tables'!I53","v":0},{"$f":"$D$2*'Lookup Tables'!J53","v":0},{"$f":"$D$2*'Lookup Tables'!K53","v":0},{"$f":"$D$2*'Lookup Tables'!L53","v":0},{"$f":"$D$2*'Lookup Tables'!M53","v":0},{"$f":"$D$2*'Lookup Tables'!N53","v":0},{"$f":"$D$2*'Lookup Tables'!O53","v":0},{"$f":"$D$2*'Lookup Tables'!P53","v":0},{"$f":"$D$2*'Lookup Tables'!Q53","v":0},{"$f":"$D$2*'Lookup Tables'!R53","v":0},{"$f":"$D$2*'Lookup Tables'!S53","v":0},{"$f":"$D$2*'Lookup Tables'!T53","v":0},{"$f":"$D$2*'Lookup Tables'!U53","v":0},{"$f":"$D$2*'Lookup Tables'!V53","v":0},null,50,{"$f":"$U$2*'Lookup Tables'!Y53","v":0},{"$f":"$U$2*'Lookup Tables'!Z53","v":0},{"$f":"$U$2*'Lookup Tables'!AA53","v":0},{"$f":"$U$2*'Lookup Tables'!AB53","v":0},{"$f":"$U$2*'Lookup Tables'!AC53","v":0},{"$f":"$U$2*'Lookup Tables'!AD53","v":0},{"$f":"$U$2*'Lookup Tables'!AE53","v":0},{"$f":"$U$2*'Lookup Tables'!AF53","v":0},{"$f":"$U$2*'Lookup Tables'!AG53","v":0},{"$f":"$U$2*'Lookup Tables'!AH53","v":0},{"$f":"$U$2*'Lookup Tables'!AI53","v":0},{"$f":"$U$2*'Lookup Tables'!AJ53","v":0},{"$f":"$U$2*'Lookup Tables'!AK53","v":0},{"$f":"$U$2*'Lookup Tables'!AL53","v":0},{"$f":"$U$2*'Lookup Tables'!AM53","v":0},null,50,{"$f":"$AL$2*'Lookup Tables'!AP53","v":0},{"$f":"$AL$2*'Lookup Tables'!AQ53","v":0},{"$f":"$AL$2*'Lookup Tables'!AR53","v":0},{"$f":"$AL$2*'Lookup Tables'!AS53","v":0},{"$f":"$AL$2*'Lookup Tables'!AT53","v":0},{"$f":"$AL$2*'Lookup Tables'!AU53","v":0},{"$f":"$AL$2*'Lookup Tables'!AV53","v":0},{"$f":"$AL$2*'Lookup Tables'!AW53","v":0},{"$f":"$AL$2*'Lookup Tables'!AX53","v":0},{"$f":"$AL$2*'Lookup Tables'!AY53","v":0},{"$f":"$AL$2*'Lookup Tables'!AZ53","v":0},{"$f":"$AL$2*'Lookup Tables'!BA53","v":0},{"$f":"$AL$2*'Lookup Tables'!BB53","v":0},{"$f":"$AL$2*'Lookup Tables'!BC53","v":0},{"$f":"$AL$2*'Lookup Tables'!BD53","v":0},null,50,{"$f":"$BC$2*'Lookup Tables'!BG53","v":0},{"$f":"$BC$2*'Lookup Tables'!BH53","v":0},{"$f":"$BC$2*'Lookup Tables'!BI53","v":0},{"$f":"$BC$2*'Lookup Tables'!BJ53","v":0},{"$f":"$BC$2*'Lookup Tables'!BK53","v":0},{"$f":"$BC$2*'Lookup Tables'!BL53","v":0},{"$f":"$BC$2*'Lookup Tables'!BM53","v":0},{"$f":"$BC$2*'Lookup Tables'!BN53","v":0},{"$f":"$BC$2*'Lookup Tables'!BO53","v":0},{"$f":"$BC$2*'Lookup Tables'!BP53","v":0},{"$f":"$BC$2*'Lookup Tables'!BQ53","v":0},{"$f":"$BC$2*'Lookup Tables'!BR53","v":0},{"$f":"$BC$2*'Lookup Tables'!BS53","v":0},{"$f":"$BC$2*'Lookup Tables'!BT53","v":0},{"$f":"$BC$2*'Lookup Tables'!BU53","v":0},null,50,{"$f":"$BT$2*'Lookup Tables'!BX53","v":0},{"$f":"$BT$2*'Lookup Tables'!BY53","v":0},{"$f":"$BT$2*'Lookup Tables'!BZ53","v":0},{"$f":"$BT$2*'Lookup Tables'!CA53","v":0},{"$f":"$BT$2*'Lookup Tables'!CB53","v":0},{"$f":"$BT$2*'Lookup Tables'!CC53","v":0},{"$f":"$BT$2*'Lookup Tables'!CD53","v":0},{"$f":"$BT$2*'Lookup Tables'!CE53","v":0},{"$f":"$BT$2*'Lookup Tables'!CF53","v":0},{"$f":"$BT$2*'Lookup Tables'!CG53","v":0},{"$f":"$BT$2*'Lookup Tables'!CH53","v":0},{"$f":"$BT$2*'Lookup Tables'!CI53","v":0},{"$f":"$BT$2*'Lookup Tables'!CJ53","v":0},{"$f":"$BT$2*'Lookup Tables'!CK53","v":0},{"$f":"$BT$2*'Lookup Tables'!CL53","v":0},null,null,50,0,0,0,0,0,0,0,0,0,0,0,0,0,0,0,null,{"$f":"CV53*Calculator!G$27/21","v":0}]
[null,51,{"$f":"$D$2*'Lookup Tables'!H54","v":0},{"$f":"$D$2*'Lookup Tables'!I54","v":0},{"$f":"$D$2*'Lookup Tables'!J54","v":0},{"$f":"$D$2*'Lookup Tables'!K54","v":0},{"$f":"$D$2*'Lookup Tables'!L54","v":0},{"$f":"$D$2*'Lookup Tables'!M54","v":0},{"$f":"$D$2*'Lookup Tables'!N54","v":0},{"$f":"$D$2*'Lookup Tables'!O54","v":0},{"$f":"$D$2*'Lookup Tables'!P54","v":0},{"$f":"$D$2*'Lookup Tables'!Q54","v":0},{"$f":"$D$2*'Lookup Tables'!R54","v":0},{"$f":"$D$2*'Lookup Tables'!S54","v":0},{"$f":"$D$2*'Lookup Tables'!T54","v":0},{"$f":"$D$2*'Lookup Tables'!U54","v":0},{"$f":"$D$2*'Lookup Tables'!V54","v":0},null,51,{"$f":"$U$2*'Lookup Tables'!Y54","v":0},{"$f":"$U$2*'Lookup Tables'!Z54","v":0},{"$f":"$U$2*'Lookup Tables'!AA54","v":0},{"$f":"$U$2*'Lookup Tables'!AB54","v":0},{"$f":"$U$2*'Lookup Tables'!AC54","v":0},{"$f":"$U$2*'Lookup Tables'!AD54","v":0},{"$f":"$U$2*'Lookup Tables'!AE54","v":0},{"$f":"$U$2*'Lookup Tables'!AF54","v":0},{"$f":"$U$2*'Lookup Tables'!AG54","v":0},{"$f":"$U$2*'Lookup Tables'!AH54","v":0},{"$f":"$U$2*'Lookup Tables'!AI54","v":0},{"$f":"$U$2*'Lookup Tables'!AJ54","v":0},{"$f":"$U$2*'Lookup Tables'!AK54","v":0},{"$f":"$U$2*'Lookup Tables'!AL54","v":0},{"$f":"$U$2*'Lookup Tables'!AM54","v":0},null,51,{"$f":"$AL$2*'Lookup Tables'!AP54","v":0},{"$f":"$AL$2*'Lookup Tables'!AQ54","v":0},{"$f":"$AL$2*'Lookup Tables'!AR54","v":0},{"$f":"$AL$2*'Lookup Tables'!AS54","v":0},{"$f":"$AL$2*'Lookup Tables'!AT54","v":0},{"$f":"$AL$2*'Lookup Tables'!AU54","v":0},{"$f":"$AL$2*'Lookup Tables'!AV54","v":0},{"$f":"$AL$2*'Lookup Tables'!AW54","v":0},{"$f":"$AL$2*'Lookup Tables'!AX54","v":0},{"$f":"$AL$2*'Lookup Tables'!AY54","v":0},{"$f":"$AL$2*'Lookup Tables'!AZ54","v":0},{"$f":"$AL$2*'Lookup Tables'!BA54","v":0},{"$f":"$AL$2*'Lookup Tables'!BB54","v":0},{"$f":"$AL$2*'Lookup Tables'!BC54","v":0},{"$f":"$AL$2*'Lookup Tables'!BD54","v":0},null,51,{"$f":"$BC$2*'Lookup Tables'!BG54","v":0},{"$f":"$BC$2*'Lookup Tables'!BH54","v":0},{"$f":"$BC$2*'Lookup Tables'!BI54","v":0},{"$f":"$BC$2*'Lookup Tables'!BJ54","v":0},{"$f":"$BC$2*'Lookup Tables'!BK54","v":0},{"$f":"$BC$2*'Lookup Tables'!BL54","v":0},{"$f":"$BC$2*'Lookup Tables'!BM54","v":0},{"$f":"$BC$2*'Lookup Tables'!BN54","v":0},{"$f":"$BC$2*'Lookup Tables'!BO54","v":0},{"$f":"$BC$2*'Lookup Tables'!BP54","v":0},{"$f":"$BC$2*'Lookup Tables'!BQ54","v":0},{"$f":"$BC$2*'Lookup Tables'!BR54","v":0},{"$f":"$BC$2*'Lookup Tables'!BS54","v":0},{"$f":"$BC$2*'Lookup Tables'!BT54","v":0},{"$f":"$BC$2*'Lookup Tables'!BU54","v":0},null,51,{"$f":"$BT$2*'Lookup Tables'!BX54","v":0},{"$f":"$BT$2*'Lookup Tables'!BY54","v":0},{"$f":"$BT$2*'Lookup Tables'!BZ54","v":0},{"$f":"$BT$2*'Lookup Tables'!CA54","v":0},{"$f":"$BT$2*'Lookup Tables'!CB54","v":0},{"$f":"$BT$2*'Lookup Tables'!CC54","v":0},{"$f":"$BT$2*'Lookup Tables'!CD54","v":0},{"$f":"$BT$2*'Lookup Tables'!CE54","v":0},{"$f":"$BT$2*'Lookup Tables'!CF54","v":0},{"$f":"$BT$2*'Lookup Tables'!CG54","v":0},{"$f":"$BT$2*'Lookup Tables'!CH54","v":0},{"$f":"$BT$2*'Lookup Tables'!CI54","v":0},{"$f":"$BT$2*'Lookup Tables'!CJ54","v":0},{"$f":"$BT$2*'Lookup Tables'!CK54","v":0},{"$f":"$BT$2*'Lookup Tables'!CL54","v":0},null,null,51,0,0,0,0,0,0,0,0,0,0,0,0,0,0,0,null,{"$f":"CV54*Calculator!G$27/21","v":0}]
[null,52,{"$f":"$D$2*'Lookup Tables'!H55","v":0},{"$f":"$D$2*'Lookup Tables'!I55","v":0},{"$f":"$D$2*'Lookup Tables'!J55","v":0},{"$f":"$D$2*'Lookup Tables'!K55","v":0},{"$f":"$D$2*'Lookup Tables'!L55","v":0},{"$f":"$D$2*'Lookup Tables'!M55","v":0},{"$f":"$D$2*'Lookup Tables'!N55","v":0},{"$f":"$D$2*'Lookup Tables'!O55","v":0},{"$f":"$D$2*'Lookup Tables'!P55","v":0},{"$f":"$D$2*'Lookup Tables'!Q55","v":0},{"$f":"$D$2*'Lookup Tables'!R55","v":0},{"$f":"$D$2*'Lookup Tables'!S55","v":0},{"$f":"$D$2*'Lookup Tables'!T55","v":0},{"$f":"$D$2*'Lookup Tables'!U55","v":0},{"$f":"$D$2*'Lookup Tables'!V55","v":0},null,52,{"$f":"$U$2*'Lookup Tables'!Y55","v":0},{"$f":"$U$2*'Lookup Tables'!Z55","v":0},{"$f":"$U$2*'Lookup Tables'!AA55","v":0},{"$f":"$U$2*'Lookup Tables'!AB55","v":0},{"$f":"$U$2*'Lookup Tables'!AC55","v":0},{"$f":"$U$2*'Lookup Tables'!AD55","v":0},{"$f":"$U$2*'Lookup Tables'!AE55","v":0},{"$f":"$U$2*'Lookup Tables'!AF55","v":0},{"$f":"$U$2*'Lookup Tables'!AG55","v":0},{"$f":"$U$2*'Lookup Tables'!AH55","v":0},{"$f":"$U$2*'Lookup Tables'!AI55","v":0},{"$f":"$U$2*'Lookup Tables'!AJ55","v":0},{"$f":"$U$2*'Lookup Tables'!AK55","v":0},{"$f":"$U$2*'Lookup Tables'!AL55","v":0},{"$f":"$U$2*'Lookup Tables'!AM55","v":0},null,52,{"$f":"$AL$2*'Lookup Tables'!AP55","v":0},{"$f":"$AL$2*'Lookup Tables'!AQ55","v":0},{"$f":"$AL$2*'Lookup Tables'!AR55","v":0},{"$f":"$AL$2*'Lookup Tables'!AS55","v":0},{"$f":"$AL$2*'Lookup Tables'!AT55","v":0},{"$f":"$AL$2*'Lookup Tables'!AU55","v":0},{"$f":"$AL$2*'Lookup Tables'!AV55","v":0},{"$f":"$AL$2*'Lookup Tables'!AW55","v":0},{"$f":"$AL$2*'Lookup Tables'!AX55","v":0},{"$f":"$AL$2*'Lookup Tables'!AY55","v":0},{"$f":"$AL$2*'Lookup Tables'!AZ55","v":0},{"$f":"$AL$2*'Lookup Tables'!BA55","v":0},{"$f":"$AL$2*'Lookup Tables'!BB55","v":0},{"$f":"$AL$2*'Lookup Tables'!BC55","v":0},{"$f":"$AL$2*'Lookup Tables'!BD55","v":0},null,52,{"$f":"$BC$2*'Lookup Tables'!BG55","v":0},{"$f":"$BC$2*'Lookup Tables'!BH55","v":0},{"$f":"$BC$2*'Lookup Tables'!BI55","v":0},{"$f":"$BC$2*'Lookup Tables'!BJ55","v":0},{"$f":"$BC$2*'Lookup Tables'!BK55","v":0},{"$f":"$BC$2*'Lookup Tables'!BL55","v":0},{"$f":"$BC$2*'Lookup Tables'!BM55","v":0},{"$f":"$BC$2*'Lookup Tables'!BN55","v":0},{"$f":"$BC$2*'Lookup Tables'!BO55","v":0},{"$f":"$BC$2*'Lookup Tables'!BP55","v":0},{"$f":"$BC$2*'Lookup Tables'!BQ55","v":0},{"$f":"$BC$2*'Lookup Tables'!BR55","v":0},{"$f":"$BC$2*'Lookup Tables'!BS55","v":0},{"$f":"$BC$2*'Lookup Tables'!BT55","v":0},{"$f":"$BC$2*'Lookup Tables'!BU55","v":0},null,52,{"$f":"$BT$2*'Lookup Tables'!BX55","v":0},{"$f":"$BT$2*'Lookup Tables'!BY55","v":0},{"$f":"$BT$2*'Lookup Tables'!BZ55","v":0},{"$f":"$BT$2*'Lookup Tables'!CA55","v":0},{"$f":"$BT$2*'Lookup Tables'!CB55","v":0},{"$f":"$BT$2*'Lookup Tables'!CC55","v":0},{"$f":"$BT$2*'Lookup Tables'!CD55","v":0},{"$f":"$BT$2*'Lookup Tables'!CE55","v":0},{"$f":"$BT$2*'Lookup Tables'!CF55","v":0},{"$f":"$BT$2*'Lookup Tables'!CG55","v":0},{"$f":"$BT$2*'Lookup Tables'!CH55","v":0},{"$f":"$BT$2*'Lookup Tables'!CI55","v":0},{"$f":"$BT$2*'Lookup Tables'!CJ55","v":0},{"$f":"$BT$2*'Lookup Tables'!CK55","v":0},{"$f":"$BT$2*'Lookup Tables'!CL55","v":0},null,null,52,0,0,0,0,0,0,0,0,0,0,0,0,0,0,0,null,{"$f":"CV55*Calculator!G$27/21","v":0}]
[null,53,{"$f":"$D$2*'Lookup Tables'!H56","v":0},{"$f":"$D$2*'Lookup Tables'!I56","v":0},{"$f":"$D$2*'Lookup Tables'!J56","v":0},{"$f":"$D$2*'Lookup Tables'!K56","v":0},{"$f":"$D$2*'Lookup Tables'!L56","v":0},{"$f":"$D$2*'Lookup Tables'!M56","v":0},{"$f":"$D$2*'Lookup Tables'!N56","v":0},{"$f":"$D$2*'Lookup Tables'!O56","v":0},{"$f":"$D$2*'Lookup Tables'!P56","v":0},{"$f":"$D$2*'Lookup Tables'!Q56","v":0},{"$f":"$D$2*'Lookup Tables'!R56","v":0},{"$f":"$D$2*'Lookup Tables'!S56","v":0},{"$f":"$D$2*'Lookup Tables'!T56","v":0},{"$f":"$D$2*'Lookup Tables'!U56","v":0},{"$f":"$D$2*'Lookup Tables'!V56","v":0},null,53,{"$f":"$U$2*'Lookup Tables'!Y56","v":0},{"$f":"$U$2*'Lookup Tables'!Z56","v":0},{"$f":"$U$2*'Lookup Tables'!AA56","v":0},{"$f":"$U$2*'Lookup Tables'!AB56","v":0},{"$f":"$U$2*'Lookup Tables'!AC56","v":0},{"$f":"$U$2*'Lookup Tables'!AD56","v":0},{"$f":"$U$2*'Lookup Tables'!AE56","v":0},{"$f":"$U$2*'Lookup Tables'!AF56","v":0},{"$f":"$U$2*'Lookup Tables'!AG56","v":0},{"$f":"$U$2*'Lookup Tables'!AH56","v":0},{"$f":"$U$2*'Lookup Tables'!AI56","v":0},{"$f":"$U$2*'Lookup Tables'!AJ56","v":0},{"$f":"$U$2*'Lookup Tables'!AK56","v":0},{"$f":"$U$2*'Lookup Tables'!AL56","v":0},{"$f":"$U$2*'Lookup Tables'!AM56","v":0},null,53,{"$f":"$AL$2*'Lookup Tables'!AP56","v":0},{"$f":"$AL$2*'Lookup Tables'!AQ56","v":0},{"$f":"$AL$2*'Lookup Tables'!AR56","v":0},{"$f":"$AL$2*'Lookup Tables'!AS56","v":0},{"$f":"$AL$2*'Lookup Tables'!AT56","v":0},{"$f":"$AL$2*'Lookup Tables'!AU56","v":0},{"$f":"$AL$2*'Lookup Tables'!AV56","v":0},{"$f":"$AL$2*'Lookup Tables'!AW56","v":0},{"$f":"$AL$2*'Lookup Tables'!AX56","v":0},{"$f":"$AL$2*'Lookup Tables'!AY56","v":0},{"$f":"$AL$2*'Lookup Tables'!AZ56","v":0},{"$f":"$AL$2*'Lookup Tables'!BA56","v":0},{"$f":"$AL$2*'Lookup Tables'!BB56","v":0},{"$f":"$AL$2*'Lookup Tables'!BC56","v":0},{"$f":"$AL$2*'Lookup Tables'!BD56","v":0},null,53,{"$f":"$BC$2*'Lookup Tables'!BG56","v":0},{"$f":"$BC$2*'Lookup Tables'!BH56","v":0},{"$f":"$BC$2*'Lookup Tables'!BI56","v":0},{"$f":"$BC$2*'Lookup Tables'!BJ56","v":0},{"$f":"$BC$2*'Lookup Tables'!BK56","v":0},{"$f":"$BC$2*'Lookup Tables'!BL56","v":0},{"$f":"$BC$2*'Lookup Tables'!BM56","v":0},{"$f":"$BC$2*'Lookup Tables'!BN56","v":0},{"$f":"$BC$2*'Lookup Tables'!BO56","v":0},{"$f":"$BC$2*'Lookup Tables'!BP56","v":0},{"$f":"$BC$2*'Lookup Tables'!BQ56","v":0},{"$f":"$BC$2*'Lookup Tables'!BR56","v":0},{"$f":"$BC$2*'Lookup Tables'!BS56","v":0},{"$f":"$BC$2*'Lookup Tables'!BT56","v":0},{"$f":"$BC$2*'Lookup Tables'!BU56","v":0},null,53,{"$f":"$BT$2*'Lookup Tables'!BX56","v":0},{"$f":"$BT$2*'Lookup Tables'!BY56","v":0},{"$f":"$BT$2*'Lookup Tables'!BZ56","v":0},{"$f":"$BT$2*'Lookup Tables'!CA56","v":0},{"$f":"$BT$2*'Lookup Tables'!CB56","v":0},{"$f":"$BT$2*'Lookup Tables'!CC56","v":0},{"$f":"$BT$2*'Lookup Tables'!CD56","v":0},{"$f":"$BT$2*'Lookup Tables'!CE56","v":0},{"$f":"$BT$2*'Lookup Tables'!CF56","v":0},{"$f":"$BT$2*'Lookup Tables'!CG56","v":0},{"$f":"$BT$2*'Lookup Tables'!CH56","v":0},{"$f":"$BT$2*'Lookup Tables'!CI56","v":0},{"$f":"$BT$2*'Lookup Tables'!CJ56","v":0},{"$f":"$BT$2*'Lookup Tables'!CK56","v":0},{"$f":"$BT$2*'Lookup Tables'!CL56","v":0},null,null,53,0,0,0,0,0,0,0,0,0,0,0,0,0,0,0,null,{"$f":"CV56*Calculator!G$27/21","v":0}]
[null,54,{"$f":"$D$2*'Lookup Tables'!H57","v":0},{"$f":"$D$2*'Lookup Tables'!I57","v":0},{"$f":"$D$2*'Lookup Tables'!J57","v":0},{"$f":"$D$2*'Lookup Tables'!K57","v":0},{"$f":"$D$2*'Lookup Tables'!L57","v":0},{"$f":"$D$2*'Lookup Tables'!M57","v":0},{"$f":"$D$2*'Lookup Tables'!N57","v":0},{"$f":"$D$2*'Lookup Tables'!O57","v":0},{"$f":"$D$2*'Lookup Tables'!P57","v":0},{"$f":"$D$2*'Lookup Tables'!Q57","v":0},{"$f":"$D$2*'Lookup Tables'!R57","v":0},{"$f":"$D$2*'Lookup Tables'!S57","v":0},{"$f":"$D$2*'Lookup Tables'!T57","v":0},{"$f":"$D$2*'Lookup Tables'!U57","v":0},{"$f":"$D$2*'Lookup Tables'!V57","v":0},null,54,{"$f":"$U$2*'Lookup Tables'!Y57","v":0},{"$f":"$U$2*'Lookup Tables'!Z57","v":0},{"$f":"$U$2*'Lookup Tables'!AA57","v":0},{"$f":"$U$2*'Lookup Tables'!AB57","v":0},{"$f":"$U$2*'Lookup Tables'!AC57","v":0},{"$f":"$U$2*'Lookup Tables'!AD57","v":0},{"$f":"$U$2*'Lookup Tables'!AE57","v":0},{"$f":"$U$2*'Lookup Tables'!AF57","v":0},{"$f":"$U$2*'Lookup Tables'!AG57","v":0},{"$f":"$U$2*'Lookup Tables'!AH57","v":0},{"$f":"$U$2*'Lookup Tables'!AI57","v":0},{"$f":"$U$2*'Lookup Tables'!AJ57","v":0},{"$f":"$U$2*'Lookup Tables'!AK57","v":0},{"$f":"$U$2*'Lookup Tables'!AL57","v":0},{"$f":"$U$2*'Lookup Tables'!AM57","v":0},null,54,{"$f":"$AL$2*'Lookup Tables'!AP57","v":0},{"$f":"$AL$2*'Lookup Tables'!AQ57","v":0},{"$f":"$AL$2*'Lookup Tables'!AR57","v":0},{"$f":"$AL$2*'Lookup Tables'!AS57","v":0},{"$f":"$AL$2*'Lookup Tables'!AT57","v":0},{"$f":"$AL$2*'Lookup Tables'!AU57","v":0},{"$f":"$AL$2*'Lookup Tables'!AV57","v":0},{"$f":"$AL$2*'Lookup Tables'!AW57","v":0},{"$f":"$AL$2*'Lookup Tables'!AX57","v":0},{"$f":"$AL$2*'Lookup Tables'!AY57","v":0},{"$f":"$AL$2*'Lookup Tables'!AZ57","v":0},{"$f":"$AL$2*'Lookup Tables'!BA57","v":0},{"$f":"$AL$2*'Lookup Tables'!BB57","v":0},{"$f":"$AL$2*'Lookup Tables'!BC57","v":0},{"$f":"$AL$2*'Lookup Tables'!BD57","v":0},null,54,{"$f":"$BC$2*'Lookup Tables'!BG57","v":0},{"$f":"$BC$2*'Lookup Tables'!BH57","v":0},{"$f":"$BC$2*'Lookup Tables'!BI57","v":0},{"$f":"$BC$2*'Lookup Tables'!BJ57","v":0},{"$f":"$BC$2*'Lookup Tables'!BK57","v":0},{"$f":"$BC$2*'Lookup Tables'!BL57","v":0},{"$f":"$BC$2*'Lookup Tables'!BM57","v":0},{"$f":"$BC$2*'Lookup Tables'!BN57","v":0},{"$f":"$BC$2*'Lookup Tables'!BO57","v":0},{"$f":"$BC$2*'Lookup Tables'!BP57","v":0},{"$f":"$BC$2*'Lookup Tables'!BQ57","v":0},{"$f":"$BC$2*'Lookup Tables'!BR57","v":0},{"$f":"$BC$2*'Lookup Tables'!BS57","v":0},{"$f":"$BC$2*'Lookup Tables'!BT57","v":0},{"$f":"$BC$2*'Lookup Tables'!BU57","v":0},null,54,{"$f":"$BT$2*'Lookup Tables'!BX57","v":0},{"$f":"$BT$2*'Lookup Tables'!BY57","v":0},{"$f":"$BT$2*'Lookup Tables'!BZ57","v":0},{"$f":"$BT$2*'Lookup Tables'!CA57","v":0},{"$f":"$BT$2*'Lookup Tables'!CB57","v":0},{"$f":"$BT$2*'Lookup Tables'!CC57","v":0},{"$f":"$BT$2*'Lookup Tables'!CD57","v":0},{"$f":"$BT$2*'Lookup Tables'!CE57","v":0},{"$f":"$BT$2*'Lookup Tables'!CF57","v":0},{"$f":"$BT$2*'Lookup Tables'!CG57","v":0},{"$f":"$BT$2*'Lookup Tables'!CH57","v":0},{"$f":"$BT$2*'Lookup Tables'!CI57","v":0},{"$f":"$BT$2*'Lookup Tables'!CJ57","v":0},{"$f":"$BT$2*'Lookup Tables'!CK57","v":0},{"$f":"$BT$2*'Lookup Tables'!CL57","v":0},null,null,54,0,0,0,0,0,0,0,0,0,0,0,0,0,0,0,null,{"$f":"CV57*Calculator!G$27/21","v":0}]
[null,55,{"$f":"$D$2*'Lookup Tables'!H58","v":0},{"$f":"$D$2*'Lookup Tables'!I58","v":0},{"$f":"$D$2*'Lookup Tables'!J58","v":0},{"$f":"$D$2*'Lookup Tables'!K58","v":0},{"$f":"$D$2*'Lookup Tables'!L58","v":0},{"$f":"$D$2*'Lookup Tables'!M58","v":0},{"$f":"$D$2*'Lookup Tables'!N58","v":0},{"$f":"$D$2*'Lookup Tables'!O58","v":0},{"$f":"$D$2*'Lookup Tables'!P58","v":0},{"$f":"$D$2*'Lookup Tables'!Q58","v":0},{"$f":"$D$2*'Lookup Tables'!R58","v":0},{"$f":"$D$2*'Lookup Tables'!S58","v":0},{"$f":"$D$2*'Lookup Tables'!T58","v":0},{"$f":"$D$2*'Lookup Tables'!U58","v":0},{"$f":"$D$2*'Lookup Tables'!V58","v":0},null,55,{"$f":"$U$2*'Lookup Tables'!Y58","v":0},{"$f":"$U$2*'Lookup Tables'!Z58","v":0},{"$f":"$U$2*'Lookup Tables'!AA58","v":0},{"$f":"$U$2*'Lookup Tables'!AB58","v":0},{"$f":"$U$2*'Lookup Tables'!AC58","v":0},{"$f":"$U$2*'Lookup Tables'!AD58","v":0},{"$f":"$U$2*'Lookup Tables'!AE58","v":0},{"$f":"$U$2*'Lookup Tables'!AF58","v":0},{"$f":"$U$2*'Lookup Tables'!AG58","v":0},{"$f":"$U$2*'Lookup Tables'!AH58","v":0},{"$f":"$U$2*'Lookup Tables'!AI58","v":0},{"$f":"$U$2*'Lookup Tables'!AJ58","v":0},{"$f":"$U$2*'Lookup Tables'!AK58","v":0},{"$f":"$U$2*'Lookup Tables'!AL58","v":0},{"$f":"$U$2*'Lookup Tables'!AM58","v":0},null,55,{"$f":"$AL$2*'Lookup Tables'!AP58","v":0},{"$f":"$AL$2*'Lookup Tables'!AQ58","v":0},{"$f":"$AL$2*'Lookup Tables'!AR58","v":0},{"$f":"$AL$2*'Lookup Tables'!AS58","v":0},{"$f":"$AL$2*'Lookup Tables'!AT58","v":0},{"$f":"$AL$2*'Lookup Tables'!AU58","v":0},{"$f":"$AL$2*'Lookup Tables'!AV58","v":0},{"$f":"$AL$2*'Lookup Tables'!AW58","v":0},{"$f":"$AL$2*'Lookup Tables'!AX58","v":0},{"$f":"$AL$2*'Lookup Tables'!AY58","v":0},{"$f":"$AL$2*'Lookup Tables'!AZ58","v":0},{"$f":"$AL$2*'Lookup Tables'!BA58","v":0},{"$f":"$AL$2*'Lookup Tables'!BB58","v":0},{"$f":"$AL$2*'Lookup Tables'!BC58","v":0},{"$f":"$AL$2*'Lookup Tables'!BD58","v":0},null,55,{"$f":"$BC$2*'Lookup Tables'!BG58","v":0},{"$f":"$BC$2*'Lookup Tables'!BH58","v":0},{"$f":"$BC$2*'Lookup Tables'!BI58","v":0},{"$f":"$BC$2*'Lookup Tables'!BJ58","v":0},{"$f":"$BC$2*'Lookup Tables'!BK58","v":0},{"$f":"$BC$2*'Lookup Tables'!BL58","v":0},{"$f":"$BC$2*'Lookup Tables'!BM58","v":0},{"$f":"$BC$2*'Lookup Tables'!BN58","v":0},{"$f":"$BC$2*'Lookup Tables'!BO58","v":0},{"$f":"$BC$2*'Lookup Tables'!BP58","v":0},{"$f":"$BC$2*'Lookup Tables'!BQ58","v":0},{"$f":"$BC$2*'Lookup Tables'!BR58","v":0},{"$f":"$BC$2*'Lookup Tables'!BS58","v":0},{"$f":"$BC$2*'Lookup Tables'!BT58","v":0},{"$f":"$BC$2*'Lookup Tables'!BU58","v":0},null,55,{"$f":"$BT$2*'Lookup Tables'!BX58","v":0},{"$f":"$BT$2*'Lookup Tables'!BY58","v":0},{"$f":"$BT$2*'Lookup Tables'!BZ58","v":0},{"$f":"$BT$2*'Lookup Tables'!CA58","v":0},{"$f":"$BT$2*'Lookup Tables'!CB58","v":0},{"$f":"$BT$2*'Lookup Tables'!CC58","v":0},{"$f":"$BT$2*'Lookup Tables'!CD58","v":0},{"$f":"$BT$2*'Lookup Tables'!CE58","v":0},{"$f":"$BT$2*'Lookup Tables'!CF58","v":0},{"$f":"$BT$2*'Lookup Tables'!CG58","v":0},{"$f":"$BT$2*'Lookup Tables'!CH58","v":0},{"$f":"$BT$2*'Lookup Tables'!CI58","v":0},{"$f":"$BT$2*'Lookup Tables'!CJ58","v":0},{"$f":"$BT$2*'Lookup Tables'!CK58","v":0},{"$f":"$BT$2*'Lookup Tables'!CL58","v":0},null,null,55,0,0,0,0,0,0,0,0,0,0,0,0,0,0,0,null,{"$f":"CV58*Calculator!G$27/21","v":0}]
[null,56,{"$f":"$D$2*'Lookup Tables'!H59","v":0},{"$f":"$D$2*'Lookup Tables'!I59","v":0},{"$f":"$D$2*'Lookup Tables'!J59","v":0},{"$f":"$D$2*'Lookup Tables'!K59","v":0},{"$f":"$D$2*'Lookup Tables'!L59","v":0},{"$f":"$D$2*'Lookup Tables'!M59","v":0},{"$f":"$D$2*'Lookup Tables'!N59","v":0},{"$f":"$D$2*'Lookup Tables'!O59","v":0},{"$f":"$D$2*'Lookup Tables'!P59","v":0},{"$f":"$D$2*'Lookup Tables'!Q59","v":0},{"$f":"$D$2*'Lookup Tables'!R59","v":0},{"$f":"$D$2*'Lookup Tables'!S59","v":0},{"$f":"$D$2*'Lookup Tables'!T59","v":0},{"$f":"$D$2*'Lookup Tables'!U59","v":0},{"$f":"$D$2*'Lookup Tables'!V59","v":0},null,56,{"$f":"$U$2*'Lookup Tables'!Y59","v":0},{"$f":"$U$2*'Lookup Tables'!Z59","v":0},{"$f":"$U$2*'Lookup Tables'!AA59","v":0},{"$f":"$U$2*'Lookup Tables'!AB59","v":0},{"$f":"$U$2*'Lookup Tables'!AC59","v":0},{"$f":"$U$2*'Lookup Tables'!AD59","v":0},{"$f":"$U$2*'Lookup Tables'!AE59","v":0},{"$f":"$U$2*'Lookup Tables'!AF59","v":0},{"$f":"$U$2*'Lookup Tables'!AG59","v":0},{"$f":"$U$2*'Lookup Tables'!AH59","v":0},{"$f":"$U$2*'Lookup Tables'!AI59","v":0},{"$f":"$U$2*'Lookup Tables'!AJ59","v":0},{"$f":"$U$2*'Lookup Tables'!AK59","v":0},{"$f":"$U$2*'Lookup Tables'!AL59","v":0},{"$f":"$U$2*'Lookup Tables'!AM59","v":0},null,56,{"$f":"$AL$2*'Lookup Tables'!AP59","v":0},{"$f":"$AL$2*'Lookup Tables'!AQ59","v":0},{"$f":"$AL$2*'Lookup Tables'!AR59","v":0},{"$f":"$AL$2*'Lookup Tables'!AS59","v":0},{"$f":"$AL$2*'Lookup Tables'!AT59","v":0},{"$f":"$AL$2*'Lookup Tables'!AU59","v":0},{"$f":"$AL$2*'Lookup Tables'!AV59","v":0},{"$f":"$AL$2*'Lookup Tables'!AW59","v":0},{"$f":"$AL$2*'Lookup Tables'!AX59","v":0},{"$f":"$AL$2*'Lookup Tables'!AY59","v":0},{"$f":"$AL$2*'Lookup Tables'!AZ59","v":0},{"$f":"$AL$2*'Lookup Tables'!BA59","v":0},{"$f":"$AL$2*'Lookup Tables'!BB59","v":0},{"$f":"$AL$2*'Lookup Tables'!BC59","v":0},{"$f":"$AL$2*'Lookup Tables'!BD59","v":0},null,56,{"$f":"$BC$2*'Lookup Tables'!BG59","v":0},{"$f":"$BC$2*'Lookup Tables'!BH59","v":0},{"$f":"$BC$2*'Lookup Tables'!BI59","v":0},{"$f":"$BC$2*'Lookup Tables'!BJ59","v":0},{"$f":"$BC$2*'Lookup Tables'!BK59","v":0},{"$f":"$BC$2*'Lookup Tables'!BL59","v":0},{"$f":"$BC$2*'Lookup Tables'!BM59","v":0},{"$f":"$BC$2*'Lookup Tables'!BN59","v":0},{"$f":"$BC$2*'Lookup Tables'!BO59","v":0},{"$f":"$BC$2*'Lookup Tables'!BP59","v":0},{"$f":"$BC$2*'Lookup Tables'!BQ59","v":0},{"$f":"$BC$2*'Lookup Tables'!BR59","v":0},{"$f":"$BC$2*'Lookup Tables'!BS59","v":0},{"$f":"$BC$2*'Lookup Tables'!BT59","v":0},{"$f":"$BC$2*'Lookup Tables'!BU59","v":0},null,56,{"$f":"$BT$2*'Lookup Tables'!BX59","v":0},{"$f":"$BT$2*'Lookup Tables'!BY59","v":0},{"$f":"$BT$2*'Lookup Tables'!BZ59","v":0},{"$f":"$BT$2*'Lookup Tables'!CA59","v":0},{"$f":"$BT$2*'Lookup Tables'!CB59","v":0},{"$f":"$BT$2*'Lookup Tables'!CC59","v":0},{"$f":"$BT$2*'Lookup Tables'!CD59","v":0},{"$f":"$BT$2*'Lookup Tables'!CE59","v":0},{"$f":"$BT$2*'Lookup Tables'!CF59","v":0},{"$f":"$BT$2*'Lookup Tables'!CG59","v":0},{"$f":"$BT$2*'Lookup Tables'!CH59","v":0},{"$f":"$BT$2*'Lookup Tables'!CI59","v":0},{"$f":"$BT$2*'Lookup Tables'!CJ59","v":0},{"$f":"$BT$2*'Lookup Tables'!CK59","v":0},{"$f":"$BT$2*'Lookup Tables'!CL59","v":0},null,null,56,0,0,0,0,0,0,0,0,0,0,0,0,0,0,0,null,{"$f":"CV59*Calculator!G$27/21","v":0}]
[null,57,{"$f":"$D$2*'Lookup Tables'!H60","v":0},{"$f":"$D$2*'Lookup Tables'!I60","v":0},{"$f":"$D$2*'Lookup Tables'!J60","v":0},{"$f":"$D$2*'Lookup Tables'!K60","v":0},{"$f":"$D$2*'Lookup Tables'!L60","v":0},{"$f":"$D$2*'Lookup Tables'!M60","v":0},{"$f":"$D$2*'Lookup Tables'!N60","v":0},{"$f":"$D$2*'Lookup Tables'!O60","v":0},{"$f":"$D$2*'Lookup Tables'!P60","v":0},{"$f":"$D$2*'Lookup Tables'!Q60","v":0},{"$f":"$D$2*'Lookup Tables'!R60","v":0},{"$f":"$D$2*'Lookup Tables'!S60","v":0},{"$f":"$D$2*'Lookup Tables'!T60","v":0},{"$f":"$D$2*'Lookup Tables'!U60","v":0},{"$f":"$D$2*'Lookup Tables'!V60","v":0},null,57,{"$f":"$U$2*'Lookup Tables'!Y60","v":0},{"$f":"$U$2*'Lookup Tables'!Z60","v":0},{"$f":"$U$2*'Lookup Tables'!AA60","v":0},{"$f":"$U$2*'Lookup Tables'!AB60","v":0},{"$f":"$U$2*'Lookup Tables'!AC60","v":0},{"$f":"$U$2*'Lookup Tables'!AD60","v":0},{"$f":"$U$2*'Lookup Tables'!AE60","v":0},{"$f":"$U$2*'Lookup Tables'!AF60","v":0},{"$f":"$U$2*'Lookup Tables'!AG60","v":0},{"$f":"$U$2*'Lookup Tables'!AH60","v":0},{"$f":"$U$2*'Lookup Tables'!AI60","v":0},{"$f":"$U$2*'Lookup Tables'!AJ60","v":0},{"$f":"$U$2*'Lookup Tables'!AK60","v":0},{"$f":"$U$2*'Lookup Tables'!AL60","v":0},{"$f":"$U$2*'Lookup Tables'!AM60","v":0},null,57,{"$f":"$AL$2*'Lookup Tables'!AP60","v":0},{"$f":"$AL$2*'Lookup Tables'!AQ60","v":0},{"$f":"$AL$2*'Lookup Tables'!AR60","v":0},{"$f":"$AL$2*'Lookup Tables'!AS60","v":0},{"$f":"$AL$2*'Lookup Tables'!AT60","v":0},{"$f":"$AL$2*'Lookup Tables'!AU60","v":0},{"$f":"$AL$2*'Lookup Tables'!AV60","v":0},{"$f":"$AL$2*'Lookup Tables'!AW60","v":0},{"$f":"$AL$2*'Lookup Tables'!AX60","v":0},{"$f":"$AL$2*'Lookup Tables'!AY60","v":0},{"$f":"$AL$2*'Lookup Tables'!AZ60","v":0},{"$f":"$AL$2*'Lookup Tables'!BA60","v":0},{"$f":"$AL$2*'Lookup Tables'!BB60","v":0},{"$f":"$AL$2*'Lookup Tables'!BC60","v":0},{"$f":"$AL$2*'Lookup Tables'!BD60","v":0},null,57,{"$f":"$BC$2*'Lookup Tables'!BG60","v":0},{"$f":"$BC$2*'Lookup Tables'!BH60","v":0},{"$f":"$BC$2*'Lookup Tables'!BI60","v":0},{"$f":"$BC$2*'Lookup Tables'!BJ60","v":0},{"$f":"$BC$2*'Lookup Tables'!BK60","v":0},{"$f":"$BC$2*'Lookup Tables'!BL60","v":0},{"$f":"$BC$2*'Lookup Tables'!BM60","v":0},{"$f":"$BC$2*'Lookup Tables'!BN60","v":0},{"$f":"$BC$2*'Lookup Tables'!BO60","v":0},{"$f":"$BC$2*'Lookup Tables'!BP60","v":0},{"$f":"$BC$2*'Lookup Tables'!BQ60","v":0},{"$f":"$BC$2*'Lookup Tables'!BR60","v":0},{"$f":"$BC$2*'Lookup Tables'!BS60","v":0},{"$f":"$BC$2*'Lookup Tables'!BT60","v":0},{"$f":"$BC$2*'Lookup Tables'!BU60","v":0},null,57,{"$f":"$BT$2*'Lookup Tables'!BX60","v":0},{"$f":"$BT$2*'Lookup Tables'!BY60","v":0},{"$f":"$BT$2*'Lookup Tables'!BZ60","v":0},{"$f":"$BT$2*'Lookup Tables'!CA60","v":0},{"$f":"$BT$2*'Lookup Tables'!CB60","v":0},{"$f":"$BT$2*'Lookup Tables'!CC60","v":0},{"$f":"$BT$2*'Lookup Tables'!CD60","v":0},{"$f":"$BT$2*'Lookup Tables'!CE60","v":0},{"$f":"$BT$2*'Lookup Tables'!CF60","v":0},{"$f":"$BT$2*'Lookup Tables'!CG60","v":0},{"$f":"$BT$2*'Lookup Tables'!CH60","v":0},{"$f":"$BT$2*'Lookup Tables'!CI60","v":0},{"$f":"$BT$2*'Lookup Tables'!CJ60","v":0},{"$f":"$BT$2*'Lookup Tables'!CK60","v":0},{"$f":"$BT$2*'Lookup Tables'!CL60","v":0},null,null,57,0,0,0,0,0,0,0,0,0,0,0,0,0,0,0,null,{"$f":"CV60*Calculator!G$27/21","v":0}]
[null,58,{"$f":"$D$2*'Lookup Tables'!H61","v":0},{"$f":"$D$2*'Lookup Tables'!I61","v":0},{"$f":"$D$2*'Lookup Tables'!J61","v":0},{"$f":"$D$2*'Lookup Tables'!K61","v":0},{"$f":"$D$2*'Lookup Tables'!L61","v":0},{"$f":"$D$2*'Lookup Tables'!M61","v":0},{"$f":"$D$2*'Lookup Tables'!N61","v":0},{"$f":"$D$2*'Lookup Tables'!O61","v":0},{"$f":"$D$2*'Lookup Tables'!P61","v":0},{"$f":"$D$2*'Lookup Tables'!Q61","v":0},{"$f":"$D$2*'Lookup Tables'!R61","v":0},{"$f":"$D$2*'Lookup Tables'!S61","v":0},{"$f":"$D$2*'Lookup Tables'!T61","v":0},{"$f":"$D$2*'Lookup Tables'!U61","v":0},{"$f":"$D$2*'Lookup Tables'!V61","v":0},null,58,{"$f":"$U$2*'Lookup Tables'!Y61","v":0},{"$f":"$U$2*'Lookup Tables'!Z61","v":0},{"$f":"$U$2*'Lookup Tables'!AA61","v":0},{"$f":"$U$2*'Lookup Tables'!AB61","v":0},{"$f":"$U$2*'Lookup Tables'!AC61","v":0},{"$f":"$U$2*'Lookup Tables'!AD61","v":0},{"$f":"$U$2*'Lookup Tables'!AE61","v":0},{"$f":"$U$2*'Lookup Tables'!AF61","v":0},{"$f":"$U$2*'Lookup Tables'!AG61","v":0},{"$f":"$U$2*'Lookup Tables'!AH61","v":0},{"$f":"$U$2*'Lookup Tables'!AI61","v":0},{"$f":"$U$2*'Lookup Tables'!AJ61","v":0},{"$f":"$U$2*'Lookup Tables'!AK61","v":0},{"$f":"$U$2*'Lookup Tables'!AL61","v":0},{"$f":"$U$2*'Lookup Tables'!AM61","v":0},null,58,{"$f":"$AL$2*'Lookup Tables'!AP61","v":0},{"$f":"$AL$2*'Lookup Tables'!AQ61","v":0},{"$f":"$AL$2*'Lookup Tables'!AR61","v":0},{"$f":"$AL$2*'Lookup Tables'!AS61","v":0},{"$f":"$AL$2*'Lookup Tables'!AT61","v":0},{"$f":"$AL$2*'Lookup Tables'!AU61","v":0},{"$f":"$AL$2*'Lookup Tables'!AV61","v":0},{"$f":"$AL$2*'Lookup Tables'!AW61","v":0},{"$f":"$AL$2*'Lookup Tables'!AX61","v":0},{"$f":"$AL$2*'Lookup Tables'!AY61","v":0},{"$f":"$AL$2*'Lookup Tables'!AZ61","v":0},{"$f":"$AL$2*'Lookup Tables'!BA61","v":0},{"$f":"$AL$2*'Lookup Tables'!BB61","v":0},{"$f":"$AL$2*'Lookup Tables'!BC61","v":0},{"$f":"$AL$2*'Lookup Tables'!BD61","v":0},null,58,{"$f":"$BC$2*'Lookup Tables'!BG61","v":0},{"$f":"$BC$2*'Lookup Tables'!BH61","v":0},{"$f":"$BC$2*'Lookup Tables'!BI61","v":0},{"$f":"$BC$2*'Lookup Tables'!BJ61","v":0},{"$f":"$BC$2*'Lookup Tables'!BK61","v":0},{"$f":"$BC$2*'Lookup Tables'!BL61","v":0},{"$f":"$BC$2*'Lookup Tables'!BM61","v":0},{"$f":"$BC$2*'Lookup Tables'!BN61","v":0},{"$f":"$BC$2*'Lookup Tables'!BO61","v":0},{"$f":"$BC$2*'Lookup Tables'!BP61","v":0},{"$f":"$BC$2*'Lookup Tables'!BQ61","v":0},{"$f":"$BC$2*'Lookup Tables'!BR61","v":0},{"$f":"$BC$2*'Lookup Tables'!BS61","v":0},{"$f":"$BC$2*'Lookup Tables'!BT61","v":0},{"$f":"$BC$2*'Lookup Tables'!BU61","v":0},null,58,{"$f":"$BT$2*'Lookup Tables'!BX61","v":0},{"$f":"$BT$2*'Lookup Tables'!BY61","v":0},{"$f":"$BT$2*'Lookup Tables'!BZ61","v":0},{"$f":"$BT$2*'Lookup Tables'!CA61","v":0},{"$f":"$BT$2*'Lookup Tables'!CB61","v":0},{"$f":"$BT$2*'Lookup Tables'!CC61","v":0},{"$f":"$BT$2*'Lookup Tables'!CD61","v":0},{"$f":"$BT$2*'Lookup Tables'!CE61","v":0},{"$f":"$BT$2*'Lookup Tables'!CF61","v":0},{"$f":"$BT$2*'Lookup Tables'!CG61","v":0},{"$f":"$BT$2*'Lookup Tables'!CH61","v":0},{"$f":"$BT$2*'Lookup Tables'!CI61","v":0},{"$f":"$BT$2*'Lookup Tables'!CJ61","v":0},{"$f":"$BT$2*'Lookup Tables'!CK61","v":0},{"$f":"$BT$2*'Lookup Tables'!CL61","v":0},null,null,58,0,0,0,0,0,0,0,0,0,0,0,0,0,0,0,null,{"$f":"CV61*Calculator!G$27/21","v":0}]
[null,59,{"$f":"$D$2*'Lookup Tables'!H62","v":0},{"$f":"$D$2*'Lookup Tables'!I62","v":0},{"$f":"$D$2*'Lookup Tables'!J62","v":0},{"$f":"$D$2*'Lookup Tables'!K62","v":0},{"$f":"$D$2*'Lookup Tables'!L62","v":0},{"$f":"$D$2*'Lookup Tables'!M62","v":0},{"$f":"$D$2*'Lookup Tables'!N62","v":0},{"$f":"$D$2*'Lookup Tables'!O62","v":0},{"$f":"$D$2*'Lookup Tables'!P62","v":0},{"$f":"$D$2*'Lookup Tables'!Q62","v":0},{"$f":"$D$2*'Lookup Tables'!R62","v":0},{"$f":"$D$2*'Lookup Tables'!S62","v":0},{"$f":"$D$2*'Lookup Tables'!T62","v":0},{"$f":"$D$2*'Lookup Tables'!U62","v":0},{"$f":"$D$2*'Lookup Tables'!V62","v":0},null,59,{"$f":"$U$2*'Lookup Tables'!Y62","v":0},{"$f":"$U$2*'Lookup Tables'!Z62","v":0},{"$f":"$U$2*'Lookup Tables'!AA62","v":0},{"$f":"$U$2*'Lookup Tables'!AB62","v":0},{"$f":"$U$2*'Lookup Tables'!AC62","v":0},{"$f":"$U$2*'Lookup Tables'!AD62","v":0},{"$f":"$U$2*'Lookup Tables'!AE62","v":0},{"$f":"$U$2*'Lookup Tables'!AF62","v":0},{"$f":"$U$2*'Lookup Tables'!AG62","v":0},{"$f":"$U$2*'Lookup Tables'!AH62","v":0},{"$f":"$U$2*'Lookup Tables'!AI62","v":0},{"$f":"$U$2*'Lookup Tables'!AJ62","v":0},{"$f":"$U$2*'Lookup Tables'!AK62","v":0},{"$f":"$U$2*'Lookup Tables'!AL62","v":0},{"$f":"$U$2*'Lookup Tables'!AM62","v":0},null,59,{"$f":"$AL$2*'Lookup Tables'!AP62","v":0},{"$f":"$AL$2*'Lookup Tables'!AQ62","v":0},{"$f":"$AL$2*'Lookup Tables'!AR62","v":0},{"$f":"$AL$2*'Lookup Tables'!AS62","v":0},{"$f":"$AL$2*'Lookup Tables'!AT62","v":0},{"$f":"$AL$2*'Lookup Tables'!AU62","v":0},{"$f":"$AL$2*'Lookup Tables'!AV62","v":0},{"$f":"$AL$2*'Lookup Tables'!AW62","v":0},{"$f":"$AL$2*'Lookup Tables'!AX62","v":0},{"$f":"$AL$2*'Lookup Tables'!AY62","v":0},{"$f":"$AL$2*'Lookup Tables'!AZ62","v":0},{"$f":"$AL$2*'Lookup Tables'!BA62","v":0},{"$f":"$AL$2*'Lookup Tables'!BB62","v":0},{"$f":"$AL$2*'Lookup Tables'!BC62","v":0},{"$f":"$AL$2*'Lookup Tables'!BD62","v":0},null,59,{"$f":"$BC$2*'Lookup Tables'!BG62","v":0},{"$f":"$BC$2*'Lookup Tables'!BH62","v":0},{"$f":"$BC$2*'Lookup Tables'!BI62","v":0},{"$f":"$BC$2*'Lookup Tables'!BJ62","v":0},{"$f":"$BC$2*'Lookup Tables'!BK62","v":0},{"$f":"$BC$2*'Lookup Tables'!BL62","v":0},{"$f":"$BC$2*'Lookup Tables'!BM62","v":0},{"$f":"$BC$2*'Lookup Tables'!BN62","v":0},{"$f":"$BC$2*'Lookup Tables'!BO62","v":0},{"$f":"$BC$2*'Lookup Tables'!BP62","v":0},{"$f":"$BC$2*'Lookup Tables'!BQ62","v":0},{"$f":"$BC$2*'Lookup Tables'!BR62","v":0},{"$f":"$BC$2*'Lookup Tables'!BS62","v":0},{"$f":"$BC$2*'Lookup Tables'!BT62","v":0},{"$f":"$BC$2*'Lookup Tables'!BU62","v":0},null,59,{"$f":"$BT$2*'Lookup Tables'!BX62","v":0},{"$f":"$BT$2*'Lookup Tables'!BY62","v":0},{"$f":"$BT$2*'Lookup Tables'!BZ62","v":0},{"$f":"$BT$2*'Lookup Tables'!CA62","v":0},{"$f":"$BT$2*'Lookup Tables'!CB62","v":0},{"$f":"$BT$2*'Lookup Tables'!CC62","v":0},{"$f":"$BT$2*'Lookup Tables'!CD62","v":0},{"$f":"$BT$2*'Lookup Tables'!CE62","v":0},{"$f":"$BT$2*'Lookup Tables'!CF62","v":0},{"$f":"$BT$2*'Lookup Tables'!CG62","v":0},{"$f":"$BT$2*'Lookup Tables'!CH62","v":0},{"$f":"$BT$2*'Lookup Tables'!CI62","v":0},{"$f":"$BT$2*'Lookup Tables'!CJ62","v":0},{"$f":"$BT$2*'Lookup Tables'!CK62","v":0},{"$f":"$BT$2*'Lookup Tables'!CL62","v":0},null,null,59,0,0,0,0,0,0,0,0,0,0,0,0,0,0,0,null,{"$f":"CV62*Calculator!G$27/21","v":0}]
[null,60,{"$f":"$D$2*'Lookup Tables'!H63","v":0},{"$f":"$D$2*'Lookup Tables'!I63","v":0},{"$f":"$D$2*'Lookup Tables'!J63","v":0},{"$f":"$D$2*'Lookup Tables'!K63","v":0},{"$f":"$D$2*'Lookup Tables'!L63","v":0},{"$f":"$D$2*'Lookup Tables'!M63","v":0},{"$f":"$D$2*'Lookup Tables'!N63","v":0},{"$f":"$D$2*'Lookup Tables'!O63","v":0},{"$f":"$D$2*'Lookup Tables'!P63","v":0},{"$f":"$D$2*'Lookup Tables'!Q63","v":0},{"$f":"$D$2*'Lookup Tables'!R63","v":0},{"$f":"$D$2*'Lookup Tables'!S63","v":0},{"$f":"$D$2*'Lookup Tables'!T63","v":0},{"$f":"$D$2*'Lookup Tables'!U63","v":0},{"$f":"$D$2*'Lookup Tables'!V63","v":0},null,60,{"$f":"$U$2*'Lookup Tables'!Y63","v":0},{"$f":"$U$2*'Lookup Tables'!Z63","v":0},{"$f":"$U$2*'Lookup Tables'!AA63","v":0},{"$f":"$U$2*'Lookup Tables'!AB63","v":0},{"$f":"$U$2*'Lookup Tables'!AC63","v":0},{"$f":"$U$2*'Lookup Tables'!AD63","v":0},{"$f":"$U$2*'Lookup Tables'!AE63","v":0},{"$f":"$U$2*'Lookup Tables'!AF63","v":0},{"$f":"$U$2*'Lookup Tables'!AG63","v":0},{"$f":"$U$2*'Lookup Tables'!AH63","v":0},{"$f":"$U$2*'Lookup Tables'!AI63","v":0},{"$f":"$U$2*'Lookup Tables'!AJ63","v":0},{"$f":"$U$2*'Lookup Tables'!AK63","v":0},{"$f":"$U$2*'Lookup Tables'!AL63","v":0},{"$f":"$U$2*'Lookup Tables'!AM63","v":0},null,60,{"$f":"$AL$2*'Lookup Tables'!AP63","v":0},{"$f":"$AL$2*'Lookup Tables'!AQ63","v":0},{"$f":"$AL$2*'Lookup Tables'!AR63","v":0},{"$f":"$AL$2*'Lookup Tables'!AS63","v":0},{"$f":"$AL$2*'Lookup Tables'!AT63","v":0},{"$f":"$AL$2*'Lookup Tables'!AU63","v":0},{"$f":"$AL$2*'Lookup Tables'!AV63","v":0},{"$f":"$AL$2*'Lookup Tables'!AW63","v":0},{"$f":"$AL$2*'Lookup Tables'!AX63","v":0},{"$f":"$AL$2*'Lookup Tables'!AY63","v":0},{"$f":"$AL$2*'Lookup Tables'!AZ63","v":0},{"$f":"$AL$2*'Lookup Tables'!BA63","v":0},{"$f":"$AL$2*'Lookup Tables'!BB63","v":0},{"$f":"$AL$2*'Lookup Tables'!BC63","v":0},{"$f":"$AL$2*'Lookup Tables'!BD63","v":0},null,60,{"$f":"$BC$2*'Lookup Tables'!BG63","v":0},{"$f":"$BC$2*'Lookup Tables'!BH63","v":0},{"$f":"$BC$2*'Lookup Tables'!BI63","v":0},{"$f":"$BC$2*'Lookup Tables'!BJ63","v":0},{"$f":"$BC$2*'Lookup Tables'!BK63","v":0},{"$f":"$BC$2*'Lookup Tables'!BL63","v":0},{"$f":"$BC$2*'Lookup Tables'!BM63","v":0},{"$f":"$BC$2*'Lookup Tables'!BN63","v":0},{"$f":"$BC$2*'Lookup Tables'!BO63","v":0},{"$f":"$BC$2*'Lookup Tables'!BP63","v":0},{"$f":"$BC$2*'Lookup Tables'!BQ63","v":0},{"$f":"$BC$2*'Lookup Tables'!BR63","v":0},{"$f":"$BC$2*'Lookup Tables'!BS63","v":0},{"$f":"$BC$2*'Lookup Tables'!BT63","v":0},{"$f":"$BC$2*'Lookup Tables'!BU63","v":0},null,60,{"$f":"$BT$2*'Lookup Tables'!BX63","v":0},{"$f":"$BT$2*'Lookup Tables'!BY63","v":0},{"$f":"$BT$2*'Lookup Tables'!BZ63","v":0},{"$f":"$BT$2*'Lookup Tables'!CA63","v":0},{"$f":"$BT$2*'Lookup Tables'!CB63","v":0},{"$f":"$BT$2*'Lookup Tables'!CC63","v":0},{"$f":"$BT$2*'Lookup Tables'!CD63","v":0},{"$f":"$BT$2*'Lookup Tables'!CE63","v":0},{"$f":"$BT$2*'Lookup Tables'!CF63","v":0},{"$f":"$BT$2*'Lookup Tables'!CG63","v":0},{"$f":"$BT$2*'Lookup Tables'!CH63","v":0},{"$f":"$BT$2*'Lookup Tables'!CI63","v":0},{"$f":"$BT$2*'Lookup Tables'!CJ63","v":0},{"$f":"$BT$2*'Lookup Tables'!CK63","v":0},{"$f":"$BT$2*'Lookup Tables'!CL63","v":0},null,null,60,0,0,0,0,0,0,0,0,0,0,0,0,0,0,0,null,{"$f":"CV63*Calculator!G$27/21","v":0}]
[null,61,{"$f":"$D$2*'Lookup Tables'!H64","v":0},{"$f":"$D$2*'Lookup Tables'!I64","v":0},{"$f":"$D$2*'Lookup Tables'!J64","v":0},{"$f":"$D$2*'Lookup Tables'!K64","v":0},{"$f":"$D$2*'Lookup Tables'!L64","v":0},{"$f":"$D$2*'Lookup Tables'!M64","v":0},{"$f":"$D$2*'Lookup Tables'!N64","v":0},{"$f":"$D$2*'Lookup Tables'!O64","v":0},{"$f":"$D$2*'Lookup Tables'!P64","v":0},{"$f":"$D$2*'Lookup Tables'!Q64","v":0},{"$f":"$D$2*'Lookup Tables'!R64","v":0},{"$f":"$D$2*'Lookup Tables'!S64","v":0},{"$f":"$D$2*'Lookup Tables'!T64","v":0},{"$f":"$D$2*'Lookup Tables'!U64","v":0},{"$f":"$D$2*'Lookup Tables'!V64","v":0},null,61,{"$f":"$U$2*'Lookup Tables'!Y64","v":0},{"$f":"$U$2*'Lookup Tables'!Z64","v":0},{"$f":"$U$2*'Lookup Tables'!AA64","v":0},{"$f":"$U$2*'Lookup Tables'!AB64","v":0},{"$f":"$U$2*'Lookup Tables'!AC64","v":0},{"$f":"$U$2*'Lookup Tables'!AD64","v":0},{"$f":"$U$2*'Lookup Tables'!AE64","v":0},{"$f":"$U$2*'Lookup Tables'!AF64","v":0},{"$f":"$U$2*'Lookup Tables'!AG64","v":0},{"$f":"$U$2*'Lookup Tables'!AH64","v":0},{"$f":"$U$2*'Lookup Tables'!AI64","v":0},{"$f":"$U$2*'Lookup Tables'!AJ64","v":0},{"$f":"$U$2*'Lookup Tables'!AK64","v":0},{"$f":"$U$2*'Lookup Tables'!AL64","v":0},{"$f":"$U$2*'Lookup Tables'!AM64","v":0},null,61,{"$f":"$AL$2*'Lookup Tables'!AP64","v":0},{"$f":"$AL$2*'Lookup Tables'!AQ64","v":0},{"$f":"$AL$2*'Lookup Tables'!AR64","v":0},{"$f":"$AL$2*'Lookup Tables'!AS64","v":0},{"$f":"$AL$2*'Lookup Tables'!AT64","v":0},{"$f":"$AL$2*'Lookup Tables'!AU64","v":0},{"$f":"$AL$2*'Lookup Tables'!AV64","v":0},{"$f":"$AL$2*'Lookup Tables'!AW64","v":0},{"$f":"$AL$2*'Lookup Tables'!AX64","v":0},{"$f":"$AL$2*'Lookup Tables'!AY64","v":0},{"$f":"$AL$2*'Lookup Tables'!AZ64","v":0},{"$f":"$AL$2*'Lookup Tables'!BA64","v":0},{"$f":"$AL$2*'Lookup Tables'!BB64","v":0},{"$f":"$AL$2*'Lookup Tables'!BC64","v":0},{"$f":"$AL$2*'Lookup Tables'!BD64","v":0},null,61,{"$f":"$BC$2*'Lookup Tables'!BG64","v":0},{"$f":"$BC$2*'Lookup Tables'!BH64","v":0},{"$f":"$BC$2*'Lookup Tables'!BI64","v":0},{"$f":"$BC$2*'Lookup Tables'!BJ64","v":0},{"$f":"$BC$2*'Lookup Tables'!BK64","v":0},{"$f":"$BC$2*'Lookup Tables'!BL64","v":0},{"$f":"$BC$2*'Lookup Tables'!BM64","v":0},{"$f":"$BC$2*'Lookup Tables'!BN64","v":0},{"$f":"$BC$2*'Lookup Tables'!BO64","v":0},{"$f":"$BC$2*'Lookup Tables'!BP64","v":0},{"$f":"$BC$2*'Lookup Tables'!BQ64","v":0},{"$f":"$BC$2*'Lookup Tables'!BR64","v":0},{"$f":"$BC$2*'Lookup Tables'!BS64","v":0},{"$f":"$BC$2*'Lookup Tables'!BT64","v":0},{"$f":"$BC$2*'Lookup Tables'!BU64","v":0},null,61,{"$f":"$BT$2*'Lookup Tables'!BX64","v":0},{"$f":"$BT$2*'Lookup Tables'!BY64","v":0},{"$f":"$BT$2*'Lookup Tables'!BZ64","v":0},{"$f":"$BT$2*'Lookup Tables'!CA64","v":0},{"$f":"$BT$2*'Lookup Tables'!CB64","v":0},{"$f":"$BT$2*'Lookup Tables'!CC64","v":0},{"$f":"$BT$2*'Lookup Tables'!CD64","v":0},{"$f":"$BT$2*'Lookup Tables'!CE64","v":0},{"$f":"$BT$2*'Lookup Tables'!CF64","v":0},{"$f":"$BT$2*'Lookup Tables'!CG64","v":0},{"$f":"$BT$2*'Lookup Tables'!CH64","v":0},{"$f":"$BT$2*'Lookup Tables'!CI64","v":0},{"$f":"$BT$2*'Lookup Tables'!CJ64","v":0},{"$f":"$BT$2*'Lookup Tables'!CK64","v":0},{"$f":"$BT$2*'Lookup Tables'!CL64","v":0},null,null,61,0,0,0,0,0,0,0,0,0,0,0,0,0,0,0,null,{"$f":"CV64*Calculator!G$27/21","v":0}]
[null,62,{"$f":"$D$2*'Lookup Tables'!H65","v":0},{"$f":"$D$2*'Lookup Tables'!I65","v":0},{"$f":"$D$2*'Lookup Tables'!J65","v":0},{"$f":"$D$2*'Lookup Tables'!K65","v":0},{"$f":"$D$2*'Lookup Tables'!L65","v":0},{"$f":"$D$2*'Lookup Tables'!M65","v":0},{"$f":"$D$2*'Lookup Tables'!N65","v":0},{"$f":"$D$2*'Lookup Tables'!O65","v":0},{"$f":"$D$2*'Lookup Tables'!P65","v":0},{"$f":"$D$2*'Lookup Tables'!Q65","v":0},{"$f":"$D$2*'Lookup Tables'!R65","v":0},{"$f":"$D$2*'Lookup Tables'!S65","v":0},{"$f":"$D$2*'Lookup Tables'!T65","v":0},{"$f":"$D$2*'Lookup Tables'!U65","v":0},{"$f":"$D$2*'Lookup Tables'!V65","v":0},null,62,{"$f":"$U$2*'Lookup Tables'!Y65","v":0},{"$f":"$U$2*'Lookup Tables'!Z65","v":0},{"$f":"$U$2*'Lookup Tables'!AA65","v":0},{"$f":"$U$2*'Lookup Tables'!AB65","v":0},{"$f":"$U$2*'Lookup Tables'!AC65","v":0},{"$f":"$U$2*'Lookup Tables'!AD65","v":0},{"$f":"$U$2*'Lookup Tables'!AE65","v":0},{"$f":"$U$2*'Lookup Tables'!AF65","v":0},{"$f":"$U$2*'Lookup Tables'!AG65","v":0},{"$f":"$U$2*'Lookup Tables'!AH65","v":0},{"$f":"$U$2*'Lookup Tables'!AI65","v":0},{"$f":"$U$2*'Lookup Tables'!AJ65","v":0},{"$f":"$U$2*'Lookup Tables'!AK65","v":0},{"$f":"$U$2*'Lookup Tables'!AL65","v":0},{"$f":"$U$2*'Lookup Tables'!AM65","v":0},null,62,{"$f":"$AL$2*'Lookup Tables'!AP65","v":0},{"$f":"$AL$2*'Lookup Tables'!AQ65","v":0},{"$f":"$AL$2*'Lookup Tables'!AR65","v":0},{"$f":"$AL$2*'Lookup Tables'!AS65","v":0},{"$f":"$AL$2*'Lookup Tables'!AT65","v":0},{"$f":"$AL$2*'Lookup Tables'!AU65","v":0},{"$f":"$AL$2*'Lookup Tables'!AV65","v":0},{"$f":"$AL$2*'Lookup Tables'!AW65","v":0},{"$f":"$AL$2*'Lookup Tables'!AX65","v":0},{"$f":"$AL$2*'Lookup Tables'!AY65","v":0},{"$f":"$AL$2*'Lookup Tables'!AZ65","v":0},{"$f":"$AL$2*'Lookup Tables'!BA65","v":0},{"$f":"$AL$2*'Lookup Tables'!BB65","v":0},{"$f":"$AL$2*'Lookup Tables'!BC65","v":0},{"$f":"$AL$2*'Lookup Tables'!BD65","v":0},null,62,{"$f":"$BC$2*'Lookup Tables'!BG65","v":0},{"$f":"$BC$2*'Lookup Tables'!BH65","v":0},{"$f":"$BC$2*'Lookup Tables'!BI65","v":0},{"$f":"$BC$2*'Lookup Tables'!BJ65","v":0},{"$f":"$BC$2*'Lookup Tables'!BK65","v":0},{"$f":"$BC$2*'Lookup Tables'!BL65","v":0},{"$f":"$BC$2*'Lookup Tables'!BM65","v":0},{"$f":"$BC$2*'Lookup Tables'!BN65","v":0},{"$f":"$BC$2*'Lookup Tables'!BO65","v":0},{"$f":"$BC$2*'Lookup Tables'!BP65","v":0},{"$f":"$BC$2*'Lookup Tables'!BQ65","v":0},{"$f":"$BC$2*'Lookup Tables'!BR65","v":0},{"$f":"$BC$2*'Lookup Tables'!BS65","v":0},{"$f":"$BC$2*'Lookup Tables'!BT65","v":0},{"$f":"$BC$2*'Lookup Tables'!BU65","v":0},null,62,{"$f":"$BT$2*'Lookup Tables'!BX65","v":0},{"$f":"$BT$2*'Lookup Tables'!BY65","v":0},{"$f":"$BT$2*'Lookup Tables'!BZ65","v":0},{"$f":"$BT$2*'Lookup Tables'!CA65","v":0},{"$f":"$BT$2*'Lookup Tables'!CB65","v":0},{"$f":"$BT$2*'Lookup Tables'!CC65","v":0},{"$f":"$BT$2*'Lookup Tables'!CD65","v":0},{"$f":"$BT$2*'Lookup Tables'!CE65","v":0},{"$f":"$BT$2*'Lookup Tables'!CF65","v":0},{"$f":"$BT$2*'Lookup Tables'!CG65","v":0},{"$f":"$BT$2*'Lookup Tables'!CH65","v":0},{"$f":"$BT$2*'Lookup Tables'!CI65","v":0},{"$f":"$BT$2*'Lookup Tables'!CJ65","v":0},{"$f":"$BT$2*'Lookup Tables'!CK65","v":0},{"$f":"$BT$2*'Lookup Tables'!CL65","v":0},null,null,62,0,0,0,0,0,0,0,0,0,0,0,0,0,0,0,null,{"$f":"CV65*Calculator!G$27/21","v":0}]
[null,63,{"$f":"$D$2*'Lookup Tables'!H66","v":0},{"$f":"$D$2*'Lookup Tables'!I66","v":0},{"$f":"$D$2*'Lookup Tables'!J66","v":0},{"$f":"$D$2*'Lookup Tables'!K66","v":0},{"$f":"$D$2*'Lookup Tables'!L66","v":0},{"$f":"$D$2*'Lookup Tables'!M66","v":0},{"$f":"$D$2*'Lookup Tables'!N66","v":0},{"$f":"$D$2*'Lookup Tables'!O66","v":0},{"$f":"$D$2*'Lookup Tables'!P66","v":0},{"$f":"$D$2*'Lookup Tables'!Q66","v":0},{"$f":"$D$2*'Lookup Tables'!R66","v":0},{"$f":"$D$2*'Lookup Tables'!S66","v":0},{"$f":"$D$2*'Lookup Tables'!T66","v":0},{"$f":"$D$2*'Lookup Tables'!U66","v":0},{"$f":"$D$2*'Lookup Tables'!V66","v":0},null,63,{"$f":"$U$2*'Lookup Tables'!Y66","v":0},{"$f":"$U$2*'Lookup Tables'!Z66","v":0},{"$f":"$U$2*'Lookup Tables'!AA66","v":0},{"$f":"$U$2*'Lookup Tables'!AB66","v":0},{"$f":"$U$2*'Lookup Tables'!AC66","v":0},{"$f":"$U$2*'Lookup Tables'!AD66","v":0},{"$f":"$U$2*'Lookup Tables'!AE66","v":0},{"$f":"$U$2*'Lookup Tables'!AF66","v":0},{"$f":"$U$2*'Lookup Tables'!AG66","v":0},{"$f":"$U$2*'Lookup Tables'!AH66","v":0},{"$f":"$U$2*'Lookup Tables'!AI66","v":0},{"$f":"$U$2*'Lookup Tables'!AJ66","v":0},{"$f":"$U$2*'Lookup Tables'!AK66","v":0},{"$f":"$U$2*'Lookup Tables'!AL66","v":0},{"$f":"$U$2*'Lookup Tables'!AM66","v":0},null,63,{"$f":"$AL$2*'Lookup Tables'!AP66","v":0},{"$f":"$AL$2*'Lookup Tables'!AQ66","v":0},{"$f":"$AL$2*'Lookup Tables'!AR66","v":0},{"$f":"$AL$2*'Lookup Tables'!AS66","v":0},{"$f":"$AL$2*'Lookup Tables'!AT66","v":0},{"$f":"$AL$2*'Lookup Tables'!AU66","v":0},{"$f":"$AL$2*'Lookup Tables'!AV66","v":0},{"$f":"$AL$2*'Lookup Tables'!AW66","v":0},{"$f":"$AL$2*'Lookup Tables'!AX66","v":0},{"$f":"$AL$2*'Lookup Tables'!AY66","v":0},{"$f":"$AL$2*'Lookup Tables'!AZ66","v":0},{"$f":"$AL$2*'Lookup Tables'!BA66","v":0},{"$f":"$AL$2*'Lookup Tables'!BB66","v":0},{"$f":"$AL$2*'Lookup Tables'!BC66","v":0},{"$f":"$AL$2*'Lookup Tables'!BD66","v":0},null,63,{"$f":"$BC$2*'Lookup Tables'!BG66","v":0},{"$f":"$BC$2*'Lookup Tables'!BH66","v":0},{"$f":"$BC$2*'Lookup Tables'!BI66","v":0},{"$f":"$BC$2*'Lookup Tables'!BJ66","v":0},{"$f":"$BC$2*'Lookup Tables'!BK66","v":0},{"$f":"$BC$2*'Lookup Tables'!BL66","v":0},{"$f":"$BC$2*'Lookup Tables'!BM66","v":0},{"$f":"$BC$2*'Lookup Tables'!BN66","v":0},{"$f":"$BC$2*'Lookup Tables'!BO66","v":0},{"$f":"$BC$2*'Lookup Tables'!BP66","v":0},{"$f":"$BC$2*'Lookup Tables'!BQ66","v":0},{"$f":"$BC$2*'Lookup Tables'!BR66","v":0},{"$f":"$BC$2*'Lookup Tables'!BS66","v":0},{"$f":"$BC$2*'Lookup Tables'!BT66","v":0},{"$f":"$BC$2*'Lookup Tables'!BU66","v":0},null,63,{"$f":"$BT$2*'Lookup Tables'!BX66","v":0},{"$f":"$BT$2*'Lookup Tables'!BY66","v":0},{"$f":"$BT$2*'Lookup Tables'!BZ66","v":0},{"$f":"$BT$2*'Lookup Tables'!CA66","v":0},{"$f":"$BT$2*'Lookup Tables'!CB66","v":0},{"$f":"$BT$2*'Lookup Tables'!CC66","v":0},{"$f":"$BT$2*'Lookup Tables'!CD66","v":0},{"$f":"$BT$2*'Lookup Tables'!CE66","v":0},{"$f":"$BT$2*'Lookup Tables'!CF66","v":0},{"$f":"$BT$2*'Lookup Tables'!CG66","v":0},{"$f":"$BT$2*'Lookup Tables'!CH66","v":0},{"$f":"$BT$2*'Lookup Tables'!CI66","v":0},{"$f":"$BT$2*'Lookup Tables'!CJ66","v":0},{"$f":"$BT$2*'Lookup Tables'!CK66","v":0},{"$f":"$BT$2*'Lookup Tables'!CL66","v":0},null,null,63,0,0,0,0,0,0,0,0,0,0,0,0,0,0,0,null,{"$f":"CV66*Calculator!G$27/21","v":0}]
[null,64,{"$f":"$D$2*'Lookup Tables'!H67","v":0},{"$f":"$D$2*'Lookup Tables'!I67","v":0},{"$f":"$D$2*'Lookup Tables'!J67","v":0},{"$f":"$D$2*'Lookup Tables'!K67","v":0},{"$f":"$D$2*'Lookup Tables'!L67","v":0},{"$f":"$D$2*'Lookup Tables'!M67","v":0},{"$f":"$D$2*'Lookup Tables'!N67","v":0},{"$f":"$D$2*'Lookup Tables'!O67","v":0},{"$f":"$D$2*'Lookup Tables'!P67","v":0},{"$f":"$D$2*'Lookup Tables'!Q67","v":0},{"$f":"$D$2*'Lookup Tables'!R67","v":0},{"$f":"$D$2*'Lookup Tables'!S67","v":0},{"$f":"$D$2*'Lookup Tables'!T67","v":0},{"$f":"$D$2*'Lookup Tables'!U67","v":0},{"$f":"$D$2*'Lookup Tables'!V67","v":0},null,64,{"$f":"$U$2*'Lookup Tables'!Y67","v":0},{"$f":"$U$2*'Lookup Tables'!Z67","v":0},{"$f":"$U$2*'Lookup Tables'!AA67","v":0},{"$f":"$U$2*'Lookup Tables'!AB67","v":0},{"$f":"$U$2*'Lookup Tables'!AC67","v":0},{"$f":"$U$2*'Lookup Tables'!AD67","v":0},{"$f":"$U$2*'Lookup Tables'!AE67","v":0},{"$f":"$U$2*'Lookup Tables'!AF67","v":0},{"$f":"$U$2*'Lookup Tables'!AG67","v":0},{"$f":"$U$2*'Lookup Tables'!AH67","v":0},{"$f":"$U$2*'Lookup Tables'!AI67","v":0},{"$f":"$U$2*'Lookup Tables'!AJ67","v":0},{"$f":"$U$2*'Lookup Tables'!AK67","v":0},{"$f":"$U$2*'Lookup Tables'!AL67","v":0},{"$f":"$U$2*'Lookup Tables'!AM67","v":0},null,64,{"$f":"$AL$2*'Lookup Tables'!AP67","v":0},{"$f":"$AL$2*'Lookup Tables'!AQ67","v":0},{"$f":"$AL$2*'Lookup Tables'!AR67","v":0},{"$f":"$AL$2*'Lookup Tables'!AS67","v":0},{"$f":"$AL$2*'Lookup Tables'!AT67","v":0},{"$f":"$AL$2*'Lookup Tables'!AU67","v":0},{"$f":"$AL$2*'Lookup Tables'!AV67","v":0},{"$f":"$AL$2*'Lookup Tables'!AW67","v":0},{"$f":"$AL$2*'Lookup Tables'!AX67","v":0},{"$f":"$AL$2*'Lookup Tables'!AY67","v":0},{"$f":"$AL$2*'Lookup Tables'!AZ67","v":0},{"$f":"$AL$2*'Lookup Tables'!BA67","v":0},{"$f":"$AL$2*'Lookup Tables'!BB67","v":0},{"$f":"$AL$2*'Lookup Tables'!BC67","v":0},{"$f":"$AL$2*'Lookup Tables'!BD67","v":0},null,64,{"$f":"$BC$2*'Lookup Tables'!BG67","v":0},{"$f":"$BC$2*'Lookup Tables'!BH67","v":0},{"$f":"$BC$2*'Lookup Tables'!BI67","v":0},{"$f":"$BC$2*'Lookup Tables'!BJ67","v":0},{"$f":"$BC$2*'Lookup Tables'!BK67","v":0},{"$f":"$BC$2*'Lookup Tables'!BL67","v":0},{"$f":"$BC$2*'Lookup Tables'!BM67","v":0},{"$f":"$BC$2*'Lookup Tables'!BN67","v":0},{"$f":"$BC$2*'Lookup Tables'!BO67","v":0},{"$f":"$BC$2*'Lookup Tables'!BP67","v":0},{"$f":"$BC$2*'Lookup Tables'!BQ67","v":0},{"$f":"$BC$2*'Lookup Tables'!BR67","v":0},{"$f":"$BC$2*'Lookup Tables'!BS67","v":0},{"$f":"$BC$2*'Lookup Tables'!BT67","v":0},{"$f":"$BC$2*'Lookup Tables'!BU67","v":0},null,64,{"$f":"$BT$2*'Lookup Tables'!BX67","v":0},{"$f":"$BT$2*'Lookup Tables'!BY67","v":0},{"$f":"$BT$2*'Lookup Tables'!BZ67","v":0},{"$f":"$BT$2*'Lookup Tables'!CA67","v":0},{"$f":"$BT$2*'Lookup Tables'!CB67","v":0},{"$f":"$BT$2*'Lookup Tables'!CC67","v":0},{"$f":"$BT$2*'Lookup Tables'!CD67","v":0},{"$f":"$BT$2*'Lookup Tables'!CE67","v":0},{"$f":"$BT$2*'Lookup Tables'!CF67","v":0},{"$f":"$BT$2*'Lookup Tables'!CG67","v":0},{"$f":"$BT$2*'Lookup Tables'!CH67","v":0},{"$f":"$BT$2*'Lookup Tables'!CI67","v":0},{"$f":"$BT$2*'Lookup Tables'!CJ67","v":0},{"$f":"$BT$2*'Lookup Tables'!CK67","v":0},{"$f":"$BT$2*'Lookup Tables'!CL67","v":0},null,null,64,0,0,0,0,0,0,0,0,0,0,0,0,0,0,0,null,{"$f":"CV67*Calculator!G$27/21","v":0}]
[null,65,{"$f":"$D$2*'Lookup Tables'!H68","v":0},{"$f":"$D$2*'Lookup Tables'!I68","v":0},{"$f":"$D$2*'Lookup Tables'!J68","v":0},{"$f":"$D$2*'Lookup Tables'!K68","v":0},{"$f":"$D$2*'Lookup Tables'!L68","v":0},{"$f":"$D$2*'Lookup Tables'!M68","v":0},{"$f":"$D$2*'Lookup Tables'!N68","v":0},{"$f":"$D$2*'Lookup Tables'!O68","v":0},{"$f":"$D$2*'Lookup Tables'!P68","v":0},{"$f":"$D$2*'Lookup Tables'!Q68","v":0},{"$f":"$D$2*'Lookup Tables'!R68","v":0},{"$f":"$D$2*'Lookup Tables'!S68","v":0},{"$f":"$D$2*'Lookup Tables'!T68","v":0},{"$f":"$D$2*'Lookup Tables'!U68","v":0},{"$f":"$D$2*'Lookup Tables'!V68","v":0},null,65,{"$f":"$U$2*'Lookup Tables'!Y68","v":0},{"$f":"$U$2*'Lookup Tables'!Z68","v":0},{"$f":"$U$2*'Lookup Tables'!AA68","v":0},{"$f":"$U$2*'Lookup Tables'!AB68","v":0},{"$f":"$U$2*'Lookup Tables'!AC68","v":0},{"$f":"$U$2*'Lookup Tables'!AD68","v":0},{"$f":"$U$2*'Lookup Tables'!AE68","v":0},{"$f":"$U$2*'Lookup Tables'!AF68","v":0},{"$f":"$U$2*'Lookup Tables'!AG68","v":0},{"$f":"$U$2*'Lookup Tables'!AH68","v":0},{"$f":"$U$2*'Lookup Tables'!AI68","v":0},{"$f":"$U$2*'Lookup Tables'!AJ68","v":0},{"$f":"$U$2*'Lookup Tables'!AK68","v":0},{"$f":"$U$2*'Lookup Tables'!AL68","v":0},{"$f":"$U$2*'Lookup Tables'!AM68","v":0},null,65,{"$f":"$AL$2*'Lookup Tables'!AP68","v":0},{"$f":"$AL$2*'Lookup Tables'!AQ68","v":0},{"$f":"$AL$2*'Lookup Tables'!AR68","v":0},{"$f":"$AL$2*'Lookup Tables'!AS68","v":0},{"$f":"$AL$2*'Lookup Tables'!AT68","v":0},{"$f":"$AL$2*'Lookup Tables'!AU68","v":0},{"$f":"$AL$2*'Lookup Tables'!AV68","v":0},{"$f":"$AL$2*'Lookup Tables'!AW68","v":0},{"$f":"$AL$2*'Lookup Tables'!AX68","v":0},{"$f":"$AL$2*'Lookup Tables'!AY68","v":0},{"$f":"$AL$2*'Lookup Tables'!AZ68","v":0},{"$f":"$AL$2*'Lookup Tables'!BA68","v":0},{"$f":"$AL$2*'Lookup Tables'!BB68","v":0},{"$f":"$AL$2*'Lookup Tables'!BC68","v":0},{"$f":"$AL$2*'Lookup Tables'!BD68","v":0},null,65,{"$f":"$BC$2*'Lookup Tables'!BG68","v":0},{"$f":"$BC$2*'Lookup Tables'!BH68","v":0},{"$f":"$BC$2*'Lookup Tables'!BI68","v":0},{"$f":"$BC$2*'Lookup Tables'!BJ68","v":0},{"$f":"$BC$2*'Lookup Tables'!BK68","v":0},{"$f":"$BC$2*'Lookup Tables'!BL68","v":0},{"$f":"$BC$2*'Lookup Tables'!BM68","v":0},{"$f":"$BC$2*'Lookup Tables'!BN68","v":0},{"$f":"$BC$2*'Lookup Tables'!BO68","v":0},{"$f":"$BC$2*'Lookup Tables'!BP68","v":0},{"$f":"$BC$2*'Lookup Tables'!BQ68","v":0},{"$f":"$BC$2*'Lookup Tables'!BR68","v":0},{"$f":"$BC$2*'Lookup Tables'!BS68","v":0},{"$f":"$BC$2*'Lookup Tables'!BT68","v":0},{"$f":"$BC$2*'Lookup Tables'!BU68","v":0},null,65,{"$f":"$BT$2*'Lookup Tables'!BX68","v":0},{"$f":"$BT$2*'Lookup Tables'!BY68","v":0},{"$f":"$BT$2*'Lookup Tables'!BZ68","v":0},{"$f":"$BT$2*'Lookup Tables'!CA68","v":0},{"$f":"$BT$2*'Lookup Tables'!CB68","v":0},{"$f":"$BT$2*'Lookup Tables'!CC68","v":0},{"$f":"$BT$2*'Lookup Tables'!CD68","v":0},{"$f":"$BT$2*'Lookup Tables'!CE68","v":0},{"$f":"$BT$2*'Lookup Tables'!CF68","v":0},{"$f":"$BT$2*'Lookup Tables'!CG68","v":0},{"$f":"$BT$2*'Lookup Tables'!CH68","v":0},{"$f":"$BT$2*'Lookup Tables'!CI68","v":0},{"$f":"$BT$2*'Lookup Tables'!CJ68","v":0},{"$f":"$BT$2*'Lookup Tables'!CK68","v":0},{"$f":"$BT$2*'Lookup Tables'!CL68","v":0},null,null,65,0,{"$f":"SUM(D68,U68,AL68,BC68,BT68)","v":0},{"$f":"SUM(E68,V68,AM68,BD68,BU68)","v":0},{"$f":"SUM(F68,W68,AN68,BE68,BV68)","v":0},{"$f":"SUM(G68,X68,AO68,BF68,BW68)","v":0},{"$f":"SUM(H68,Y68,AP68,BG68,BX68)","v":0},{"$f":"SUM(I68,Z68,AQ68,BH68,BY68)","v":0},{"$f":"SUM(J68,AA68,AR68,BI68,BZ68)","v":0},0,{"$f":"L68+AC68+AT68+BK68+CB68","v":0},{"$f":"M68+AD68+AU68+BL68+CC68","v":0},{"$f":"N68+AE68+AV68+BM68+CD68","v":0},{"$f":"O68+AF68+AW68+BN68+CE68","v":0},{"$f":"P68+AG68+AX68+BO68+CF68","v":0},{"$f":"Q68+AH68+AY68+BP68+CG68","v":0},null,{"$f":"CV68*Calculator!G$27/21","v":0}]
[null,66,{"$f":"$D$2*'Lookup Tables'!H69","v":0},{"$f":"$D$2*'Lookup Tables'!I69","v":0},{"$f":"$D$2*'Lookup Tables'!J69","v":0},{"$f":"$D$2*'Lookup Tables'!K69","v":0},{"$f":"$D$2*'Lookup Tables'!L69","v":0},{"$f":"$D$2*'Lookup Tables'!M69","v":0},{"$f":"$D$2*'Lookup Tables'!N69","v":0},{"$f":"$D$2*'Lookup Tables'!O69","v":0},{"$f":"$D$2*'Lookup Tables'!P69","v":0},{"$f":"$D$2*'Lookup Tables'!Q69","v":0},{"$f":"$D$2*'Lookup Tables'!R69","v":0},{"$f":"$D$2*'Lookup Tables'!S69","v":0},{"$f":"$D$2*'Lookup Tables'!T69","v":0},{"$f":"$D$2*'Lookup Tables'!U69","v":0},{"$f":"$D$2*'Lookup Tables'!V69","v":0},null,66,{"$f":"$U$2*'Lookup Tables'!Y69","v":0},{"$f":"$U$2*'Lookup Tables'!Z69","v":0},{"$f":"$U$2*'Lookup Tables'!AA69","v":0},{"$f":"$U$2*'Lookup Tables'!AB69","v":0},{"$f":"$U$2*'Lookup Tables'!AC69","v":0},{"$f":"$U$2*'Lookup Tables'!AD69","v":0},{"$f":"$U$2*'Lookup Tables'!AE69","v":0},{"$f":"$U$2*'Lookup Tables'!AF69","v":0},{"$f":"$U$2*'Lookup Tables'!AG69","v":0},{"$f":"$U$2*'Lookup Tables'!AH69","v":0},{"$f":"$U$2*'Lookup Tables'!AI69","v":0},{"$f":"$U$2*'Lookup Tables'!AJ69","v":0},{"$f":"$U$2*'Lookup Tables'!AK69","v":0},{"$f":"$U$2*'Lookup Tables'!AL69","v":0},{"$f":"$U$2*'Lookup Tables'!AM69","v":0},null,66,{"$f":"$AL$2*'Lookup Tables'!AP69","v":0},{"$f":"$AL$2*'Lookup Tables'!AQ69","v":0},{"$f":"$AL$2*'Lookup Tables'!AR69","v":0},{"$f":"$AL$2*'Lookup Tables'!AS69","v":0},{"$f":"$AL$2*'Lookup Tables'!AT69","v":0},{"$f":"$AL$2*'Lookup Tables'!AU69","v":0},{"$f":"$AL$2*'Lookup Tables'!AV69","v":0},{"$f":"$AL$2*'Lookup Tables'!AW69","v":0},{"$f":"$AL$2*'Lookup Tables'!AX69","v":0},{"$f":"$AL$2*'Lookup Tables'!AY69","v":0},{"$f":"$AL$2*'Lookup Tables'!AZ69","v":0},{"$f":"$AL$2*'Lookup Tables'!BA69","v":0},{"$f":"$AL$2*'Lookup Tables'!BB69","v":0},{"$f":"$AL$2*'Lookup Tables'!BC69","v":0},{"$f":"$AL$2*'Lookup Tables'!BD69","v":0},null,66,{"$f":"$BC$2*'Lookup Tables'!BG69","v":0},{"$f":"$BC$2*'Lookup Tables'!BH69","v":0},{"$f":"$BC$2*'Lookup Tables'!BI69","v":0},{"$f":"$BC$2*'Lookup Tables'!BJ69","v":0},{"$f":"$BC$2*'Lookup Tables'!BK69","v":0},{"$f":"$BC$2*'Lookup Tables'!BL69","v":0},{"$f":"$BC$2*'Lookup Tables'!BM69","v":0},{"$f":"$BC$2*'Lookup Tables'!BN69","v":0},{"$f":"$BC$2*'Lookup Tables'!BO69","v":0},{"$f":"$BC$2*'Lookup Tables'!BP69","v":0},{"$f":"$BC$2*'Lookup Tables'!BQ69","v":0},{"$f":"$BC$2*'Lookup Tables'!BR69","v":0},{"$f":"$BC$2*'Lookup Tables'!BS69","v":0},{"$f":"$BC$2*'Lookup Tables'!BT69","v":0},{"$f":"$BC$2*'Lookup Tables'!BU69","v":0},null,66,{"$f":"$BT$2*'Lookup Tables'!BX69","v":0},{"$f":"$BT$2*'Lookup Tables'!BY69","v":0},{"$f":"$BT$2*'Lookup Tables'!BZ69","v":0},{"$f":"$BT$2*'Lookup Tables'!CA69","v":0},{"$f":"$BT$2*'Lookup Tables'!CB69","v":0},{"$f":"$BT$2*'Lookup Tables'!CC69","v":0},{"$f":"$BT$2*'Lookup Tables'!CD69","v":0},{"$f":"$BT$2*'Lookup Tables'!CE69","v":0},{"$f":"$BT$2*'Lookup Tables'!CF69","v":0},{"$f":"$BT$2*'Lookup Tables'!CG69","v":0},{"$f":"$BT$2*'Lookup Tables'!CH69","v":0},{"$f":"$BT$2*'Lookup Tables'!CI69","v":0},{"$f":"$BT$2*'Lookup Tables'!CJ69","v":0},{"$f":"$BT$2*'Lookup Tables'!CK69","v":0},{"$f":"$BT$2*'Lookup Tables'!CL69","v":0},null,null,66,{"$f":"SUM(C69,T69,AK69,BB69,BS69)","v":0},0,0,0,0,0,0,0,{"$f":"K69+AB69+AS69+BJ69+CA69","v":0},0,0,0,0,0,0,null,{"$f":"CV69*Calculator!G$27/21","v":0}]
[null,67,{"$f":"$D$2*'Lookup Tables'!H70","v":0},{"$f":"$D$2*'Lookup Tables'!I70","v":0},{"$f":"$D$2*'Lookup Tables'!J70","v":0},{"$f":"$D$2*'Lookup Tables'!K70","v":0},{"$f":"$D$2*'Lookup Tables'!L70","v":0},{"$f":"$D$2*'Lookup Tables'!M70","v":0},{"$f":"$D$2*'Lookup Tables'!N70","v":0},{"$f":"$D$2*'Lookup Tables'!O70","v":0},{"$f":"$D$2*'Lookup Tables'!P70","v":0},{"$f":"$D$2*'Lookup Tables'!Q70","v":0},{"$f":"$D$2*'Lookup Tables'!R70","v":0},{"$f":"$D$2*'Lookup Tables'!S70","v":0},{"$f":"$D$2*'Lookup Tables'!T70","v":0},{"$f":"$D$2*'Lookup Tables'!U70","v":0},{"$f":"$D$2*'Lookup Tables'!V70","v":0},null,67,{"$f":"$U$2*'Lookup Tables'!Y70","v":0},{"$f":"$U$2*'Lookup Tables'!Z70","v":0},{"$f":"$U$2*'Lookup Tables'!AA70","v":0},{"$f":"$U$2*'Lookup Tables'!AB70","v":0},{"$f":"$U$2*'Lookup Tables'!AC70","v":0},{"$f":"$U$2*'Lookup Tables'!AD70","v":0},{"$f":"$U$2*'Lookup Tables'!AE70","v":0},{"$f":"$U$2*'Lookup Tables'!AF70","v":0},{"$f":"$U$2*'Lookup Tables'!AG70","v":0},{"$f":"$U$2*'Lookup Tables'!AH70","v":0},{"$f":"$U$2*'Lookup Tables'!AI70","v":0},{"$f":"$U$2*'Lookup Tables'!AJ70","v":0},{"$f":"$U$2*'Lookup Tables'!AK70","v":0},{"$f":"$U$2*'Lookup Tables'!AL70","v":0},{"$f":"$U$2*'Lookup Tables'!AM70","v":0},null,67,{"$f":"$AL$2*'Lookup Tables'!AP70","v":0},{"$f":"$AL$2*'Lookup Tables'!AQ70","v":0},{"$f":"$AL$2*'Lookup Tables'!AR70","v":0},{"$f":"$AL$2*'Lookup Tables'!AS70","v":0},{"$f":"$AL$2*'Lookup Tables'!AT70","v":0},{"$f":"$AL$2*'Lookup Tables'!AU70","v":0},{"$f":"$AL$2*'Lookup Tables'!AV70","v":0},{"$f":"$AL$2*'Lookup Tables'!AW70","v":0},{"$f":"$AL$2*'Lookup Tables'!AX70","v":0},{"$f":"$AL$2*'Lookup Tables'!AY70","v":0},{"$f":"$AL$2*'Lookup Tables'!AZ70","v":0},{"$f":"$AL$2*'Lookup Tables'!BA70","v":0},{"$f":"$AL$2*'Lookup Tables'!BB70","v":0},{"$f":"$AL$2*'Lookup Tables'!BC70","v":0},{"$f":"$AL$2*'Lookup Tables'!BD70","v":0},null,67,{"$f":"$BC$2*'Lookup Tables'!BG70","v":0},{"$f":"$BC$2*'Lookup Tables'!BH70","v":0},{"$f":"$BC$2*'Lookup Tables'!BI70","v":0},{"$f":"$BC$2*'Lookup Tables'!BJ70","v":0},{"$f":"$BC$2*'Lookup Tables'!BK70","v":0},{"$f":"$BC$2*'Lookup Tables'!BL70","v":0},{"$f":"$BC$2*'Lookup Tables'!BM70","v":0},{"$f":"$BC$2*'Lookup Tables'!BN70","v":0},{"$f":"$BC$2*'Lookup Tables'!BO70","v":0},{"$f":"$BC$2*'Lookup Tables'!BP70","v":0},{"$f":"$BC$2*'Lookup Tables'!BQ70","v":0},{"$f":"$BC$2*'Lookup Tables'!BR70","v":0},{"$f":"$BC$2*'Lookup Tables'!BS70","v":0},{"$f":"$BC$2*'Lookup Tables'!BT70","v":0},{"$f":"$BC$2*'Lookup Tables'!BU70","v":0},null,67,{"$f":"$BT$2*'Lookup Tables'!BX70","v":0},{"$f":"$BT$2*'Lookup Tables'!BY70","v":0},{"$f":"$BT$2*'Lookup Tables'!BZ70","v":0},{"$f":"$BT$2*'Lookup Tables'!CA70","v":0},{"$f":"$BT$2*'Lookup Tables'!CB70","v":0},{"$f":"$BT$2*'Lookup Tables'!CC70","v":0},{"$f":"$BT$2*'Lookup Tables'!CD70","v":0},{"$f":"$BT$2*'Lookup Tables'!CE70","v":0},{"$f":"$BT$2*'Lookup Tables'!CF70","v":0},{"$f":"$BT$2*'Lookup Tables'!CG70","v":0},{"$f":"$BT$2*'Lookup Tables'!CH70","v":0},{"$f":"$BT$2*'Lookup Tables'!CI70","v":0},{"$f":"$BT$2*'Lookup Tables'!CJ70","v":0},{"$f":"$BT$2*'Lookup Tables'!CK70","v":0},{"$f":"$BT$2*'Lookup Tables'!CL70","v":0},null,null,67,0,0,0,0,0,0,0,0,0,0,0,0,0,0,0,null,{"$f":"CV70*Calculator!G$27/21","v":0}]
[null,68,{"$f":"$D$2*'Lookup Tables'!H71","v":0},{"$f":"$D$2*'Lookup Tables'!I71","v":0},{"$f":"$D$2*'Lookup Tables'!J71","v":0},{"$f":"$D$2*'Lookup Tables'!K71","v":0},{"$f":"$D$2*'Lookup Tables'!L71","v":0},{"$f":"$D$2*'Lookup Tables'!M71","v":0},{"$f":"$D$2*'Lookup Tables'!N71","v":0},{"$f":"$D$2*'Lookup Tables'!O71","v":0},{"$f":"$D$2*'Lookup Tables'!P71","v":0},{"$f":"$D$2*'Lookup Tables'!Q71","v":0},{"$f":"$D$2*'Lookup Tables'!R71","v":0},{"$f":"$D$2*'Lookup Tables'!S71","v":0},{"$f":"$D$2*'Lookup Tables'!T71","v":0},{"$f":"$D$2*'Lookup Tables'!U71","v":0},{"$f":"$D$2*'Lookup Tables'!V71","v":0},null,68,{"$f":"$U$2*'Lookup Tables'!Y71","v":0},{"$f":"$U$2*'Lookup Tables'!Z71","v":0},{"$f":"$U$2*'Lookup Tables'!AA71","v":0},{"$f":"$U$2*'Lookup Tables'!AB71","v":0},{"$f":"$U$2*'Lookup Tables'!AC71","v":0},{"$f":"$U$2*'Lookup Tables'!AD71","v":0},{"$f":"$U$2*'Lookup Tables'!AE71","v":0},{"$f":"$U$2*'Lookup Tables'!AF71","v":0},{"$f":"$U$2*'Lookup Tables'!AG71","v":0},{"$f":"$U$2*'Lookup Tables'!AH71","v":0},{"$f":"$U$2*'Lookup Tables'!AI71","v":0},{"$f":"$U$2*'Lookup Tables'!AJ71","v":0},{"$f":"$U$2*'Lookup Tables'!AK71","v":0},{"$f":"$U$2*'Lookup Tables'!AL71","v":0},{"$f":"$U$2*'Lookup Tables'!AM71","v":0},null,68,{"$f":"$AL$2*'Lookup Tables'!AP71","v":0},{"$f":"$AL$2*'Lookup Tables'!AQ71","v":0},{"$f":"$AL$2*'Lookup Tables'!AR71","v":0},{"$f":"$AL$2*'Lookup Tables'!AS71","v":0},{"$f":"$AL$2*'Lookup Tables'!AT71","v":0},{"$f":"$AL$2*'Lookup Tables'!AU71","v":0},{"$f":"$AL$2*'Lookup Tables'!AV71","v":0},{"$f":"$AL$2*'Lookup Tables'!AW71","v":0},{"$f":"$AL$2*'Lookup Tables'!AX71","v":0},{"$f":"$AL$2*'Lookup Tables'!AY71","v":0},{"$f":"$AL$2*'Lookup Tables'!AZ71","v":0},{"$f":"$AL$2*'Lookup Tables'!BA71","v":0},{"$f":"$AL$2*'Lookup Tables'!BB71","v":0},{"$f":"$AL$2*'Lookup Tables'!BC71","v":0},{"$f":"$AL$2*'Lookup Tables'!BD71","v":0},null,68,{"$f":"$BC$2*'Lookup Tables'!BG71","v":0},{"$f":"$BC$2*'Lookup Tables'!BH71","v":0},{"$f":"$BC$2*'Lookup Tables'!BI71","v":0},{"$f":"$BC$2*'Lookup Tables'!BJ71","v":0},{"$f":"$BC$2*'Lookup Tables'!BK71","v":0},{"$f":"$BC$2*'Lookup Tables'!BL71","v":0},{"$f":"$BC$2*'Lookup Tables'!BM71","v":0},{"$f":"$BC$2*'Lookup Tables'!BN71","v":0},{"$f":"$BC$2*'Lookup Tables'!BO71","v":0},{"$f":"$BC$2*'Lookup Tables'!BP71","v":0},{"$f":"$BC$2*'Lookup Tables'!BQ71","v":0},{"$f":"$BC$2*'Lookup Tables'!BR71","v":0},{"$f":"$BC$2*'Lookup Tables'!BS71","v":0},{"$f":"$BC$2*'Lookup Tables'!BT71","v":0},{"$f":"$BC$2*'Lookup Tables'!BU71","v":0},null,68,{"$f":"$BT$2*'Lookup Tables'!BX71","v":0},{"$f":"$BT$2*'Lookup Tables'!BY71","v":0},{"$f":"$BT$2*'Lookup Tables'!BZ71","v":0},{"$f":"$BT$2*'Lookup Tables'!CA71","v":0},{"$f":"$BT$2*'Lookup Tables'!CB71","v":0},{"$f":"$BT$2*'Lookup Tables'!CC71","v":0},{"$f":"$BT$2*'Lookup Tables'!CD71","v":0},{"$f":"$BT$2*'Lookup Tables'!CE71","v":0},{"$f":"$BT$2*'Lookup Tables'!CF71","v":0},{"$f":"$BT$2*'Lookup Tables'!CG71","v":0},{"$f":"$BT$2*'Lookup Tables'!CH71","v":0},{"$f":"$BT$2*'Lookup Tables'!CI71","v":0},{"$f":"$BT$2*'Lookup Tables'!CJ71","v":0},{"$f":"$BT$2*'Lookup Tables'!CK71","v":0},{"$f":"$BT$2*'Lookup Tables'!CL71","v":0},null,null,68,0,0,0,0,0,0,0,0,0,0,0,0,0,0,0,null,{"$f":"CV71*Calculator!G$27/21","v":0}]
[null,69,{"$f":"$D$2*'Lookup Tables'!H72","v":0},{"$f":"$D$2*'Lookup Tables'!I72","v":0},{"$f":"$D$2*'Lookup Tables'!J72","v":0},{"$f":"$D$2*'Lookup Tables'!K72","v":0},{"$f":"$D$2*'Lookup Tables'!L72","v":0},{"$f":"$D$2*'Lookup Tables'!M72","v":0},{"$f":"$D$2*'Lookup Tables'!N72","v":0},{"$f":"$D$2*'Lookup Tables'!O72","v":0},{"$f":"$D$2*'Lookup Tables'!P72","v":0},{"$f":"$D$2*'Lookup Tables'!Q72","v":0},{"$f":"$D$2*'Lookup Tables'!R72","v":0},{"$f":"$D$2*'Lookup Tables'!S72","v":0},{"$f":"$D$2*'Lookup Tables'!T72","v":0},{"$f":"$D$2*'Lookup Tables'!U72","v":0},{"$f":"$D$2*'Lookup Tables'!V72","v":0},null,69,{"$f":"$U$2*'Lookup Tables'!Y72","v":0},{"$f":"$U$2*'Lookup Tables'!Z72","v":0},{"$f":"$U$2*'Lookup Tables'!AA72","v":0},{"$f":"$U$2*'Lookup Tables'!AB72","v":0},{"$f":"$U$2*'Lookup Tables'!AC72","v":0},{"$f":"$U$2*'Lookup Tables'!AD72","v":0},{"$f":"$U$2*'Lookup Tables'!AE72","v":0},{"$f":"$U$2*'Lookup Tables'!AF72","v":0},{"$f":"$U$2*'Lookup Tables'!AG72","v":0},{"$f":"$U$2*'Lookup Tables'!AH72","v":0},{"$f":"$U$2*'Lookup Tables'!AI72","v":0},{"$f":"$U$2*'Lookup Tables'!AJ72","v":0},{"$f":"$U$2*'Lookup Tables'!AK72","v":0},{"$f":"$U$2*'Lookup Tables'!AL72","v":0},{"$f":"$U$2*'Lookup Tables'!AM72","v":0},null,69,{"$f":"$AL$2*'Lookup Tables'!AP72","v":0},{"$f":"$AL$2*'Lookup Tables'!AQ72","v":0},{"$f":"$AL$2*'Lookup Tables'!AR72","v":0},{"$f":"$AL$2*'Lookup Tables'!AS72","v":0},{"$f":"$AL$2*'Lookup Tables'!AT72","v":0},{"$f":"$AL$2*'Lookup Tables'!AU72","v":0},{"$f":"$AL$2*'Lookup Tables'!AV72","v":0},{"$f":"$AL$2*'Lookup Tables'!AW72","v":0},{"$f":"$AL$2*'Lookup Tables'!AX72","v":0},{"$f":"$AL$2*'Lookup Tables'!AY72","v":0},{"$f":"$AL$2*'Lookup Tables'!AZ72","v":0},{"$f":"$AL$2*'Lookup Tables'!BA72","v":0},{"$f":"$AL$2*'Lookup Tables'!BB72","v":0},{"$f":"$AL$2*'Lookup Tables'!BC72","v":0},{"$f":"$AL$2*'Lookup Tables'!BD72","v":0},null,69,{"$f":"$BC$2*'Lookup Tables'!BG72","v":0},{"$f":"$BC$2*'Lookup Tables'!BH72","v":0},{"$f":"$BC$2*'Lookup Tables'!BI72","v":0},{"$f":"$BC$2*'Lookup Tables'!BJ72","v":0},{"$f":"$BC$2*'Lookup Tables'!BK72","v":0},{"$f":"$BC$2*'Lookup Tables'!BL72","v":0},{"$f":"$BC$2*'Lookup Tables'!BM72","v":0},{"$f":"$BC$2*'Lookup Tables'!BN72","v":0},{"$f":"$BC$2*'Lookup Tables'!BO72","v":0},{"$f":"$BC$2*'Lookup Tables'!BP72","v":0},{"$f":"$BC$2*'Lookup Tables'!BQ72","v":0},{"$f":"$BC$2*'Lookup Tables'!BR72","v":0},{"$f":"$BC$2*'Lookup Tables'!BS72","v":0},{"$f":"$BC$2*'Lookup Tables'!BT72","v":0},{"$f":"$BC$2*'Lookup Tables'!BU72","v":0},null,69,{"$f":"$BT$2*'Lookup Tables'!BX72","v":0},{"$f":"$BT$2*'Lookup Tables'!BY72","v":0},{"$f":"$BT$2*'Lookup Tables'!BZ72","v":0},{"$f":"$BT$2*'Lookup Tables'!CA72","v":0},{"$f":"$BT$2*'Lookup Tables'!CB72","v":0},{"$f":"$BT$2*'Lookup Tables'!CC72","v":0},{"$f":"$BT$2*'Lookup Tables'!CD72","v":0},{"$f":"$BT$2*'Lookup Tables'!CE72","v":0},{"$f":"$BT$2*'Lookup Tables'!CF72","v":0},{"$f":"$BT$2*'Lookup Tables'!CG72","v":0},{"$f":"$BT$2*'Lookup Tables'!CH72","v":0},{"$f":"$BT$2*'Lookup Tables'!CI72","v":0},{"$f":"$BT$2*'Lookup Tables'!CJ72","v":0},{"$f":"$BT$2*'Lookup Tables'!CK72","v":0},{"$f":"$BT$2*'Lookup Tables'!CL72","v":0},null,null,69,0,0,0,0,0,0,0,0,0,0,0,0,0,0,0,null,{"$f":"CV72*Calculator!G$27/21","v":0}]
[null,70,{"$f":"$D$2*'Lookup Tables'!H73","v":0},{"$f":"$D$2*'Lookup Tables'!I73","v":0},{"$f":"$D$2*'Lookup Tables'!J73","v":0},{"$f":"$D$2*'Lookup Tables'!K73","v":0},{"$f":"$D$2*'Lookup Tables'!L73","v":0},{"$f":"$D$2*'Lookup Tables'!M73","v":0},{"$f":"$D$2*'Lookup Tables'!N73","v":0},{"$f":"$D$2*'Lookup Tables'!O73","v":0},{"$f":"$D$2*'Lookup Tables'!P73","v":0},{"$f":"$D$2*'Lookup Tables'!Q73","v":0},{"$f":"$D$2*'Lookup Tables'!R73","v":0},{"$f":"$D$2*'Lookup Tables'!S73","v":0},{"$f":"$D$2*'Lookup Tables'!T73","v":0},{"$f":"$D$2*'Lookup Tables'!U73","v":0},{"$f":"$D$2*'Lookup Tables'!V73","v":0},null,70,{"$f":"$U$2*'Lookup Tables'!Y73","v":0},{"$f":"$U$2*'Lookup Tables'!Z73","v":0},{"$f":"$U$2*'Lookup Tables'!AA73","v":0},{"$f":"$U$2*'Lookup Tables'!AB73","v":0},{"$f":"$U$2*'Lookup Tables'!AC73","v":0},{"$f":"$U$2*'Lookup Tables'!AD73","v":0},{"$f":"$U$2*'Lookup Tables'!AE73","v":0},{"$f":"$U$2*'Lookup Tables'!AF73","v":0},{"$f":"$U$2*'Lookup Tables'!AG73","v":0},{"$f":"$U$2*'Lookup Tables'!AH73","v":0},{"$f":"$U$2*'Lookup Tables'!AI73","v":0},{"$f":"$U$2*'Lookup Tables'!AJ73","v":0},{"$f":"$U$2*'Lookup Tables'!AK73","v":0},{"$f":"$U$2*'Lookup Tables'!AL73","v":0},{"$f":"$U$2*'Lookup Tables'!AM73","v":0},null,70,{"$f":"$AL$2*'Lookup Tables'!AP73","v":0},{"$f":"$AL$2*'Lookup Tables'!AQ73","v":0},{"$f":"$AL$2*'Lookup Tables'!AR73","v":0},{"$f":"$AL$2*'Lookup Tables'!AS73","v":0},{"$f":"$AL$2*'Lookup Tables'!AT73","v":0},{"$f":"$AL$2*'Lookup Tables'!AU73","v":0},{"$f":"$AL$2*'Lookup Tables'!AV73","v":0},{"$f":"$AL$2*'Lookup Tables'!AW73","v":0},{"$f":"$AL$2*'Lookup Tables'!AX73","v":0},{"$f":"$AL$2*'Lookup Tables'!AY73","v":0},{"$f":"$AL$2*'Lookup Tables'!AZ73","v":0},{"$f":"$AL$2*'Lookup Tables'!BA73","v":0},{"$f":"$AL$2*'Lookup Tables'!BB73","v":0},{"$f":"$AL$2*'Lookup Tables'!BC73","v":0},{"$f":"$AL$2*'Lookup Tables'!BD73","v":0},null,70,{"$f":"$BC$2*'Lookup Tables'!BG73","v":0},{"$f":"$BC$2*'Lookup Tables'!BH73","v":0},{"$f":"$BC$2*'Lookup Tables'!BI73","v":0},{"$f":"$BC$2*'Lookup Tables'!BJ73","v":0},{"$f":"$BC$2*'Lookup Tables'!BK73","v":0},{"$f":"$BC$2*'Lookup Tables'!BL73","v":0},{"$f":"$BC$2*'Lookup Tables'!BM73","v":0},{"$f":"$BC$2*'Lookup Tables'!BN73","v":0},{"$f":"$BC$2*'Lookup Tables'!BO73","v":0},{"$f":"$BC$2*'Lookup Tables'!BP73","v":0},{"$f":"$BC$2*'Lookup Tables'!BQ73","v":0},{"$f":"$BC$2*'Lookup Tables'!BR73","v":0},{"$f":"$BC$2*'Lookup Tables'!BS73","v":0},{"$f":"$BC$2*'Lookup Tables'!BT73","v":0},{"$f":"$BC$2*'Lookup Tables'!BU73","v":0},null,70,{"$f":"$BT$2*'Lookup Tables'!BX73","v":0},{"$f":"$BT$2*'Lookup Tables'!BY73","v":0},{"$f":"$BT$2*'Lookup Tables'!BZ73","v":0},{"$f":"$BT$2*'Lookup Tables'!CA73","v":0},{"$f":"$BT$2*'Lookup Tables'!CB73","v":0},{"$f":"$BT$2*'Lookup Tables'!CC73","v":0},{"$f":"$BT$2*'Lookup Tables'!CD73","v":0},{"$f":"$BT$2*'Lookup Tables'!CE73","v":0},{"$f":"$BT$2*'Lookup Tables'!CF73","v":0},{"$f":"$BT$2*'Lookup Tables'!CG73","v":0},{"$f":"$BT$2*'Lookup Tables'!CH73","v":0},{"$f":"$BT$2*'Lookup Tables'!CI73","v":0},{"$f":"$BT$2*'Lookup Tables'!CJ73","v":0},{"$f":"$BT$2*'Lookup Tables'!CK73","v":0},{"$f":"$BT$2*'Lookup Tables'!CL73","v":0},null,null,70,0,0,0,0,0,0,0,0,0,0,0,0,0,0,0,null,{"$f":"CV73*Calculator!G$27/21","v":0}]
[null,71,{"$f":"$D$2*'Lookup Tables'!H74","v":0},{"$f":"$D$2*'Lookup Tables'!I74","v":0},{"$f":"$D$2*'Lookup Tables'!J74","v":0},{"$f":"$D$2*'Lookup Tables'!K74","v":0},{"$f":"$D$2*'Lookup Tables'!L74","v":0},{"$f":"$D$2*'Lookup Tables'!M74","v":0},{"$f":"$D$2*'Lookup Tables'!N74","v":0},{"$f":"$D$2*'Lookup Tables'!O74","v":0},{"$f":"$D$2*'Lookup Tables'!P74","v":0},{"$f":"$D$2*'Lookup Tables'!Q74","v":0},{"$f":"$D$2*'Lookup Tables'!R74","v":0},{"$f":"$D$2*'Lookup Tables'!S74","v":0},{"$f":"$D$2*'Lookup Tables'!T74","v":0},{"$f":"$D$2*'Lookup Tables'!U74","v":0},{"$f":"$D$2*'Lookup Tables'!V74","v":0},null,71,{"$f":"$U$2*'Lookup Tables'!Y74","v":0},{"$f":"$U$2*'Lookup Tables'!Z74","v":0},{"$f":"$U$2*'Lookup Tables'!AA74","v":0},{"$f":"$U$2*'Lookup Tables'!AB74","v":0},{"$f":"$U$2*'Lookup Tables'!AC74","v":0},{"$f":"$U$2*'Lookup Tables'!AD74","v":0},{"$f":"$U$2*'Lookup Tables'!AE74","v":0},{"$f":"$U$2*'Lookup Tables'!AF74","v":0},{"$f":"$U$2*'Lookup Tables'!AG74","v":0},{"$f":"$U$2*'Lookup Tables'!AH74","v":0},{"$f":"$U$2*'Lookup Tables'!AI74","v":0},{"$f":"$U$2*'Lookup Tables'!AJ74","v":0},{"$f":"$U$2*'Lookup Tables'!AK74","v":0},{"$f":"$U$2*'Lookup Tables'!AL74","v":0},{"$f":"$U$2*'Lookup Tables'!AM74","v":0},null,71,{"$f":"$AL$2*'Lookup Tables'!AP74","v":0},{"$f":"$AL$2*'Lookup Tables'!AQ74","v":0},{"$f":"$AL$2*'Lookup Tables'!AR74","v":0},{"$f":"$AL$2*'Lookup Tables'!AS74","v":0},{"$f":"$AL$2*'Lookup Tables'!AT74","v":0},{"$f":"$AL$2*'Lookup Tables'!AU74","v":0},{"$f":"$AL$2*'Lookup Tables'!AV74","v":0},{"$f":"$AL$2*'Lookup Tables'!AW74","v":0},{"$f":"$AL$2*'Lookup Tables'!AX74","v":0},{"$f":"$AL$2*'Lookup Tables'!AY74","v":0},{"$f":"$AL$2*'Lookup Tables'!AZ74","v":0},{"$f":"$AL$2*'Lookup Tables'!BA74","v":0},{"$f":"$AL$2*'Lookup Tables'!BB74","v":0},{"$f":"$AL$2*'Lookup Tables'!BC74","v":0},{"$f":"$AL$2*'Lookup Tables'!BD74","v":0},null,71,{"$f":"$BC$2*'Lookup Tables'!BG74","v":0},{"$f":"$BC$2*'Lookup Tables'!BH74","v":0},{"$f":"$BC$2*'Lookup Tables'!BI74","v":0},{"$f":"$BC$2*'Lookup Tables'!BJ74","v":0},{"$f":"$BC$2*'Lookup Tables'!BK74","v":0},{"$f":"$BC$2*'Lookup Tables'!BL74","v":0},{"$f":"$BC$2*'Lookup Tables'!BM74","v":0},{"$f":"$BC$2*'Lookup Tables'!BN74","v":0},{"$f":"$BC$2*'Lookup Tables'!BO74","v":0},{"$f":"$BC$2*'Lookup Tables'!BP74","v":0},{"$f":"$BC$2*'Lookup Tables'!BQ74","v":0},{"$f":"$BC$2*'Lookup Tables'!BR74","v":0},{"$f":"$BC$2*'Lookup Tables'!BS74","v":0},{"$f":"$BC$2*'Lookup Tables'!BT74","v":0},{"$f":"$BC$2*'Lookup Tables'!BU74","v":0},null,71,{"$f":"$BT$2*'Lookup Tables'!BX74","v":0},{"$f":"$BT$2*'Lookup Tables'!BY74","v":0},{"$f":"$BT$2*'Lookup Tables'!BZ74","v":0},{"$f":"$BT$2*'Lookup Tables'!CA74","v":0},{"$f":"$BT$2*'Lookup Tables'!CB74","v":0},{"$f":"$BT$2*'Lookup Tables'!CC74","v":0},{"$f":"$BT$2*'Lookup Tables'!CD74","v":0},{"$f":"$BT$2*'Lookup Tables'!CE74","v":0},{"$f":"$BT$2*'Lookup Tables'!CF74","v":0},{"$f":"$BT$2*'Lookup Tables'!CG74","v":0},{"$f":"$BT$2*'Lookup Tables'!CH74","v":0},{"$f":"$BT$2*'Lookup Tables'!CI74","v":0},{"$f":"$BT$2*'Lookup Tables'!CJ74","v":0},{"$f":"$BT$2*'Lookup Tables'!CK74","v":0},{"$f":"$BT$2*'Lookup Tables'!CL74","v":0},null,null,71,0,0,0,0,0,0,0,0,0,0,0,0,0,0,0,null,{"$f":"CV74*Calculator!G$27/21","v":0}]
[null,72,{"$f":"$D$2*'Lookup Tables'!H75","v":0},{"$f":"$D$2*'Lookup Tables'!I75","v":0},{"$f":"$D$2*'Lookup Tables'!J75","v":0},{"$f":"$D$2*'Lookup Tables'!K75","v":0},{"$f":"$D$2*'Lookup Tables'!L75","v":0},{"$f":"$D$2*'Lookup Tables'!M75","v":0},{"$f":"$D$2*'Lookup Tables'!N75","v":0},{"$f":"$D$2*'Lookup Tables'!O75","v":0},{"$f":"$D$2*'Lookup Tables'!P75","v":0},{"$f":"$D$2*'Lookup Tables'!Q75","v":0},{"$f":"$D$2*'Lookup Tables'!R75","v":0},{"$f":"$D$2*'Lookup Tables'!S75","v":0},{"$f":"$D$2*'Lookup Tables'!T75","v":0},{"$f":"$D$2*'Lookup Tables'!U75","v":0},{"$f":"$D$2*'Lookup Tables'!V75","v":0},null,72,{"$f":"$U$2*'Lookup Tables'!Y75","v":0},{"$f":"$U$2*'Lookup Tables'!Z75","v":0},{"$f":"$U$2*'Lookup Tables'!AA75","v":0},{"$f":"$U$2*'Lookup Tables'!AB75","v":0},{"$f":"$U$2*'Lookup Tables'!AC75","v":0},{"$f":"$U$2*'Lookup Tables'!AD75","v":0},{"$f":"$U$2*'Lookup Tables'!AE75","v":0},{"$f":"$U$2*'Lookup Tables'!AF75","v":0},{"$f":"$U$2*'Lookup Tables'!AG75","v":0},{"$f":"$U$2*'Lookup Tables'!AH75","v":0},{"$f":"$U$2*'Lookup Tables'!AI75","v":0},{"$f":"$U$2*'Lookup Tables'!AJ75","v":0},{"$f":"$U$2*'Lookup Tables'!AK75","v":0},{"$f":"$U$2*'Lookup Tables'!AL75","v":0},{"$f":"$U$2*'Lookup Tables'!AM75","v":0},null,72,{"$f":"$AL$2*'Lookup Tables'!AP75","v":0},{"$f":"$AL$2*'Lookup Tables'!AQ75","v":0},{"$f":"$AL$2*'Lookup Tables'!AR75","v":0},{"$f":"$AL$2*'Lookup Tables'!AS75","v":0},{"$f":"$AL$2*'Lookup Tables'!AT75","v":0},{"$f":"$AL$2*'Lookup Tables'!AU75","v":0},{"$f":"$AL$2*'Lookup Tables'!AV75","v":0},{"$f":"$AL$2*'Lookup Tables'!AW75","v":0},{"$f":"$AL$2*'Lookup Tables'!AX75","v":0},{"$f":"$AL$2*'Lookup Tables'!AY75","v":0},{"$f":"$AL$2*'Lookup Tables'!AZ75","v":0},{"$f":"$AL$2*'Lookup Tables'!BA75","v":0},{"$f":"$AL$2*'Lookup Tables'!BB75","v":0},{"$f":"$AL$2*'Lookup Tables'!BC75","v":0},{"$f":"$AL$2*'Lookup Tables'!BD75","v":0},null,72,{"$f":"$BC$2*'Lookup Tables'!BG75","v":0},{"$f":"$BC$2*'Lookup Tables'!BH75","v":0},{"$f":"$BC$2*'Lookup Tables'!BI75","v":0},{"$f":"$BC$2*'Lookup Tables'!BJ75","v":0},{"$f":"$BC$2*'Lookup Tables'!BK75","v":0},{"$f":"$BC$2*'Lookup Tables'!BL75","v":0},{"$f":"$BC$2*'Lookup Tables'!BM75","v":0},{"$f":"$BC$2*'Lookup Tables'!BN75","v":0},{"$f":"$BC$2*'Lookup Tables'!BO75","v":0},{"$f":"$BC$2*'Lookup Tables'!BP75","v":0},{"$f":"$BC$2*'Lookup Tables'!BQ75","v":0},{"$f":"$BC$2*'Lookup Tables'!BR75","v":0},{"$f":"$BC$2*'Lookup Tables'!BS75","v":0},{"$f":"$BC$2*'Lookup Tables'!BT75","v":0},{"$f":"$BC$2*'Lookup Tables'!BU75","v":0},null,72,{"$f":"$BT$2*'Lookup Tables'!BX75","v":0},{"$f":"$BT$2*'Lookup Tables'!BY75","v":0},{"$f":"$BT$2*'Lookup Tables'!BZ75","v":0},{"$f":"$BT$2*'Lookup Tables'!CA75","v":0},{"$f":"$BT$2*'Lookup Tables'!CB75","v":0},{"$f":"$BT$2*'Lookup Tables'!CC75","v":0},{"$f":"$BT$2*'Lookup Tables'!CD75","v":0},{"$f":"$BT$2*'Lookup Tables'!CE75","v":0},{"$f":"$BT$2*'Lookup Tables'!CF75","v":0},{"$f":"$BT$2*'Lookup Tables'!CG75","v":0},{"$f":"$BT$2*'Lookup Tables'!CH75","v":0},{"$f":"$BT$2*'Lookup Tables'!CI75","v":0},{"$f":"$BT$2*'Lookup Tables'!CJ75","v":0},{"$f":"$BT$2*'Lookup Tables'!CK75","v":0},{"$f":"$BT$2*'Lookup Tables'!CL75","v":0},null,null,72,0,0,0,0,0,0,0,0,0,0,0,0,0,0,0,null,{"$f":"CV75*Calculator!G$27/21","v":0}]
[null,73,{"$f":"$D$2*'Lookup Tables'!H76","v":0},{"$f":"$D$2*'Lookup Tables'!I76","v":0},{"$f":"$D$2*'Lookup Tables'!J76","v":0},{"$f":"$D$2*'Lookup Tables'!K76","v":0},{"$f":"$D$2*'Lookup Tables'!L76","v":0},{"$f":"$D$2*'Lookup Tables'!M76","v":0},{"$f":"$D$2*'Lookup Tables'!N76","v":0},{"$f":"$D$2*'Lookup Tables'!O76","v":0},{"$f":"$D$2*'Lookup Tables'!P76","v":0},{"$f":"$D$2*'Lookup Tables'!Q76","v":0},{"$f":"$D$2*'Lookup Tables'!R76","v":0},{"$f":"$D$2*'Lookup Tables'!S76","v":0},{"$f":"$D$2*'Lookup Tables'!T76","v":0},{"$f":"$D$2*'Lookup Tables'!U76","v":0},{"$f":"$D$2*'Lookup Tables'!V76","v":0},null,73,{"$f":"$U$2*'Lookup Tables'!Y76","v":0},{"$f":"$U$2*'Lookup Tables'!Z76","v":0},{"$f":"$U$2*'Lookup Tables'!AA76","v":0},{"$f":"$U$2*'Lookup Tables'!AB76","v":0},{"$f":"$U$2*'Lookup Tables'!AC76","v":0},{"$f":"$U$2*'Lookup Tables'!AD76","v":0},{"$f":"$U$2*'Lookup Tables'!AE76","v":0},{"$f":"$U$2*'Lookup Tables'!AF76","v":0},{"$f":"$U$2*'Lookup Tables'!AG76","v":0},{"$f":"$U$2*'Lookup Tables'!AH76","v":0},{"$f":"$U$2*'Lookup Tables'!AI76","v":0},{"$f":"$U$2*'Lookup Tables'!AJ76","v":0},{"$f":"$U$2*'Lookup Tables'!AK76","v":0},{"$f":"$U$2*'Lookup Tables'!AL76","v":0},{"$f":"$U$2*'Lookup Tables'!AM76","v":0},null,73,{"$f":"$AL$2*'Lookup Tables'!AP76","v":0},{"$f":"$AL$2*'Lookup Tables'!AQ76","v":0},{"$f":"$AL$2*'Lookup Tables'!AR76","v":0},{"$f":"$AL$2*'Lookup Tables'!AS76","v":0},{"$f":"$AL$2*'Lookup Tables'!AT76","v":0},{"$f":"$AL$2*'Lookup Tables'!AU76","v":0},{"$f":"$AL$2*'Lookup Tables'!AV76","v":0},{"$f":"$AL$2*'Lookup Tables'!AW76","v":0},{"$f":"$AL$2*'Lookup Tables'!AX76","v":0},{"$f":"$AL$2*'Lookup Tables'!AY76","v":0},{"$f":"$AL$2*'Lookup Tables'!AZ76","v":0},{"$f":"$AL$2*'Lookup Tables'!BA76","v":0},{"$f":"$AL$2*'Lookup Tables'!BB76","v":0},{"$f":"$AL$2*'Lookup Tables'!BC76","v":0},{"$f":"$AL$2*'Lookup Tables'!BD76","v":0},null,73,{"$f":"$BC$2*'Lookup Tables'!BG76","v":0},{"$f":"$BC$2*'Lookup Tables'!BH76","v":0},{"$f":"$BC$2*'Lookup Tables'!BI76","v":0},{"$f":"$BC$2*'Lookup Tables'!BJ76","v":0},{"$f":"$BC$2*'Lookup Tables'!BK76","v":0},{"$f":"$BC$2*'Lookup Tables'!BL76","v":0},{"$f":"$BC$2*'Lookup Tables'!BM76","v":0},{"$f":"$BC$2*'Lookup Tables'!BN76","v":0},{"$f":"$BC$2*'Lookup Tables'!BO76","v":0},{"$f":"$BC$2*'Lookup Tables'!BP76","v":0},{"$f":"$BC$2*'Lookup Tables'!BQ76","v":0},{"$f":"$BC$2*'Lookup Tables'!BR76","v":0},{"$f":"$BC$2*'Lookup Tables'!BS76","v":0},{"$f":"$BC$2*'Lookup Tables'!BT76","v":0},{"$f":"$BC$2*'Lookup Tables'!BU76","v":0},null,73,{"$f":"$BT$2*'Lookup Tables'!BX76","v":0},{"$f":"$BT$2*'Lookup Tables'!BY76","v":0},{"$f":"$BT$2*'Lookup Tables'!BZ76","v":0},{"$f":"$BT$2*'Lookup Tables'!CA76","v":0},{"$f":"$BT$2*'Lookup Tables'!CB76","v":0},{"$f":"$BT$2*'Lookup Tables'!CC76","v":0},{"$f":"$BT$2*'Lookup Tables'!CD76","v":0},{"$f":"$BT$2*'Lookup Tables'!CE76","v":0},{"$f":"$BT$2*'Lookup Tables'!CF76","v":0},{"$f":"$BT$2*'Lookup Tables'!CG76","v":0},{"$f":"$BT$2*'Lookup Tables'!CH76","v":0},{"$f":"$BT$2*'Lookup Tables'!CI76","v":0},{"$f":"$BT$2*'Lookup Tables'!CJ76","v":0},{"$f":"$BT$2*'Lookup Tables'!CK76","v":0},{"$f":"$BT$2*'Lookup Tables'!CL76","v":0},null,null,73,0,0,0,0,0,0,0,0,0,0,0,0,0,0,0,null,{"$f":"CV76*Calculator!G$27/21","v":0}]
[null,74,{"$f":"$D$2*'Lookup Tables'!H77","v":0},{"$f":"$D$2*'Lookup Tables'!I77","v":0},{"$f":"$D$2*'Lookup Tables'!J77","v":0},{"$f":"$D$2*'Lookup Tables'!K77","v":0},{"$f":"$D$2*'Lookup Tables'!L77","v":0},{"$f":"$D$2*'Lookup Tables'!M77","v":0},{"$f":"$D$2*'Lookup Tables'!N77","v":0},{"$f":"$D$2*'Lookup Tables'!O77","v":0},{"$f":"$D$2*'Lookup Tables'!P77","v":0},{"$f":"$D$2*'Lookup Tables'!Q77","v":0},{"$f":"$D$2*'Lookup Tables'!R77","v":0},{"$f":"$D$2*'Lookup Tables'!S77","v":0},{"$f":"$D$2*'Lookup Tables'!T77","v":0},{"$f":"$D$2*'Lookup Tables'!U77","v":0},{"$f":"$D$2*'Lookup Tables'!V77","v":0},null,74,{"$f":"$U$2*'Lookup Tables'!Y77","v":0},{"$f":"$U$2*'Lookup Tables'!Z77","v":0},{"$f":"$U$2*'Lookup Tables'!AA77","v":0},{"$f":"$U$2*'Lookup Tables'!AB77","v":0},{"$f":"$U$2*'Lookup Tables'!AC77","v":0},{"$f":"$U$2*'Lookup Tables'!AD77","v":0},{"$f":"$U$2*'Lookup Tables'!AE77","v":0},{"$f":"$U$2*'Lookup Tables'!AF77","v":0},{"$f":"$U$2*'Lookup Tables'!AG77","v":0},{"$f":"$U$2*'Lookup Tables'!AH77","v":0},{"$f":"$U$2*'Lookup Tables'!AI77","v":0},{"$f":"$U$2*'Lookup Tables'!AJ77","v":0},{"$f":"$U$2*'Lookup Tables'!AK77","v":0},{"$f":"$U$2*'Lookup Tables'!AL77","v":0},{"$f":"$U$2*'Lookup Tables'!AM77","v":0},null,74,{"$f":"$AL$2*'Lookup Tables'!AP77","v":0},{"$f":"$AL$2*'Lookup Tables'!AQ77","v":0},{"$f":"$AL$2*'Lookup Tables'!AR77","v":0},{"$f":"$AL$2*'Lookup Tables'!AS77","v":0},{"$f":"$AL$2*'Lookup Tables'!AT77","v":0},{"$f":"$AL$2*'Lookup Tables'!AU77","v":0},{"$f":"$AL$2*'Lookup Tables'!AV77","v":0},{"$f":"$AL$2*'Lookup Tables'!AW77","v":0},{"$f":"$AL$2*'Lookup Tables'!AX77","v":0},{"$f":"$AL$2*'Lookup Tables'!AY77","v":0},{"$f":"$AL$2*'Lookup Tables'!AZ77","v":0},{"$f":"$AL$2*'Lookup Tables'!BA77","v":0},{"$f":"$AL$2*'Lookup Tables'!BB77","v":0},{"$f":"$AL$2*'Lookup Tables'!BC77","v":0},{"$f":"$AL$2*'Lookup Tables'!BD77","v":0},null,74,{"$f":"$BC$2*'Lookup Tables'!BG77","v":0},{"$f":"$BC$2*'Lookup Tables'!BH77","v":0},{"$f":"$BC$2*'Lookup Tables'!BI77","v":0},{"$f":"$BC$2*'Lookup Tables'!BJ77","v":0},{"$f":"$BC$2*'Lookup Tables'!BK77","v":0},{"$f":"$BC$2*'Lookup Tables'!BL77","v":0},{"$f":"$BC$2*'Lookup Tables'!BM77","v":0},{"$f":"$BC$2*'Lookup Tables'!BN77","v":0},{"$f":"$BC$2*'Lookup Tables'!BO77","v":0},{"$f":"$BC$2*'Lookup Tables'!BP77","v":0},{"$f":"$BC$2*'Lookup Tables'!BQ77","v":0},{"$f":"$BC$2*'Lookup Tables'!BR77","v":0},{"$f":"$BC$2*'Lookup Tables'!BS77","v":0},{"$f":"$BC$2*'Lookup Tables'!BT77","v":0},{"$f":"$BC$2*'Lookup Tables'!BU77","v":0},null,74,{"$f":"$BT$2*'Lookup Tables'!BX77","v":0},{"$f":"$BT$2*'Lookup Tables'!BY77","v":0},{"$f":"$BT$2*'Lookup Tables'!BZ77","v":0},{"$f":"$BT$2*'Lookup Tables'!CA77","v":0},{"$f":"$BT$2*'Lookup Tables'!CB77","v":0},{"$f":"$BT$2*'Lookup Tables'!CC77","v":0},{"$f":"$BT$2*'Lookup Tables'!CD77","v":0},{"$f":"$BT$2*'Lookup Tables'!CE77","v":0},{"$f":"$BT$2*'Lookup Tables'!CF77","v":0},{"$f":"$BT$2*'Lookup Tables'!CG77","v":0},{"$f":"$BT$2*'Lookup Tables'!CH77","v":0},{"$f":"$BT$2*'Lookup Tables'!CI77","v":0},{"$f":"$BT$2*'Lookup Tables'!CJ77","v":0},{"$f":"$BT$2*'Lookup Tables'!CK77","v":0},{"$f":"$BT$2*'Lookup Tables'!CL77","v":0},null,null,74,0,0,0,0,0,0,0,0,0,0,0,0,0,0,0,null,{"$f":"CV77*Calculator!G$27/21","v":0}]
[null,75,{"$f":"$D$2*'Lookup Tables'!H78","v":0},{"$f":"$D$2*'Lookup Tables'!I78","v":0},{"$f":"$D$2*'Lookup Tables'!J78","v":0},{"$f":"$D$2*'Lookup Tables'!K78","v":0},{"$f":"$D$2*'Lookup Tables'!L78","v":0},{"$f":"$D$2*'Lookup Tables'!M78","v":0},{"$f":"$D$2*'Lookup Tables'!N78","v":0},{"$f":"$D$2*'Lookup Tables'!O78","v":0},{"$f":"$D$2*'Lookup Tables'!P78","v":0},{"$f":"$D$2*'Lookup Tables'!Q78","v":0},{"$f":"$D$2*'Lookup Tables'!R78","v":0},{"$f":"$D$2*'Lookup Tables'!S78","v":0},{"$f":"$D$2*'Lookup Tables'!T78","v":0},{"$f":"$D$2*'Lookup Tables'!U78","v":0},{"$f":"$D$2*'Lookup Tables'!V78","v":0},null,75,{"$f":"$U$2*'Lookup Tables'!Y78","v":0},{"$f":"$U$2*'Lookup Tables'!Z78","v":0},{"$f":"$U$2*'Lookup Tables'!AA78","v":0},{"$f":"$U$2*'Lookup Tables'!AB78","v":0},{"$f":"$U$2*'Lookup Tables'!AC78","v":0},{"$f":"$U$2*'Lookup Tables'!AD78","v":0},{"$f":"$U$2*'Lookup Tables'!AE78","v":0},{"$f":"$U$2*'Lookup Tables'!AF78","v":0},{"$f":"$U$2*'Lookup Tables'!AG78","v":0},{"$f":"$U$2*'Lookup Tables'!AH78","v":0},{"$f":"$U$2*'Lookup Tables'!AI78","v":0},{"$f":"$U$2*'Lookup Tables'!AJ78","v":0},{"$f":"$U$2*'Lookup Tables'!AK78","v":0},{"$f":"$U$2*'Lookup Tables'!AL78","v":0},{"$f":"$U$2*'Lookup Tables'!AM78","v":0},null,75,{"$f":"$AL$2*'Lookup Tables'!AP78","v":0},{"$f":"$AL$2*'Lookup Tables'!AQ78","v":0},{"$f":"$AL$2*'Lookup Tables'!AR78","v":0},{"$f":"$AL$2*'Lookup Tables'!AS78","v":0},{"$f":"$AL$2*'Lookup Tables'!AT78","v":0},{"$f":"$AL$2*'Lookup Tables'!AU78","v":0},{"$f":"$AL$2*'Lookup Tables'!AV78","v":0},{"$f":"$AL$2*'Lookup Tables'!AW78","v":0},{"$f":"$AL$2*'Lookup Tables'!AX78","v":0},{"$f":"$AL$2*'Lookup Tables'!AY78","v":0},{"$f":"$AL$2*'Lookup Tables'!AZ78","v":0},{"$f":"$AL$2*'Lookup Tables'!BA78","v":0},{"$f":"$AL$2*'Lookup Tables'!BB78","v":0},{"$f":"$AL$2*'Lookup Tables'!BC78","v":0},{"$f":"$AL$2*'Lookup Tables'!BD78","v":0},null,75,{"$f":"$BC$2*'Lookup Tables'!BG78","v":0},{"$f":"$BC$2*'Lookup Tables'!BH78","v":0},{"$f":"$BC$2*'Lookup Tables'!BI78","v":0},{"$f":"$BC$2*'Lookup Tables'!BJ78","v":0},{"$f":"$BC$2*'Lookup Tables'!BK78","v":0},{"$f":"$BC$2*'Lookup Tables'!BL78","v":0},{"$f":"$BC$2*'Lookup Tables'!BM78","v":0},{"$f":"$BC$2*'Lookup Tables'!BN78","v":0},{"$f":"$BC$2*'Lookup Tables'!BO78","v":0},{"$f":"$BC$2*'Lookup Tables'!BP78","v":0},{"$f":"$BC$2*'Lookup Tables'!BQ78","v":0},{"$f":"$BC$2*'Lookup Tables'!BR78","v":0},{"$f":"$BC$2*'Lookup Tables'!BS78","v":0},{"$f":"$BC$2*'Lookup Tables'!BT78","v":0},{"$f":"$BC$2*'Lookup Tables'!BU78","v":0},null,75,{"$f":"$BT$2*'Lookup Tables'!BX78","v":0},{"$f":"$BT$2*'Lookup Tables'!BY78","v":0},{"$f":"$BT$2*'Lookup Tables'!BZ78","v":0},{"$f":"$BT$2*'Lookup Tables'!CA78","v":0},{"$f":"$BT$2*'Lookup Tables'!CB78","v":0},{"$f":"$BT$2*'Lookup Tables'!CC78","v":0},{"$f":"$BT$2*'Lookup Tables'!CD78","v":0},{"$f":"$BT$2*'Lookup Tables'!CE78","v":0},{"$f":"$BT$2*'Lookup Tables'!CF78","v":0},{"$f":"$BT$2*'Lookup Tables'!CG78","v":0},{"$f":"$BT$2*'Lookup Tables'!CH78","v":0},{"$f":"$BT$2*'Lookup Tables'!CI78","v":0},{"$f":"$BT$2*'Lookup Tables'!CJ78","v":0},{"$f":"$BT$2*'Lookup Tables'!CK78","v":0},{"$f":"$BT$2*'Lookup Tables'!CL78","v":0},null,null,75,0,0,0,0,0,0,0,0,0,0,0,0,0,0,0,null,{"$f":"CV78*Calculator!G$27/21","v":0}]
[null,76,{"$f":"$D$2*'Lookup Tables'!H79","v":0},{"$f":"$D$2*'Lookup Tables'!I79","v":0},{"$f":"$D$2*'Lookup Tables'!J79","v":0},{"$f":"$D$2*'Lookup Tables'!K79","v":0},{"$f":"$D$2*'Lookup Tables'!L79","v":0},{"$f":"$D$2*'Lookup Tables'!M79","v":0},{"$f":"$D$2*'Lookup Tables'!N79","v":0},{"$f":"$D$2*'Lookup Tables'!O79","v":0},{"$f":"$D$2*'Lookup Tables'!P79","v":0},{"$f":"$D$2*'Lookup Tables'!Q79","v":0},{"$f":"$D$2*'Lookup Tables'!R79","v":0},{"$f":"$D$2*'Lookup Tables'!S79","v":0},{"$f":"$D$2*'Lookup Tables'!T79","v":0},{"$f":"$D$2*'Lookup Tables'!U79","v":0},{"$f":"$D$2*'Lookup Tables'!V79","v":0},null,76,{"$f":"$U$2*'Lookup Tables'!Y79","v":0},{"$f":"$U$2*'Lookup Tables'!Z79","v":0},{"$f":"$U$2*'Lookup Tables'!AA79","v":0},{"$f":"$U$2*'Lookup Tables'!AB79","v":0},{"$f":"$U$2*'Lookup Tables'!AC79","v":0},{"$f":"$U$2*'Lookup Tables'!AD79","v":0},{"$f":"$U$2*'Lookup Tables'!AE79","v":0},{"$f":"$U$2*'Lookup Tables'!AF79","v":0},{"$f":"$U$2*'Lookup Tables'!AG79","v":0},{"$f":"$U$2*'Lookup Tables'!AH79","v":0},{"$f":"$U$2*'Lookup Tables'!AI79","v":0},{"$f":"$U$2*'Lookup Tables'!AJ79","v":0},{"$f":"$U$2*'Lookup Tables'!AK79","v":0},{"$f":"$U$2*'Lookup Tables'!AL79","v":0},{"$f":"$U$2*'Lookup Tables'!AM79","v":0},null,76,{"$f":"$AL$2*'Lookup Tables'!AP79","v":0},{"$f":"$AL$2*'Lookup Tables'!AQ79","v":0},{"$f":"$AL$2*'Lookup Tables'!AR79","v":0},{"$f":"$AL$2*'Lookup Tables'!AS79","v":0},{"$f":"$AL$2*'Lookup Tables'!AT79","v":0},{"$f":"$AL$2*'Lookup Tables'!AU79","v":0},{"$f":"$AL$2*'Lookup Tables'!AV79","v":0},{"$f":"$AL$2*'Lookup Tables'!AW79","v":0},{"$f":"$AL$2*'Lookup Tables'!AX79","v":0},{"$f":"$AL$2*'Lookup Tables'!AY79","v":0},{"$f":"$AL$2*'Lookup Tables'!AZ79","v":0},{"$f":"$AL$2*'Lookup Tables'!BA79","v":0},{"$f":"$AL$2*'Lookup Tables'!BB79","v":0},{"$f":"$AL$2*'Lookup Tables'!BC79","v":0},{"$f":"$AL$2*'Lookup Tables'!BD79","v":0},null,76,{"$f":"$BC$2*'Lookup Tables'!BG79","v":0},{"$f":"$BC$2*'Lookup Tables'!BH79","v":0},{"$f":"$BC$2*'Lookup Tables'!BI79","v":0},{"$f":"$BC$2*'Lookup Tables'!BJ79","v":0},{"$f":"$BC$2*'Lookup Tables'!BK79","v":0},{"$f":"$BC$2*'Lookup Tables'!BL79","v":0},{"$f":"$BC$2*'Lookup Tables'!BM79","v":0},{"$f":"$BC$2*'Lookup Tables'!BN79","v":0},{"$f":"$BC$2*'Lookup Tables'!BO79","v":0},{"$f":"$BC$2*'Lookup Tables'!BP79","v":0},{"$f":"$BC$2*'Lookup Tables'!BQ79","v":0},{"$f":"$BC$2*'Lookup Tables'!BR79","v":0},{"$f":"$BC$2*'Lookup Tables'!BS79","v":0},{"$f":"$BC$2*'Lookup Tables'!BT79","v":0},{"$f":"$BC$2*'Lookup Tables'!BU79","v":0},null,76,{"$f":"$BT$2*'Lookup Tables'!BX79","v":0},{"$f":"$BT$2*'Lookup Tables'!BY79","v":0},{"$f":"$BT$2*'Lookup Tables'!BZ79","v":0},{"$f":"$BT$2*'Lookup Tables'!CA79","v":0},{"$f":"$BT$2*'Lookup Tables'!CB79","v":0},{"$f":"$BT$2*'Lookup Tables'!CC79","v":0},{"$f":"$BT$2*'Lookup Tables'!CD79","v":0},{"$f":"$BT$2*'Lookup Tables'!CE79","v":0},{"$f":"$BT$2*'Lookup Tables'!CF79","v":0},{"$f":"$BT$2*'Lookup Tables'!CG79","v":0},{"$f":"$BT$2*'Lookup Tables'!CH79","v":0},{"$f":"$BT$2*'Lookup Tables'!CI79","v":0},{"$f":"$BT$2*'Lookup Tables'!CJ79","v":0},{"$f":"$BT$2*'Lookup Tables'!CK79","v":0},{"$f":"$BT$2*'Lookup Tables'!CL79","v":0},null,null,76,0,0,0,0,0,0,0,0,0,0,0,0,0,0,0,null,{"$f":"CV79*Calculator!G$27/21","v":0}]
[null,77,{"$f":"$D$2*'Lookup Tables'!H80","v":0},{"$f":"$D$2*'Lookup Tables'!I80","v":0},{"$f":"$D$2*'Lookup Tables'!J80","v":0},{"$f":"$D$2*'Lookup Tables'!K80","v":0},{"$f":"$D$2*'Lookup Tables'!L80","v":0},{"$f":"$D$2*'Lookup Tables'!M80","v":0},{"$f":"$D$2*'Lookup Tables'!N80","v":0},{"$f":"$D$2*'Lookup Tables'!O80","v":0},{"$f":"$D$2*'Lookup Tables'!P80","v":0},{"$f":"$D$2*'Lookup Tables'!Q80","v":0},{"$f":"$D$2*'Lookup Tables'!R80","v":0},{"$f":"$D$2*'Lookup Tables'!S80","v":0},{"$f":"$D$2*'Lookup Tables'!T80","v":0},{"$f":"$D$2*'Lookup Tables'!U80","v":0},{"$f":"$D$2*'Lookup Tables'!V80","v":0},null,77,{"$f":"$U$2*'Lookup Tables'!Y80","v":0},{"$f":"$U$2*'Lookup Tables'!Z80","v":0},{"$f":"$U$2*'Lookup Tables'!AA80","v":0},{"$f":"$U$2*'Lookup Tables'!AB80","v":0},{"$f":"$U$2*'Lookup Tables'!AC80","v":0},{"$f":"$U$2*'Lookup Tables'!AD80","v":0},{"$f":"$U$2*'Lookup Tables'!AE80","v":0},{"$f":"$U$2*'Lookup Tables'!AF80","v":0},{"$f":"$U$2*'Lookup Tables'!AG80","v":0},{"$f":"$U$2*'Lookup Tables'!AH80","v":0},{"$f":"$U$2*'Lookup Tables'!AI80","v":0},{"$f":"$U$2*'Lookup Tables'!AJ80","v":0},{"$f":"$U$2*'Lookup Tables'!AK80","v":0},{"$f":"$U$2*'Lookup Tables'!AL80","v":0},{"$f":"$U$2*'Lookup Tables'!AM80","v":0},null,77,{"$f":"$AL$2*'Lookup Tables'!AP80","v":0},{"$f":"$AL$2*'Lookup Tables'!AQ80","v":0},{"$f":"$AL$2*'Lookup Tables'!AR80","v":0},{"$f":"$AL$2*'Lookup Tables'!AS80","v":0},{"$f":"$AL$2*'Lookup Tables'!AT80","v":0},{"$f":"$AL$2*'Lookup Tables'!AU80","v":0},{"$f":"$AL$2*'Lookup Tables'!AV80","v":0},{"$f":"$AL$2*'Lookup Tables'!AW80","v":0},{"$f":"$AL$2*'Lookup Tables'!AX80","v":0},{"$f":"$AL$2*'Lookup Tables'!AY80","v":0},{"$f":"$AL$2*'Lookup Tables'!AZ80","v":0},{"$f":"$AL$2*'Lookup Tables'!BA80","v":0},{"$f":"$AL$2*'Lookup Tables'!BB80","v":0},{"$f":"$AL$2*'Lookup Tables'!BC80","v":0},{"$f":"$AL$2*'Lookup Tables'!BD80","v":0},null,77,{"$f":"$BC$2*'Lookup Tables'!BG80","v":0},{"$f":"$BC$2*'Lookup Tables'!BH80","v":0},{"$f":"$BC$2*'Lookup Tables'!BI80","v":0},{"$f":"$BC$2*'Lookup Tables'!BJ80","v":0},{"$f":"$BC$2*'Lookup Tables'!BK80","v":0},{"$f":"$BC$2*'Lookup Tables'!BL80","v":0},{"$f":"$BC$2*'Lookup Tables'!BM80","v":0},{"$f":"$BC$2*'Lookup Tables'!BN80","v":0},{"$f":"$BC$2*'Lookup Tables'!BO80","v":0},{"$f":"$BC$2*'Lookup Tables'!BP80","v":0},{"$f":"$BC$2*'Lookup Tables'!BQ80","v":0},{"$f":"$BC$2*'Lookup Tables'!BR80","v":0},{"$f":"$BC$2*'Lookup Tables'!BS80","v":0},{"$f":"$BC$2*'Lookup Tables'!BT80","v":0},{"$f":"$BC$2*'Lookup Tables'!BU80","v":0},null,77,{"$f":"$BT$2*'Lookup Tables'!BX80","v":0},{"$f":"$BT$2*'Lookup Tables'!BY80","v":0},{"$f":"$BT$2*'Lookup Tables'!BZ80","v":0},{"$f":"$BT$2*'Lookup Tables'!CA80","v":0},{"$f":"$BT$2*'Lookup Tables'!CB80","v":0},{"$f":"$BT$2*'Lookup Tables'!CC80","v":0},{"$f":"$BT$2*'Lookup Tables'!CD80","v":0},{"$f":"$BT$2*'Lookup Tables'!CE80","v":0},{"$f":"$BT$2*'Lookup Tables'!CF80","v":0},{"$f":"$BT$2*'Lookup Tables'!CG80","v":0},{"$f":"$BT$2*'Lookup Tables'!CH80","v":0},{"$f":"$BT$2*'Lookup Tables'!CI80","v":0},{"$f":"$BT$2*'Lookup Tables'!CJ80","v":0},{"$f":"$BT$2*'Lookup Tables'!CK80","v":0},{"$f":"$BT$2*'Lookup Tables'!CL80","v":0},null,null,77,0,0,0,0,0,0,0,0,0,0,0,0,0,0,0,null,{"$f":"CV80*Calculator!G$27/21","v":0}]
[null,78,{"$f":"$D$2*'Lookup Tables'!H81","v":0},{"$f":"$D$2*'Lookup Tables'!I81","v":0},{"$f":"$D$2*'Lookup Tables'!J81","v":0},{"$f":"$D$2*'Lookup Tables'!K81","v":0},{"$f":"$D$2*'Lookup Tables'!L81","v":0},{"$f":"$D$2*'Lookup Tables'!M81","v":0},{"$f":"$D$2*'Lookup Tables'!N81","v":0},{"$f":"$D$2*'Lookup Tables'!O81","v":0},{"$f":"$D$2*'Lookup Tables'!P81","v":0},{"$f":"$D$2*'Lookup Tables'!Q81","v":0},{"$f":"$D$2*'Lookup Tables'!R81","v":0},{"$f":"$D$2*'Lookup Tables'!S81","v":0},{"$f":"$D$2*'Lookup Tables'!T81","v":0},{"$f":"$D$2*'Lookup Tables'!U81","v":0},{"$f":"$D$2*'Lookup Tables'!V81","v":0},null,78,{"$f":"$U$2*'Lookup Tables'!Y81","v":0},{"$f":"$U$2*'Lookup Tables'!Z81","v":0},{"$f":"$U$2*'Lookup Tables'!AA81","v":0},{"$f":"$U$2*'Lookup Tables'!AB81","v":0},{"$f":"$U$2*'Lookup Tables'!AC81","v":0},{"$f":"$U$2*'Lookup Tables'!AD81","v":0},{"$f":"$U$2*'Lookup Tables'!AE81","v":0},{"$f":"$U$2*'Lookup Tables'!AF81","v":0},{"$f":"$U$2*'Lookup Tables'!AG81","v":0},{"$f":"$U$2*'Lookup Tables'!AH81","v":0},{"$f":"$U$2*'Lookup Tables'!AI81","v":0},{"$f":"$U$2*'Lookup Tables'!AJ81","v":0},{"$f":"$U$2*'Lookup Tables'!AK81","v":0},{"$f":"$U$2*'Lookup Tables'!AL81","v":0},{"$f":"$U$2*'Lookup Tables'!AM81","v":0},null,78,{"$f":"$AL$2*'Lookup Tables'!AP81","v":0},{"$f":"$AL$2*'Lookup Tables'!AQ81","v":0},{"$f":"$AL$2*'Lookup Tables'!AR81","v":0},{"$f":"$AL$2*'Lookup Tables'!AS81","v":0},{"$f":"$AL$2*'Lookup Tables'!AT81","v":0},{"$f":"$AL$2*'Lookup Tables'!AU81","v":0},{"$f":"$AL$2*'Lookup Tables'!AV81","v":0},{"$f":"$AL$2*'Lookup Tables'!AW81","v":0},{"$f":"$AL$2*'Lookup Tables'!AX81","v":0},{"$f":"$AL$2*'Lookup Tables'!AY81","v":0},{"$f":"$AL$2*'Lookup Tables'!AZ81","v":0},{"$f":"$AL$2*'Lookup Tables'!BA81","v":0},{"$f":"$AL$2*'Lookup Tables'!BB81","v":0},{"$f":"$AL$2*'Lookup Tables'!BC81","v":0},{"$f":"$AL$2*'Lookup Tables'!BD81","v":0},null,78,{"$f":"$BC$2*'Lookup Tables'!BG81","v":0},{"$f":"$BC$2*'Lookup Tables'!BH81","v":0},{"$f":"$BC$2*'Lookup Tables'!BI81","v":0},{"$f":"$BC$2*'Lookup Tables'!BJ81","v":0},{"$f":"$BC$2*'Lookup Tables'!BK81","v":0},{"$f":"$BC$2*'Lookup Tables'!BL81","v":0},{"$f":"$BC$2*'Lookup Tables'!BM81","v":0},{"$f":"$BC$2*'Lookup Tables'!BN81","v":0},{"$f":"$BC$2*'Lookup Tables'!BO81","v":0},{"$f":"$BC$2*'Lookup Tables'!BP81","v":0},{"$f":"$BC$2*'Lookup Tables'!BQ81","v":0},{"$f":"$BC$2*'Lookup Tables'!BR81","v":0},{"$f":"$BC$2*'Lookup Tables'!BS81","v":0},{"$f":"$BC$2*'Lookup Tables'!BT81","v":0},{"$f":"$BC$2*'Lookup Tables'!BU81","v":0},null,78,{"$f":"$BT$2*'Lookup Tables'!BX81","v":0},{"$f":"$BT$2*'Lookup Tables'!BY81","v":0},{"$f":"$BT$2*'Lookup Tables'!BZ81","v":0},{"$f":"$BT$2*'Lookup Tables'!CA81","v":0},{"$f":"$BT$2*'Lookup Tables'!CB81","v":0},{"$f":"$BT$2*'Lookup Tables'!CC81","v":0},{"$f":"$BT$2*'Lookup Tables'!CD81","v":0},{"$f":"$BT$2*'Lookup Tables'!CE81","v":0},{"$f":"$BT$2*'Lookup Tables'!CF81","v":0},{"$f":"$BT$2*'Lookup Tables'!CG81","v":0},{"$f":"$BT$2*'Lookup Tables'!CH81","v":0},{"$f":"$BT$2*'Lookup Tables'!CI81","v":0},{"$f":"$BT$2*'Lookup Tables'!CJ81","v":0},{"$f":"$BT$2*'Lookup Tables'!CK81","v":0},{"$f":"$BT$2*'Lookup Tables'!CL81","v":0},null,null,78,0,0,0,0,0,0,0,0,0,0,0,0,0,0,0,null,{"$f":"CV81*Calculator!G$27/21","v":0}]
[null,79,{"$f":"$D$2*'Lookup Tables'!H82","v":0},{"$f":"$D$2*'Lookup Tables'!I82","v":0},{"$f":"$D$2*'Lookup Tables'!J82","v":0},{"$f":"$D$2*'Lookup Tables'!K82","v":0},{"$f":"$D$2*'Lookup Tables'!L82","v":0},{"$f":"$D$2*'Lookup Tables'!M82","v":0},{"$f":"$D$2*'Lookup Tables'!N82","v":0},{"$f":"$D$2*'Lookup Tables'!O82","v":0},{"$f":"$D$2*'Lookup Tables'!P82","v":0},{"$f":"$D$2*'Lookup Tables'!Q82","v":0},{"$f":"$D$2*'Lookup Tables'!R82","v":0},{"$f":"$D$2*'Lookup Tables'!S82","v":0},{"$f":"$D$2*'Lookup Tables'!T82","v":0},{"$f":"$D$2*'Lookup Tables'!U82","v":0},{"$f":"$D$2*'Lookup Tables'!V82","v":0},null,79,{"$f":"$U$2*'Lookup Tables'!Y82","v":0},{"$f":"$U$2*'Lookup Tables'!Z82","v":0},{"$f":"$U$2*'Lookup Tables'!AA82","v":0},{"$f":"$U$2*'Lookup Tables'!AB82","v":0},{"$f":"$U$2*'Lookup Tables'!AC82","v":0},{"$f":"$U$2*'Lookup Tables'!AD82","v":0},{"$f":"$U$2*'Lookup Tables'!AE82","v":0},{"$f":"$U$2*'Lookup Tables'!AF82","v":0},{"$f":"$U$2*'Lookup Tables'!AG82","v":0},{"$f":"$U$2*'Lookup Tables'!AH82","v":0},{"$f":"$U$2*'Lookup Tables'!AI82","v":0},{"$f":"$U$2*'Lookup Tables'!AJ82","v":0},{"$f":"$U$2*'Lookup Tables'!AK82","v":0},{"$f":"$U$2*'Lookup Tables'!AL82","v":0},{"$f":"$U$2*'Lookup Tables'!AM82","v":0},null,79,{"$f":"$AL$2*'Lookup Tables'!AP82","v":0},{"$f":"$AL$2*'Lookup Tables'!AQ82","v":0},{"$f":"$AL$2*'Lookup Tables'!AR82","v":0},{"$f":"$AL$2*'Lookup Tables'!AS82","v":0},{"$f":"$AL$2*'Lookup Tables'!AT82","v":0},{"$f":"$AL$2*'Lookup Tables'!AU82","v":0},{"$f":"$AL$2*'Lookup Tables'!AV82","v":0},{"$f":"$AL$2*'Lookup Tables'!AW82","v":0},{"$f":"$AL$2*'Lookup Tables'!AX82","v":0},{"$f":"$AL$2*'Lookup Tables'!AY82","v":0},{"$f":"$AL$2*'Lookup Tables'!AZ82","v":0},{"$f":"$AL$2*'Lookup Tables'!BA82","v":0},{"$f":"$AL$2*'Lookup Tables'!BB82","v":0},{"$f":"$AL$2*'Lookup Tables'!BC82","v":0},{"$f":"$AL$2*'Lookup Tables'!BD82","v":0},null,79,{"$f":"$BC$2*'Lookup Tables'!BG82","v":0},{"$f":"$BC$2*'Lookup Tables'!BH82","v":0},{"$f":"$BC$2*'Lookup Tables'!BI82","v":0},{"$f":"$BC$2*'Lookup Tables'!BJ82","v":0},{"$f":"$BC$2*'Lookup Tables'!BK82","v":0},{"$f":"$BC$2*'Lookup Tables'!BL82","v":0},{"$f":"$BC$2*'Lookup Tables'!BM82","v":0},{"$f":"$BC$2*'Lookup Tables'!BN82","v":0},{"$f":"$BC$2*'Lookup Tables'!BO82","v":0},{"$f":"$BC$2*'Lookup Tables'!BP82","v":0},{"$f":"$BC$2*'Lookup Tables'!BQ82","v":0},{"$f":"$BC$2*'Lookup Tables'!BR82","v":0},{"$f":"$BC$2*'Lookup Tables'!BS82","v":0},{"$f":"$BC$2*'Lookup Tables'!BT82","v":0},{"$f":"$BC$2*'Lookup Tables'!BU82","v":0},null,79,{"$f":"$BT$2*'Lookup Tables'!BX82","v":0},{"$f":"$BT$2*'Lookup Tables'!BY82","v":0},{"$f":"$BT$2*'Lookup Tables'!BZ82","v":0},{"$f":"$BT$2*'Lookup Tables'!CA82","v":0},{"$f":"$BT$2*'Lookup Tables'!CB82","v":0},{"$f":"$BT$2*'Lookup Tables'!CC82","v":0},{"$f":"$BT$2*'Lookup Tables'!CD82","v":0},{"$f":"$BT$2*'Lookup Tables'!CE82","v":0},{"$f":"$BT$2*'Lookup Tables'!CF82","v":0},{"$f":"$BT$2*'Lookup Tables'!CG82","v":0},{"$f":"$BT$2*'Lookup Tables'!CH82","v":0},{"$f":"$BT$2*'Lookup Tables'!CI82","v":0},{"$f":"$BT$2*'Lookup Tables'!CJ82","v":0},{"$f":"$BT$2*'Lookup Tables'!CK82","v":0},{"$f":"$BT$2*'Lookup Tables'!CL82","v":0},null,null,79,0,0,0,0,0,0,0,0,0,0,0,0,0,0,0,null,{"$f":"CV82*Calculator!G$27/21","v":0}]
[null,80,{"$f":"$D$2*'Lookup Tables'!H83","v":0},{"$f":"$D$2*'Lookup Tables'!I83","v":0},{"$f":"$D$2*'Lookup Tables'!J83","v":0},{"$f":"$D$2*'Lookup Tables'!K83","v":0},{"$f":"$D$2*'Lookup Tables'!L83","v":0},{"$f":"$D$2*'Lookup Tables'!M83","v":0},{"$f":"$D$2*'Lookup Tables'!N83","v":0},{"$f":"$D$2*'Lookup Tables'!O83","v":0},{"$f":"$D$2*'Lookup Tables'!P83","v":0},{"$f":"$D$2*'Lookup Tables'!Q83","v":0},{"$f":"$D$2*'Lookup Tables'!R83","v":0},{"$f":"$D$2*'Lookup Tables'!S83","v":0},{"$f":"$D$2*'Lookup Tables'!T83","v":0},{"$f":"$D$2*'Lookup Tables'!U83","v":0},{"$f":"$D$2*'Lookup Tables'!V83","v":0},null,80,{"$f":"$U$2*'Lookup Tables'!Y83","v":0},{"$f":"$U$2*'Lookup Tables'!Z83","v":0},{"$f":"$U$2*'Lookup Tables'!AA83","v":0},{"$f":"$U$2*'Lookup Tables'!AB83","v":0},{"$f":"$U$2*'Lookup Tables'!AC83","v":0},{"$f":"$U$2*'Lookup Tables'!AD83","v":0},{"$f":"$U$2*'Lookup Tables'!AE83","v":0},{"$f":"$U$2*'Lookup Tables'!AF83","v":0},{"$f":"$U$2*'Lookup Tables'!AG83","v":0},{"$f":"$U$2*'Lookup Tables'!AH83","v":0},{"$f":"$U$2*'Lookup Tables'!AI83","v":0},{"$f":"$U$2*'Lookup Tables'!AJ83","v":0},{"$f":"$U$2*'Lookup Tables'!AK83","v":0},{"$f":"$U$2*'Lookup Tables'!AL83","v":0},{"$f":"$U$2*'Lookup Tables'!AM83","v":0},null,80,{"$f":"$AL$2*'Lookup Tables'!AP83","v":0},{"$f":"$AL$2*'Lookup Tables'!AQ83","v":0},{"$f":"$AL$2*'Lookup Tables'!AR83","v":0},{"$f":"$AL$2*'Lookup Tables'!AS83","v":0},{"$f":"$AL$2*'Lookup Tables'!AT83","v":0},{"$f":"$AL$2*'Lookup Tables'!AU83","v":0},{"$f":"$AL$2*'Lookup Tables'!AV83","v":0},{"$f":"$AL$2*'Lookup Tables'!AW83","v":0},{"$f":"$AL$2*'Lookup Tables'!AX83","v":0},{"$f":"$AL$2*'Lookup Tables'!AY83","v":0},{"$f":"$AL$2*'Lookup Tables'!AZ83","v":0},{"$f":"$AL$2*'Lookup Tables'!BA83","v":0},{"$f":"$AL$2*'Lookup Tables'!BB83","v":0},{"$f":"$AL$2*'Lookup Tables'!BC83","v":0},{"$f":"$AL$2*'Lookup Tables'!BD83","v":0},null,80,{"$f":"$BC$2*'Lookup Tables'!BG83","v":0},{"$f":"$BC$2*'Lookup Tables'!BH83","v":0},{"$f":"$BC$2*'Lookup Tables'!BI83","v":0},{"$f":"$BC$2*'Lookup Tables'!BJ83","v":0},{"$f":"$BC$2*'Lookup Tables'!BK83","v":0},{"$f":"$BC$2*'Lookup Tables'!BL83","v":0},{"$f":"$BC$2*'Lookup Tables'!BM83","v":0},{"$f":"$BC$2*'Lookup Tables'!BN83","v":0},{"$f":"$BC$2*'Lookup Tables'!BO83","v":0},{"$f":"$BC$2*'Lookup Tables'!BP83","v":0},{"$f":"$BC$2*'Lookup Tables'!BQ83","v":0},{"$f":"$BC$2*'Lookup Tables'!BR83","v":0},{"$f":"$BC$2*'Lookup Tables'!BS83","v":0},{"$f":"$BC$2*'Lookup Tables'!BT83","v":0},{"$f":"$BC$2*'Lookup Tables'!BU83","v":0},null,80,{"$f":"$BT$2*'Lookup Tables'!BX83","v":0},{"$f":"$BT$2*'Lookup Tables'!BY83","v":0},{"$f":"$BT$2*'Lookup Tables'!BZ83","v":0},{"$f":"$BT$2*'Lookup Tables'!CA83","v":0},{"$f":"$BT$2*'Lookup Tables'!CB83","v":0},{"$f":"$BT$2*'Lookup Tables'!CC83","v":0},{"$f":"$BT$2*'Lookup Tables'!CD83","v":0},{"$f":"$BT$2*'Lookup Tables'!CE83","v":0},{"$f":"$BT$2*'Lookup Tables'!CF83","v":0},{"$f":"$BT$2*'Lookup Tables'!CG83","v":0},{"$f":"$BT$2*'Lookup Tables'!CH83","v":0},{"$f":"$BT$2*'Lookup Tables'!CI83","v":0},{"$f":"$BT$2*'Lookup Tables'!CJ83","v":0},{"$f":"$BT$2*'Lookup Tables'!CK83","v":0},{"$f":"$BT$2*'Lookup Tables'!CL83","v":0},null,null,80,0,0,0,0,0,0,0,0,0,0,0,0,0,0,0,null,{"$f":"CV83*Calculator!G$27/21","v":0}]
[null,81,{"$f":"$D$2*'Lookup Tables'!H84","v":0},{"$f":"$D$2*'Lookup Tables'!I84","v":0},{"$f":"$D$2*'Lookup Tables'!J84","v":0},{"$f":"$D$2*'Lookup Tables'!K84","v":0},{"$f":"$D$2*'Lookup Tables'!L84","v":0},{"$f":"$D$2*'Lookup Tables'!M84","v":0},{"$f":"$D$2*'Lookup Tables'!N84","v":0},{"$f":"$D$2*'Lookup Tables'!O84","v":0},{"$f":"$D$2*'Lookup Tables'!P84","v":0},{"$f":"$D$2*'Lookup Tables'!Q84","v":0},{"$f":"$D$2*'Lookup Tables'!R84","v":0},{"$f":"$D$2*'Lookup Tables'!S84","v":0},{"$f":"$D$2*'Lookup Tables'!T84","v":0},{"$f":"$D$2*'Lookup Tables'!U84","v":0},{"$f":"$D$2*'Lookup Tables'!V84","v":0},null,81,{"$f":"$U$2*'Lookup Tables'!Y84","v":0},{"$f":"$U$2*'Lookup Tables'!Z84","v":0},{"$f":"$U$2*'Lookup Tables'!AA84","v":0},{"$f":"$U$2*'Lookup Tables'!AB84","v":0},{"$f":"$U$2*'Lookup Tables'!AC84","v":0},{"$f":"$U$2*'Lookup Tables'!AD84","v":0},{"$f":"$U$2*'Lookup Tables'!AE84","v":0},{"$f":"$U$2*'Lookup Tables'!AF84","v":0},{"$f":"$U$2*'Lookup Tables'!AG84","v":0},{"$f":"$U$2*'Lookup Tables'!AH84","v":0},{"$f":"$U$2*'Lookup Tables'!AI84","v":0},{"$f":"$U$2*'Lookup Tables'!AJ84","v":0},{"$f":"$U$2*'Lookup Tables'!AK84","v":0},{"$f":"$U$2*'Lookup Tables'!AL84","v":0},{"$f":"$U$2*'Lookup Tables'!AM84","v":0},null,81,{"$f":"$AL$2*'Lookup Tables'!AP84","v":0},{"$f":"$AL$2*'Lookup Tables'!AQ84","v":0},{"$f":"$AL$2*'Lookup Tables'!AR84","v":0},{"$f":"$AL$2*'Lookup Tables'!AS84","v":0},{"$f":"$AL$2*'Lookup Tables'!AT84","v":0},{"$f":"$AL$2*'Lookup Tables'!AU84","v":0},{"$f":"$AL$2*'Lookup Tables'!AV84","v":0},{"$f":"$AL$2*'Lookup Tables'!AW84","v":0},{"$f":"$AL$2*'Lookup Tables'!AX84","v":0},{"$f":"$AL$2*'Lookup Tables'!AY84","v":0},{"$f":"$AL$2*'Lookup Tables'!AZ84","v":0},{"$f":"$AL$2*'Lookup Tables'!BA84","v":0},{"$f":"$AL$2*'Lookup Tables'!BB84","v":0},{"$f":"$AL$2*'Lookup Tables'!BC84","v":0},{"$f":"$AL$2*'Lookup Tables'!BD84","v":0},null,81,{"$f":"$BC$2*'Lookup Tables'!BG84","v":0},{"$f":"$BC$2*'Lookup Tables'!BH84","v":0},{"$f":"$BC$2*'Lookup Tables'!BI84","v":0},{"$f":"$BC$2*'Lookup Tables'!BJ84","v":0},{"$f":"$BC$2*'Lookup Tables'!BK84","v":0},{"$f":"$BC$2*'Lookup Tables'!BL84","v":0},{"$f":"$BC$2*'Lookup Tables'!BM84","v":0},{"$f":"$BC$2*'Lookup Tables'!BN84","v":0},{"$f":"$BC$2*'Lookup Tables'!BO84","v":0},{"$f":"$BC$2*'Lookup Tables'!BP84","v":0},{"$f":"$BC$2*'Lookup Tables'!BQ84","v":0},{"$f":"$BC$2*'Lookup Tables'!BR84","v":0},{"$f":"$BC$2*'Lookup Tables'!BS84","v":0},{"$f":"$BC$2*'Lookup Tables'!BT84","v":0},{"$f":"$BC$2*'Lookup Tables'!BU84","v":0},null,81,{"$f":"$BT$2*'Lookup Tables'!BX84","v":0},{"$f":"$BT$2*'Lookup Tables'!BY84","v":0},{"$f":"$BT$2*'Lookup Tables'!BZ84","v":0},{"$f":"$BT$2*'Lookup Tables'!CA84","v":0},{"$f":"$BT$2*'Lookup Tables'!CB84","v":0},{"$f":"$BT$2*'Lookup Tables'!CC84","v":0},{"$f":"$BT$2*'Lookup Tables'!CD84","v":0},{"$f":"$BT$2*'Lookup Tables'!CE84","v":0},{"$f":"$BT$2*'Lookup Tables'!CF84","v":0},{"$f":"$BT$2*'Lookup Tables'!CG84","v":0},{"$f":"$BT$2*'Lookup Tables'!CH84","v":0},{"$f":"$BT$2*'Lookup Tables'!CI84","v":0},{"$f":"$BT$2*'Lookup Tables'!CJ84","v":0},{"$f":"$BT$2*'Lookup Tables'!CK84","v":0},{"$f":"$BT$2*'Lookup Tables'!CL84","v":0},null,null,81,0,0,0,0,0,0,0,0,0,0,0,0,0,0,0,null,{"$f":"CV84*Calculator!G$27/21","v":0}]
[null,82,{"$f":"$D$2*'Lookup Tables'!H85","v":0},{"$f":"$D$2*'Lookup Tables'!I85","v":0},{"$f":"$D$2*'Lookup Tables'!J85","v":0},{"$f":"$D$2*'Lookup Tables'!K85","v":0},{"$f":"$D$2*'Lookup Tables'!L85","v":0},{"$f":"$D$2*'Lookup Tables'!M85","v":0},{"$f":"$D$2*'Lookup Tables'!N85","v":0},{"$f":"$D$2*'Lookup Tables'!O85","v":0},{"$f":"$D$2*'Lookup Tables'!P85","v":0},{"$f":"$D$2*'Lookup Tables'!Q85","v":0},{"$f":"$D$2*'Lookup Tables'!R85","v":0},{"$f":"$D$2*'Lookup Tables'!S85","v":0},{"$f":"$D$2*'Lookup Tables'!T85","v":0},{"$f":"$D$2*'Lookup Tables'!U85","v":0},{"$f":"$D$2*'Lookup Tables'!V85","v":0},null,82,{"$f":"$U$2*'Lookup Tables'!Y85","v":0},{"$f":"$U$2*'Lookup Tables'!Z85","v":0},{"$f":"$U$2*'Lookup Tables'!AA85","v":0},{"$f":"$U$2*'Lookup Tables'!AB85","v":0},{"$f":"$U$2*'Lookup Tables'!AC85","v":0},{"$f":"$U$2*'Lookup Tables'!AD85","v":0},{"$f":"$U$2*'Lookup Tables'!AE85","v":0},{"$f":"$U$2*'Lookup Tables'!AF85","v":0},{"$f":"$U$2*'Lookup Tables'!AG85","v":0},{"$f":"$U$2*'Lookup Tables'!AH85","v":0},{"$f":"$U$2*'Lookup Tables'!AI85","v":0},{"$f":"$U$2*'Lookup Tables'!AJ85","v":0},{"$f":"$U$2*'Lookup Tables'!AK85","v":0},{"$f":"$U$2*'Lookup Tables'!AL85","v":0},{"$f":"$U$2*'Lookup Tables'!AM85","v":0},null,82,{"$f":"$AL$2*'Lookup Tables'!AP85","v":0},{"$f":"$AL$2*'Lookup Tables'!AQ85","v":0},{"$f":"$AL$2*'Lookup Tables'!AR85","v":0},{"$f":"$AL$2*'Lookup Tables'!AS85","v":0},{"$f":"$AL$2*'Lookup Tables'!AT85","v":0},{"$f":"$AL$2*'Lookup Tables'!AU85","v":0},{"$f":"$AL$2*'Lookup Tables'!AV85","v":0},{"$f":"$AL$2*'Lookup Tables'!AW85","v":0},{"$f":"$AL$2*'Lookup Tables'!AX85","v":0},{"$f":"$AL$2*'Lookup Tables'!AY85","v":0},{"$f":"$AL$2*'Lookup Tables'!AZ85","v":0},{"$f":"$AL$2*'Lookup Tables'!BA85","v":0},{"$f":"$AL$2*'Lookup Tables'!BB85","v":0},{"$f":"$AL$2*'Lookup Tables'!BC85","v":0},{"$f":"$AL$2*'Lookup Tables'!BD85","v":0},null,82,{"$f":"$BC$2*'Lookup Tables'!BG85","v":0},{"$f":"$BC$2*'Lookup Tables'!BH85","v":0},{"$f":"$BC$2*'Lookup Tables'!BI85","v":0},{"$f":"$BC$2*'Lookup Tables'!BJ85","v":0},{"$f":"$BC$2*'Lookup Tables'!BK85","v":0},{"$f":"$BC$2*'Lookup Tables'!BL85","v":0},{"$f":"$BC$2*'Lookup Tables'!BM85","v":0},{"$f":"$BC$2*'Lookup Tables'!BN85","v":0},{"$f":"$BC$2*'Lookup Tables'!BO85","v":0},{"$f":"$BC$2*'Lookup Tables'!BP85","v":0},{"$f":"$BC$2*'Lookup Tables'!BQ85","v":0},{"$f":"$BC$2*'Lookup Tables'!BR85","v":0},{"$f":"$BC$2*'Lookup Tables'!BS85","v":0},{"$f":"$BC$2*'Lookup Tables'!BT85","v":0},{"$f":"$BC$2*'Lookup Tables'!BU85","v":0},null,82,{"$f":"$BT$2*'Lookup Tables'!BX85","v":0},{"$f":"$BT$2*'Lookup Tables'!BY85","v":0},{"$f":"$BT$2*'Lookup Tables'!BZ85","v":0},{"$f":"$BT$2*'Lookup Tables'!CA85","v":0},{"$f":"$BT$2*'Lookup Tables'!CB85","v":0},{"$f":"$BT$2*'Lookup Tables'!CC85","v":0},{"$f":"$BT$2*'Lookup Tables'!CD85","v":0},{"$f":"$BT$2*'Lookup Tables'!CE85","v":0},{"$f":"$BT$2*'Lookup Tables'!CF85","v":0},{"$f":"$BT$2*'Lookup Tables'!CG85","v":0},{"$f":"$BT$2*'Lookup Tables'!CH85","v":0},{"$f":"$BT$2*'Lookup Tables'!CI85","v":0},{"$f":"$BT$2*'Lookup Tables'!CJ85","v":0},{"$f":"$BT$2*'Lookup Tables'!CK85","v":0},{"$f":"$BT$2*'Lookup Tables'!CL85","v":0},null,null,82,0,0,0,0,0,0,0,0,0,0,0,0,0,0,0,null,{"$f":"CV85*Calculator!G$27/21","v":0}]
[null,83,{"$f":"$D$2*'Lookup Tables'!H86","v":0},{"$f":"$D$2*'Lookup Tables'!I86","v":0},{"$f":"$D$2*'Lookup Tables'!J86","v":0},{"$f":"$D$2*'Lookup Tables'!K86","v":0},{"$f":"$D$2*'Lookup Tables'!L86","v":0},{"$f":"$D$2*'Lookup Tables'!M86","v":0},{"$f":"$D$2*'Lookup Tables'!N86","v":0},{"$f":"$D$2*'Lookup Tables'!O86","v":0},{"$f":"$D$2*'Lookup Tables'!P86","v":0},{"$f":"$D$2*'Lookup Tables'!Q86","v":0},{"$f":"$D$2*'Lookup Tables'!R86","v":0},{"$f":"$D$2*'Lookup Tables'!S86","v":0},{"$f":"$D$2*'Lookup Tables'!T86","v":0},{"$f":"$D$2*'Lookup Tables'!U86","v":0},{"$f":"$D$2*'Lookup Tables'!V86","v":0},null,83,{"$f":"$U$2*'Lookup Tables'!Y86","v":0},{"$f":"$U$2*'Lookup Tables'!Z86","v":0},{"$f":"$U$2*'Lookup Tables'!AA86","v":0},{"$f":"$U$2*'Lookup Tables'!AB86","v":0},{"$f":"$U$2*'Lookup Tables'!AC86","v":0},{"$f":"$U$2*'Lookup Tables'!AD86","v":0},{"$f":"$U$2*'Lookup Tables'!AE86","v":0},{"$f":"$U$2*'Lookup Tables'!AF86","v":0},{"$f":"$U$2*'Lookup Tables'!AG86","v":0},{"$f":"$U$2*'Lookup Tables'!AH86","v":0},{"$f":"$U$2*'Lookup Tables'!AI86","v":0},{"$f":"$U$2*'Lookup Tables'!AJ86","v":0},{"$f":"$U$2*'Lookup Tables'!AK86","v":0},{"$f":"$U$2*'Lookup Tables'!AL86","v":0},{"$f":"$U$2*'Lookup Tables'!AM86","v":0},null,83,{"$f":"$AL$2*'Lookup Tables'!AP86","v":0},{"$f":"$AL$2*'Lookup Tables'!AQ86","v":0},{"$f":"$AL$2*'Lookup Tables'!AR86","v":0},{"$f":"$AL$2*'Lookup Tables'!AS86","v":0},{"$f":"$AL$2*'Lookup Tables'!AT86","v":0},{"$f":"$AL$2*'Lookup Tables'!AU86","v":0},{"$f":"$AL$2*'Lookup Tables'!AV86","v":0},{"$f":"$AL$2*'Lookup Tables'!AW86","v":0},{"$f":"$AL$2*'Lookup Tables'!AX86","v":0},{"$f":"$AL$2*'Lookup Tables'!AY86","v":0},{"$f":"$AL$2*'Lookup Tables'!AZ86","v":0},{"$f":"$AL$2*'Lookup Tables'!BA86","v":0},{"$f":"$AL$2*'Lookup Tables'!BB86","v":0},{"$f":"$AL$2*'Lookup Tables'!BC86","v":0},{"$f":"$AL$2*'Lookup Tables'!BD86","v":0},null,83,{"$f":"$BC$2*'Lookup Tables'!BG86","v":0},{"$f":"$BC$2*'Lookup Tables'!BH86","v":0},{"$f":"$BC$2*'Lookup Tables'!BI86","v":0},{"$f":"$BC$2*'Lookup Tables'!BJ86","v":0},{"$f":"$BC$2*'Lookup Tables'!BK86","v":0},{"$f":"$BC$2*'Lookup Tables'!BL86","v":0},{"$f":"$BC$2*'Lookup Tables'!BM86","v":0},{"$f":"$BC$2*'Lookup Tables'!BN86","v":0},{"$f":"$BC$2*'Lookup Tables'!BO86","v":0},{"$f":"$BC$2*'Lookup Tables'!BP86","v":0},{"$f":"$BC$2*'Lookup Tables'!BQ86","v":0},{"$f":"$BC$2*'Lookup Tables'!BR86","v":0},{"$f":"$BC$2*'Lookup Tables'!BS86","v":0},{"$f":"$BC$2*'Lookup Tables'!BT86","v":0},{"$f":"$BC$2*'Lookup Tables'!BU86","v":0},null,83,{"$f":"$BT$2*'Lookup Tables'!BX86","v":0},{"$f":"$BT$2*'Lookup Tables'!BY86","v":0},{"$f":"$BT$2*'Lookup Tables'!BZ86","v":0},{"$f":"$BT$2*'Lookup Tables'!CA86","v":0},{"$f":"$BT$2*'Lookup Tables'!CB86","v":0},{"$f":"$BT$2*'Lookup Tables'!CC86","v":0},{"$f":"$BT$2*'Lookup Tables'!CD86","v":0},{"$f":"$BT$2*'Lookup Tables'!CE86","v":0},{"$f":"$BT$2*'Lookup Tables'!CF86","v":0},{"$f":"$BT$2*'Lookup Tables'!CG86","v":0},{"$f":"$BT$2*'Lookup Tables'!CH86","v":0},{"$f":"$BT$2*'Lookup Tables'!CI86","v":0},{"$f":"$BT$2*'Lookup Tables'!CJ86","v":0},{"$f":"$BT$2*'Lookup Tables'!CK86","v":0},{"$f":"$BT$2*'Lookup Tables'!CL86","v":0},null,null,83,0,0,0,0,0,0,0,0,0,0,0,0,0,0,0,null,{"$f":"CV86*Calculator!G$27/21","v":0}]
[null,84,{"$f":"$D$2*'Lookup Tables'!H87","v":0},{"$f":"$D$2*'Lookup Tables'!I87","v":0},{"$f":"$D$2*'Lookup Tables'!J87","v":0},{"$f":"$D$2*'Lookup Tables'!K87","v":0},{"$f":"$D$2*'Lookup Tables'!L87","v":0},{"$f":"$D$2*'Lookup Tables'!M87","v":0},{"$f":"$D$2*'Lookup Tables'!N87","v":0},{"$f":"$D$2*'Lookup Tables'!O87","v":0},{"$f":"$D$2*'Lookup Tables'!P87","v":0},{"$f":"$D$2*'Lookup Tables'!Q87","v":0},{"$f":"$D$2*'Lookup Tables'!R87","v":0},{"$f":"$D$2*'Lookup Tables'!S87","v":0},{"$f":"$D$2*'Lookup Tables'!T87","v":0},{"$f":"$D$2*'Lookup Tables'!U87","v":0},{"$f":"$D$2*'Lookup Tables'!V87","v":0},null,84,{"$f":"$U$2*'Lookup Tables'!Y87","v":0},{"$f":"$U$2*'Lookup Tables'!Z87","v":0},{"$f":"$U$2*'Lookup Tables'!AA87","v":0},{"$f":"$U$2*'Lookup Tables'!AB87","v":0},{"$f":"$U$2*'Lookup Tables'!AC87","v":0},{"$f":"$U$2*'Lookup Tables'!AD87","v":0},{"$f":"$U$2*'Lookup Tables'!AE87","v":0},{"$f":"$U$2*'Lookup Tables'!AF87","v":0},{"$f":"$U$2*'Lookup Tables'!AG87","v":0},{"$f":"$U$2*'Lookup Tables'!AH87","v":0},{"$f":"$U$2*'Lookup Tables'!AI87","v":0},{"$f":"$U$2*'Lookup Tables'!AJ87","v":0},{"$f":"$U$2*'Lookup Tables'!AK87","v":0},{"$f":"$U$2*'Lookup Tables'!AL87","v":0},{"$f":"$U$2*'Lookup Tables'!AM87","v":0},null,84,{"$f":"$AL$2*'Lookup Tables'!AP87","v":0},{"$f":"$AL$2*'Lookup Tables'!AQ87","v":0},{"$f":"$AL$2*'Lookup Tables'!AR87","v":0},{"$f":"$AL$2*'Lookup Tables'!AS87","v":0},{"$f":"$AL$2*'Lookup Tables'!AT87","v":0},{"$f":"$AL$2*'Lookup Tables'!AU87","v":0},{"$f":"$AL$2*'Lookup Tables'!AV87","v":0},{"$f":"$AL$2*'Lookup Tables'!AW87","v":0},{"$f":"$AL$2*'Lookup Tables'!AX87","v":0},{"$f":"$AL$2*'Lookup Tables'!AY87","v":0},{"$f":"$AL$2*'Lookup Tables'!AZ87","v":0},{"$f":"$AL$2*'Lookup Tables'!BA87","v":0},{"$f":"$AL$2*'Lookup Tables'!BB87","v":0},{"$f":"$AL$2*'Lookup Tables'!BC87","v":0},{"$f":"$AL$2*'Lookup Tables'!BD87","v":0},null,84,{"$f":"$BC$2*'Lookup Tables'!BG87","v":0},{"$f":"$BC$2*'Lookup Tables'!BH87","v":0},{"$f":"$BC$2*'Lookup Tables'!BI87","v":0},{"$f":"$BC$2*'Lookup Tables'!BJ87","v":0},{"$f":"$BC$2*'Lookup Tables'!BK87","v":0},{"$f":"$BC$2*'Lookup Tables'!BL87","v":0},{"$f":"$BC$2*'Lookup Tables'!BM87","v":0},{"$f":"$BC$2*'Lookup Tables'!BN87","v":0},{"$f":"$BC$2*'Lookup Tables'!BO87","v":0},{"$f":"$BC$2*'Lookup Tables'!BP87","v":0},{"$f":"$BC$2*'Lookup Tables'!BQ87","v":0},{"$f":"$BC$2*'Lookup Tables'!BR87","v":0},{"$f":"$BC$2*'Lookup Tables'!BS87","v":0},{"$f":"$BC$2*'Lookup Tables'!BT87","v":0},{"$f":"$BC$2*'Lookup Tables'!BU87","v":0},null,84,{"$f":"$BT$2*'Lookup Tables'!BX87","v":0},{"$f":"$BT$2*'Lookup Tables'!BY87","v":0},{"$f":"$BT$2*'Lookup Tables'!BZ87","v":0},{"$f":"$BT$2*'Lookup Tables'!CA87","v":0},{"$f":"$BT$2*'Lookup Tables'!CB87","v":0},{"$f":"$BT$2*'Lookup Tables'!CC87","v":0},{"$f":"$BT$2*'Lookup Tables'!CD87","v":0},{"$f":"$BT$2*'Lookup Tables'!CE87","v":0},{"$f":"$BT$2*'Lookup Tables'!CF87","v":0},{"$f":"$BT$2*'Lookup Tables'!CG87","v":0},{"$f":"$BT$2*'Lookup Tables'!CH87","v":0},{"$f":"$BT$2*'Lookup Tables'!CI87","v":0},{"$f":"$BT$2*'Lookup Tables'!CJ87","v":0},{"$f":"$BT$2*'Lookup Tables'!CK87","v":0},{"$f":"$BT$2*'Lookup Tables'!CL87","v":0},null,null,84,0,0,0,0,0,0,0,0,0,0,0,0,0,0,0,null,{"$f":"CV87*Calculator!G$27/21","v":0}]
[null,85,{"$f":"$D$2*'Lookup Tables'!H88","v":0},{"$f":"$D$2*'Lookup Tables'!I88","v":0},{"$f":"$D$2*'Lookup Tables'!J88","v":0},{"$f":"$D$2*'Lookup Tables'!K88","v":0},{"$f":"$D$2*'Lookup Tables'!L88","v":0},{"$f":"$D$2*'Lookup Tables'!M88","v":0},{"$f":"$D$2*'Lookup Tables'!N88","v":0},{"$f":"$D$2*'Lookup Tables'!O88","v":0},{"$f":"$D$2*'Lookup Tables'!P88","v":0},{"$f":"$D$2*'Lookup Tables'!Q88","v":0},{"$f":"$D$2*'Lookup Tables'!R88","v":0},{"$f":"$D$2*'Lookup Tables'!S88","v":0},{"$f":"$D$2*'Lookup Tables'!T88","v":0},{"$f":"$D$2*'Lookup Tables'!U88","v":0},{"$f":"$D$2*'Lookup Tables'!V88","v":0},null,85,{"$f":"$U$2*'Lookup Tables'!Y88","v":0},{"$f":"$U$2*'Lookup Tables'!Z88","v":0},{"$f":"$U$2*'Lookup Tables'!AA88","v":0},{"$f":"$U$2*'Lookup Tables'!AB88","v":0},{"$f":"$U$2*'Lookup Tables'!AC88","v":0},{"$f":"$U$2*'Lookup Tables'!AD88","v":0},{"$f":"$U$2*'Lookup Tables'!AE88","v":0},{"$f":"$U$2*'Lookup Tables'!AF88","v":0},{"$f":"$U$2*'Lookup Tables'!AG88","v":0},{"$f":"$U$2*'Lookup Tables'!AH88","v":0},{"$f":"$U$2*'Lookup Tables'!AI88","v":0},{"$f":"$U$2*'Lookup Tables'!AJ88","v":0},{"$f":"$U$2*'Lookup Tables'!AK88","v":0},{"$f":"$U$2*'Lookup Tables'!AL88","v":0},{"$f":"$U$2*'Lookup Tables'!AM88","v":0},null,85,{"$f":"$AL$2*'Lookup Tables'!AP88","v":0},{"$f":"$AL$2*'Lookup Tables'!AQ88","v":0},{"$f":"$AL$2*'Lookup Tables'!AR88","v":0},{"$f":"$AL$2*'Lookup Tables'!AS88","v":0},{"$f":"$AL$2*'Lookup Tables'!AT88","v":0},{"$f":"$AL$2*'Lookup Tables'!AU88","v":0},{"$f":"$AL$2*'Lookup Tables'!AV88","v":0},{"$f":"$AL$2*'Lookup Tables'!AW88","v":0},{"$f":"$AL$2*'Lookup Tables'!AX88","v":0},{"$f":"$AL$2*'Lookup Tables'!AY88","v":0},{"$f":"$AL$2*'Lookup Tables'!AZ88","v":0},{"$f":"$AL$2*'Lookup Tables'!BA88","v":0},{"$f":"$AL$2*'Lookup Tables'!BB88","v":0},{"$f":"$AL$2*'Lookup Tables'!BC88","v":0},{"$f":"$AL$2*'Lookup Tables'!BD88","v":0},null,85,{"$f":"$BC$2*'Lookup Tables'!BG88","v":0},{"$f":"$BC$2*'Lookup Tables'!BH88","v":0},{"$f":"$BC$2*'Lookup Tables'!BI88","v":0},{"$f":"$BC$2*'Lookup Tables'!BJ88","v":0},{"$f":"$BC$2*'Lookup Tables'!BK88","v":0},{"$f":"$BC$2*'Lookup Tables'!BL88","v":0},{"$f":"$BC$2*'Lookup Tables'!BM88","v":0},{"$f":"$BC$2*'Lookup Tables'!BN88","v":0},{"$f":"$BC$2*'Lookup Tables'!BO88","v":0},{"$f":"$BC$2*'Lookup Tables'!BP88","v":0},{"$f":"$BC$2*'Lookup Tables'!BQ88","v":0},{"$f":"$BC$2*'Lookup Tables'!BR88","v":0},{"$f":"$BC$2*'Lookup Tables'!BS88","v":0},{"$f":"$BC$2*'Lookup Tables'!BT88","v":0},{"$f":"$BC$2*'Lookup Tables'!BU88","v":0},null,85,{"$f":"$BT$2*'Lookup Tables'!BX88","v":0},{"$f":"$BT$2*'Lookup Tables'!BY88","v":0},{"$f":"$BT$2*'Lookup Tables'!BZ88","v":0},{"$f":"$BT$2*'Lookup Tables'!CA88","v":0},{"$f":"$BT$2*'Lookup Tables'!CB88","v":0},{"$f":"$BT$2*'Lookup Tables'!CC88","v":0},{"$f":"$BT$2*'Lookup Tables'!CD88","v":0},{"$f":"$BT$2*'Lookup Tables'!CE88","v":0},{"$f":"$BT$2*'Lookup Tables'!CF88","v":0},{"$f":"$BT$2*'Lookup Tables'!CG88","v":0},{"$f":"$BT$2*'Lookup Tables'!CH88","v":0},{"$f":"$BT$2*'Lookup Tables'!CI88","v":0},{"$f":"$BT$2*'Lookup Tables'!CJ88","v":0},{"$f":"$BT$2*'Lookup Tables'!CK88","v":0},{"$f":"$BT$2*'Lookup Tables'!CL88","v":0},null,null,85,0,0,0,0,0,0,0,0,0,0,0,0,0,0,0,null,{"$f":"CV88*Calculator!G$27/21","v":0}]
[null,86,{"$f":"$D$2*'Lookup Tables'!H89","v":0},{"$f":"$D$2*'Lookup Tables'!I89","v":0},{"$f":"$D$2*'Lookup Tables'!J89","v":0},{"$f":"$D$2*'Lookup Tables'!K89","v":0},{"$f":"$D$2*'Lookup Tables'!L89","v":0},{"$f":"$D$2*'Lookup Tables'!M89","v":0},{"$f":"$D$2*'Lookup Tables'!N89","v":0},{"$f":"$D$2*'Lookup Tables'!O89","v":0},{"$f":"$D$2*'Lookup Tables'!P89","v":0},{"$f":"$D$2*'Lookup Tables'!Q89","v":0},{"$f":"$D$2*'Lookup Tables'!R89","v":0},{"$f":"$D$2*'Lookup Tables'!S89","v":0},{"$f":"$D$2*'Lookup Tables'!T89","v":0},{"$f":"$D$2*'Lookup Tables'!U89","v":0},{"$f":"$D$2*'Lookup Tables'!V89","v":0},null,86,{"$f":"$U$2*'Lookup Tables'!Y89","v":0},{"$f":"$U$2*'Lookup Tables'!Z89","v":0},{"$f":"$U$2*'Lookup Tables'!AA89","v":0},{"$f":"$U$2*'Lookup Tables'!AB89","v":0},{"$f":"$U$2*'Lookup Tables'!AC89","v":0},{"$f":"$U$2*'Lookup Tables'!AD89","v":0},{"$f":"$U$2*'Lookup Tables'!AE89","v":0},{"$f":"$U$2*'Lookup Tables'!AF89","v":0},{"$f":"$U$2*'Lookup Tables'!AG89","v":0},{"$f":"$U$2*'Lookup Tables'!AH89","v":0},{"$f":"$U$2*'Lookup Tables'!AI89","v":0},{"$f":"$U$2*'Lookup Tables'!AJ89","v":0},{"$f":"$U$2*'Lookup Tables'!AK89","v":0},{"$f":"$U$2*'Lookup Tables'!AL89","v":0},{"$f":"$U$2*'Lookup Tables'!AM89","v":0},null,86,{"$f":"$AL$2*'Lookup Tables'!AP89","v":0},{"$f":"$AL$2*'Lookup Tables'!AQ89","v":0},{"$f":"$AL$2*'Lookup Tables'!AR89","v":0},{"$f":"$AL$2*'Lookup Tables'!AS89","v":0},{"$f":"$AL$2*'Lookup Tables'!AT89","v":0},{"$f":"$AL$2*'Lookup Tables'!AU89","v":0},{"$f":"$AL$2*'Lookup Tables'!AV89","v":0},{"$f":"$AL$2*'Lookup Tables'!AW89","v":0},{"$f":"$AL$2*'Lookup Tables'!AX89","v":0},{"$f":"$AL$2*'Lookup Tables'!AY89","v":0},{"$f":"$AL$2*'Lookup Tables'!AZ89","v":0},{"$f":"$AL$2*'Lookup Tables'!BA89","v":0},{"$f":"$AL$2*'Lookup Tables'!BB89","v":0},{"$f":"$AL$2*'Lookup Tables'!BC89","v":0},{"$f":"$AL$2*'Lookup Tables'!BD89","v":0},null,86,{"$f":"$BC$2*'Lookup Tables'!BG89","v":0},{"$f":"$BC$2*'Lookup Tables'!BH89","v":0},{"$f":"$BC$2*'Lookup Tables'!BI89","v":0},{"$f":"$BC$2*'Lookup Tables'!BJ89","v":0},{"$f":"$BC$2*'Lookup Tables'!BK89","v":0},{"$f":"$BC$2*'Lookup Tables'!BL89","v":0},{"$f":"$BC$2*'Lookup Tables'!BM89","v":0},{"$f":"$BC$2*'Lookup Tables'!BN89","v":0},{"$f":"$BC$2*'Lookup Tables'!BO89","v":0},{"$f":"$BC$2*'Lookup Tables'!BP89","v":0},{"$f":"$BC$2*'Lookup Tables'!BQ89","v":0},{"$f":"$BC$2*'Lookup Tables'!BR89","v":0},{"$f":"$BC$2*'Lookup Tables'!BS89","v":0},{"$f":"$BC$2*'Lookup Tables'!BT89","v":0},{"$f":"$BC$2*'Lookup Tables'!BU89","v":0},null,86,{"$f":"$BT$2*'Lookup Tables'!BX89","v":0},{"$f":"$BT$2*'Lookup Tables'!BY89","v":0},{"$f":"$BT$2*'Lookup Tables'!BZ89","v":0},{"$f":"$BT$2*'Lookup Tables'!CA89","v":0},{"$f":"$BT$2*'Lookup Tables'!CB89","v":0},{"$f":"$BT$2*'Lookup Tables'!CC89","v":0},{"$f":"$BT$2*'Lookup Tables'!CD89","v":0},{"$f":"$BT$2*'Lookup Tables'!CE89","v":0},{"$f":"$BT$2*'Lookup Tables'!CF89","v":0},{"$f":"$BT$2*'Lookup Tables'!CG89","v":0},{"$f":"$BT$2*'Lookup Tables'!CH89","v":0},{"$f":"$BT$2*'Lookup Tables'!CI89","v":0},{"$f":"$BT$2*'Lookup Tables'!CJ89","v":0},{"$f":"$BT$2*'Lookup Tables'!CK89","v":0},{"$f":"$BT$2*'Lookup Tables'!CL89","v":0},null,null,86,0,0,0,0,0,0,0,0,0,0,0,0,0,0,0,null,{"$f":"CV89*Calculator!G$27/21","v":0}]
[null,87,{"$f":"$D$2*'Lookup Tables'!H90","v":0},{"$f":"$D$2*'Lookup Tables'!I90","v":0},{"$f":"$D$2*'Lookup Tables'!J90","v":0},{"$f":"$D$2*'Lookup Tables'!K90","v":0},{"$f":"$D$2*'Lookup Tables'!L90","v":0},{"$f":"$D$2*'Lookup Tables'!M90","v":0},{"$f":"$D$2*'Lookup Tables'!N90","v":0},{"$f":"$D$2*'Lookup Tables'!O90","v":0},{"$f":"$D$2*'Lookup Tables'!P90","v":0},{"$f":"$D$2*'Lookup Tables'!Q90","v":0},{"$f":"$D$2*'Lookup Tables'!R90","v":0},{"$f":"$D$2*'Lookup Tables'!S90","v":0},{"$f":"$D$2*'Lookup Tables'!T90","v":0},{"$f":"$D$2*'Lookup Tables'!U90","v":0},{"$f":"$D$2*'Lookup Tables'!V90","v":0},null,87,{"$f":"$U$2*'Lookup Tables'!Y90","v":0},{"$f":"$U$2*'Lookup Tables'!Z90","v":0},{"$f":"$U$2*'Lookup Tables'!AA90","v":0},{"$f":"$U$2*'Lookup Tables'!AB90","v":0},{"$f":"$U$2*'Lookup Tables'!AC90","v":0},{"$f":"$U$2*'Lookup Tables'!AD90","v":0},{"$f":"$U$2*'Lookup Tables'!AE90","v":0},{"$f":"$U$2*'Lookup Tables'!AF90","v":0},{"$f":"$U$2*'Lookup Tables'!AG90","v":0},{"$f":"$U$2*'Lookup Tables'!AH90","v":0},{"$f":"$U$2*'Lookup Tables'!AI90","v":0},{"$f":"$U$2*'Lookup Tables'!AJ90","v":0},{"$f":"$U$2*'Lookup Tables'!AK90","v":0},{"$f":"$U$2*'Lookup Tables'!AL90","v":0},{"$f":"$U$2*'Lookup Tables'!AM90","v":0},null,87,{"$f":"$AL$2*'Lookup Tables'!AP90","v":0},{"$f":"$AL$2*'Lookup Tables'!AQ90","v":0},{"$f":"$AL$2*'Lookup Tables'!AR90","v":0},{"$f":"$AL$2*'Lookup Tables'!AS90","v":0},{"$f":"$AL$2*'Lookup Tables'!AT90","v":0},{"$f":"$AL$2*'Lookup Tables'!AU90","v":0},{"$f":"$AL$2*'Lookup Tables'!AV90","v":0},{"$f":"$AL$2*'Lookup Tables'!AW90","v":0},{"$f":"$AL$2*'Lookup Tables'!AX90","v":0},{"$f":"$AL$2*'Lookup Tables'!AY90","v":0},{"$f":"$AL$2*'Lookup Tables'!AZ90","v":0},{"$f":"$AL$2*'Lookup Tables'!BA90","v":0},{"$f":"$AL$2*'Lookup Tables'!BB90","v":0},{"$f":"$AL$2*'Lookup Tables'!BC90","v":0},{"$f":"$AL$2*'Lookup Tables'!BD90","v":0},null,87,{"$f":"$BC$2*'Lookup Tables'!BG90","v":0},{"$f":"$BC$2*'Lookup Tables'!BH90","v":0},{"$f":"$BC$2*'Lookup Tables'!BI90","v":0},{"$f":"$BC$2*'Lookup Tables'!BJ90","v":0},{"$f":"$BC$2*'Lookup Tables'!BK90","v":0},{"$f":"$BC$2*'Lookup Tables'!BL90","v":0},{"$f":"$BC$2*'Lookup Tables'!BM90","v":0},{"$f":"$BC$2*'Lookup Tables'!BN90","v":0},{"$f":"$BC$2*'Lookup Tables'!BO90","v":0},{"$f":"$BC$2*'Lookup Tables'!BP90","v":0},{"$f":"$BC$2*'Lookup Tables'!BQ90","v":0},{"$f":"$BC$2*'Lookup Tables'!BR90","v":0},{"$f":"$BC$2*'Lookup Tables'!BS90","v":0},{"$f":"$BC$2*'Lookup Tables'!BT90","v":0},{"$f":"$BC$2*'Lookup Tables'!BU90","v":0},null,87,{"$f":"$BT$2*'Lookup Tables'!BX90","v":0},{"$f":"$BT$2*'Lookup Tables'!BY90","v":0},{"$f":"$BT$2*'Lookup Tables'!BZ90","v":0},{"$f":"$BT$2*'Lookup Tables'!CA90","v":0},{"$f":"$BT$2*'Lookup Tables'!CB90","v":0},{"$f":"$BT$2*'Lookup Tables'!CC90","v":0},{"$f":"$BT$2*'Lookup Tables'!CD90","v":0},{"$f":"$BT$2*'Lookup Tables'!CE90","v":0},{"$f":"$BT$2*'Lookup Tables'!CF90","v":0},{"$f":"$BT$2*'Lookup Tables'!CG90","v":0},{"$f":"$BT$2*'Lookup Tables'!CH90","v":0},{"$f":"$BT$2*'Lookup Tables'!CI90","v":0},{"$f":"$BT$2*'Lookup Tables'!CJ90","v":0},{"$f":"$BT$2*'Lookup Tables'!CK90","v":0},{"$f":"$BT$2*'Lookup Tables'!CL90","v":0},null,null,87,0,0,0,0,0,0,0,0,0,0,0,0,0,0,0,null,{"$f":"CV90*Calculator!G$27/21","v":0}]
[null,88,{"$f":"$D$2*'Lookup Tables'!H91","v":0},{"$f":"$D$2*'Lookup Tables'!I91","v":0},{"$f":"$D$2*'Lookup Tables'!J91","v":0},{"$f":"$D$2*'Lookup Tables'!K91","v":0},{"$f":"$D$2*'Lookup Tables'!L91","v":0},{"$f":"$D$2*'Lookup Tables'!M91","v":0},{"$f":"$D$2*'Lookup Tables'!N91","v":0},{"$f":"$D$2*'Lookup Tables'!O91","v":0},{"$f":"$D$2*'Lookup Tables'!P91","v":0},{"$f":"$D$2*'Lookup Tables'!Q91","v":0},{"$f":"$D$2*'Lookup Tables'!R91","v":0},{"$f":"$D$2*'Lookup Tables'!S91","v":0},{"$f":"$D$2*'Lookup Tables'!T91","v":0},{"$f":"$D$2*'Lookup Tables'!U91","v":0},{"$f":"$D$2*'Lookup Tables'!V91","v":0},null,88,{"$f":"$U$2*'Lookup Tables'!Y91","v":0},{"$f":"$U$2*'Lookup Tables'!Z91","v":0},{"$f":"$U$2*'Lookup Tables'!AA91","v":0},{"$f":"$U$2*'Lookup Tables'!AB91","v":0},{"$f":"$U$2*'Lookup Tables'!AC91","v":0},{"$f":"$U$2*'Lookup Tables'!AD91","v":0},{"$f":"$U$2*'Lookup Tables'!AE91","v":0},{"$f":"$U$2*'Lookup Tables'!AF91","v":0},{"$f":"$U$2*'Lookup Tables'!AG91","v":0},{"$f":"$U$2*'Lookup Tables'!AH91","v":0},{"$f":"$U$2*'Lookup Tables'!AI91","v":0},{"$f":"$U$2*'Lookup Tables'!AJ91","v":0},{"$f":"$U$2*'Lookup Tables'!AK91","v":0},{"$f":"$U$2*'Lookup Tables'!AL91","v":0},{"$f":"$U$2*'Lookup Tables'!AM91","v":0},null,88,{"$f":"$AL$2*'Lookup Tables'!AP91","v":0},{"$f":"$AL$2*'Lookup Tables'!AQ91","v":0},{"$f":"$AL$2*'Lookup Tables'!AR91","v":0},{"$f":"$AL$2*'Lookup Tables'!AS91","v":0},{"$f":"$AL$2*'Lookup Tables'!AT91","v":0},{"$f":"$AL$2*'Lookup Tables'!AU91","v":0},{"$f":"$AL$2*'Lookup Tables'!AV91","v":0},{"$f":"$AL$2*'Lookup Tables'!AW91","v":0},{"$f":"$AL$2*'Lookup Tables'!AX91","v":0},{"$f":"$AL$2*'Lookup Tables'!AY91","v":0},{"$f":"$AL$2*'Lookup Tables'!AZ91","v":0},{"$f":"$AL$2*'Lookup Tables'!BA91","v":0},{"$f":"$AL$2*'Lookup Tables'!BB91","v":0},{"$f":"$AL$2*'Lookup Tables'!BC91","v":0},{"$f":"$AL$2*'Lookup Tables'!BD91","v":0},null,88,{"$f":"$BC$2*'Lookup Tables'!BG91","v":0},{"$f":"$BC$2*'Lookup Tables'!BH91","v":0},{"$f":"$BC$2*'Lookup Tables'!BI91","v":0},{"$f":"$BC$2*'Lookup Tables'!BJ91","v":0},{"$f":"$BC$2*'Lookup Tables'!BK91","v":0},{"$f":"$BC$2*'Lookup Tables'!BL91","v":0},{"$f":"$BC$2*'Lookup Tables'!BM91","v":0},{"$f":"$BC$2*'Lookup Tables'!BN91","v":0},{"$f":"$BC$2*'Lookup Tables'!BO91","v":0},{"$f":"$BC$2*'Lookup Tables'!BP91","v":0},{"$f":"$BC$2*'Lookup Tables'!BQ91","v":0},{"$f":"$BC$2*'Lookup Tables'!BR91","v":0},{"$f":"$BC$2*'Lookup Tables'!BS91","v":0},{"$f":"$BC$2*'Lookup Tables'!BT91","v":0},{"$f":"$BC$2*'Lookup Tables'!BU91","v":0},null,88,{"$f":"$BT$2*'Lookup Tables'!BX91","v":0},{"$f":"$BT$2*'Lookup Tables'!BY91","v":0},{"$f":"$BT$2*'Lookup Tables'!BZ91","v":0},{"$f":"$BT$2*'Lookup Tables'!CA91","v":0},{"$f":"$BT$2*'Lookup Tables'!CB91","v":0},{"$f":"$BT$2*'Lookup Tables'!CC91","v":0},{"$f":"$BT$2*'Lookup Tables'!CD91","v":0},{"$f":"$BT$2*'Lookup Tables'!CE91","v":0},{"$f":"$BT$2*'Lookup Tables'!CF91","v":0},{"$f":"$BT$2*'Lookup Tables'!CG91","v":0},{"$f":"$BT$2*'Lookup Tables'!CH91","v":0},{"$f":"$BT$2*'Lookup Tables'!CI91","v":0},{"$f":"$BT$2*'Lookup Tables'!CJ91","v":0},{"$f":"$BT$2*'Lookup Tables'!CK91","v":0},{"$f":"$BT$2*'Lookup Tables'!CL91","v":0},null,null,88,0,0,0,0,0,0,0,0,0,0,0,0,0,0,0,null,{"$f":"CV91*Calculator!G$27/21","v":0}]
[null,89,{"$f":"$D$2*'Lookup Tables'!H92","v":0},{"$f":"$D$2*'Lookup Tables'!I92","v":0},{"$f":"$D$2*'Lookup Tables'!J92","v":0},{"$f":"$D$2*'Lookup Tables'!K92","v":0},{"$f":"$D$2*'Lookup Tables'!L92","v":0},{"$f":"$D$2*'Lookup Tables'!M92","v":0},{"$f":"$D$2*'Lookup Tables'!N92","v":0},{"$f":"$D$2*'Lookup Tables'!O92","v":0},{"$f":"$D$2*'Lookup Tables'!P92","v":0},{"$f":"$D$2*'Lookup Tables'!Q92","v":0},{"$f":"$D$2*'Lookup Tables'!R92","v":0},{"$f":"$D$2*'Lookup Tables'!S92","v":0},{"$f":"$D$2*'Lookup Tables'!T92","v":0},{"$f":"$D$2*'Lookup Tables'!U92","v":0},{"$f":"$D$2*'Lookup Tables'!V92","v":0},null,89,{"$f":"$U$2*'Lookup Tables'!Y92","v":0},{"$f":"$U$2*'Lookup Tables'!Z92","v":0},{"$f":"$U$2*'Lookup Tables'!AA92","v":0},{"$f":"$U$2*'Lookup Tables'!AB92","v":0},{"$f":"$U$2*'Lookup Tables'!AC92","v":0},{"$f":"$U$2*'Lookup Tables'!AD92","v":0},{"$f":"$U$2*'Lookup Tables'!AE92","v":0},{"$f":"$U$2*'Lookup Tables'!AF92","v":0},{"$f":"$U$2*'Lookup Tables'!AG92","v":0},{"$f":"$U$2*'Lookup Tables'!AH92","v":0},{"$f":"$U$2*'Lookup Tables'!AI92","v":0},{"$f":"$U$2*'Lookup Tables'!AJ92","v":0},{"$f":"$U$2*'Lookup Tables'!AK92","v":0},{"$f":"$U$2*'Lookup Tables'!AL92","v":0},{"$f":"$U$2*'Lookup Tables'!AM92","v":0},null,89,{"$f":"$AL$2*'Lookup Tables'!AP92","v":0},{"$f":"$AL$2*'Lookup Tables'!AQ92","v":0},{"$f":"$AL$2*'Lookup Tables'!AR92","v":0},{"$f":"$AL$2*'Lookup Tables'!AS92","v":0},{"$f":"$AL$2*'Lookup Tables'!AT92","v":0},{"$f":"$AL$2*'Lookup Tables'!AU92","v":0},{"$f":"$AL$2*'Lookup Tables'!AV92","v":0},{"$f":"$AL$2*'Lookup Tables'!AW92","v":0},{"$f":"$AL$2*'Lookup Tables'!AX92","v":0},{"$f":"$AL$2*'Lookup Tables'!AY92","v":0},{"$f":"$AL$2*'Lookup Tables'!AZ92","v":0},{"$f":"$AL$2*'Lookup Tables'!BA92","v":0},{"$f":"$AL$2*'Lookup Tables'!BB92","v":0},{"$f":"$AL$2*'Lookup Tables'!BC92","v":0},{"$f":"$AL$2*'Lookup Tables'!BD92","v":0},null,89,{"$f":"$BC$2*'Lookup Tables'!BG92","v":0},{"$f":"$BC$2*'Lookup Tables'!BH92","v":0},{"$f":"$BC$2*'Lookup Tables'!BI92","v":0},{"$f":"$BC$2*'Lookup Tables'!BJ92","v":0},{"$f":"$BC$2*'Lookup Tables'!BK92","v":0},{"$f":"$BC$2*'Lookup Tables'!BL92","v":0},{"$f":"$BC$2*'Lookup Tables'!BM92","v":0},{"$f":"$BC$2*'Lookup Tables'!BN92","v":0},{"$f":"$BC$2*'Lookup Tables'!BO92","v":0},{"$f":"$BC$2*'Lookup Tables'!BP92","v":0},{"$f":"$BC$2*'Lookup Tables'!BQ92","v":0},{"$f":"$BC$2*'Lookup Tables'!BR92","v":0},{"$f":"$BC$2*'Lookup Tables'!BS92","v":0},{"$f":"$BC$2*'Lookup Tables'!BT92","v":0},{"$f":"$BC$2*'Lookup Tables'!BU92","v":0},null,89,{"$f":"$BT$2*'Lookup Tables'!BX92","v":0},{"$f":"$BT$2*'Lookup Tables'!BY92","v":0},{"$f":"$BT$2*'Lookup Tables'!BZ92","v":0},{"$f":"$BT$2*'Lookup Tables'!CA92","v":0},{"$f":"$BT$2*'Lookup Tables'!CB92","v":0},{"$f":"$BT$2*'Lookup Tables'!CC92","v":0},{"$f":"$BT$2*'Lookup Tables'!CD92","v":0},{"$f":"$BT$2*'Lookup Tables'!CE92","v":0},{"$f":"$BT$2*'Lookup Tables'!CF92","v":0},{"$f":"$BT$2*'Lookup Tables'!CG92","v":0},{"$f":"$BT$2*'Lookup Tables'!CH92","v":0},{"$f":"$BT$2*'Lookup Tables'!CI92","v":0},{"$f":"$BT$2*'Lookup Tables'!CJ92","v":0},{"$f":"$BT$2*'Lookup Tables'!CK92","v":0},{"$f":"$BT$2*'Lookup Tables'!CL92","v":0},null,null,89,0,0,0,0,0,0,0,0,0,0,0,0,0,0,0,null,{"$f":"CV92*Calculator!G$27/21","v":0}]
[null,90,{"$f":"$D$2*'Lookup Tables'!H93","v":0},{"$f":"$D$2*'Lookup Tables'!I93","v":0},{"$f":"$D$2*'Lookup Tables'!J93","v":0},{"$f":"$D$2*'Lookup Tables'!K93","v":0},{"$f":"$D$2*'Lookup Tables'!L93","v":0},{"$f":"$D$2*'Lookup Tables'!M93","v":0},{"$f":"$D$2*'Lookup Tables'!N93","v":0},{"$f":"$D$2*'Lookup Tables'!O93","v":0},{"$f":"$D$2*'Lookup Tables'!P93","v":0},{"$f":"$D$2*'Lookup Tables'!Q93","v":0},{"$f":"$D$2*'Lookup Tables'!R93","v":0},{"$f":"$D$2*'Lookup Tables'!S93","v":0},{"$f":"$D$2*'Lookup Tables'!T93","v":0},{"$f":"$D$2*'Lookup Tables'!U93","v":0},{"$f":"$D$2*'Lookup Tables'!V93","v":0},null,90,{"$f":"$U$2*'Lookup Tables'!Y93","v":0},{"$f":"$U$2*'Lookup Tables'!Z93","v":0},{"$f":"$U$2*'Lookup Tables'!AA93","v":0},{"$f":"$U$2*'Lookup Tables'!AB93","v":0},{"$f":"$U$2*'Lookup Tables'!AC93","v":0},{"$f":"$U$2*'Lookup Tables'!AD93","v":0},{"$f":"$U$2*'Lookup Tables'!AE93","v":0},{"$f":"$U$2*'Lookup Tables'!AF93","v":0},{"$f":"$U$2*'Lookup Tables'!AG93","v":0},{"$f":"$U$2*'Lookup Tables'!AH93","v":0},{"$f":"$U$2*'Lookup Tables'!AI93","v":0},{"$f":"$U$2*'Lookup Tables'!AJ93","v":0},{"$f":"$U$2*'Lookup Tables'!AK93","v":0},{"$f":"$U$2*'Lookup Tables'!AL93","v":0},{"$f":"$U$2*'Lookup Tables'!AM93","v":0},null,90,{"$f":"$AL$2*'Lookup Tables'!AP93","v":0},{"$f":"$AL$2*'Lookup Tables'!AQ93","v":0},{"$f":"$AL$2*'Lookup Tables'!AR93","v":0},{"$f":"$AL$2*'Lookup Tables'!AS93","v":0},{"$f":"$AL$2*'Lookup Tables'!AT93","v":0},{"$f":"$AL$2*'Lookup Tables'!AU93","v":0},{"$f":"$AL$2*'Lookup Tables'!AV93","v":0},{"$f":"$AL$2*'Lookup Tables'!AW93","v":0},{"$f":"$AL$2*'Lookup Tables'!AX93","v":0},{"$f":"$AL$2*'Lookup Tables'!AY93","v":0},{"$f":"$AL$2*'Lookup Tables'!AZ93","v":0},{"$f":"$AL$2*'Lookup Tables'!BA93","v":0},{"$f":"$AL$2*'Lookup Tables'!BB93","v":0},{"$f":"$AL$2*'Lookup Tables'!BC93","v":0},{"$f":"$AL$2*'Lookup Tables'!BD93","v":0},null,90,{"$f":"$BC$2*'Lookup Tables'!BG93","v":0},{"$f":"$BC$2*'Lookup Tables'!BH93","v":0},{"$f":"$BC$2*'Lookup Tables'!BI93","v":0},{"$f":"$BC$2*'Lookup Tables'!BJ93","v":0},{"$f":"$BC$2*'Lookup Tables'!BK93","v":0},{"$f":"$BC$2*'Lookup Tables'!BL93","v":0},{"$f":"$BC$2*'Lookup Tables'!BM93","v":0},{"$f":"$BC$2*'Lookup Tables'!BN93","v":0},{"$f":"$BC$2*'Lookup Tables'!BO93","v":0},{"$f":"$BC$2*'Lookup Tables'!BP93","v":0},{"$f":"$BC$2*'Lookup Tables'!BQ93","v":0},{"$f":"$BC$2*'Lookup Tables'!BR93","v":0},{"$f":"$BC$2*'Lookup Tables'!BS93","v":0},{"$f":"$BC$2*'Lookup Tables'!BT93","v":0},{"$f":"$BC$2*'Lookup Tables'!BU93","v":0},null,90,{"$f":"$BT$2*'Lookup Tables'!BX93","v":0},{"$f":"$BT$2*'Lookup Tables'!BY93","v":0},{"$f":"$BT$2*'Lookup Tables'!BZ93","v":0},{"$f":"$BT$2*'Lookup Tables'!CA93","v":0},{"$f":"$BT$2*'Lookup Tables'!CB93","v":0},{"$f":"$BT$2*'Lookup Tables'!CC93","v":0},{"$f":"$BT$2*'Lookup Tables'!CD93","v":0},{"$f":"$BT$2*'Lookup Tables'!CE93","v":0},{"$f":"$BT$2*'Lookup Tables'!CF93","v":0},{"$f":"$BT$2*'Lookup Tables'!CG93","v":0},{"$f":"$BT$2*'Lookup Tables'!CH93","v":0},{"$f":"$BT$2*'Lookup Tables'!CI93","v":0},{"$f":"$BT$2*'Lookup Tables'!CJ93","v":0},{"$f":"$BT$2*'Lookup Tables'!CK93","v":0},{"$f":"$BT$2*'Lookup Tables'!CL93","v":0},null,null,90,0,0,0,0,0,0,0,0,0,0,0,0,0,0,0,null,{"$f":"CV93*Calculator!G$27/21","v":0}]
[null,91,{"$f":"$D$2*'Lookup Tables'!H94","v":0},{"$f":"$D$2*'Lookup Tables'!I94","v":0},{"$f":"$D$2*'Lookup Tables'!J94","v":0},{"$f":"$D$2*'Lookup Tables'!K94","v":0},{"$f":"$D$2*'Lookup Tables'!L94","v":0},{"$f":"$D$2*'Lookup Tables'!M94","v":0},{"$f":"$D$2*'Lookup Tables'!N94","v":0},{"$f":"$D$2*'Lookup Tables'!O94","v":0},{"$f":"$D$2*'Lookup Tables'!P94","v":0},{"$f":"$D$2*'Lookup Tables'!Q94","v":0},{"$f":"$D$2*'Lookup Tables'!R94","v":0},{"$f":"$D$2*'Lookup Tables'!S94","v":0},{"$f":"$D$2*'Lookup Tables'!T94","v":0},{"$f":"$D$2*'Lookup Tables'!U94","v":0},{"$f":"$D$2*'Lookup Tables'!V94","v":0},null,91,{"$f":"$U$2*'Lookup Tables'!Y94","v":0},{"$f":"$U$2*'Lookup Tables'!Z94","v":0},{"$f":"$U$2*'Lookup Tables'!AA94","v":0},{"$f":"$U$2*'Lookup Tables'!AB94","v":0},{"$f":"$U$2*'Lookup Tables'!AC94","v":0},{"$f":"$U$2*'Lookup Tables'!AD94","v":0},{"$f":"$U$2*'Lookup Tables'!AE94","v":0},{"$f":"$U$2*'Lookup Tables'!AF94","v":0},{"$f":"$U$2*'Lookup Tables'!AG94","v":0},{"$f":"$U$2*'Lookup Tables'!AH94","v":0},{"$f":"$U$2*'Lookup Tables'!AI94","v":0},{"$f":"$U$2*'Lookup Tables'!AJ94","v":0},{"$f":"$U$2*'Lookup Tables'!AK94","v":0},{"$f":"$U$2*'Lookup Tables'!AL94","v":0},{"$f":"$U$2*'Lookup Tables'!AM94","v":0},null,91,{"$f":"$AL$2*'Lookup Tables'!AP94","v":0},{"$f":"$AL$2*'Lookup Tables'!AQ94","v":0},{"$f":"$AL$2*'Lookup Tables'!AR94","v":0},{"$f":"$AL$2*'Lookup Tables'!AS94","v":0},{"$f":"$AL$2*'Lookup Tables'!AT94","v":0},{"$f":"$AL$2*'Lookup Tables'!AU94","v":0},{"$f":"$AL$2*'Lookup Tables'!AV94","v":0},{"$f":"$AL$2*'Lookup Tables'!AW94","v":0},{"$f":"$AL$2*'Lookup Tables'!AX94","v":0},{"$f":"$AL$2*'Lookup Tables'!AY94","v":0},{"$f":"$AL$2*'Lookup Tables'!AZ94","v":0},{"$f":"$AL$2*'Lookup Tables'!BA94","v":0},{"$f":"$AL$2*'Lookup Tables'!BB94","v":0},{"$f":"$AL$2*'Lookup Tables'!BC94","v":0},{"$f":"$AL$2*'Lookup Tables'!BD94","v":0},null,91,{"$f":"$BC$2*'Lookup Tables'!BG94","v":0},{"$f":"$BC$2*'Lookup Tables'!BH94","v":0},{"$f":"$BC$2*'Lookup Tables'!BI94","v":0},{"$f":"$BC$2*'Lookup Tables'!BJ94","v":0},{"$f":"$BC$2*'Lookup Tables'!BK94","v":0},{"$f":"$BC$2*'Lookup Tables'!BL94","v":0},{"$f":"$BC$2*'Lookup Tables'!BM94","v":0},{"$f":"$BC$2*'Lookup Tables'!BN94","v":0},{"$f":"$BC$2*'Lookup Tables'!BO94","v":0},{"$f":"$BC$2*'Lookup Tables'!BP94","v":0},{"$f":"$BC$2*'Lookup Tables'!BQ94","v":0},{"$f":"$BC$2*'Lookup Tables'!BR94","v":0},{"$f":"$BC$2*'Lookup Tables'!BS94","v":0},{"$f":"$BC$2*'Lookup Tables'!BT94","v":0},{"$f":"$BC$2*'Lookup Tables'!BU94","v":0},null,91,{"$f":"$BT$2*'Lookup Tables'!BX94","v":0},{"$f":"$BT$2*'Lookup Tables'!BY94","v":0},{"$f":"$BT$2*'Lookup Tables'!BZ94","v":0},{"$f":"$BT$2*'Lookup Tables'!CA94","v":0},{"$f":"$BT$2*'Lookup Tables'!CB94","v":0},{"$f":"$BT$2*'Lookup Tables'!CC94","v":0},{"$f":"$BT$2*'Lookup Tables'!CD94","v":0},{"$f":"$BT$2*'Lookup Tables'!CE94","v":0},{"$f":"$BT$2*'Lookup Tables'!CF94","v":0},{"$f":"$BT$2*'Lookup Tables'!CG94","v":0},{"$f":"$BT$2*'Lookup Tables'!CH94","v":0},{"$f":"$BT$2*'Lookup Tables'!CI94","v":0},{"$f":"$BT$2*'Lookup Tables'!CJ94","v":0},{"$f":"$BT$2*'Lookup Tables'!CK94","v":0},{"$f":"$BT$2*'Lookup Tables'!CL94","v":0},null,null,91,0,0,0,0,0,0,0,0,0,0,0,0,0,0,0,null,{"$f":"CV94*Calculator!G$27/21","v":0}]
[null,92,{"$f":"$D$2*'Lookup Tables'!H95","v":0},{"$f":"$D$2*'Lookup Tables'!I95","v":0},{"$f":"$D$2*'Lookup Tables'!J95","v":0},{"$f":"$D$2*'Lookup Tables'!K95","v":0},{"$f":"$D$2*'Lookup Tables'!L95","v":0},{"$f":"$D$2*'Lookup Tables'!M95","v":0},{"$f":"$D$2*'Lookup Tables'!N95","v":0},{"$f":"$D$2*'Lookup Tables'!O95","v":0},{"$f":"$D$2*'Lookup Tables'!P95","v":0},{"$f":"$D$2*'Lookup Tables'!Q95","v":0},{"$f":"$D$2*'Lookup Tables'!R95","v":0},{"$f":"$D$2*'Lookup Tables'!S95","v":0},{"$f":"$D$2*'Lookup Tables'!T95","v":0},{"$f":"$D$2*'Lookup Tables'!U95","v":0},{"$f":"$D$2*'Lookup Tables'!V95","v":0},null,92,{"$f":"$U$2*'Lookup Tables'!Y95","v":0},{"$f":"$U$2*'Lookup Tables'!Z95","v":0},{"$f":"$U$2*'Lookup Tables'!AA95","v":0},{"$f":"$U$2*'Lookup Tables'!AB95","v":0},{"$f":"$U$2*'Lookup Tables'!AC95","v":0},{"$f":"$U$2*'Lookup Tables'!AD95","v":0},{"$f":"$U$2*'Lookup Tables'!AE95","v":0},{"$f":"$U$2*'Lookup Tables'!AF95","v":0},{"$f":"$U$2*'Lookup Tables'!AG95","v":0},{"$f":"$U$2*'Lookup Tables'!AH95","v":0},{"$f":"$U$2*'Lookup Tables'!AI95","v":0},{"$f":"$U$2*'Lookup Tables'!AJ95","v":0},{"$f":"$U$2*'Lookup Tables'!AK95","v":0},{"$f":"$U$2*'Lookup Tables'!AL95","v":0},{"$f":"$U$2*'Lookup Tables'!AM95","v":0},null,92,{"$f":"$AL$2*'Lookup Tables'!AP95","v":0},{"$f":"$AL$2*'Lookup Tables'!AQ95","v":0},{"$f":"$AL$2*'Lookup Tables'!AR95","v":0},{"$f":"$AL$2*'Lookup Tables'!AS95","v":0},{"$f":"$AL$2*'Lookup Tables'!AT95","v":0},{"$f":"$AL$2*'Lookup Tables'!AU95","v":0},{"$f":"$AL$2*'Lookup Tables'!AV95","v":0},{"$f":"$AL$2*'Lookup Tables'!AW95","v":0},{"$f":"$AL$2*'Lookup Tables'!AX95","v":0},{"$f":"$AL$2*'Lookup Tables'!AY95","v":0},{"$f":"$AL$2*'Lookup Tables'!AZ95","v":0},{"$f":"$AL$2*'Lookup Tables'!BA95","v":0},{"$f":"$AL$2*'Lookup Tables'!BB95","v":0},{"$f":"$AL$2*'Lookup Tables'!BC95","v":0},{"$f":"$AL$2*'Lookup Tables'!BD95","v":0},null,92,{"$f":"$BC$2*'Lookup Tables'!BG95","v":0},{"$f":"$BC$2*'Lookup Tables'!BH95","v":0},{"$f":"$BC$2*'Lookup Tables'!BI95","v":0},{"$f":"$BC$2*'Lookup Tables'!BJ95","v":0},{"$f":"$BC$2*'Lookup Tables'!BK95","v":0},{"$f":"$BC$2*'Lookup Tables'!BL95","v":0},{"$f":"$BC$2*'Lookup Tables'!BM95","v":0},{"$f":"$BC$2*'Lookup Tables'!BN95","v":0},{"$f":"$BC$2*'Lookup Tables'!BO95","v":0},{"$f":"$BC$2*'Lookup Tables'!BP95","v":0},{"$f":"$BC$2*'Lookup Tables'!BQ95","v":0},{"$f":"$BC$2*'Lookup Tables'!BR95","v":0},{"$f":"$BC$2*'Lookup Tables'!BS95","v":0},{"$f":"$BC$2*'Lookup Tables'!BT95","v":0},{"$f":"$BC$2*'Lookup Tables'!BU95","v":0},null,92,{"$f":"$BT$2*'Lookup Tables'!BX95","v":0},{"$f":"$BT$2*'Lookup Tables'!BY95","v":0},{"$f":"$BT$2*'Lookup Tables'!BZ95","v":0},{"$f":"$BT$2*'Lookup Tables'!CA95","v":0},{"$f":"$BT$2*'Lookup Tables'!CB95","v":0},{"$f":"$BT$2*'Lookup Tables'!CC95","v":0},{"$f":"$BT$2*'Lookup Tables'!CD95","v":0},{"$f":"$BT$2*'Lookup Tables'!CE95","v":0},{"$f":"$BT$2*'Lookup Tables'!CF95","v":0},{"$f":"$BT$2*'Lookup Tables'!CG95","v":0},{"$f":"$BT$2*'Lookup Tables'!CH95","v":0},{"$f":"$BT$2*'Lookup Tables'!CI95","v":0},{"$f":"$BT$2*'Lookup Tables'!CJ95","v":0},{"$f":"$BT$2*'Lookup Tables'!CK95","v":0},{"$f":"$BT$2*'Lookup Tables'!CL95","v":0},null,null,92,0,0,0,0,0,0,0,0,0,0,0,0,0,0,0,null,{"$f":"CV95*Calculator!G$27/21","v":0}]
[null,93,{"$f":"$D$2*'Lookup Tables'!H96","v":0},{"$f":"$D$2*'Lookup Tables'!I96","v":0},{"$f":"$D$2*'Lookup Tables'!J96","v":0},{"$f":"$D$2*'Lookup Tables'!K96","v":0},{"$f":"$D$2*'Lookup Tables'!L96","v":0},{"$f":"$D$2*'Lookup Tables'!M96","v":0},{"$f":"$D$2*'Lookup Tables'!N96","v":0},{"$f":"$D$2*'Lookup Tables'!O96","v":0},{"$f":"$D$2*'Lookup Tables'!P96","v":0},{"$f":"$D$2*'Lookup Tables'!Q96","v":0},{"$f":"$D$2*'Lookup Tables'!R96","v":0},{"$f":"$D$2*'Lookup Tables'!S96","v":0},{"$f":"$D$2*'Lookup Tables'!T96","v":0},{"$f":"$D$2*'Lookup Tables'!U96","v":0},{"$f":"$D$2*'Lookup Tables'!V96","v":0},null,93,{"$f":"$U$2*'Lookup Tables'!Y96","v":0},{"$f":"$U$2*'Lookup Tables'!Z96","v":0},{"$f":"$U$2*'Lookup Tables'!AA96","v":0},{"$f":"$U$2*'Lookup Tables'!AB96","v":0},{"$f":"$U$2*'Lookup Tables'!AC96","v":0},{"$f":"$U$2*'Lookup Tables'!AD96","v":0},{"$f":"$U$2*'Lookup Tables'!AE96","v":0},{"$f":"$U$2*'Lookup Tables'!AF96","v":0},{"$f":"$U$2*'Lookup Tables'!AG96","v":0},{"$f":"$U$2*'Lookup Tables'!AH96","v":0},{"$f":"$U$2*'Lookup Tables'!AI96","v":0},{"$f":"$U$2*'Lookup Tables'!AJ96","v":0},{"$f":"$U$2*'Lookup Tables'!AK96","v":0},{"$f":"$U$2*'Lookup Tables'!AL96","v":0},{"$f":"$U$2*'Lookup Tables'!AM96","v":0},null,93,{"$f":"$AL$2*'Lookup Tables'!AP96","v":0},{"$f":"$AL$2*'Lookup Tables'!AQ96","v":0},{"$f":"$AL$2*'Lookup Tables'!AR96","v":0},{"$f":"$AL$2*'Lookup Tables'!AS96","v":0},{"$f":"$AL$2*'Lookup Tables'!AT96","v":0},{"$f":"$AL$2*'Lookup Tables'!AU96","v":0},{"$f":"$AL$2*'Lookup Tables'!AV96","v":0},{"$f":"$AL$2*'Lookup Tables'!AW96","v":0},{"$f":"$AL$2*'Lookup Tables'!AX96","v":0},{"$f":"$AL$2*'Lookup Tables'!AY96","v":0},{"$f":"$AL$2*'Lookup Tables'!AZ96","v":0},{"$f":"$AL$2*'Lookup Tables'!BA96","v":0},{"$f":"$AL$2*'Lookup Tables'!BB96","v":0},{"$f":"$AL$2*'Lookup Tables'!BC96","v":0},{"$f":"$AL$2*'Lookup Tables'!BD96","v":0},null,93,{"$f":"$BC$2*'Lookup Tables'!BG96","v":0},{"$f":"$BC$2*'Lookup Tables'!BH96","v":0},{"$f":"$BC$2*'Lookup Tables'!BI96","v":0},{"$f":"$BC$2*'Lookup Tables'!BJ96","v":0},{"$f":"$BC$2*'Lookup Tables'!BK96","v":0},{"$f":"$BC$2*'Lookup Tables'!BL96","v":0},{"$f":"$BC$2*'Lookup Tables'!BM96","v":0},{"$f":"$BC$2*'Lookup Tables'!BN96","v":0},{"$f":"$BC$2*'Lookup Tables'!BO96","v":0},{"$f":"$BC$2*'Lookup Tables'!BP96","v":0},{"$f":"$BC$2*'Lookup Tables'!BQ96","v":0},{"$f":"$BC$2*'Lookup Tables'!BR96","v":0},{"$f":"$BC$2*'Lookup Tables'!BS96","v":0},{"$f":"$BC$2*'Lookup Tables'!BT96","v":0},{"$f":"$BC$2*'Lookup Tables'!BU96","v":0},null,93,{"$f":"$BT$2*'Lookup Tables'!BX96","v":0},{"$f":"$BT$2*'Lookup Tables'!BY96","v":0},{"$f":"$BT$2*'Lookup Tables'!BZ96","v":0},{"$f":"$BT$2*'Lookup Tables'!CA96","v":0},{"$f":"$BT$2*'Lookup Tables'!CB96","v":0},{"$f":"$BT$2*'Lookup Tables'!CC96","v":0},{"$f":"$BT$2*'Lookup Tables'!CD96","v":0},{"$f":"$BT$2*'Lookup Tables'!CE96","v":0},{"$f":"$BT$2*'Lookup Tables'!CF96","v":0},{"$f":"$BT$2*'Lookup Tables'!CG96","v":0},{"$f":"$BT$2*'Lookup Tables'!CH96","v":0},{"$f":"$BT$2*'Lookup Tables'!CI96","v":0},{"$f":"$BT$2*'Lookup Tables'!CJ96","v":0},{"$f":"$BT$2*'Lookup Tables'!CK96","v":0},{"$f":"$BT$2*'Lookup Tables'!CL96","v":0},null,null,93,0,0,0,0,0,0,0,0,0,0,0,0,0,0,0,null,{"$f":"CV96*Calculator!G$27/21","v":0}]
[null,94,{"$f":"$D$2*'Lookup Tables'!H97","v":0},{"$f":"$D$2*'Lookup Tables'!I97","v":0},{"$f":"$D$2*'Lookup Tables'!J97","v":0},{"$f":"$D$2*'Lookup Tables'!K97","v":0},{"$f":"$D$2*'Lookup Tables'!L97","v":0},{"$f":"$D$2*'Lookup Tables'!M97","v":0},{"$f":"$D$2*'Lookup Tables'!N97","v":0},{"$f":"$D$2*'Lookup Tables'!O97","v":0},{"$f":"$D$2*'Lookup Tables'!P97","v":0},{"$f":"$D$2*'Lookup Tables'!Q97","v":0},{"$f":"$D$2*'Lookup Tables'!R97","v":0},{"$f":"$D$2*'Lookup Tables'!S97","v":0},{"$f":"$D$2*'Lookup Tables'!T97","v":0},{"$f":"$D$2*'Lookup Tables'!U97","v":0},{"$f":"$D$2*'Lookup Tables'!V97","v":0},null,94,{"$f":"$U$2*'Lookup Tables'!Y97","v":0},{"$f":"$U$2*'Lookup Tables'!Z97","v":0},{"$f":"$U$2*'Lookup Tables'!AA97","v":0},{"$f":"$U$2*'Lookup Tables'!AB97","v":0},{"$f":"$U$2*'Lookup Tables'!AC97","v":0},{"$f":"$U$2*'Lookup Tables'!AD97","v":0},{"$f":"$U$2*'Lookup Tables'!AE97","v":0},{"$f":"$U$2*'Lookup Tables'!AF97","v":0},{"$f":"$U$2*'Lookup Tables'!AG97","v":0},{"$f":"$U$2*'Lookup Tables'!AH97","v":0},{"$f":"$U$2*'Lookup Tables'!AI97","v":0},{"$f":"$U$2*'Lookup Tables'!AJ97","v":0},{"$f":"$U$2*'Lookup Tables'!AK97","v":0},{"$f":"$U$2*'Lookup Tables'!AL97","v":0},{"$f":"$U$2*'Lookup Tables'!AM97","v":0},null,94,{"$f":"$AL$2*'Lookup Tables'!AP97","v":0},{"$f":"$AL$2*'Lookup Tables'!AQ97","v":0},{"$f":"$AL$2*'Lookup Tables'!AR97","v":0},{"$f":"$AL$2*'Lookup Tables'!AS97","v":0},{"$f":"$AL$2*'Lookup Tables'!AT97","v":0},{"$f":"$AL$2*'Lookup Tables'!AU97","v":0},{"$f":"$AL$2*'Lookup Tables'!AV97","v":0},{"$f":"$AL$2*'Lookup Tables'!AW97","v":0},{"$f":"$AL$2*'Lookup Tables'!AX97","v":0},{"$f":"$AL$2*'Lookup Tables'!AY97","v":0},{"$f":"$AL$2*'Lookup Tables'!AZ97","v":0},{"$f":"$AL$2*'Lookup Tables'!BA97","v":0},{"$f":"$AL$2*'Lookup Tables'!BB97","v":0},{"$f":"$AL$2*'Lookup Tables'!BC97","v":0},{"$f":"$AL$2*'Lookup Tables'!BD97","v":0},null,94,{"$f":"$BC$2*'Lookup Tables'!BG97","v":0},{"$f":"$BC$2*'Lookup Tables'!BH97","v":0},{"$f":"$BC$2*'Lookup Tables'!BI97","v":0},{"$f":"$BC$2*'Lookup Tables'!BJ97","v":0},{"$f":"$BC$2*'Lookup Tables'!BK97","v":0},{"$f":"$BC$2*'Lookup Tables'!BL97","v":0},{"$f":"$BC$2*'Lookup Tables'!BM97","v":0},{"$f":"$BC$2*'Lookup Tables'!BN97","v":0},{"$f":"$BC$2*'Lookup Tables'!BO97","v":0},{"$f":"$BC$2*'Lookup Tables'!BP97","v":0},{"$f":"$BC$2*'Lookup Tables'!BQ97","v":0},{"$f":"$BC$2*'Lookup Tables'!BR97","v":0},{"$f":"$BC$2*'Lookup Tables'!BS97","v":0},{"$f":"$BC$2*'Lookup Tables'!BT97","v":0},{"$f":"$BC$2*'Lookup Tables'!BU97","v":0},null,94,{"$f":"$BT$2*'Lookup Tables'!BX97","v":0},{"$f":"$BT$2*'Lookup Tables'!BY97","v":0},{"$f":"$BT$2*'Lookup Tables'!BZ97","v":0},{"$f":"$BT$2*'Lookup Tables'!CA97","v":0},{"$f":"$BT$2*'Lookup Tables'!CB97","v":0},{"$f":"$BT$2*'Lookup Tables'!CC97","v":0},{"$f":"$BT$2*'Lookup Tables'!CD97","v":0},{"$f":"$BT$2*'Lookup Tables'!CE97","v":0},{"$f":"$BT$2*'Lookup Tables'!CF97","v":0},{"$f":"$BT$2*'Lookup Tables'!CG97","v":0},{"$f":"$BT$2*'Lookup Tables'!CH97","v":0},{"$f":"$BT$2*'Lookup Tables'!CI97","v":0},{"$f":"$BT$2*'Lookup Tables'!CJ97","v":0},{"$f":"$BT$2*'Lookup Tables'!CK97","v":0},{"$f":"$BT$2*'Lookup Tables'!CL97","v":0},null,null,94,0,0,0,0,0,0,0,0,0,0,0,0,0,0,0,null,{"$f":"CV97*Calculator!G$27/21","v":0}]
[null,95,{"$f":"$D$2*'Lookup Tables'!H98","v":0},{"$f":"$D$2*'Lookup Tables'!I98","v":0},{"$f":"$D$2*'Lookup Tables'!J98","v":0},{"$f":"$D$2*'Lookup Tables'!K98","v":0},{"$f":"$D$2*'Lookup Tables'!L98","v":0},{"$f":"$D$2*'Lookup Tables'!M98","v":0},{"$f":"$D$2*'Lookup Tables'!N98","v":0},{"$f":"$D$2*'Lookup Tables'!O98","v":0},{"$f":"$D$2*'Lookup Tables'!P98","v":0},{"$f":"$D$2*'Lookup Tables'!Q98","v":0},{"$f":"$D$2*'Lookup Tables'!R98","v":0},{"$f":"$D$2*'Lookup Tables'!S98","v":0},{"$f":"$D$2*'Lookup Tables'!T98","v":0},{"$f":"$D$2*'Lookup Tables'!U98","v":0},{"$f":"$D$2*'Lookup Tables'!V98","v":0},null,95,{"$f":"$U$2*'Lookup Tables'!Y98","v":0},{"$f":"$U$2*'Lookup Tables'!Z98","v":0},{"$f":"$U$2*'Lookup Tables'!AA98","v":0},{"$f":"$U$2*'Lookup Tables'!AB98","v":0},{"$f":"$U$2*'Lookup Tables'!AC98","v":0},{"$f":"$U$2*'Lookup Tables'!AD98","v":0},{"$f":"$U$2*'Lookup Tables'!AE98","v":0},{"$f":"$U$2*'Lookup Tables'!AF98","v":0},{"$f":"$U$2*'Lookup Tables'!AG98","v":0},{"$f":"$U$2*'Lookup Tables'!AH98","v":0},{"$f":"$U$2*'Lookup Tables'!AI98","v":0},{"$f":"$U$2*'Lookup Tables'!AJ98","v":0},{"$f":"$U$2*'Lookup Tables'!AK98","v":0},{"$f":"$U$2*'Lookup Tables'!AL98","v":0},{"$f":"$U$2*'Lookup Tables'!AM98","v":0},null,95,{"$f":"$AL$2*'Lookup Tables'!AP98","v":0},{"$f":"$AL$2*'Lookup Tables'!AQ98","v":0},{"$f":"$AL$2*'Lookup Tables'!AR98","v":0},{"$f":"$AL$2*'Lookup Tables'!AS98","v":0},{"$f":"$AL$2*'Lookup Tables'!AT98","v":0},{"$f":"$AL$2*'Lookup Tables'!AU98","v":0},{"$f":"$AL$2*'Lookup Tables'!AV98","v":0},{"$f":"$AL$2*'Lookup Tables'!AW98","v":0},{"$f":"$AL$2*'Lookup Tables'!AX98","v":0},{"$f":"$AL$2*'Lookup Tables'!AY98","v":0},{"$f":"$AL$2*'Lookup Tables'!AZ98","v":0},{"$f":"$AL$2*'Lookup Tables'!BA98","v":0},{"$f":"$AL$2*'Lookup Tables'!BB98","v":0},{"$f":"$AL$2*'Lookup Tables'!BC98","v":0},{"$f":"$AL$2*'Lookup Tables'!BD98","v":0},null,95,{"$f":"$BC$2*'Lookup Tables'!BG98","v":0},{"$f":"$BC$2*'Lookup Tables'!BH98","v":0},{"$f":"$BC$2*'Lookup Tables'!BI98","v":0},{"$f":"$BC$2*'Lookup Tables'!BJ98","v":0},{"$f":"$BC$2*'Lookup Tables'!BK98","v":0},{"$f":"$BC$2*'Lookup Tables'!BL98","v":0},{"$f":"$BC$2*'Lookup Tables'!BM98","v":0},{"$f":"$BC$2*'Lookup Tables'!BN98","v":0},{"$f":"$BC$2*'Lookup Tables'!BO98","v":0},{"$f":"$BC$2*'Lookup Tables'!BP98","v":0},{"$f":"$BC$2*'Lookup Tables'!BQ98","v":0},{"$f":"$BC$2*'Lookup Tables'!BR98","v":0},{"$f":"$BC$2*'Lookup Tables'!BS98","v":0},{"$f":"$BC$2*'Lookup Tables'!BT98","v":0},{"$f":"$BC$2*'Lookup Tables'!BU98","v":0},null,95,{"$f":"$BT$2*'Lookup Tables'!BX98","v":0},{"$f":"$BT$2*'Lookup Tables'!BY98","v":0},{"$f":"$BT$2*'Lookup Tables'!BZ98","v":0},{"$f":"$BT$2*'Lookup Tables'!CA98","v":0},{"$f":"$BT$2*'Lookup Tables'!CB98","v":0},{"$f":"$BT$2*'Lookup Tables'!CC98","v":0},{"$f":"$BT$2*'Lookup Tables'!CD98","v":0},{"$f":"$BT$2*'Lookup Tables'!CE98","v":0},{"$f":"$BT$2*'Lookup Tables'!CF98","v":0},{"$f":"$BT$2*'Lookup Tables'!CG98","v":0},{"$f":"$BT$2*'Lookup Tables'!CH98","v":0},{"$f":"$BT$2*'Lookup Tables'!CI98","v":0},{"$f":"$BT$2*'Lookup Tables'!CJ98","v":0},{"$f":"$BT$2*'Lookup Tables'!CK98","v":0},{"$f":"$BT$2*'Lookup Tables'!CL98","v":0},null,null,95,0,0,0,0,0,0,0,0,0,0,0,0,0,0,0,null,{"$f":"CV98*Calculator!G$27/21","v":0}]
[null,96,{"$f":"$D$2*'Lookup Tables'!H99","v":0},{"$f":"$D$2*'Lookup Tables'!I99","v":0},{"$f":"$D$2*'Lookup Tables'!J99","v":0},{"$f":"$D$2*'Lookup Tables'!K99","v":0},{"$f":"$D$2*'Lookup Tables'!L99","v":0},{"$f":"$D$2*'Lookup Tables'!M99","v":0},{"$f":"$D$2*'Lookup Tables'!N99","v":0},{"$f":"$D$2*'Lookup Tables'!O99","v":0},{"$f":"$D$2*'Lookup Tables'!P99","v":0},{"$f":"$D$2*'Lookup Tables'!Q99","v":0},{"$f":"$D$2*'Lookup Tables'!R99","v":0},{"$f":"$D$2*'Lookup Tables'!S99","v":0},{"$f":"$D$2*'Lookup Tables'!T99","v":0},{"$f":"$D$2*'Lookup Tables'!U99","v":0},{"$f":"$D$2*'Lookup Tables'!V99","v":0},null,96,{"$f":"$U$2*'Lookup Tables'!Y99","v":0},{"$f":"$U$2*'Lookup Tables'!Z99","v":0},{"$f":"$U$2*'Lookup Tables'!AA99","v":0},{"$f":"$U$2*'Lookup Tables'!AB99","v":0},{"$f":"$U$2*'Lookup Tables'!AC99","v":0},{"$f":"$U$2*'Lookup Tables'!AD99","v":0},{"$f":"$U$2*'Lookup Tables'!AE99","v":0},{"$f":"$U$2*'Lookup Tables'!AF99","v":0},{"$f":"$U$2*'Lookup Tables'!AG99","v":0},{"$f":"$U$2*'Lookup Tables'!AH99","v":0},{"$f":"$U$2*'Lookup Tables'!AI99","v":0},{"$f":"$U$2*'Lookup Tables'!AJ99","v":0},{"$f":"$U$2*'Lookup Tables'!AK99","v":0},{"$f":"$U$2*'Lookup Tables'!AL99","v":0},{"$f":"$U$2*'Lookup Tables'!AM99","v":0},null,96,{"$f":"$AL$2*'Lookup Tables'!AP99","v":0},{"$f":"$AL$2*'Lookup Tables'!AQ99","v":0},{"$f":"$AL$2*'Lookup Tables'!AR99","v":0},{"$f":"$AL$2*'Lookup Tables'!AS99","v":0},{"$f":"$AL$2*'Lookup Tables'!AT99","v":0},{"$f":"$AL$2*'Lookup Tables'!AU99","v":0},{"$f":"$AL$2*'Lookup Tables'!AV99","v":0},{"$f":"$AL$2*'Lookup Tables'!AW99","v":0},{"$f":"$AL$2*'Lookup Tables'!AX99","v":0},{"$f":"$AL$2*'Lookup Tables'!AY99","v":0},{"$f":"$AL$2*'Lookup Tables'!AZ99","v":0},{"$f":"$AL$2*'Lookup Tables'!BA99","v":0},{"$f":"$AL$2*'Lookup Tables'!BB99","v":0},{"$f":"$AL$2*'Lookup Tables'!BC99","v":0},{"$f":"$AL$2*'Lookup Tables'!BD99","v":0},null,96,{"$f":"$BC$2*'Lookup Tables'!BG99","v":0},{"$f":"$BC$2*'Lookup Tables'!BH99","v":0},{"$f":"$BC$2*'Lookup Tables'!BI99","v":0},{"$f":"$BC$2*'Lookup Tables'!BJ99","v":0},{"$f":"$BC$2*'Lookup Tables'!BK99","v":0},{"$f":"$BC$2*'Lookup Tables'!BL99","v":0},{"$f":"$BC$2*'Lookup Tables'!BM99","v":0},{"$f":"$BC$2*'Lookup Tables'!BN99","v":0},{"$f":"$BC$2*'Lookup Tables'!BO99","v":0},{"$f":"$BC$2*'Lookup Tables'!BP99","v":0},{"$f":"$BC$2*'Lookup Tables'!BQ99","v":0},{"$f":"$BC$2*'Lookup Tables'!BR99","v":0},{"$f":"$BC$2*'Lookup Tables'!BS99","v":0},{"$f":"$BC$2*'Lookup Tables'!BT99","v":0},{"$f":"$BC$2*'Lookup Tables'!BU99","v":0},null,96,{"$f":"$BT$2*'Lookup Tables'!BX99","v":0},{"$f":"$BT$2*'Lookup Tables'!BY99","v":0},{"$f":"$BT$2*'Lookup Tables'!BZ99","v":0},{"$f":"$BT$2*'Lookup Tables'!CA99","v":0},{"$f":"$BT$2*'Lookup Tables'!CB99","v":0},{"$f":"$BT$2*'Lookup Tables'!CC99","v":0},{"$f":"$BT$2*'Lookup Tables'!CD99","v":0},{"$f":"$BT$2*'Lookup Tables'!CE99","v":0},{"$f":"$BT$2*'Lookup Tables'!CF99","v":0},{"$f":"$BT$2*'Lookup Tables'!CG99","v":0},{"$f":"$BT$2*'Lookup Tables'!CH99","v":0},{"$f":"$BT$2*'Lookup Tables'!CI99","v":0},{"$f":"$BT$2*'Lookup Tables'!CJ99","v":0},{"$f":"$BT$2*'Lookup Tables'!CK99","v":0},{"$f":"$BT$2*'Lookup Tables'!CL99","v":0},null,null,96,0,0,0,0,0,0,0,0,0,0,0,0,0,0,0,null,{"$f":"CV99*Calculator!G$27/21","v":0}]
[null,97,{"$f":"$D$2*'Lookup Tables'!H100","v":0},{"$f":"$D$2*'Lookup Tables'!I100","v":0},{"$f":"$D$2*'Lookup Tables'!J100","v":0},{"$f":"$D$2*'Lookup Tables'!K100","v":0},{"$f":"$D$2*'Lookup Tables'!L100","v":0},{"$f":"$D$2*'Lookup Tables'!M100","v":0},{"$f":"$D$2*'Lookup Tables'!N100","v":0},{"$f":"$D$2*'Lookup Tables'!O100","v":0},{"$f":"$D$2*'Lookup Tables'!P100","v":0},{"$f":"$D$2*'Lookup Tables'!Q100","v":0},{"$f":"$D$2*'Lookup Tables'!R100","v":0},{"$f":"$D$2*'Lookup Tables'!S100","v":0},{"$f":"$D$2*'Lookup Tables'!T100","v":0},{"$f":"$D$2*'Lookup Tables'!U100","v":0},{"$f":"$D$2*'Lookup Tables'!V100","v":0},null,97,{"$f":"$U$2*'Lookup Tables'!Y100","v":0},{"$f":"$U$2*'Lookup Tables'!Z100","v":0},{"$f":"$U$2*'Lookup Tables'!AA100","v":0},{"$f":"$U$2*'Lookup Tables'!AB100","v":0},{"$f":"$U$2*'Lookup Tables'!AC100","v":0},{"$f":"$U$2*'Lookup Tables'!AD100","v":0},{"$f":"$U$2*'Lookup Tables'!AE100","v":0},{"$f":"$U$2*'Lookup Tables'!AF100","v":0},{"$f":"$U$2*'Lookup Tables'!AG100","v":0},{"$f":"$U$2*'Lookup Tables'!AH100","v":0},{"$f":"$U$2*'Lookup Tables'!AI100","v":0},{"$f":"$U$2*'Lookup Tables'!AJ100","v":0},{"$f":"$U$2*'Lookup Tables'!AK100","v":0},{"$f":"$U$2*'Lookup Tables'!AL100","v":0},{"$f":"$U$2*'Lookup Tables'!AM100","v":0},null,97,{"$f":"$AL$2*'Lookup Tables'!AP100","v":0},{"$f":"$AL$2*'Lookup Tables'!AQ100","v":0},{"$f":"$AL$2*'Lookup Tables'!AR100","v":0},{"$f":"$AL$2*'Lookup Tables'!AS100","v":0},{"$f":"$AL$2*'Lookup Tables'!AT100","v":0},{"$f":"$AL$2*'Lookup Tables'!AU100","v":0},{"$f":"$AL$2*'Lookup Tables'!AV100","v":0},{"$f":"$AL$2*'Lookup Tables'!AW100","v":0},{"$f":"$AL$2*'Lookup Tables'!AX100","v":0},{"$f":"$AL$2*'Lookup Tables'!AY100","v":0},{"$f":"$AL$2*'Lookup Tables'!AZ100","v":0},{"$f":"$AL$2*'Lookup Tables'!BA100","v":0},{"$f":"$AL$2*'Lookup Tables'!BB100","v":0},{"$f":"$AL$2*'Lookup Tables'!BC100","v":0},{"$f":"$AL$2*'Lookup Tables'!BD100","v":0},null,97,{"$f":"$BC$2*'Lookup Tables'!BG100","v":0},{"$f":"$BC$2*'Lookup Tables'!BH100","v":0},{"$f":"$BC$2*'Lookup Tables'!BI100","v":0},{"$f":"$BC$2*'Lookup Tables'!BJ100","v":0},{"$f":"$BC$2*'Lookup Tables'!BK100","v":0},{"$f":"$BC$2*'Lookup Tables'!BL100","v":0},{"$f":"$BC$2*'Lookup Tables'!BM100","v":0},{"$f":"$BC$2*'Lookup Tables'!BN100","v":0},{"$f":"$BC$2*'Lookup Tables'!BO100","v":0},{"$f":"$BC$2*'Lookup Tables'!BP100","v":0},{"$f":"$BC$2*'Lookup Tables'!BQ100","v":0},{"$f":"$BC$2*'Lookup Tables'!BR100","v":0},{"$f":"$BC$2*'Lookup Tables'!BS100","v":0},{"$f":"$BC$2*'Lookup Tables'!BT100","v":0},{"$f":"$BC$2*'Lookup Tables'!BU100","v":0},null,97,{"$f":"$BT$2*'Lookup Tables'!BX100","v":0},{"$f":"$BT$2*'Lookup Tables'!BY100","v":0},{"$f":"$BT$2*'Lookup Tables'!BZ100","v":0},{"$f":"$BT$2*'Lookup Tables'!CA100","v":0},{"$f":"$BT$2*'Lookup Tables'!CB100","v":0},{"$f":"$BT$2*'Lookup Tables'!CC100","v":0},{"$f":"$BT$2*'Lookup Tables'!CD100","v":0},{"$f":"$BT$2*'Lookup Tables'!CE100","v":0},{"$f":"$BT$2*'Lookup Tables'!CF100","v":0},{"$f":"$BT$2*'Lookup Tables'!CG100","v":0},{"$f":"$BT$2*'Lookup Tables'!CH100","v":0},{"$f":"$BT$2*'Lookup Tables'!CI100","v":0},{"$f":"$BT$2*'Lookup Tables'!CJ100","v":0},{"$f":"$BT$2*'Lookup Tables'!CK100","v":0},{"$f":"$BT$2*'Lookup Tables'!CL100","v":0},null,null,97,0,0,0,0,0,0,0,0,0,0,0,0,0,0,0,null,{"$f":"CV100*Calculator!G$27/21","v":0}]
[null,98,{"$f":"$D$2*'Lookup Tables'!H101","v":0},{"$f":"$D$2*'Lookup Tables'!I101","v":0},{"$f":"$D$2*'Lookup Tables'!J101","v":0},{"$f":"$D$2*'Lookup Tables'!K101","v":0},{"$f":"$D$2*'Lookup Tables'!L101","v":0},{"$f":"$D$2*'Lookup Tables'!M101","v":0},{"$f":"$D$2*'Lookup Tables'!N101","v":0},{"$f":"$D$2*'Lookup Tables'!O101","v":0},{"$f":"$D$2*'Lookup Tables'!P101","v":0},{"$f":"$D$2*'Lookup Tables'!Q101","v":0},{"$f":"$D$2*'Lookup Tables'!R101","v":0},{"$f":"$D$2*'Lookup Tables'!S101","v":0},{"$f":"$D$2*'Lookup Tables'!T101","v":0},{"$f":"$D$2*'Lookup Tables'!U101","v":0},{"$f":"$D$2*'Lookup Tables'!V101","v":0},null,98,{"$f":"$U$2*'Lookup Tables'!Y101","v":0},{"$f":"$U$2*'Lookup Tables'!Z101","v":0},{"$f":"$U$2*'Lookup Tables'!AA101","v":0},{"$f":"$U$2*'Lookup Tables'!AB101","v":0},{"$f":"$U$2*'Lookup Tables'!AC101","v":0},{"$f":"$U$2*'Lookup Tables'!AD101","v":0},{"$f":"$U$2*'Lookup Tables'!AE101","v":0},{"$f":"$U$2*'Lookup Tables'!AF101","v":0},{"$f":"$U$2*'Lookup Tables'!AG101","v":0},{"$f":"$U$2*'Lookup Tables'!AH101","v":0},{"$f":"$U$2*'Lookup Tables'!AI101","v":0},{"$f":"$U$2*'Lookup Tables'!AJ101","v":0},{"$f":"$U$2*'Lookup Tables'!AK101","v":0},{"$f":"$U$2*'Lookup Tables'!AL101","v":0},{"$f":"$U$2*'Lookup Tables'!AM101","v":0},null,98,{"$f":"$AL$2*'Lookup Tables'!AP101","v":0},{"$f":"$AL$2*'Lookup Tables'!AQ101","v":0},{"$f":"$AL$2*'Lookup Tables'!AR101","v":0},{"$f":"$AL$2*'Lookup Tables'!AS101","v":0},{"$f":"$AL$2*'Lookup Tables'!AT101","v":0},{"$f":"$AL$2*'Lookup Tables'!AU101","v":0},{"$f":"$AL$2*'Lookup Tables'!AV101","v":0},{"$f":"$AL$2*'Lookup Tables'!AW101","v":0},{"$f":"$AL$2*'Lookup Tables'!AX101","v":0},{"$f":"$AL$2*'Lookup Tables'!AY101","v":0},{"$f":"$AL$2*'Lookup Tables'!AZ101","v":0},{"$f":"$AL$2*'Lookup Tables'!BA101","v":0},{"$f":"$AL$2*'Lookup Tables'!BB101","v":0},{"$f":"$AL$2*'Lookup Tables'!BC101","v":0},{"$f":"$AL$2*'Lookup Tables'!BD101","v":0},null,98,{"$f":"$BC$2*'Lookup Tables'!BG101","v":0},{"$f":"$BC$2*'Lookup Tables'!BH101","v":0},{"$f":"$BC$2*'Lookup Tables'!BI101","v":0},{"$f":"$BC$2*'Lookup Tables'!BJ101","v":0},{"$f":"$BC$2*'Lookup Tables'!BK101","v":0},{"$f":"$BC$2*'Lookup Tables'!BL101","v":0},{"$f":"$BC$2*'Lookup Tables'!BM101","v":0},{"$f":"$BC$2*'Lookup Tables'!BN101","v":0},{"$f":"$BC$2*'Lookup Tables'!BO101","v":0},{"$f":"$BC$2*'Lookup Tables'!BP101","v":0},{"$f":"$BC$2*'Lookup Tables'!BQ101","v":0},{"$f":"$BC$2*'Lookup Tables'!BR101","v":0},{"$f":"$BC$2*'Lookup Tables'!BS101","v":0},{"$f":"$BC$2*'Lookup Tables'!BT101","v":0},{"$f":"$BC$2*'Lookup Tables'!BU101","v":0},null,98,{"$f":"$BT$2*'Lookup Tables'!BX101","v":0},{"$f":"$BT$2*'Lookup Tables'!BY101","v":0},{"$f":"$BT$2*'Lookup Tables'!BZ101","v":0},{"$f":"$BT$2*'Lookup Tables'!CA101","v":0},{"$f":"$BT$2*'Lookup Tables'!CB101","v":0},{"$f":"$BT$2*'Lookup Tables'!CC101","v":0},{"$f":"$BT$2*'Lookup Tables'!CD101","v":0},{"$f":"$BT$2*'Lookup Tables'!CE101","v":0},{"$f":"$BT$2*'Lookup Tables'!CF101","v":0},{"$f":"$BT$2*'Lookup Tables'!CG101","v":0},{"$f":"$BT$2*'Lookup Tables'!CH101","v":0},{"$f":"$BT$2*'Lookup Tables'!CI101","v":0},{"$f":"$BT$2*'Lookup Tables'!CJ101","v":0},{"$f":"$BT$2*'Lookup Tables'!CK101","v":0},{"$f":"$BT$2*'Lookup Tables'!CL101","v":0},null,null,98,0,0,0,0,0,0,0,0,0,0,0,0,0,0,0,null,{"$f":"CV101*Calculator!G$27/21","v":0}]
[null,99,{"$f":"$D$2*'Lookup Tables'!H102","v":0},{"$f":"$D$2*'Lookup Tables'!I102","v":0},{"$f":"$D$2*'Lookup Tables'!J102","v":0},{"$f":"$D$2*'Lookup Tables'!K102","v":0},{"$f":"$D$2*'Lookup Tables'!L102","v":0},{"$f":"$D$2*'Lookup Tables'!M102","v":0},{"$f":"$D$2*'Lookup Tables'!N102","v":0},{"$f":"$D$2*'Lookup Tables'!O102","v":0},{"$f":"$D$2*'Lookup Tables'!P102","v":0},{"$f":"$D$2*'Lookup Tables'!Q102","v":0},{"$f":"$D$2*'Lookup Tables'!R102","v":0},{"$f":"$D$2*'Lookup Tables'!S102","v":0},{"$f":"$D$2*'Lookup Tables'!T102","v":0},{"$f":"$D$2*'Lookup Tables'!U102","v":0},{"$f":"$D$2*'Lookup Tables'!V102","v":0},null,99,{"$f":"$U$2*'Lookup Tables'!Y102","v":0},{"$f":"$U$2*'Lookup Tables'!Z102","v":0},{"$f":"$U$2*'Lookup Tables'!AA102","v":0},{"$f":"$U$2*'Lookup Tables'!AB102","v":0},{"$f":"$U$2*'Lookup Tables'!AC102","v":0},{"$f":"$U$2*'Lookup Tables'!AD102","v":0},{"$f":"$U$2*'Lookup Tables'!AE102","v":0},{"$f":"$U$2*'Lookup Tables'!AF102","v":0},{"$f":"$U$2*'Lookup Tables'!AG102","v":0},{"$f":"$U$2*'Lookup Tables'!AH102","v":0},{"$f":"$U$2*'Lookup Tables'!AI102","v":0},{"$f":"$U$2*'Lookup Tables'!AJ102","v":0},{"$f":"$U$2*'Lookup Tables'!AK102","v":0},{"$f":"$U$2*'Lookup Tables'!AL102","v":0},{"$f":"$U$2*'Lookup Tables'!AM102","v":0},null,99,{"$f":"$AL$2*'Lookup Tables'!AP102","v":0},{"$f":"$AL$2*'Lookup Tables'!AQ102","v":0},{"$f":"$AL$2*'Lookup Tables'!AR102","v":0},{"$f":"$AL$2*'Lookup Tables'!AS102","v":0},{"$f":"$AL$2*'Lookup Tables'!AT102","v":0},{"$f":"$AL$2*'Lookup Tables'!AU102","v":0},{"$f":"$AL$2*'Lookup Tables'!AV102","v":0},{"$f":"$AL$2*'Lookup Tables'!AW102","v":0},{"$f":"$AL$2*'Lookup Tables'!AX102","v":0},{"$f":"$AL$2*'Lookup Tables'!AY102","v":0},{"$f":"$AL$2*'Lookup Tables'!AZ102","v":0},{"$f":"$AL$2*'Lookup Tables'!BA102","v":0},{"$f":"$AL$2*'Lookup Tables'!BB102","v":0},{"$f":"$AL$2*'Lookup Tables'!BC102","v":0},{"$f":"$AL$2*'Lookup Tables'!BD102","v":0},null,99,{"$f":"$BC$2*'Lookup Tables'!BG102","v":0},{"$f":"$BC$2*'Lookup Tables'!BH102","v":0},{"$f":"$BC$2*'Lookup Tables'!BI102","v":0},{"$f":"$BC$2*'Lookup Tables'!BJ102","v":0},{"$f":"$BC$2*'Lookup Tables'!BK102","v":0},{"$f":"$BC$2*'Lookup Tables'!BL102","v":0},{"$f":"$BC$2*'Lookup Tables'!BM102","v":0},{"$f":"$BC$2*'Lookup Tables'!BN102","v":0},{"$f":"$BC$2*'Lookup Tables'!BO102","v":0},{"$f":"$BC$2*'Lookup Tables'!BP102","v":0},{"$f":"$BC$2*'Lookup Tables'!BQ102","v":0},{"$f":"$BC$2*'Lookup Tables'!BR102","v":0},{"$f":"$BC$2*'Lookup Tables'!BS102","v":0},{"$f":"$BC$2*'Lookup Tables'!BT102","v":0},{"$f":"$BC$2*'Lookup Tables'!BU102","v":0},null,99,{"$f":"$BT$2*'Lookup Tables'!BX102","v":0},{"$f":"$BT$2*'Lookup Tables'!BY102","v":0},{"$f":"$BT$2*'Lookup Tables'!BZ102","v":0},{"$f":"$BT$2*'Lookup Tables'!CA102","v":0},{"$f":"$BT$2*'Lookup Tables'!CB102","v":0},{"$f":"$BT$2*'Lookup Tables'!CC102","v":0},{"$f":"$BT$2*'Lookup Tables'!CD102","v":0},{"$f":"$BT$2*'Lookup Tables'!CE102","v":0},{"$f":"$BT$2*'Lookup Tables'!CF102","v":0},{"$f":"$BT$2*'Lookup Tables'!CG102","v":0},{"$f":"$BT$2*'Lookup Tables'!CH102","v":0},{"$f":"$BT$2*'Lookup Tables'!CI102","v":0},{"$f":"$BT$2*'Lookup Tables'!CJ102","v":0},{"$f":"$BT$2*'Lookup Tables'!CK102","v":0},{"$f":"$BT$2*'Lookup Tables'!CL102","v":0},null,null,99,0,0,0,0,0,0,0,0,0,0,0,0,0,0,0,null,{"$f":"CV102*Calculator!G$27/21","v":0}]
[null,100,{"$f":"$D$2*'Lookup Tables'!H103","v":0},{"$f":"$D$2*'Lookup Tables'!I103","v":0},{"$f":"$D$2*'Lookup Tables'!J103","v":0},{"$f":"$D$2*'Lookup Tables'!K103","v":0},{"$f":"$D$2*'Lookup Tables'!L103","v":0},{"$f":"$D$2*'Lookup Tables'!M103","v":0},{"$f":"$D$2*'Lookup Tables'!N103","v":0},{"$f":"$D$2*'Lookup Tables'!O103","v":0},{"$f":"$D$2*'Lookup Tables'!P103","v":0},{"$f":"$D$2*'Lookup Tables'!Q103","v":0},{"$f":"$D$2*'Lookup Tables'!R103","v":0},{"$f":"$D$2*'Lookup Tables'!S103","v":0},{"$f":"$D$2*'Lookup Tables'!T103","v":0},{"$f":"$D$2*'Lookup Tables'!U103","v":0},{"$f":"$D$2*'Lookup Tables'!V103","v":0},null,100,{"$f":"$U$2*'Lookup Tables'!Y103","v":0},{"$f":"$U$2*'Lookup Tables'!Z103","v":0},{"$f":"$U$2*'Lookup Tables'!AA103","v":0},{"$f":"$U$2*'Lookup Tables'!AB103","v":0},{"$f":"$U$2*'Lookup Tables'!AC103","v":0},{"$f":"$U$2*'Lookup Tables'!AD103","v":0},{"$f":"$U$2*'Lookup Tables'!AE103","v":0},{"$f":"$U$2*'Lookup Tables'!AF103","v":0},{"$f":"$U$2*'Lookup Tables'!AG103","v":0},{"$f":"$U$2*'Lookup Tables'!AH103","v":0},{"$f":"$U$2*'Lookup Tables'!AI103","v":0},{"$f":"$U$2*'Lookup Tables'!AJ103","v":0},{"$f":"$U$2*'Lookup Tables'!AK103","v":0},{"$f":"$U$2*'Lookup Tables'!AL103","v":0},{"$f":"$U$2*'Lookup Tables'!AM103","v":0},null,100,{"$f":"$AL$2*'Lookup Tables'!AP103","v":0},{"$f":"$AL$2*'Lookup Tables'!AQ103","v":0},{"$f":"$AL$2*'Lookup Tables'!AR103","v":0},{"$f":"$AL$2*'Lookup Tables'!AS103","v":0},{"$f":"$AL$2*'Lookup Tables'!AT103","v":0},{"$f":"$AL$2*'Lookup Tables'!AU103","v":0},{"$f":"$AL$2*'Lookup Tables'!AV103","v":0},{"$f":"$AL$2*'Lookup Tables'!AW103","v":0},{"$f":"$AL$2*'Lookup Tables'!AX103","v":0},{"$f":"$AL$2*'Lookup Tables'!AY103","v":0},{"$f":"$AL$2*'Lookup Tables'!AZ103","v":0},{"$f":"$AL$2*'Lookup Tables'!BA103","v":0},{"$f":"$AL$2*'Lookup Tables'!BB103","v":0},{"$f":"$AL$2*'Lookup Tables'!BC103","v":0},{"$f":"$AL$2*'Lookup Tables'!BD103","v":0},null,100,{"$f":"$BC$2*'Lookup Tables'!BG103","v":0},{"$f":"$BC$2*'Lookup Tables'!BH103","v":0},{"$f":"$BC$2*'Lookup Tables'!BI103","v":0},{"$f":"$BC$2*'Lookup Tables'!BJ103","v":0},{"$f":"$BC$2*'Lookup Tables'!BK103","v":0},{"$f":"$BC$2*'Lookup Tables'!BL103","v":0},{"$f":"$BC$2*'Lookup Tables'!BM103","v":0},{"$f":"$BC$2*'Lookup Tables'!BN103","v":0},{"$f":"$BC$2*'Lookup Tables'!BO103","v":0},{"$f":"$BC$2*'Lookup Tables'!BP103","v":0},{"$f":"$BC$2*'Lookup Tables'!BQ103","v":0},{"$f":"$BC$2*'Lookup Tables'!BR103","v":0},{"$f":"$BC$2*'Lookup Tables'!BS103","v":0},{"$f":"$BC$2*'Lookup Tables'!BT103","v":0},{"$f":"$BC$2*'Lookup Tables'!BU103","v":0},null,100,{"$f":"$BT$2*'Lookup Tables'!BX103","v":0},{"$f":"$BT$2*'Lookup Tables'!BY103","v":0},{"$f":"$BT$2*'Lookup Tables'!BZ103","v":0},{"$f":"$BT$2*'Lookup Tables'!CA103","v":0},{"$f":"$BT$2*'Lookup Tables'!CB103","v":0},{"$f":"$BT$2*'Lookup Tables'!CC103","v":0},{"$f":"$BT$2*'Lookup Tables'!CD103","v":0},{"$f":"$BT$2*'Lookup Tables'!CE103","v":0},{"$f":"$BT$2*'Lookup Tables'!CF103","v":0},{"$f":"$BT$2*'Lookup Tables'!CG103","v":0},{"$f":"$BT$2*'Lookup Tables'!CH103","v":0},{"$f":"$BT$2*'Lookup Tables'!CI103","v":0},{"$f":"$BT$2*'Lookup Tables'!CJ103","v":0},{"$f":"$BT$2*'Lookup Tables'!CK103","v":0},{"$f":"$BT$2*'Lookup Tables'!CL103","v":0},null,null,100,0,0,0,0,0,0,0,0,0,0,0,0,0,0,0,null,{"$f":"CV103*Calculator!G$27/21","v":0}]
[null,101,{"$f":"$D$2*'Lookup Tables'!H104","v":0},{"$f":"$D$2*'Lookup Tables'!I104","v":0},{"$f":"$D$2*'Lookup Tables'!J104","v":0},{"$f":"$D$2*'Lookup Tables'!K104","v":0},{"$f":"$D$2*'Lookup Tables'!L104","v":0},{"$f":"$D$2*'Lookup Tables'!M104","v":0},{"$f":"$D$2*'Lookup Tables'!N104","v":0},{"$f":"$D$2*'Lookup Tables'!O104","v":0},{"$f":"$D$2*'Lookup Tables'!P104","v":0},{"$f":"$D$2*'Lookup Tables'!Q104","v":0},{"$f":"$D$2*'Lookup Tables'!R104","v":0},{"$f":"$D$2*'Lookup Tables'!S104","v":0},{"$f":"$D$2*'Lookup Tables'!T104","v":0},{"$f":"$D$2*'Lookup Tables'!U104","v":0},{"$f":"$D$2*'Lookup Tables'!V104","v":0},null,101,{"$f":"$U$2*'Lookup Tables'!Y104","v":0},{"$f":"$U$2*'Lookup Tables'!Z104","v":0},{"$f":"$U$2*'Lookup Tables'!AA104","v":0},{"$f":"$U$2*'Lookup Tables'!AB104","v":0},{"$f":"$U$2*'Lookup Tables'!AC104","v":0},{"$f":"$U$2*'Lookup Tables'!AD104","v":0},{"$f":"$U$2*'Lookup Tables'!AE104","v":0},{"$f":"$U$2*'Lookup Tables'!AF104","v":0},{"$f":"$U$2*'Lookup Tables'!AG104","v":0},{"$f":"$U$2*'Lookup Tables'!AH104","v":0},{"$f":"$U$2*'Lookup Tables'!AI104","v":0},{"$f":"$U$2*'Lookup Tables'!AJ104","v":0},{"$f":"$U$2*'Lookup Tables'!AK104","v":0},{"$f":"$U$2*'Lookup Tables'!AL104","v":0},{"$f":"$U$2*'Lookup Tables'!AM104","v":0},null,101,{"$f":"$AL$2*'Lookup Tables'!AP104","v":0},{"$f":"$AL$2*'Lookup Tables'!AQ104","v":0},{"$f":"$AL$2*'Lookup Tables'!AR104","v":0},{"$f":"$AL$2*'Lookup Tables'!AS104","v":0},{"$f":"$AL$2*'Lookup Tables'!AT104","v":0},{"$f":"$AL$2*'Lookup Tables'!AU104","v":0},{"$f":"$AL$2*'Lookup Tables'!AV104","v":0},{"$f":"$AL$2*'Lookup Tables'!AW104","v":0},{"$f":"$AL$2*'Lookup Tables'!AX104","v":0},{"$f":"$AL$2*'Lookup Tables'!AY104","v":0},{"$f":"$AL$2*'Lookup Tables'!AZ104","v":0},{"$f":"$AL$2*'Lookup Tables'!BA104","v":0},{"$f":"$AL$2*'Lookup Tables'!BB104","v":0},{"$f":"$AL$2*'Lookup Tables'!BC104","v":0},{"$f":"$AL$2*'Lookup Tables'!BD104","v":0},null,101,{"$f":"$BC$2*'Lookup Tables'!BG104","v":0},{"$f":"$BC$2*'Lookup Tables'!BH104","v":0},{"$f":"$BC$2*'Lookup Tables'!BI104","v":0},{"$f":"$BC$2*'Lookup Tables'!BJ104","v":0},{"$f":"$BC$2*'Lookup Tables'!BK104","v":0},{"$f":"$BC$2*'Lookup Tables'!BL104","v":0},{"$f":"$BC$2*'Lookup Tables'!BM104","v":0},{"$f":"$BC$2*'Lookup Tables'!BN104","v":0},{"$f":"$BC$2*'Lookup Tables'!BO104","v":0},{"$f":"$BC$2*'Lookup Tables'!BP104","v":0},{"$f":"$BC$2*'Lookup Tables'!BQ104","v":0},{"$f":"$BC$2*'Lookup Tables'!BR104","v":0},{"$f":"$BC$2*'Lookup Tables'!BS104","v":0},{"$f":"$BC$2*'Lookup Tables'!BT104","v":0},{"$f":"$BC$2*'Lookup Tables'!BU104","v":0},null,101,{"$f":"$BT$2*'Lookup Tables'!BX104","v":0},{"$f":"$BT$2*'Lookup Tables'!BY104","v":0},{"$f":"$BT$2*'Lookup Tables'!BZ104","v":0},{"$f":"$BT$2*'Lookup Tables'!CA104","v":0},{"$f":"$BT$2*'Lookup Tables'!CB104","v":0},{"$f":"$BT$2*'Lookup Tables'!CC104","v":0},{"$f":"$BT$2*'Lookup Tables'!CD104","v":0},{"$f":"$BT$2*'Lookup Tables'!CE104","v":0},{"$f":"$BT$2*'Lookup Tables'!CF104","v":0},{"$f":"$BT$2*'Lookup Tables'!CG104","v":0},{"$f":"$BT$2*'Lookup Tables'!CH104","v":0},{"$f":"$BT$2*'Lookup Tables'!CI104","v":0},{"$f":"$BT$2*'Lookup Tables'!CJ104","v":0},{"$f":"$BT$2*'Lookup Tables'!CK104","v":0},{"$f":"$BT$2*'Lookup Tables'!CL104","v":0},null,null,101,0,0,0,0,0,0,0,0,0,0,0,0,0,0,0,null,{"$f":"CV104*Calculator!G$27/21","v":0}]
[null,102,{"$f":"$D$2*'Lookup Tables'!H105","v":0},{"$f":"$D$2*'Lookup Tables'!I105","v":0},{"$f":"$D$2*'Lookup Tables'!J105","v":0},{"$f":"$D$2*'Lookup Tables'!K105","v":0},{"$f":"$D$2*'Lookup Tables'!L105","v":0},{"$f":"$D$2*'Lookup Tables'!M105","v":0},{"$f":"$D$2*'Lookup Tables'!N105","v":0},{"$f":"$D$2*'Lookup Tables'!O105","v":0},{"$f":"$D$2*'Lookup Tables'!P105","v":0},{"$f":"$D$2*'Lookup Tables'!Q105","v":0},{"$f":"$D$2*'Lookup Tables'!R105","v":0},{"$f":"$D$2*'Lookup Tables'!S105","v":0},{"$f":"$D$2*'Lookup Tables'!T105","v":0},{"$f":"$D$2*'Lookup Tables'!U105","v":0},{"$f":"$D$2*'Lookup Tables'!V105","v":0},null,102,{"$f":"$U$2*'Lookup Tables'!Y105","v":0},{"$f":"$U$2*'Lookup Tables'!Z105","v":0},{"$f":"$U$2*'Lookup Tables'!AA105","v":0},{"$f":"$U$2*'Lookup Tables'!AB105","v":0},{"$f":"$U$2*'Lookup Tables'!AC105","v":0},{"$f":"$U$2*'Lookup Tables'!AD105","v":0},{"$f":"$U$2*'Lookup Tables'!AE105","v":0},{"$f":"$U$2*'Lookup Tables'!AF105","v":0},{"$f":"$U$2*'Lookup Tables'!AG105","v":0},{"$f":"$U$2*'Lookup Tables'!AH105","v":0},{"$f":"$U$2*'Lookup Tables'!AI105","v":0},{"$f":"$U$2*'Lookup Tables'!AJ105","v":0},{"$f":"$U$2*'Lookup Tables'!AK105","v":0},{"$f":"$U$2*'Lookup Tables'!AL105","v":0},{"$f":"$U$2*'Lookup Tables'!AM105","v":0},null,102,{"$f":"$AL$2*'Lookup Tables'!AP105","v":0},{"$f":"$AL$2*'Lookup Tables'!AQ105","v":0},{"$f":"$AL$2*'Lookup Tables'!AR105","v":0},{"$f":"$AL$2*'Lookup Tables'!AS105","v":0},{"$f":"$AL$2*'Lookup Tables'!AT105","v":0},{"$f":"$AL$2*'Lookup Tables'!AU105","v":0},{"$f":"$AL$2*'Lookup Tables'!AV105","v":0},{"$f":"$AL$2*'Lookup Tables'!AW105","v":0},{"$f":"$AL$2*'Lookup Tables'!AX105","v":0},{"$f":"$AL$2*'Lookup Tables'!AY105","v":0},{"$f":"$AL$2*'Lookup Tables'!AZ105","v":0},{"$f":"$AL$2*'Lookup Tables'!BA105","v":0},{"$f":"$AL$2*'Lookup Tables'!BB105","v":0},{"$f":"$AL$2*'Lookup Tables'!BC105","v":0},{"$f":"$AL$2*'Lookup Tables'!BD105","v":0},null,102,{"$f":"$BC$2*'Lookup Tables'!BG105","v":0},{"$f":"$BC$2*'Lookup Tables'!BH105","v":0},{"$f":"$BC$2*'Lookup Tables'!BI105","v":0},{"$f":"$BC$2*'Lookup Tables'!BJ105","v":0},{"$f":"$BC$2*'Lookup Tables'!BK105","v":0},{"$f":"$BC$2*'Lookup Tables'!BL105","v":0},{"$f":"$BC$2*'Lookup Tables'!BM105","v":0},{"$f":"$BC$2*'Lookup Tables'!BN105","v":0},{"$f":"$BC$2*'Lookup Tables'!BO105","v":0},{"$f":"$BC$2*'Lookup Tables'!BP105","v":0},{"$f":"$BC$2*'Lookup Tables'!BQ105","v":0},{"$f":"$BC$2*'Lookup Tables'!BR105","v":0},{"$f":"$BC$2*'Lookup Tables'!BS105","v":0},{"$f":"$BC$2*'Lookup Tables'!BT105","v":0},{"$f":"$BC$2*'Lookup Tables'!BU105","v":0},null,102,{"$f":"$BT$2*'Lookup Tables'!BX105","v":0},{"$f":"$BT$2*'Lookup Tables'!BY105","v":0},{"$f":"$BT$2*'Lookup Tables'!BZ105","v":0},{"$f":"$BT$2*'Lookup Tables'!CA105","v":0},{"$f":"$BT$2*'Lookup Tables'!CB105","v":0},{"$f":"$BT$2*'Lookup Tables'!CC105","v":0},{"$f":"$BT$2*'Lookup Tables'!CD105","v":0},{"$f":"$BT$2*'Lookup Tables'!CE105","v":0},{"$f":"$BT$2*'Lookup Tables'!CF105","v":0},{"$f":"$BT$2*'Lookup Tables'!CG105","v":0},{"$f":"$BT$2*'Lookup Tables'!CH105","v":0},{"$f":"$BT$2*'Lookup Tables'!CI105","v":0},{"$f":"$BT$2*'Lookup Tables'!CJ105","v":0},{"$f":"$BT$2*'Lookup Tables'!CK105","v":0},{"$f":"$BT$2*'Lookup Tables'!CL105","v":0},null,null,102,0,0,0,0,0,0,0,0,0,0,0,0,0,0,0,null,{"$f":"CV105*Calculator!G$27/21","v":0}]
[null,103,{"$f":"$D$2*'Lookup Tables'!H106","v":0},{"$f":"$D$2*'Lookup Tables'!I106","v":0},{"$f":"$D$2*'Lookup Tables'!J106","v":0},{"$f":"$D$2*'Lookup Tables'!K106","v":0},{"$f":"$D$2*'Lookup Tables'!L106","v":0},{"$f":"$D$2*'Lookup Tables'!M106","v":0},{"$f":"$D$2*'Lookup Tables'!N106","v":0},{"$f":"$D$2*'Lookup Tables'!O106","v":0},{"$f":"$D$2*'Lookup Tables'!P106","v":0},{"$f":"$D$2*'Lookup Tables'!Q106","v":0},{"$f":"$D$2*'Lookup Tables'!R106","v":0},{"$f":"$D$2*'Lookup Tables'!S106","v":0},{"$f":"$D$2*'Lookup Tables'!T106","v":0},{"$f":"$D$2*'Lookup Tables'!U106","v":0},{"$f":"$D$2*'Lookup Tables'!V106","v":0},null,103,{"$f":"$U$2*'Lookup Tables'!Y106","v":0},{"$f":"$U$2*'Lookup Tables'!Z106","v":0},{"$f":"$U$2*'Lookup Tables'!AA106","v":0},{"$f":"$U$2*'Lookup Tables'!AB106","v":0},{"$f":"$U$2*'Lookup Tables'!AC106","v":0},{"$f":"$U$2*'Lookup Tables'!AD106","v":0},{"$f":"$U$2*'Lookup Tables'!AE106","v":0},{"$f":"$U$2*'Lookup Tables'!AF106","v":0},{"$f":"$U$2*'Lookup Tables'!AG106","v":0},{"$f":"$U$2*'Lookup Tables'!AH106","v":0},{"$f":"$U$2*'Lookup Tables'!AI106","v":0},{"$f":"$U$2*'Lookup Tables'!AJ106","v":0},{"$f":"$U$2*'Lookup Tables'!AK106","v":0},{"$f":"$U$2*'Lookup Tables'!AL106","v":0},{"$f":"$U$2*'Lookup Tables'!AM106","v":0},null,103,{"$f":"$AL$2*'Lookup Tables'!AP106","v":0},{"$f":"$AL$2*'Lookup Tables'!AQ106","v":0},{"$f":"$AL$2*'Lookup Tables'!AR106","v":0},{"$f":"$AL$2*'Lookup Tables'!AS106","v":0},{"$f":"$AL$2*'Lookup Tables'!AT106","v":0},{"$f":"$AL$2*'Lookup Tables'!AU106","v":0},{"$f":"$AL$2*'Lookup Tables'!AV106","v":0},{"$f":"$AL$2*'Lookup Tables'!AW106","v":0},{"$f":"$AL$2*'Lookup Tables'!AX106","v":0},{"$f":"$AL$2*'Lookup Tables'!AY106","v":0},{"$f":"$AL$2*'Lookup Tables'!AZ106","v":0},{"$f":"$AL$2*'Lookup Tables'!BA106","v":0},{"$f":"$AL$2*'Lookup Tables'!BB106","v":0},{"$f":"$AL$2*'Lookup Tables'!BC106","v":0},{"$f":"$AL$2*'Lookup Tables'!BD106","v":0},null,103,{"$f":"$BC$2*'Lookup Tables'!BG106","v":0},{"$f":"$BC$2*'Lookup Tables'!BH106","v":0},{"$f":"$BC$2*'Lookup Tables'!BI106","v":0},{"$f":"$BC$2*'Lookup Tables'!BJ106","v":0},{"$f":"$BC$2*'Lookup Tables'!BK106","v":0},{"$f":"$BC$2*'Lookup Tables'!BL106","v":0},{"$f":"$BC$2*'Lookup Tables'!BM106","v":0},{"$f":"$BC$2*'Lookup Tables'!BN106","v":0},{"$f":"$BC$2*'Lookup Tables'!BO106","v":0},{"$f":"$BC$2*'Lookup Tables'!BP106","v":0},{"$f":"$BC$2*'Lookup Tables'!BQ106","v":0},{"$f":"$BC$2*'Lookup Tables'!BR106","v":0},{"$f":"$BC$2*'Lookup Tables'!BS106","v":0},{"$f":"$BC$2*'Lookup Tables'!BT106","v":0},{"$f":"$BC$2*'Lookup Tables'!BU106","v":0},null,103,{"$f":"$BT$2*'Lookup Tables'!BX106","v":0},{"$f":"$BT$2*'Lookup Tables'!BY106","v":0},{"$f":"$BT$2*'Lookup Tables'!BZ106","v":0},{"$f":"$BT$2*'Lookup Tables'!CA106","v":0},{"$f":"$BT$2*'Lookup Tables'!CB106","v":0},{"$f":"$BT$2*'Lookup Tables'!CC106","v":0},{"$f":"$BT$2*'Lookup Tables'!CD106","v":0},{"$f":"$BT$2*'Lookup Tables'!CE106","v":0},{"$f":"$BT$2*'Lookup Tables'!CF106","v":0},{"$f":"$BT$2*'Lookup Tables'!CG106","v":0},{"$f":"$BT$2*'Lookup Tables'!CH106","v":0},{"$f":"$BT$2*'Lookup Tables'!CI106","v":0},{"$f":"$BT$2*'Lookup Tables'!CJ106","v":0},{"$f":"$BT$2*'Lookup Tables'!CK106","v":0},{"$f":"$BT$2*'Lookup Tables'!CL106","v":0},null,null,103,0,0,0,0,0,0,0,0,0,0,0,0,0,0,0,null,{"$f":"CV106*Calculator!G$27/21","v":0}]
[null,104,{"$f":"$D$2*'Lookup Tables'!H107","v":0},{"$f":"$D$2*'Lookup Tables'!I107","v":0},{"$f":"$D$2*'Lookup Tables'!J107","v":0},{"$f":"$D$2*'Lookup Tables'!K107","v":0},{"$f":"$D$2*'Lookup Tables'!L107","v":0},{"$f":"$D$2*'Lookup Tables'!M107","v":0},{"$f":"$D$2*'Lookup Tables'!N107","v":0},{"$f":"$D$2*'Lookup Tables'!O107","v":0},{"$f":"$D$2*'Lookup Tables'!P107","v":0},{"$f":"$D$2*'Lookup Tables'!Q107","v":0},{"$f":"$D$2*'Lookup Tables'!R107","v":0},{"$f":"$D$2*'Lookup Tables'!S107","v":0},{"$f":"$D$2*'Lookup Tables'!T107","v":0},{"$f":"$D$2*'Lookup Tables'!U107","v":0},{"$f":"$D$2*'Lookup Tables'!V107","v":0},null,104,{"$f":"$U$2*'Lookup Tables'!Y107","v":0},{"$f":"$U$2*'Lookup Tables'!Z107","v":0},{"$f":"$U$2*'Lookup Tables'!AA107","v":0},{"$f":"$U$2*'Lookup Tables'!AB107","v":0},{"$f":"$U$2*'Lookup Tables'!AC107","v":0},{"$f":"$U$2*'Lookup Tables'!AD107","v":0},{"$f":"$U$2*'Lookup Tables'!AE107","v":0},{"$f":"$U$2*'Lookup Tables'!AF107","v":0},{"$f":"$U$2*'Lookup Tables'!AG107","v":0},{"$f":"$U$2*'Lookup Tables'!AH107","v":0},{"$f":"$U$2*'Lookup Tables'!AI107","v":0},{"$f":"$U$2*'Lookup Tables'!AJ107","v":0},{"$f":"$U$2*'Lookup Tables'!AK107","v":0},{"$f":"$U$2*'Lookup Tables'!AL107","v":0},{"$f":"$U$2*'Lookup Tables'!AM107","v":0},null,104,{"$f":"$AL$2*'Lookup Tables'!AP107","v":0},{"$f":"$AL$2*'Lookup Tables'!AQ107","v":0},{"$f":"$AL$2*'Lookup Tables'!AR107","v":0},{"$f":"$AL$2*'Lookup Tables'!AS107","v":0},{"$f":"$AL$2*'Lookup Tables'!AT107","v":0},{"$f":"$AL$2*'Lookup Tables'!AU107","v":0},{"$f":"$AL$2*'Lookup Tables'!AV107","v":0},{"$f":"$AL$2*'Lookup Tables'!AW107","v":0},{"$f":"$AL$2*'Lookup Tables'!AX107","v":0},{"$f":"$AL$2*'Lookup Tables'!AY107","v":0},{"$f":"$AL$2*'Lookup Tables'!AZ107","v":0},{"$f":"$AL$2*'Lookup Tables'!BA107","v":0},{"$f":"$AL$2*'Lookup Tables'!BB107","v":0},{"$f":"$AL$2*'Lookup Tables'!BC107","v":0},{"$f":"$AL$2*'Lookup Tables'!BD107","v":0},null,104,{"$f":"$BC$2*'Lookup Tables'!BG107","v":0},{"$f":"$BC$2*'Lookup Tables'!BH107","v":0},{"$f":"$BC$2*'Lookup Tables'!BI107","v":0},{"$f":"$BC$2*'Lookup Tables'!BJ107","v":0},{"$f":"$BC$2*'Lookup Tables'!BK107","v":0},{"$f":"$BC$2*'Lookup Tables'!BL107","v":0},{"$f":"$BC$2*'Lookup Tables'!BM107","v":0},{"$f":"$BC$2*'Lookup Tables'!BN107","v":0},{"$f":"$BC$2*'Lookup Tables'!BO107","v":0},{"$f":"$BC$2*'Lookup Tables'!BP107","v":0},{"$f":"$BC$2*'Lookup Tables'!BQ107","v":0},{"$f":"$BC$2*'Lookup Tables'!BR107","v":0},{"$f":"$BC$2*'Lookup Tables'!BS107","v":0},{"$f":"$BC$2*'Lookup Tables'!BT107","v":0},{"$f":"$BC$2*'Lookup Tables'!BU107","v":0},null,104,{"$f":"$BT$2*'Lookup Tables'!BX107","v":0},{"$f":"$BT$2*'Lookup Tables'!BY107","v":0},{"$f":"$BT$2*'Lookup Tables'!BZ107","v":0},{"$f":"$BT$2*'Lookup Tables'!CA107","v":0},{"$f":"$BT$2*'Lookup Tables'!CB107","v":0},{"$f":"$BT$2*'Lookup Tables'!CC107","v":0},{"$f":"$BT$2*'Lookup Tables'!CD107","v":0},{"$f":"$BT$2*'Lookup Tables'!CE107","v":0},{"$f":"$BT$2*'Lookup Tables'!CF107","v":0},{"$f":"$BT$2*'Lookup Tables'!CG107","v":0},{"$f":"$BT$2*'Lookup Tables'!CH107","v":0},{"$f":"$BT$2*'Lookup Tables'!CI107","v":0},{"$f":"$BT$2*'Lookup Tables'!CJ107","v":0},{"$f":"$BT$2*'Lookup Tables'!CK107","v":0},{"$f":"$BT$2*'Lookup Tables'!CL107","v":0},null,null,104,0,0,0,0,0,0,0,0,0,0,0,0,0,0,0,null,{"$f":"CV107*Calculator!G$27/21","v":0}]
[null,105,{"$f":"$D$2*'Lookup Tables'!H108","v":0},{"$f":"$D$2*'Lookup Tables'!I108","v":0},{"$f":"$D$2*'Lookup Tables'!J108","v":0},{"$f":"$D$2*'Lookup Tables'!K108","v":0},{"$f":"$D$2*'Lookup Tables'!L108","v":0},{"$f":"$D$2*'Lookup Tables'!M108","v":0},{"$f":"$D$2*'Lookup Tables'!N108","v":0},{"$f":"$D$2*'Lookup Tables'!O108","v":0},{"$f":"$D$2*'Lookup Tables'!P108","v":0},{"$f":"$D$2*'Lookup Tables'!Q108","v":0},{"$f":"$D$2*'Lookup Tables'!R108","v":0},{"$f":"$D$2*'Lookup Tables'!S108","v":0},{"$f":"$D$2*'Lookup Tables'!T108","v":0},{"$f":"$D$2*'Lookup Tables'!U108","v":0},{"$f":"$D$2*'Lookup Tables'!V108","v":0},null,105,{"$f":"$U$2*'Lookup Tables'!Y108","v":0},{"$f":"$U$2*'Lookup Tables'!Z108","v":0},{"$f":"$U$2*'Lookup Tables'!AA108","v":0},{"$f":"$U$2*'Lookup Tables'!AB108","v":0},{"$f":"$U$2*'Lookup Tables'!AC108","v":0},{"$f":"$U$2*'Lookup Tables'!AD108","v":0},{"$f":"$U$2*'Lookup Tables'!AE108","v":0},{"$f":"$U$2*'Lookup Tables'!AF108","v":0},{"$f":"$U$2*'Lookup Tables'!AG108","v":0},{"$f":"$U$2*'Lookup Tables'!AH108","v":0},{"$f":"$U$2*'Lookup Tables'!AI108","v":0},{"$f":"$U$2*'Lookup Tables'!AJ108","v":0},{"$f":"$U$2*'Lookup Tables'!AK108","v":0},{"$f":"$U$2*'Lookup Tables'!AL108","v":0},{"$f":"$U$2*'Lookup Tables'!AM108","v":0},null,105,{"$f":"$AL$2*'Lookup Tables'!AP108","v":0},{"$f":"$AL$2*'Lookup Tables'!AQ108","v":0},{"$f":"$AL$2*'Lookup Tables'!AR108","v":0},{"$f":"$AL$2*'Lookup Tables'!AS108","v":0},{"$f":"$AL$2*'Lookup Tables'!AT108","v":0},{"$f":"$AL$2*'Lookup Tables'!AU108","v":0},{"$f":"$AL$2*'Lookup Tables'!AV108","v":0},{"$f":"$AL$2*'Lookup Tables'!AW108","v":0},{"$f":"$AL$2*'Lookup Tables'!AX108","v":0},{"$f":"$AL$2*'Lookup Tables'!AY108","v":0},{"$f":"$AL$2*'Lookup Tables'!AZ108","v":0},{"$f":"$AL$2*'Lookup Tables'!BA108","v":0},{"$f":"$AL$2*'Lookup Tables'!BB108","v":0},{"$f":"$AL$2*'Lookup Tables'!BC108","v":0},{"$f":"$AL$2*'Lookup Tables'!BD108","v":0},null,105,{"$f":"$BC$2*'Lookup Tables'!BG108","v":0},{"$f":"$BC$2*'Lookup Tables'!BH108","v":0},{"$f":"$BC$2*'Lookup Tables'!BI108","v":0},{"$f":"$BC$2*'Lookup Tables'!BJ108","v":0},{"$f":"$BC$2*'Lookup Tables'!BK108","v":0},{"$f":"$BC$2*'Lookup Tables'!BL108","v":0},{"$f":"$BC$2*'Lookup Tables'!BM108","v":0},{"$f":"$BC$2*'Lookup Tables'!BN108","v":0},{"$f":"$BC$2*'Lookup Tables'!BO108","v":0},{"$f":"$BC$2*'Lookup Tables'!BP108","v":0},{"$f":"$BC$2*'Lookup Tables'!BQ108","v":0},{"$f":"$BC$2*'Lookup Tables'!BR108","v":0},{"$f":"$BC$2*'Lookup Tables'!BS108","v":0},{"$f":"$BC$2*'Lookup Tables'!BT108","v":0},{"$f":"$BC$2*'Lookup Tables'!BU108","v":0},null,105,{"$f":"$BT$2*'Lookup Tables'!BX108","v":0},{"$f":"$BT$2*'Lookup Tables'!BY108","v":0},{"$f":"$BT$2*'Lookup Tables'!BZ108","v":0},{"$f":"$BT$2*'Lookup Tables'!CA108","v":0},{"$f":"$BT$2*'Lookup Tables'!CB108","v":0},{"$f":"$BT$2*'Lookup Tables'!CC108","v":0},{"$f":"$BT$2*'Lookup Tables'!CD108","v":0},{"$f":"$BT$2*'Lookup Tables'!CE108","v":0},{"$f":"$BT$2*'Lookup Tables'!CF108","v":0},{"$f":"$BT$2*'Lookup Tables'!CG108","v":0},{"$f":"$BT$2*'Lookup Tables'!CH108","v":0},{"$f":"$BT$2*'Lookup Tables'!CI108","v":0},{"$f":"$BT$2*'Lookup Tables'!CJ108","v":0},{"$f":"$BT$2*'Lookup Tables'!CK108","v":0},{"$f":"$BT$2*'Lookup Tables'!CL108","v":0},null,null,105,0,0,0,0,0,0,0,0,0,0,0,0,0,0,0,null,{"$f":"CV108*Calculator!G$27/21","v":0}]
[null,null,null,null,null,null,null,null,null,null,null,null,null,null,null,null,null,null,null,null,null,null,null,null,null,null,null,null,null,null,null,null,null,null,null,null,null,null,null,null,null,null,null,null,null,null,null,null,null,null,null,null,null,null,null,{"$f":"IF(#REF!=TRUE,#REF! *#REF!,\"\")","v":{"$error":"#REF!"}},{"$f":"IF(#REF!=TRUE,#REF! *#REF!,\"\")","v":{"$error":"#REF!"}},null,null,null,null,null,null,null,null,null,null,null,null,null,null,null,{"$f":"IF(#REF!=TRUE,#REF! *#REF!,\"\")","v":{"$error":"#REF!"}},{"$f":"IF(#REF!=TRUE,#REF! *#REF!,\"\")","v":{"$error":"#REF!"}}]

{"sheet":"Graphs","index":5,"n_rows":1,"n_cols":2,"rows_kept":1,"cut":false,"hidden":false,"merged":[]}
[null,{"$f":"IF(Calculator!$D$8 =0, \"Project Identifier\", Calculator!$D$8)","v":"Project Identifier"}]

{"sheet":"Lookup Tables","index":6,"n_rows":108,"n_cols":90,"rows_kept":108,"cut":false,"hidden":true,"merged":[[3,1,3,2],[3,3,3,4]]}
[]
[null,null,null,null,null,null,"Proportion of Roundwood Persisting as Solid Wood Products or Paper plus Corresponding Total Emissions",null,null,null,null,null,null,null,null,null,null,null,null,null,null,null,null,"Proportion of Lumber Persisting as Solid Wood Products plus Corresponding Total Emissions",null,null,null,null,null,null,null,null,null,null,null,null,null,null,null,null,"Proportion of Plywood Persisting as Solid Wood plus Corresponding Total Emissions",null,null,null,null,null,null,null,null,null,null,null,null,null,null,null,null,"Proportion of OSB Persisting as Solid Wood  plus Corresponding Total Emissions",null,null,null,null,null,null,null,null,null,null,null,null,null,null,null,null,"Proportion of MDF Persisting as Solid Wood  plus Corresponding Total Emissions"]
[null,"Drop-down Lists and Conversions",null,null,null,null,"Year No.","Single Family Homes","Multi-Family Homes","Commercial Buildings","Manuf. Prod.s (furniture etc)","Paper","Shipping","Repairs","Other","CO2e Storage in Products (exclude landfills)","CO2e Storage In Landfills and Dumps","CO2e Emissions from Landfill and Dumps","CH4 (CO2e) Emissions from Landfills and Dumps","CO2 Emissions from Landfills and Dumps","Biogenic Manufacturing Emissions","Cradle-to-Gate Fossil Emissions (CO2e)",null,"Year No.","Single Family Homes","Multi-Family Homes","Commercial Buildings","Manuf. Prod.s (furniture etc)","Paper","Shipping","Repairs","Other","CO2e Retention Excl Landfills and Dumps","CO2e Retention In Landfills and Dumps","CO2e Emissions from Landfill and Dumps","CH4 (CO2e) Emissions from Landfills and Dumps","CO2 Emissions from Landfills and Dumps","Biogenic Manufacturing Emissions","Cradle-to-Gate Fossil Emissions",null,"Year No.","Single Family Homes","Multi-Family Homes","Commercial Buildings","Manuf. Prod.s (furniture etc)","Paper","Shipping","Repairs","Other","CO2e Retention Excl Landfills and Dumps","CO2e Retention In Landfills and Dumps","CO2e Emissions from Landfill and Dumps","CH4 (CO2e) Emissions from Landfills and Dumps","CO2 Emissions from Landfills and Dumps","Biogenic Manufacturing Emissions","Cradle-to-Gate Fossil Emissions",null,"Year No.","Single Family Homes","Multi-Family Homes","Commercial Buildings","Manuf. Prod.s (furniture etc)","Paper","Shipping","Repairs","Other","CO2e Retention Excl Landfills and Dumps","CO2e Retention In Landfills and Dumps","CO2e Emissions from Landfill and Dumps","CH4 (CO2e) Emissions from Landfills and Dumps","CO2 Emissions from Landfills and Dumps","Biogenic Manufacturing Emissions","Cradle-to-Gate Fossil Emissions",null,"Year No.","Single Family Homes","Multi-Family Homes","Commercial Buildings","Manuf. Prod.s (furniture etc)","Paper","Shipping","Repairs","Other","CO2e Retention Excl Landfills and Dumps","CO2e Retention In Landfills and Dumps","CO2e Emissions from Landfill and Dumps","CH4 (CO2e) Emissions from Landfills and Dumps","CO2 Emissions from Landfills and Dumps","Biogenic Manufacturing Emissions","Cradle-to-Gate Fossil Emissions"]
[null,"Species Density",null,"Volume Conversion",null,null,1,0.182996288766685,1.1912461521538754E-2,5.0686576840509104E-2,8.3725654918463857E-2,0.2778115180573974,6.1577222447457308E-2,0.17396243280460713,9.985878687198782E-2,0.94253094222864642,5.2078441741704541E-2,5.894622594851423E-6,5.894622594851423E-6,0,0.51460913718513601,{"$f":"(E$49*D$49+E$50*D$50+E$51*D$51+E$52*D$52+E$53*D$53)/(1-SUM(E$49:E$53))","v":0.24146170436765321},null,1,0.24999999999999972,1.5000000000000022E-2,7.0000000000000076E-2,0.10000000000000009,null,0.10000000000000009,0.24999999999999972,0.14000000000000015,{"$f":"SUM(Y4:AF4)","v":0.92499999999999982},7.5000000000000233E-2,{"$f":"AJ4+AK4","v":0},0,0,0.5241782451782413,{"$f":"D$49","v":8.7670957361222851E-2},null,1,0.40999999999999981,2.9999999999999909E-2,8.9999999999999913E-2,7.0000000000000034E-2,null,2.0000000000000066E-2,0.25500000000000012,8.5000000000000089E-2,{"$f":"SUM(AP4:AW4)","v":0.95999999999999985},0.04,{"$f":"SUM(BA4:BB4)","v":0},0,0,0.5241782451782413,{"$f":"D$50","v":0.15658889782783583},null,1,0.15000000000000016,2.0000000000000032E-2,6.000000000000006E-2,0.35999999999999954,null,1.0000000000000016E-2,0.16,0.20000000000000012,{"$f":"SUM(BG4:BN4)","v":0.96},4.0000000000000153E-2,{"$f":"SUM(BR4:BS4)","v":0},0,0,0.5241782451782413,{"$f":"D$51","v":0.23351097178683389},null,1,{"$f":"BG4","v":0.15000000000000016},{"$f":"BH4","v":2.0000000000000032E-2},6.000000000000006E-2,0.35999999999999954,0,1.0000000000000016E-2,0.16,0.20000000000000012,0.96,4.0000000000000153E-2,0,0,0,0.5241782451782413,0.23351097178683389]
[null,"Roundwood",null,null,null,null,2,0.1815923314055857,1.1802874181039015E-2,5.0220291417891555E-2,8.2212283534876932E-2,0.2414858487838927,4.5164871139170115E-2,0.16998912534809402,9.8888237641635859E-2,0.88135586345218597,9.7308643577818335E-2,1.638527162249865E-2,6.077111171481632E-6,1.6379194511327168E-2,0.51460913718513623,0.24146170436765321,null,2,0.24808198656573541,1.4862009198978449E-2,6.9356042928566064E-2,9.8192463964527063E-2,null,7.3346717087975979E-2,0.2442899921085617,0.13861677456183444,0.88674598641617908,0.10736878072477177,{"$f":"AJ5+AK5","v":5.8852914438673638E-3},6.7412667296256714E-8,5.8852240312000674E-3,0.5241782451782413,8.7670957361222851E-2,null,2,0.40685445796780623,2.9724018397956933E-2,8.9172055193870614E-2,6.8734724775169023E-2,null,1.466934341759522E-2,0.24917579195073319,8.4622376530863394E-2,{"$f":"SUM(AP5:AW5)","v":0.94295276823399465},5.4424580725081363E-2,{"$f":"SUM(BA5:BB5)","v":2.6226771482228644E-3},3.0041275558737835E-8,2.6226471069473057E-3,0.5241782451782413,0.15658889782783583,null,2,0.14884919193944163,1.9816012265304616E-2,5.9448036795913844E-2,0.35349287027229698,null,7.3346717087975919E-3,0.15634559494947947,0.19779463085542001,{"$f":"SUM(BG5:BN5)","v":0.94308100878665424},5.4316069488215608E-2,{"$f":"SUM(BR5:BS5)","v":2.6029178207475079E-3},0,2.6029178207475079E-3,0.5241782451782413,0.23351097178683389,null,2,{"$f":"BG5","v":0.14884919193944163},{"$f":"BH5","v":1.9816012265304616E-2},{"$f":"BI5","v":5.9448036795913844E-2},{"$f":"BJ5","v":0.35349287027229698},{"$f":"BK5","v":0},{"$f":"BL5","v":7.3346717087975919E-3},{"$f":"BM5","v":0.15634559494947947},{"$f":"BN5","v":0.19779463085542001},{"$f":"BO5","v":0.94308100878665424},{"$f":"BP5","v":5.4316069488215608E-2},{"$f":"BQ5","v":2.6029178207475079E-3},{"$f":"BR5","v":0},{"$f":"BS5","v":2.6029178207475079E-3},{"$f":"BT5","v":0.5241782451782413},{"$f":"BU5","v":0.23351097178683389}]
[null,"SPF",{"$f":"0.4007/2","v":0.20035},"tC",null,null,3,0.18019914528080427,1.1694294976865872E-2,4.9758295535205402E-2,8.0726266884398795E-2,0.20990999786707468,3.3126950257595975E-2,0.16610656835930906,9.7921576895719967E-2,0.82944309605697419,0.13434494562162197,3.226986202768678E-2,7.0659687137605213E-4,3.1563265156310728E-2,0.51460913718513623,0.24146170436765321,null,3,0.24617868823360767,1.4725287828701306E-2,6.8718009867272806E-2,9.641759979424952E-2,null,5.3797409075835641E-2,0.23871040097760407,0.13723965146989034,0.85578704724716137,0.13298445483298565,1.1528720423329223E-2,3.4546151084951409E-4,1.118325891247971E-2,0.5241782451782413,8.7670957361222851E-2,null,3,0.40373304870311777,2.9450575657402632E-2,8.8351726972207695E-2,6.7492319855974717E-2,null,1.0759481815167178E-2,0.24348460899715538,8.4233847905453879E-2,0.92750560990647923,6.7200899124731192E-2,5.4536028694678156E-3,1.8423835146556754E-4,5.2693645180022482E-3,0.5241782451782413,0.15658889782783583,null,3,0.1477072129401647,1.9633717104935069E-2,5.8901151314805118E-2,0.34710335925929869,null,5.3797409075835648E-3,0.15277465662566658,0.19560603526506329,0.92710587341751693,6.753971743505377E-2,5.5145216602913352E-3,1.8423905589630481E-4,5.3302826043950301E-3,0.5241782451782413,0.23351097178683389,null,3,0.1477072129401647,1.9633717104935069E-2,5.8901151314805118E-2,0.34710335925929869,0,5.3797409075835648E-3,0.15277465662566658,0.19560603526506329,0.92710587341751693,6.753971743505377E-2,5.5145216602913352E-3,1.8423905589630481E-4,5.3302826043950301E-3,0.5241782451782413,0.23351097178683389]
[null,"Cedar",{"$f":"0.345/2","v":0.17249999999999999},"ft3",2.8316849999987785E-2,null,4,0.17881664775483905,1.1586714634783142E-2,4.9300549731313988E-2,7.9267110520371345E-2,0.18246289555454184,2.429753048531344E-2,0.16231268909470234,9.6958983544878571E-2,0.7850031213207439,0.16495748047681053,4.747184939240686E-2,1.8657834241468524E-3,4.5606065968260001E-2,0.51460913718513623,0.24146170436765321,null,4,0.24428999210856128,1.4589824211184262E-2,6.8085846318859888E-2,9.4674816933430272E-2,null,3.9458633435514368E-2,0.23325824788420224,0.13586886770065731,0.83022622859240969,0.15375626983581031,1.6723495425443775E-2,8.1237648914737274E-4,1.5911118936296403E-2,0.5241782451782413,8.7670957361222851E-2,null,4,0.4006355870580417,2.9179648422368511E-2,8.7538945267105525E-2,6.627237185340118E-2,null,7.8917266871028728E-3,0.23792341284188609,8.3834929221318175E-2,0.91327662135122412,7.8816747298369155E-2,8.2732713235820019E-3,4.2188709242078855E-4,7.8513842311612129E-3,0.5241782451782413,0.15658889782783583,null,4,0.14657399526513701,1.9453098948245699E-2,5.8359296844736994E-2,0.34082934096034972,null,3.9458633435514286E-3,0.1492852786458892,0.19343431194408148,0.91188118595199141,7.9996762016734113E-2,8.4883163193697382E-3,4.214547972603377E-4,8.0668615221094007E-3,0.5241782451782413,0.23351097178683389,null,4,0.14657399526513701,1.9453098948245699E-2,5.8359296844736994E-2,0.34082934096034972,0,3.9458633435514286E-3,0.1492852786458892,0.19343431194408148,0.91188118595199141,7.9996762016734113E-2,8.4883163193697382E-3,4.214547972603377E-4,8.0668615221094007E-3,0.5241782451782413,0.23351097178683389]
[null,"Hardwood",{"$f":"0.415/2","v":0.20749999999999999},"m3",1,null,5,0.1774447568241829,1.1480123965872339E-2,4.8847014908098896E-2,7.7834328933437488E-2,0.15860468101776795,1.7821440944427551E-2,0.1586054621522574,9.600062839441921E-2,0.74663843714046363,0.19040169908916438,6.2059914870937469E-2,3.3962269483619515E-3,5.8663687922575515E-2,0.51460913718513623,0.24146170436765321,null,5,0.24241578616167947,1.4455606775873238E-2,6.7459498287408382E-2,9.2963535500840411E-2,null,2.8941612232728182E-2,0.22793062213955495,0.13450464911617907,0.80867131021426375,0.17092468990808771,2.1597387449178055E-2,1.3732130960066378E-3,2.0224174353171417E-2,0.5241782451782413,8.7670957361222851E-2,null,5,0.39756188930515429,2.8911213551746508E-2,8.6733640655239516E-2,6.5074474850588482E-2,null,5.7883224465456306E-3,0.23248923458234572,8.3426119980164387E-2,0.8999848953717845,8.9525954033457131E-2,1.1102950286314691E-2,7.06290056037692E-4,1.0396660230276999E-2,0.5241782451782413,0.15658889782783583,null,5,0.14544947169700809,1.9274142367831038E-2,5.7822427103493064E-2,0.3346687278030257,null,2.8941612232728136E-3,0.14587559816931484,0.19127955050825721,0.89726407887220272,9.1819577262744353E-2,1.1530956527916081E-2,7.0722552986996509E-4,1.0823730998046116E-2,0.5241782451782413,0.23351097178683389,null,5,0.14544947169700809,1.9274142367831038E-2,5.7822427103493064E-2,0.3346687278030257,0,2.8941612232728136E-3,0.14587559816931484,0.19127955050825721,0.89726407887220272,9.1819577262744353E-2,1.1530956527916081E-2,7.0722552986996509E-4,1.0823730998046116E-2,0.5241782451782413,0.23351097178683389]
[null,"Lumber",null,null,null,null,6,0.176083391114469,1.1374513865747168E-2,4.8397652327120157E-2,7.6427445389997031E-2,0.13786608375524992,1.3071441870509935E-2,0.15498290839019935,9.5046674390304078E-2,0.7132501111035966,0.21166341995646035,7.530590829424702E-2,4.3271539450479646E-3,7.097875434919905E-2,0.51460913718513623,0.24146170436765321,null,6,0.24055595922353767,1.4322624058656214E-2,6.6838912273728929E-2,9.1283186096813199E-2,null,2.1227722445038122E-2,0.22272467953508429,0.13314721080519049,0.79010029443804886,0.1854010353462168,2.5972630285899915E-2,1.6960636423824255E-3,2.4276566643517489E-2,0.5241782451782413,8.7670957361222851E-2,null,6,0.39451177312660018,2.8645248117312498E-2,8.5935744351937488E-2,6.3898230267769432E-2,null,4.2455444890076282E-3,0.22717917312578645,8.3007904500883606E-2,0.88742361797929714,9.9516330832743846E-2,1.3818033578183536E-2,8.7219891477896203E-4,1.2945834663404574E-2,0.5241782451782413,0.15658889782783583,null,6,0.14433357553412204,1.9096832078208288E-2,5.7290496234624892E-2,0.32861946994852825,null,2.1227722445038093E-3,0.14254379490245417,0.18914183177652927,0.88314877271897085,0.10310735508285773,1.4504752869346762E-2,8.7553392299617489E-4,1.3629218946350587E-2,0.5241782451782413,0.23351097178683389,null,6,0.14433357553412204,1.9096832078208288E-2,5.7290496234624892E-2,0.32861946994852825,0,2.1227722445038093E-3,0.14254379490245417,0.18914183177652927,0.88314877271897085,0.10310735508285773,1.4504752869346762E-2,8.7553392299617489E-4,1.3629218946350587E-2,0.5241782451782413,0.23351097178683389]
[null,"SPF",{"$f":"0.452/2","v":0.22600000000000001},"tC",null,null,7,0.17473246987563637,1.1269875313776148E-2,4.7952423606307935E-2,7.5045991773581483E-2,0.11983919344650552,9.587473488082145E-3,0.15144309387041469,9.4097276858595313E-2,0.68396779823289955,0.22952175602471198,8.7929291749604274E-2,5.3789367708361778E-3,8.2550354978768101E-2,0.51460913718513623,0.24146170436765321,null,7,0.23871040097760407,1.4190864700883916E-2,6.6224035270791667E-2,8.9633209613785486E-2,null,1.5569837525982854E-2,0.21763764082403156,0.1317967574151227,0.77376274632820219,0.19785516316195659,3.0162318353451942E-2,2.0484813542918918E-3,2.811383699916005E-2,0.5241782451782413,8.7670957361222851E-2,null,7,0.39148505760327229,2.8381729401767933E-2,8.5145188205303424E-2,6.274324672964994E-2,null,3.1139675051965695E-3,0.22199039364051104,8.2580752322293324E-2,0.8754403354079946,0.10892721462939998,1.6551142104387514E-2,1.0571252042423018E-3,1.5494016900145213E-2,0.5241782451782413,0.15658889782783583,null,7,0.143226240586563,1.8921152934511899E-2,5.6763458803535581E-2,0.32267955460962783,null,1.5569837525982869E-3,0.13928809012737997,0.18702122806536028,0.86945670887957682,0.11393488257045514,1.753402292091745E-2,1.0650905090377151E-3,1.6468932411879734E-2,0.5241782451782413,0.23351097178683389,null,7,0.143226240586563,1.8921152934511899E-2,5.6763458803535581E-2,0.32267955460962783,0,1.5569837525982869E-3,0.13928809012737997,0.18702122806536028,0.86945670887957682,0.11393488257045514,1.753402292091745E-2,1.0650905090377151E-3,1.6468932411879734E-2,0.5241782451782413,0.23351097178683389]
[null,"Cedar",{"$f":"0.345/2","v":0.17249999999999999},"m3",1,null,8,0.17339191297714152,1.1166199372312067E-2,4.7511290716683981E-2,7.3689508429096023E-2,0.10416943670790298,7.0320970551883046E-3,0.14798412882599846,9.3152583738526681E-2,0.65809715782285005,0.24459647083318645,9.9984112861269667E-2,6.5256331642046198E-3,9.3458479697065042E-2,0.51460913718513623,0.24146170436765321,null,8,0.23687900195370976,1.4060317448399669E-2,6.5614814759198503E-2,8.8013057050265478E-2,null,1.1419964681240142E-2,0.2126667902377142,0.13045348347521019,0.75910742960573785,0.20877977951292742,3.4219900874648899E-2,2.4246197183341715E-3,3.1795281156314727E-2,0.5241782451782413,8.7670957361222851E-2,null,8,0.38848156320408456,2.8120634896799349E-2,8.4361904690398046E-2,6.1609139935185887E-2,null,2.2839929362480321E-3,0.21692012604246838,8.2145118595837535E-2,0.8639224803010217,0.11786233662729506,1.9309626418275588E-2,1.2593594673119578E-3,1.805026695096363E-2,0.5241782451782413,0.15658889782783583,null,8,0.14212740117222619,1.8747089931199574E-2,5.6241269793598614E-2,0.31684700538095584,null,1.1419964681240139E-3,0.13610674575213691,0.1849178034751438,0.85612931197338482,0.12435898215174435,2.0619331062647343E-2,1.2745276133318618E-3,1.9344803449315481E-2,0.5241782451782413,0.23351097178683389,null,8,0.14212740117222619,1.8747089931199574E-2,5.6241269793598614E-2,0.31684700538095584,0,1.1419964681240139E-3,0.13610674575213691,0.1849178034751438,0.85612931197338482,0.12435898215174435,2.0619331062647343E-2,1.2745276133318618E-3,1.9344803449315481E-2,0.5241782451782413,0.23351097178683389]
[null,"Hardwood",{"$f":"0.6/2","v":0.3},"bf",{"$f":"1/624","v":1.6025641025641025E-3},null,9,0.17206164090320999,1.1063477185928618E-2,4.7074215979113085E-2,7.2357544009877234E-2,9.0548602940036083E-2,5.1578123324208412E-3,0.14460416665238268,9.2212735809357946E-2,0.63508019581232644,0.2573837545580786,0.1115151506448445,7.7455205323276244E-3,0.10376963011251687,0.51460913718513623,0.24146170436765321,null,9,0.23506165352154201,1.3930971150578179E-2,6.5011198702698295E-2,8.6422189328160592E-2,null,8.3761691862959693E-3,0.20780947403569633,0.12911757371092206,0.74572922963589339,0.21853761229557001,3.8183928870823482E-2,2.8200650327682175E-3,3.5363863838055266E-2,0.5241782451782413,8.7670957361222851E-2,null,9,0.38550111177532848,2.7861942301156385E-2,8.3585826903468968E-2,6.049553252971239E-2,null,1.6752338372591992E-3,0.21196566351641039,8.1701444468493353E-2,0.85278675533182913,0.12639926294079751,2.209799580491429E-2,1.4774956508690101E-3,2.062050015404528E-2,0.5241782451782413,0.15658889782783583,null,9,0.1410369921129247,1.857462820077092E-2,5.5723884602312632E-2,0.31111988158137838,null,8.3761691862959927E-4,0.13299806338284606,0.18283161416885882,0.84312268096772114,0.13442323742632742,2.3759952014654723E-2,1.5026454017954278E-3,2.2257306612859296E-2,0.5241782451782413,0.23351097178683389,null,9,0.1410369921129247,1.857462820077092E-2,5.5723884602312632E-2,0.31111988158137838,0,8.3761691862959927E-4,0.13299806338284606,0.18283161416885882,0.84312268096772114,0.13442323742632742,2.3759952014654723E-2,1.5026454017954278E-3,2.2257306612859296E-2,0.5241782451782413,0.23351097178683389]
[null,"Plywood",null,null,null,null,10,0.17074157474811408,1.0961699980663936E-2,4.6641162061085019E-2,7.104965532751556E-2,7.8708782091074431E-2,3.7830860193894499E-3,0.14130140292150245,9.1277866911169528E-2,0.61446523006051434,0.26828336799564945,0.122560221109942,9.0204075804818182E-3,0.11353981352946017,0.51460913718513623,0.24146170436765321,null,10,0.23325824788420246,1.380281475937308E-2,6.4413135543741049E-2,8.4860077113409482E-2,null,6.1436451158827241E-3,0.20306309908905887,0.12778920334993477,0.73333022285560245,0.22739601217515973,4.2082056623065626E-2,3.231458889335923E-3,3.8850597733729703E-2,0.5241782451782413,8.7670957361222851E-2,null,10,0.38254352653009305,2.7605629518746209E-2,8.2816888556238449E-2,5.9402053979386638E-2,null,1.2287290231765451E-3,0.20712436107083984,8.1250157456117258E-2,0.84197134613459801,0.13459632069787977,2.4918713215619458E-2,1.7103551238376803E-3,2.3208358091781778E-2,0.5241782451782413,0.15658889782783583,null,10,0.13995494873052156,1.8403753012497449E-2,5.5211259037492362E-2,0.30549627760827436,null,6.1436451158827289E-4,0.12996038341699759,0.1807627086431508,0.83040369496052235,0.144161461538934,2.6954263275529907E-2,1.7483734397102308E-3,2.5205889835819676E-2,0.5241782451782413,0.23351097178683389,null,10,0.13995494873052156,1.8403753012497449E-2,5.5211259037492362E-2,0.30549627760827436,0,6.1436451158827289E-4,0.12996038341699759,0.1807627086431508,0.83040369496052235,0.144161461538934,2.6954263275529907E-2,1.7483734397102308E-3,2.5205889835819676E-2,0.5241782451782413,0.23351097178683389]
[null,"SPF",{"$f":"0.452/2","v":0.22600000000000001},"tC",null,null,11,0.1694316362114974,1.0860859063271285E-2,4.621209197352602E-2,6.9765407204391436E-2,6.8417095097124861E-2,2.774769399836341E-3,0.13807407441848951,9.0348104159747422E-2,0.59588403752788444,0.27761933504256342,0.13315185778349331,1.0335068348549055E-2,0.12281678943494426,0.51460913718513623,0.24146170436765321,null,11,0.23146867807182381,1.3675837328373209E-2,6.3820574199075011E-2,8.3326200639854561E-2,null,4.506162002035752E-3,0.19842513149602445,0.12646853841985756,0.72169112215704434,0.23555233273435772,4.5933975389571759E-2,3.6562211452299096E-3,4.2277754244341846E-2,0.5241782451782413,8.7670957361222851E-2,null,11,0.37960863203779127,2.73516746567465E-2,8.205502397023913E-2,5.8328340447898093E-2,null,9.0123240040715054E-4,0.2023936341259451,8.0791671807461871E-2,0.83143020944648915,0.14249767975134264,2.7772776859973591E-2,1.9569308062419252E-3,2.5815846053731665E-2,0.5241782451782413,0.15658889782783583,null,11,0.1388812068430941,1.8234449771164288E-2,5.4703349313492862E-2,0.2999743223034762,null,4.5061620020357538E-4,0.12699208415745605,0.17871112799203609,0.81794715658092332,0.15360024316234996,3.0200031080569831E-2,2.0107423178465675E-3,2.8189288762723263E-2,0.5241782451782413,0.23351097178683389,null,11,0.1388812068430941,1.8234449771164288E-2,5.4703349313492862E-2,0.2999743223034762,0,4.5061620020357538E-4,0.12699208415745605,0.17871112799203609,0.81794715658092332,0.15360024316234996,3.0200031080569831E-2,2.0107423178465675E-3,2.8189288762723263E-2,0.5241782451782413,0.23351097178683389]
[null,null,null,"sf",8.8500000000000004E-4,null,12,0.16813174759372601,1.0760945820476408E-2,4.5786969067638697E-2,6.8504372328877572E-2,5.9471113351909355E-2,2.0352022615416909E-3,0.1349204582003595,8.9423568155707039E-2,0.57903437678023628,0.28565579890638365,0.14331853734133071,1.1676774206766735E-2,0.13164176313456397,0.51460913718513623,0.24146170436765321,null,12,0.22969283793521064,1.3550028011867683E-2,6.3233464055382452E-2,8.1820049536298761E-2,null,3.3051218951590327E-3,0.19389309522921713,0.12515573603792116,0.71065033270105682,0.24315254735713918,4.9753564015141825E-2,4.0923466049365819E-3,4.5661217410205242E-2,0.5241782451782413,8.7670957361222851E-2,null,12,0.37669625421374614,2.7100056023735358E-2,8.1300168071206061E-2,5.7274034675409043E-2,null,6.6102437903180612E-4,0.19777095713380169,8.032638885908816E-2,0.8211288833560183,0.15013708152971408,3.0660145374504823E-2,2.2163460528758375E-3,2.8443799321628986E-2,0.5241782451782413,0.15658889782783583,null,12,0.13781570276112681,1.8066704015823581E-2,5.4200112047470779E-2,0.29455217833067487,null,3.3051218951590295E-4,0.12409158094669892,0.17667690616340698,0.80573369645471771,0.16276081586463639,3.3494618332098935E-2,2.2888626674257106E-3,3.1205755664673224E-2,0.5241782451782413,0.23351097178683389,null,12,0.13781570276112681,1.8066704015823581E-2,5.4200112047470779E-2,0.29455217833067487,0,3.3051218951590295E-4,0.12409158094669892,0.17667690616340698,0.80573369645471771,0.16276081586463639,3.3494618332098935E-2,2.2888626674257106E-3,3.1205755664673224E-2,0.5241782451782413,0.23351097178683389]
[null,null,null,"sm",{"$f":"E15*10.7639104167097","v":9.5260607187880857E-3},null,13,0.16684183179128126,1.066195171824192E-2,4.5365757031772584E-2,6.72661311131586E-2,5.169487711068118E-2,1.4927540449410713E-3,0.13183887067619682,8.8504373188001167E-2,0.56366654667427463,0.29260924054584975,0.1530855745473956,1.3034904800561183E-2,0.14005066974683442,0.51460913718513623,0.24146170436765321,null,13,0.2279306221395552,1.3425376063919534E-2,6.2651754964957729E-2,8.0341122656688357E-2,null,2.4241984058550438E-3,0.18946457081379983,0.12385094469283063,0.70008858973760635,0.25030490543124106,5.3550465202186322E-2,4.5382557694088358E-3,4.9012209432777488E-2,0.5241782451782413,8.7670957361222851E-2,null,13,0.37380622030887067,2.6850752127839092E-2,8.0552256383517082E-2,5.6238785859681832E-2,null,4.8483968117100939E-4,0.19325386223007615,7.9854697381394224E-2,0.81104141397254992,0.15754057555231227,3.3580048314188995E-2,2.4878243627441394E-3,3.1092223951444859E-2,0.5241782451782413,0.15658889782783583,null,13,0.13675837328373308,1.7900501418559353E-2,5.3701504255678122E-2,0.28922804156407861,null,2.424198405855041E-4,0.12125732532083185,0.17466007020852031,0.79374823589198695,0.17166043112992502,3.6835135367874916E-2,2.5819095992065918E-3,3.4253225768668322E-2,0.5241782451782413,0.23351097178683389,null,13,0.13675837328373308,1.7900501418559353E-2,5.3701504255678122E-2,0.28922804156407861,0,2.424198405855041E-4,0.12125732532083185,0.17466007020852031,0.79374823589198695,0.17166043112992502,3.6835135367874916E-2,2.5819095992065918E-3,3.4253225768668322E-2,0.5241782451782413,0.23351097178683389]
[null,"OSB",null,null,null,null,14,0.16556181229218961,1.0563868301038353E-2,4.4948419888321579E-2,6.6050271553619852E-2,4.4935434513815542E-2,1.0948860861622433E-3,0.12882766670835943,8.7590627431950424E-2,0.54957298677545707,0.2986579503678512,0.16247577706301941,1.4400623064115088E-2,0.14807515399890434,0.51460913718513623,0.24146170436765321,null,14,0.22618192615818075,1.3301870837447787E-2,6.2075397241422928E-2,7.8888927913365062E-2,null,1.7780699463937142E-3,0.18513719403582049,0.12255430451897927,0.68991769065161002,0.25708995000651824,5.733124056696224E-2,4.9926852453094353E-3,5.2338555321652803E-2,0.5241782451782413,8.7670957361222851E-2,null,14,0.37093835889941495,2.6603741674895674E-2,7.9811225024686835E-2,5.52222495393557E-2,null,3.5561398927874368E-4,0.18883993791653722,7.9376973915972968E-2,0.80114810096014211,0.16472852804351593,3.653121258410643E-2,2.7706670324961643E-3,3.3760545551610267E-2,0.5241782451782413,0.15658889782783583,null,14,0.13570915569490796,1.7735827783263717E-2,5.320748334979105E-2,0.28400014048811534,null,1.7780699463937141E-4,0.11848780418292511,0.17266064052464222,0.78197885901828479,0.18031336725706315,4.021854886945142E-2,2.8891111255225188E-3,3.7329437743928905E-2,0.5241782451782413,0.23351097178683389,null,14,0.13570915569490796,1.7735827783263717E-2,5.320748334979105E-2,0.28400014048811534,0,1.7780699463937141E-4,0.11848780418292511,0.17266064052464222,0.78197885901828479,0.18031336725706315,4.021854886945142E-2,2.8891111255225188E-3,3.7329437743928905E-2,0.5241782451782413,0.23351097178683389]
[null,"SPF",{"$f":"0.58/2","v":0.28999999999999998},"tC",null,null,15,0.16429161317147969,1.0466687191121919E-2,4.4534921990652059E-2,6.48563890937605E-2,3.9059833155657156E-2,8.0306300005303236E-4,0.12588523873419802,8.6682433141937243E-2,0.53658017947885961,0.3039494171122159,0.17150992609797508,1.5766602574338373E-2,0.15574332352363673,0.51460913718513623,0.24146170436765321,null,15,0.224446646266343,1.3179501783318141E-2,6.1504341655484636E-2,7.7462982113332926E-2,null,1.3041559332077229E-3,0.18090865468004744,0.12126594756321779,0.68007222999495154,0.26356786665530996,6.1100216790567478E-2,5.454607246981308E-3,5.5645609543586168E-2,0.5241782451782413,8.7670957361222851E-2,null,15,0.3680924998768037,2.6359003566636247E-2,7.9077010699908745E-2,5.4224087479333036E-2,null,2.6083118664154504E-4,0.18452682777364837,7.8893583104510251E-2,0.79143384368748182,0.17171709660271911,3.9512027266047703E-2,3.0642366400672324E-3,3.644779062598047E-2,0.5241782451782413,0.15658889782783583,null,15,0.13466798775980635,1.75726690444242E-2,5.2718007133272599E-2,0.27886673560799802,null,1.3041559332077247E-4,0.11578153899523029,0.17067863109101603,0.77041598522506827,0.18873167112084893,4.3641760131356601E-2,3.2097395080959764E-3,4.0432020623260623E-2,0.5241782451782413,0.23351097178683389,null,15,0.13466798775980635,1.75726690444242E-2,5.2718007133272599E-2,0.27886673560799802,0,1.3041559332077247E-4,0.11578153899523029,0.17067863109101603,0.77041598522506827,0.18873167112084893,4.3641760131356601E-2,3.2097395080959764E-3,4.0432020623260623E-2,0.5241782451782413,0.23351097178683389]
[null,"Hardwood",{"$f":"0.58/2","v":0.28999999999999998},"sf",8.8500000000000004E-4,null,16,0.1630311590866805,1.0370400087818908E-2,4.4125228020057153E-2,6.3684086489584193E-2,3.3952505025375952E-2,5.8902034668710914E-4,0.12301001590784699,8.577988683889419E-2,0.52454230180294503,0.30860612992013758,0.18020713090787602,1.712679793565559E-2,0.16308033297222044,0.51460913718513623,0.24146170436765321,null,16,0.22272467953508621,1.3058258449441786E-2,6.0938539430728279E-2,7.6062810797482436E-2,null,9.5655556271592018E-4,0.176776695296637,0.11998599804436519,0.67050353711645683,0.26978387481342841,6.4860105238430915E-2,5.923170440254105E-3,5.8936934798176806E-2,0.5241782451782413,8.7670957361222851E-2,null,16,0.3652684744375414,2.6116516898883637E-2,7.8349550696650727E-2,5.3243967558237688E-2,null,1.9131111254318506E-4,0.18031222920256976,7.8404878009426762E-2,0.78188692791585312,0.17851931319268424,4.2520663307973876E-2,3.367944808040669E-3,3.9152718499933209E-2,0.5241782451782413,0.15658889782783583,null,16,0.13363480772105171,1.7411011265922382E-2,5.2233033797767087E-2,0.27382611887093727,null,9.5655556271591986E-5,0.11313708498984763,0.16871404969832643,0.75905176190012402,0.19692570393344794,4.7101660918767399E-2,3.5431047561166559E-3,4.3558556162650745E-2,0.5241782451782413,0.23351097178683389,null,16,0.13363480772105171,1.7411011265922382E-2,5.2233033797767087E-2,0.27382611887093727,0,9.5655556271591986E-5,0.11313708498984763,0.16871404969832643,0.75905176190012402,0.19692570393344794,4.7101660918767399E-2,3.5431047561166559E-3,4.3558556162650745E-2,0.5241782451782413,0.23351097178683389]
[null,null,null,"sm",{"$f":"E19*10.7639104167097","v":9.5260607187880857E-3},null,17,0.16178037527335248,1.0274998766816756E-2,4.3719302982740724E-2,6.2532973677423304E-2,2.9512993383875193E-2,4.3202708727520841E-4,0.12020046326160716,8.4883079492719476E-2,0.5133362139258103,0.312730165218636,0.18858509202373785,1.8476250752943766E-2,0.17010884127079409,0.51460913718513623,0.24146170436765321,null,17,0.22101592382512475,1.2938130479882771E-2,6.0377942239452913E-2,7.4687948082724179E-2,null,7.0160210237454012E-4,0.17273910999597208,0.11871457260564669,0.66117522933117789,0.27577218330290931,6.861245546516466E-2,6.3976564429747427E-3,6.2214799022189911E-2,0.5241782451782413,8.7670957361222851E-2,null,17,0.36246611507320414,2.5876260959765546E-2,7.7628782879296643E-2,5.2281563657907162E-2,null,1.4032042047490865E-4,0.17619389219589157,7.7911200426464419E-2,0.7724981356130044,0.18514587979321878,4.5555160153142794E-2,3.6812431094074894E-3,4.1873917043735304E-2,0.5241782451782413,0.15658889782783583,null,17,0.13260955429507468,1.7250840639843702E-2,5.1752521919531023E-2,0.26887661309780819,null,7.0160210237454079E-5,0.11055303039742215,0.16676689817181803,0.74787961873173514,0.20490454318546153,5.0595172946052008E-2,3.8885497056560174E-3,4.6706623240395991E-2,0.5241782451782413,0.23351097178683389,null,17,0.13260955429507468,1.7250840639843702E-2,5.1752521919531023E-2,0.26887661309780819,0,7.0160210237454079E-5,0.11055303039742215,0.16676689817181803,0.74787961873173514,0.20490454318546153,5.0595172946052008E-2,3.8885497056560174E-3,4.6706623240395991E-2,0.5241782451782413,0.23351097178683389]
[null,"MDF",null,null,null,null,18,0.1605391875406546,1.018047507946152E-2,4.3317112206827837E-2,6.1402667644151039E-2,2.565397686638048E-2,3.1687768544717024E-4,0.11745508088649445,8.3992096699747679E-2,0.50285747460916475,0.31640683780459461,0.19666029852837708,1.9810925199974017E-2,0.17684937332840309,0.51460913718513623,0.24146170436765321,null,18,0.21932027778079269,1.2819107613973414E-2,5.9822502198542619E-2,7.3337936506973886E-2,null,5.146021091119459E-4,0.16879374327102409,0.11745178056023708,0.65205995004065576,0.28155889268869982,7.23579869170769E-2,6.8774478123330863E-3,6.5480539104743815E-2,0.5241782451782413,8.7670957361222851E-2,null,18,0.35968525556050146,2.563821522794681E-2,7.6914645683840432E-2,5.1336555554881619E-2,null,1.029204218223891E-4,0.17216961813644416,7.7412881189410948E-2,0.76326009177484777,0.19160575325707041,4.8613488165051739E-2,4.0036162814449851E-3,4.4609871883606753E-2,0.5241782451782413,0.15658889782783583,null,18,0.1315921666684759,1.7092143485297872E-2,5.1276430455893592E-2,0.26401657142510626,null,5.1460210911194507E-5,0.10802799569345516,0.16483717258822525,0.73689394052736523,0.21267627904084635,5.4119275398461071E-2,4.2454462630206113E-3,4.9873829135440459E-2,0.5241782451782413,0.23351097178683389,null,18,0.1315921666684759,1.7092143485297872E-2,5.1276430455893592E-2,0.26401657142510626,0,5.1460210911194507E-5,0.10802799569345516,0.16483717258822525,0.73689394052736523,0.21267627904084635,5.4119275398461071E-2,4.2454462630206113E-3,4.9873829135440459E-2,0.5241782451782413,0.23351097178683389]
[null,"SPF",{"$f":"0.58/2","v":0.28999999999999998},"tC",null,null,19,0.15930752226693998,1.0086820952061853E-2,4.2918621339403801E-2,6.029279229974141E-2,2.2299551946511797E-2,2.3241937945986147E-4,0.11477240313148833,8.3107018855398146E-2,0.49301715017100517,0.31970762695364979,0.20444817771788482,2.1127568324376671E-2,0.18332060939350817,0.51460913718513623,0.24146170436765321,null,19,0.21763764082403339,1.2701179685437821E-2,5.9272171865376519E-2,7.201232687693794E-2,null,3.7744375309909452E-4,0.16493848884661189,0.11619772413008167,0.64313697598157826,0.28716412513362566,7.6096831332518794E-2,7.3620044603931326E-3,6.8734826872125662E-2,0.5241782451782413,8.7670957361222851E-2,null,19,0.35692573095141328,2.5402359370875677E-2,7.6207078112627044E-2,5.040862881385668E-2,null,7.5488750619819237E-5,0.16823725862354419,7.6910240467155166E-2,0.75416678509009194,0.19790657550710578,5.1693593342169893E-2,4.3345771357108714E-3,4.735901620645902E-2,0.5241782451782413,0.15658889782783583,null,19,0.13058258449441973,1.6934906247250452E-2,5.0804718741751402E-2,0.25924437675697659,null,3.7744375309909618E-5,0.10556063286183158,0.16292486348667326,0.72608982696421287,0.22024823326076634,5.76710237383865E-2,4.6131925057907612E-3,5.3057831232595741E-2,0.5241782451782413,0.23351097178683389,null,19,0.13058258449441973,1.6934906247250452E-2,5.0804718741751402E-2,0.25924437675697659,0,3.7744375309909618E-5,0.10556063286183158,0.16292486348667326,0.72608982696421287,0.22024823326076634,5.76710237383865E-2,4.6131925057907612E-3,5.3057831232595741E-2,0.5241782451782413,0.23351097178683389]
[null,"Hardwood",0.28999999999999998,"sf",8.8500000000000004E-4,null,20,0.1580853063953904,9.9940283851994403E-3,4.2523796343579445E-2,5.9202978352130661E-2,1.9383739979388963E-2,1.7047198471005398E-4,0.11215099782108767,8.2227921322125488E-2,0.48373924058361206,0.32269253731501646,0.21196321040681157,2.2423591122597668E-2,0.18953961928421389,0.51460913718513623,0.24146170436765321,null,20,0.2159679131484244,1.2584336621523674E-2,5.8726904233777098E-2,7.0710678118654918E-2,null,2.7684260175183143E-4,0.16117128855494772,0.11495249867817219,0.63439046195725179,0.29260358761112798,7.982870967649168E-2,7.8508462543728317E-3,7.1977863422118843E-2,0.5241782451782413,8.7670957361222851E-2,null,20,0.35418737756341695,2.5168673243047255E-2,7.5506019729141963E-2,4.9497474683058464E-2,null,5.5368520350366463E-5,0.16439471432604649,7.6403588053254215E-2,0.7452132161183157,0.20405499025261975,5.4793429083927161E-2,4.6736627151842671E-3,5.0119766368742893E-2,0.5241782451782413,0.15658889782783583,null,20,0.12958074788905483,1.6779115495364878E-2,5.0337346486094517E-2,0.25455844122715793,null,2.7684260175183238E-5,0.10314962467516645,0.16102995607369572,0.71546291610670953,0.22762712125062054,6.1247562171568022E-2,4.9912104168141217E-3,5.6256351754753901E-2,0.5241782451782413,0.23351097178683389,null,20,0.12958074788905483,1.6779115495364878E-2,5.0337346486094517E-2,0.25455844122715793,0,2.7684260175183238E-5,0.10314962467516645,0.16102995607369572,0.71546291610670953,0.22762712125062054,6.1247562171568022E-2,4.9912104168141217E-3,5.6256351754753901E-2,0.5241782451782413,0.23351097178683389]
[null,null,null,"sm",{"$f":"E23*10.7639104167097","v":9.5260607187880857E-3},null,21,0.15687246742968552,9.9020894530457166E-3,4.2132603495584127E-2,5.8132863184342735E-2,1.6849189458595162E-2,1.2503560433954072E-4,0.10958946549072326,8.1354874592788826E-2,0.47495858870910485,0.32541201622283616,0.21921902144188052,2.3696967125850954E-2,0.19552205431602959,0.51460913718513623,0.24146170436765321,null,21,0.2143109957132697,1.2468568442141722E-2,5.8186652729994744E-2,6.9432557130732958E-2,null,2.0305495988590854E-4,0.15749013123685934,0.11371619293443266,0.62580815314731708,0.29788971946833553,8.3553061091427197E-2,8.3435401560917524E-3,7.520952093533545E-2,0.5241782451782413,8.7670957361222851E-2,null,21,0.35147003296976354,2.4937136884283385E-2,7.4811410652850352E-2,4.8602789991513032E-2,null,4.0610991977181637E-5,0.16063993386159642,7.5893223648201807E-2,0.73639513900018572,0.21005687642903181,5.7910978498748156E-2,5.020431369166127E-3,5.2890547129582029E-2,0.5241782451782413,0.15658889782783583,null,21,0.12858659742796219,1.6624757922855653E-2,4.9874273768566943E-2,0.24995720567063778,null,2.0305495988590805E-5,0.10079368399159003,0.15915243042252245,0.70500925470012366,0.23481917233749375,6.4846131513503477E-2,5.3789440862214632E-3,5.946718742728202E-2,0.5241782451782413,0.23351097178683389,null,21,0.12858659742796219,1.6624757922855653E-2,4.9874273768566943E-2,0.24995720567063778,0,2.0305495988590805E-5,0.10079368399159003,0.15915243042252245,0.70500925470012366,0.23481917233749375,6.4846131513503477E-2,5.3789440862214632E-3,5.946718742728202E-2,0.5241782451782413,0.23351097178683389]
[null,"All Panels",null,null,null,null,22,0.15566893342970042,9.8109963026848518E-3,4.1745009381885523E-2,5.7082090733833558E-2,1.4646047961513342E-2,9.1709510974163832E-5,0.10708643863964104,8.0487944449556717E-2,0.46661917040978967,0.3279085204995219,0.2262284523069904,2.4946145803044797E-2,0.2012823065039456,0.51460913718513623,0.24146170436765321,null,22,0.21266679023771584,1.2353865259013486E-2,5.7651371208729686E-2,6.8177538640244575E-2,null,1.489341469606196E-4,0.15389305166811448,0.1124888892153922,0.6173804403761709,0.30303253508888911,8.7269136685269103E-2,8.8396906935293337E-3,7.8429445991739774E-2,0.5241782451782413,8.7670957361222851E-2,null,22,0.34877353598985428,2.4707730518027049E-2,7.4123191554080953E-2,4.7724277048171206E-2,null,2.9786829392123972E-5,0.15697091270147709,7.5379437134567351E-2,0.72770887177556998,0.21591752051634194,6.1044269812984865E-2,5.3744605042646979E-3,5.5669809308720168E-2,0.5241782451782413,0.15658889782783583,null,22,0.12760007414262964,1.6471820345351357E-2,4.9415461036054042E-2,0.24543913910487997,null,1.4893414696061985E-5,9.8491553067593565E-2,0.1572922616667734,0.694725202777978,0.24183021936062768,6.8464073730545472E-2,5.7758582603933406E-3,6.2688215470152131E-2,0.5241782451782413,0.23351097178683389,null,22,0.12760007414262964,1.6471820345351357E-2,4.9415461036054042E-2,0.24543913910487997,0,1.4893414696061985E-5,9.8491553067593565E-2,0.1572922616667734,0.694725202777978,0.24183021936062768,6.8464073730545472E-2,5.7758582603933406E-3,6.2688215470152131E-2,0.5241782451782413,0.23351097178683389]
[null,null,null,0.125,0.33329999999999999,null,23,0.15447463300723804,9.7207411534430445E-3,4.1360980896334922E-2,5.6050311374018183E-2,1.2730981595172471E-2,6.7265915556986074E-5,0.10464058100084747,7.9627192118459644E-2,0.45867268706107073,0.33021780437196208,0.2330036207582446,2.6169978541035522E-2,0.20683364221720907,0.51460913718513623,0.24146170436765321,null,23,0.21103519919492439,1.2240217274826583E-2,5.7121013949190766E-2,6.69452050612237E-2,null,1.0923830741859602E-4,0.15037812951026489,0.11127066363778848,0.60909966693563744,0.30804024288786858,9.0976067559505769E-2,9.3389328790820722E-3,8.163713468042369E-2,0.5241782451782413,8.7670957361222851E-2,null,23,0.34609772667967725,2.4480434549653131E-2,7.3441303648959386E-2,4.6861643542856546E-2,null,2.1847661483719168E-5,0.15338569210047009,7.4862508845181835E-2,0.71915115702828203,0.22164174398811687,6.4191386756115743E-2,5.7353448341264943E-3,5.8456041921989249E-2,0.5241782451782413,0.15658889782783583,null,23,0.12662111951695498,1.6320289699768765E-2,4.8960869099306338E-2,0.24100273822040574,null,1.0923830741859584E-5,9.6242002886569283E-2,0.1554494201887085,0.68460736344245543,0.24866576570553839,7.2098834088620348E-2,6.1814371489807103E-3,6.5917396939639633E-2,0.5241782451782413,0.23351097178683389,null,23,0.12662111951695498,1.6320289699768765E-2,4.8960869099306338E-2,0.24100273822040574,0,1.0923830741859584E-5,9.6242002886569283E-2,0.1554494201887085,0.68460736344245543,0.24866576570553839,7.2098834088620348E-2,6.1814371489807103E-3,6.5917396939639633E-2,0.5241782451782413,0.23351097178683389]
[null,null,null,0.1875,0.5,null,24,0.15328949532179401,9.6313162962239143E-3,4.0980485237340103E-2,5.5037181797938019E-2,1.106632265594965E-2,4.9337340780219323E-5,0.10225058682772928,7.8772674419702218E-2,0.45107739989745749,0.33236998394195161,0.23955597102158277,2.736765533057639E-2,0.21218831569100635,0.51460913718513623,0.24146170436765321,null,24,0.20941612580629146,1.2127614782397848E-2,5.6595535651189889E-2,6.5735146355721003E-2,null,8.0122712294011022E-5,0.14694348828545156,0.11006158632626434,0.60095961991961011,0.31291970022129245,9.4672913972512998E-2,9.8409269250257555E-3,8.4831987047487248E-2,0.5241782451782413,8.7670957361222851E-2,null,24,0.34344244632231735,2.4255229564795599E-2,7.2765688694386987E-2,4.6014602449004752E-2,null,1.6024542458802234E-5,0.14988235805116037,7.4342709824540873E-2,0.71071905944866465,0.22723399781258921,6.7350475296327067E-2,6.1026949977643621E-3,6.1247780298562711E-2,0.5241782451782413,0.15658889782783583,null,24,0.12564967548377476,1.617015304319713E-2,4.8510459129591281E-2,0.23664652688059468,null,8.0122712294010947E-6,9.4043832502688968E-2,0.15362387180216444,0.67465253111324064,0.25533103574709914,7.5747961592063082E-2,6.5951834246827214E-3,6.9152778167380358E-2,0.5241782451782413,0.23351097178683389,null,24,0.12564967548377476,1.617015304319713E-2,4.8510459129591281E-2,0.23664652688059468,0,8.0122712294010947E-6,9.4043832502688968E-2,0.15362387180216444,0.67465253111324064,0.25533103574709914,7.5747961592063082E-2,6.5951834246827214E-3,6.9152778167380358E-2,0.5241782451782413,0.23351097178683389]
[null,null,null,0.25,0.66669999999999996,null,25,0.1521134500763594,9.5427140928500496E-3,4.0603489905063184E-2,5.404236490403163E-2,9.6193287383293351E-3,3.6187319760798044E-5,9.991518019696706E-2,7.7924443913840014E-2,0.44379715914720147,0.33439042140018238,0.24589631707094084,2.8538650586444728E-2,0.21735766648449611,0.51460913718513623,0.24146170436765321,null,25,0.20780947403569996,1.2016048163844217E-2,5.6074891431272922E-2,6.4546959897370262E-2,null,5.8767379109500962E-5,0.14358729437462955,0.10886172161531031,0.59295515689723666,0.31767674791317613,9.835870069459017E-2,1.0345354279729097E-2,8.8013346414861068E-2,0.5241782451782413,8.7670957361222851E-2,null,25,0.34080753741854664,2.4032096327688469E-2,7.2096288983065221E-2,4.5182871928159361E-2,null,1.1753475821900245E-5,0.14645904026212225,7.3820302083587003E-2,0.70240989047899083,0.23269843275135008,7.0519747732983126E-2,6.4761364509482583E-3,6.4043611282034868E-2,0.5241782451782413,0.15658889782783583,null,25,0.12468568442141949,1.6021397551792289E-2,4.8064192655376849E-2,0.23236905563053412,null,5.8767379109501148E-6,9.1895868399762715E-2,0.15181557793031011,0.66485765332710645,0.26183101307870693,7.940910821143983E-2,7.016617367798292E-3,7.2392490843641535E-2,0.5241782451782413,0.23351097178683389,null,25,0.12468568442141949,1.6021397551792289E-2,4.8064192655376849E-2,0.23236905563053412,0,5.8767379109501148E-6,9.1895868399762715E-2,0.15181557793031011,0.66485765332710645,0.26183101307870693,7.940910821143983E-2,7.016617367798292E-3,7.2392490843641535E-2,0.5241782451782413,0.23351097178683389]
[null,null,null,0.3125,0.83330000000000004,null,26,0.15094642751324419,9.4549269754105724E-3,4.0229962698645101E-2,5.306552968396943E-2,8.3615387200282384E-3,2.6542211046673719E-5,9.7633114327370374E-2,7.7082549043928889E-2,0.4368005911736435,0.33630046285241433,0.25203488077481173,2.9682676776584805E-2,0.22235220399822694,0.51460913718513623,0.24146170436765321,null,26,0.20621514858382839,1.1905507889761377E-2,5.5559036818886437E-2,6.3380250337423172E-2,null,4.3103943295463967E-5,0.14030775603867177,0.10767112824559257,0.58508193185745916,0.32231645645597995,0.10203244226229083,1.0851914635086337E-2,9.1180527627204494E-2,0.5241782451782413,8.7670957361222851E-2,null,26,0.33819284367747765,2.3811015779522719E-2,7.1433047338568353E-2,4.4366175236196313E-2,null,8.6207886590928223E-6,0.14311391115944536,7.3295538848033623E-2,0.69422115282790309,0.23803895187151408,7.3697484882935038E-2,6.8553085605150207E-3,6.6842176322420011E-2,0.5241782451782413,0.15658889782783583,null,26,0.12372908915029672,1.5874010519681844E-2,4.7622031559045513E-2,0.22816890121472408,null,4.3103943295464001E-6,8.9796963864749918E-2,0.15002449577836285,0.65521980248119049,0.26817046973967174,8.3080027264609349E-2,7.445276120268649E-3,7.5634751144340706E-2,0.5241782451782413,0.23351097178683389,null,26,0.12372908915029672,1.5874010519681844E-2,4.7622031559045513E-2,0.22816890121472408,0,4.3103943295464001E-6,8.9796963864749918E-2,0.15002449577836285,0.65521980248119049,0.26817046973967174,8.3080027264609349E-2,7.445276120268649E-3,7.5634751144340706E-2,0.5241782451782413,0.23351097178683389]
[null,null,null,0.375,1,null,27,0.14978835840994587,9.3679474456147514E-3,3.9859871713454946E-2,5.2106351112517157E-2,7.268212956268531E-3,1.9467840445297251E-5,9.5403170914270266E-2,7.624703427374685E-2,0.43006041466626366,0.33811805649978854,0.25798132617558461,3.079964473858518E-2,0.22718168143699941,0.51460913718513623,0.24146170436765321,null,27,0.20463305488249772,1.1795984518409582E-2,5.5047927752578073E-2,6.2234629473201131E-2,null,3.1615327342685382E-5,0.13710312246182829,0.10648985955481367,0.57733619397067115,0.32684330739745848,0.10569316085040992,1.1360323648730386E-2,9.4332837201679537E-2,0.5241782451782413,8.7670957361222851E-2,null,27,0.33559821000729728,2.3591969036819104E-2,7.0775907110457503E-2,4.3564240631240807E-2,null,6.3230654685371063E-6,0.13984518491106487,7.2768664800387767E-2,0.68615049956273588,0.24325924997846593,7.6882036899937931E-2,7.239863850078675E-3,6.9642173049859257E-2,0.5241782451782413,0.15658889782783583,null,27,0.12277983292949866,1.5727979357879448E-2,4.718393807363843E-2,0.22404466610352552,null,3.161532734268551E-6,8.7745998375570136E-2,0.14825057850137785,0.64573615487422431,0.27435398879840833,8.6758571216616523E-2,7.8807130232454812E-3,7.8877858193371037E-2,0.5241782451782413,0.23351097178683389,null,27,0.12277983292949866,1.5727979357879448E-2,4.718393807363843E-2,0.22404466610352552,0,3.161532734268551E-6,8.7745998375570136E-2,0.14825057850137785,0.64573615487422431,0.27435398879840833,8.6758571216616523E-2,7.8807130232454812E-3,7.8877858193371037E-2,0.5241782451782413,0.23351097178683389]
[null,null,null,0.4375,1.1667000000000001,null,28,0.1486391740750401,9.2817680741515331E-3,3.949318533836451E-2,5.1164510039388392E-2,6.3178466723037858E-3,1.427902185455072E-5,9.3224159479115332E-2,7.5417940222189395E-2,0.42355286292240762,0.33985827243608846,0.26374479079213298,3.1889629730853561E-2,0.23185516106127943,0.51460913718513623,0.24146170436765321,null,28,0.20306309908906084,1.1687468694907381E-2,5.454152057623457E-2,6.1109716118930145E-2,null,2.3188804702477093E-5,0.13397168281703695,0.10531796366324928,0.56971463976412162,0.3312613271609538,0.10933989875444415,1.1870311192871814E-2,9.7469587561572341E-2,0.5241782451782413,8.7670957361222851E-2,null,28,0.33302348250606012,2.3374937389814835E-2,7.0124812169444314E-2,4.2776801283251176E-2,null,4.6377609404954102E-6,0.13665111647337752,7.2239916315823827E-2,0.67819570389871231,0.24836284342296255,8.0071823121513619E-2,7.6294673592853055E-3,7.2442355762228308E-2,0.5241782451782413,0.15658889782783583,null,28,0.12183785945343681,1.5583291593209847E-2,4.6749874779629413E-2,0.2199949780281483,null,2.3188804702477085E-6,8.5741877002903588E-2,0.14649377536724781,0.63640397510504598,0.28038598202221104,9.0442689091684667E-2,8.3224970190561715E-3,8.2120192072628495E-2,0.5241782451782413,0.23351097178683389,null,28,0.12183785945343681,1.5583291593209847E-2,4.6749874779629413E-2,0.2199949780281483,0,2.3188804702477085E-6,8.5741877002903588E-2,0.14649377536724781,0.63640397510504598,0.28038598202221104,9.0442689091684667E-2,8.3224970190561715E-3,8.2120192072628495E-2,0.5241782451782413,0.23351097178683389]
[null,null,null,0.5,1.3332999999999999,null,29,0.14749880634410409,9.1963815000549575E-3,3.9129872253048835E-2,5.0239693083053302E-2,5.4917469830482726E-3,1.0473193762587565E-5,9.1094916733921463E-2,7.4595303793936252E-2,0.41725719388492977,0.34153374108720286,0.26933391457035694,3.2952842407039593E-2,0.23638107216331733,0.51460913718513623,0.24146170436765321,null,29,0.20150518808083678,1.1579951150432389E-2,5.4039772035351222E-2,6.0005135978905326E-2,null,1.700822698120905E-5,0.13091176535257845,0.104155483654089,0.56221430447917442,0.33557418595033134,0.11297172694422901,1.2381619991694301E-2,0.1005901069525347,0.5241782451782413,8.7670957361222851E-2,null,29,0.33046850845257258,2.3159902300864718E-2,6.9479706902594349E-2,4.2003595185233694E-2,null,3.4016453962418145E-6,0.13353000065962994,7.1709521692060935E-2,0.6703546368383525,0.25335309281698215,8.3265331231342804E-2,8.0237960887795355E-3,7.5241535142563265E-2,0.5241782451782413,0.15658889782783583,null,29,0.12090311284850218,1.5439934867243189E-2,4.6319804601729443E-2,0.21601848952405933,null,1.7008226981209057E-6,8.3783529825650169E-2,0.14475403191502709,0.62722060440490957,0.28627070390452897,9.413042363761133E-2,8.7702121034542481E-3,8.5360211534157085E-2,0.5241782451782413,0.23351097178683389,null,29,0.12090311284850218,1.5439934867243189E-2,4.6319804601729443E-2,0.21601848952405933,0,1.7008226981209057E-6,8.3783529825650169E-2,0.14475403191502709,0.62722060440490957,0.28627070390452897,9.413042363761133E-2,8.7702121034542481E-3,8.5360211534157085E-2,0.5241782451782413,0.23351097178683389]
[null,null,null,0.5625,1.5,null,30,0.14636718757568035,9.1117804300754647E-3,3.87699014253109E-2,4.9331592526466066E-2,4.7736652201504403E-3,7.6817437991206275E-6,8.901430596023896E-2,7.3779158306483461E-2,0.41115527318820477,0.34315502402002268,0.27475686691852885,3.3989604020751997E-2,0.24076726289777686,0.51460913718513623,0.24146170436765321,null,30,0.1999592294495855,1.1473422701429812E-2,5.3542639273339181E-2,5.8920521522952046E-2,null,1.2474976125588192E-5,0.12792173649959698,0.1030024577487257,0.55483248217175485,0.33978527101971523,0.11658775075919837,1.2894004545974508E-2,0.10369374621322387,0.5241782451782413,8.7670957361222851E-2,null,30,0.32793313629731968,2.2946845402859652E-2,6.8840536208578773E-2,4.1244365066066505E-2,null,2.4949952251176484E-6,0.1304801712295888,7.1177701373385541E-2,0.66262525057302402,0.25823322051840741,8.6461115947370992E-2,8.4225385104028487E-3,7.803857743696814E-2,0.5241782451782413,0.15658889782783583,null,30,0.11997553766975105,1.5297896935239757E-2,4.5893690805719319E-2,0.21211387748262733,null,1.2474976125588179E-6,8.1869911359742142E-2,0.14303129010870208,0.61818345185939427,0.29201226298337796,9.7819908344059417E-2,9.2234568177241121E-3,8.8596451526335301E-2,0.5241782451782413,0.23351097178683389,null,30,0.11997553766975105,1.5297896935239757E-2,4.5893690805719319E-2,0.21211387748262733,0,1.2474976125588179E-6,8.1869911359742142E-2,0.14303129010870208,0.61818345185939427,0.29201226298337796,9.7819908344059417E-2,9.2234568177241121E-3,8.8596451526335301E-2,0.5241782451782413,0.23351097178683389]
[null,null,null,0.625,1.6667000000000001,null,31,0.14524425064725785,9.0279576380568813E-3,3.8413242108430487E-2,4.8439906214677579E-2,4.1494773347014614E-3,5.6343068917641348E-6,8.6981216402303441E-2,7.2969533613634563E-2,0.40523121826595415,0.34473092826415053,0.28002137213241252,3.5000325267506134E-2,0.24502104686490636,0.51460913718513623,0.24146170436765321,null,31,0.19842513149602808,1.1367874248827847E-2,5.3050079827863361E-2,5.7855511864136067E-2,null,9.1499854456276989E-6,0.12500000000000022,0.10185891947710976,0.54756666689941091,0.34389774111571525,0.12018711352951195,1.3407230270542261E-2,0.10677988325896969,0.5241782451782413,8.7670957361222851E-2,null,31,0.32541721565348569,2.2735748497655806E-2,6.8207245492967222E-2,4.0498858304895261E-2,null,1.8299970891255455E-6,0.12750000000000017,7.0644668168966501E-2,0.65500556611505978,0.26300632424990511,8.9657797388729907E-2,8.8253941275393093E-3,8.0832403261190594E-2,0.5241782451782413,0.15658889782783583,null,31,0.11905507889761668,1.5157165665103828E-2,4.5471496995311549E-2,0.20827984271089039,null,9.1499854456277169E-7,8.0000000000000265E-2,0.1413254884865244,0.60928998775399168,0.29761463113701231,0.10150936438783606,9.6818437729119453E-3,9.1827520614924107E-2,0.5241782451782413,0.23351097178683389,null,31,0.11905507889761668,1.5157165665103828E-2,4.5471496995311549E-2,0.20827984271089039,0,9.1499854456277169E-7,8.0000000000000265E-2,0.1413254884865244,0.60928998775399168,0.29761463113701231,0.10150936438783606,9.6818437729119453E-3,9.1827520614924107E-2,0.5241782451782413,0.23351097178683389]
[null,null,null,0.6875,1.8332999999999999,null,32,0.14412992895129406,8.9449059643192611E-3,3.8059863838538641E-2,4.7564337454297938E-2,3.6069060893756089E-3,4.1325791357705682E-6,8.4994562674047106E-2,7.2166456225540687E-2,0.39947109377654916,0.34626877325153899,0.28513473342330697,3.5985488255375134E-2,0.24914924516793185,0.51460913718513623,0.24146170436765321,null,32,0.19690280322440837,1.1263296777260647E-2,5.2562051627216298E-2,5.6809752638684659E-2,null,6.7112139383955226E-6,0.12214499605428107,0.10072489784330831,0.54041450937909774,0.34791456708620072,0.12376899869740793,1.3921072789963622E-2,0.1098479259074443,0.5241782451782413,8.7670957361222851E-2,null,32,0.32292059728802902,2.2526593554521315E-2,6.7579780663563765E-2,3.9766826847079134E-2,null,1.3422427876791061E-6,0.12458789597536654,7.0110627465598513E-2,0.64749366403694597,0.26767538785456513,9.2854059232741856E-2,9.2320730744825819E-3,8.3621986158259276E-2,0.5241782451782413,0.15658889782783583,null,32,0.11814168193464473,1.5017729036347537E-2,4.5053187109042499E-2,0.20451510949926474,null,6.7112139383955281E-7,7.8172797474739833E-2,0.13963656230601504,0.6005377384814482,0.30308165136146126,0.10519709755747193,1.0144999200438673E-2,9.5052098357033266E-2,0.5241782451782413,0.23351097178683389,null,32,0.11814168193464473,1.5017729036347537E-2,4.5053187109042499E-2,0.20451510949926474,0,6.7112139383955281E-7,7.8172797474739833E-2,0.13963656230601504,0.6005377384814482,0.30308165136146126,0.10519709755747193,1.0144999200438673E-2,9.5052098357033266E-2,0.5241782451782413,0.23351097178683389]
[null,null,null,0.75,2,null,33,0.1430241563912622,8.8626183150473225E-3,3.770973643201523E-2,4.6704594914777617E-2,3.1352795757615157E-3,3.0311111271503597E-6,8.3053284179654421E-2,7.136994942537904E-2,0.39386265034502449,0.34777461785998859,0.29010385569885472,3.6945631167611723E-2,0.25315822453124298,0.51460913718513623,0.24146170436765321,null,33,0.1953921543370932,1.1159681354298113E-2,5.2078512986724536E-2,5.5782895888077361E-2,null,4.922455100563753E-6,0.11935520048880227,9.9600417486383208E-2,{"$f":"SUM(Y36:AF36)","v":0.53337378499647925},0.35183856231952992,0.12733263085922938,1.4435317352328815E-2,0.11289731350690058,0.5241782451782413,{"$f":"D$49","v":8.7670957361222851E-2},null,33,0.32044313311283251,2.2319362708596222E-2,6.695808812578867E-2,3.9048027121654165E-2,null,9.8449102011275331E-7,0.12174230449857816,6.9575777435013933E-2,0.64008767749348383,0.27224328992461799,9.6048646742637259E-2,9.6422957466038E-3,8.6406350996033457E-2,0.5241782451782413,{"$f":"D$50","v":0.15658889782783583},null,33,0.11723529260225608,1.4879575139064174E-2,4.46387254171925E-2,0.20081842519707857,null,4.9224551005637782E-7,7.6387328312833402E-2,0.13796444368475738,0.59192428259869212,0.30841704440126916,0.10888149519421672,1.0612562524807622E-2,9.8268932669409101E-2,0.5241782451782413,{"$f":"D$51","v":0.23351097178683389},null,33,0.11723529260225608,1.4879575139064174E-2,4.46387254171925E-2,0.20081842519707857,0,4.9224551005637782E-7,7.6387328312833402E-2,0.13796444368475738,0.59192428259869212,0.30841704440126916,0.10888149519421672,1.0612562524807622E-2,9.8268932669409101E-2,0.5241782451782413,0.23351097178683389]
[null,null,null,0.8125,2.1667000000000001,null,34,0.14192686737773108,8.7810876616845404E-3,3.7362829982910822E-2,4.5860392531471388E-2,2.7253213071286204E-3,2.2232205030531302E-6,8.1156344547351669E-2,7.0580033382753787E-2,0.38839510001153493,0.34925345375103695,0.29493526720334512,3.7881335241666272E-2,0.25705393196167886,0.51460913718513623,0.24146170436765321,null,34,0.19389309522921971,1.1057019129683102E-2,5.1599422605187885E-2,5.4774599943270039E-2,null,3.6104592163931383E-6,0.11662912394210107,9.8485498836712676E-2,0.52644237014539086,0.35567240570236336,0.13087727603571581,1.4949758331664035E-2,0.11592751770405177,0.5241782451782413,8.7670957361222851E-2,null,34,0.31798467617592047,2.2114038259366156E-2,6.6342114778098649E-2,3.834221996028897E-2,null,7.2209184327863042E-7,0.11896170642094323,6.9040309235889163E-2,0.63278578692234988,0.27671281084433291,9.924036472417401E-2,1.0055792455232282E-2,8.9184572268941734E-2,0.5241782451782413,0.15658889782783583,null,34,0.11633585713753201,1.4742692172910854E-2,4.4228076518732541E-2,0.19718855979577218,null,3.6104592163931436E-7,7.4642639322944834E-2,0.13630906173708035,0.58344724773089451,0.31362441450706874,0.11256102317547664,1.1084185955190978E-2,0.10147683722028566,0.5241782451782413,0.23351097178683389,null,34,0.11633585713753201,1.4742692172910854E-2,4.4228076518732541E-2,0.19718855979577218,0,3.6104592163931436E-7,7.4642639322944834E-2,0.13630906173708035,0.58344724773089451,0.31362441450706874,0.11256102317547664,1.1084185955190978E-2,0.10147683722028566,0.5241782451782413,0.23351097178683389]
[null,null,null,0.875,2.3332999999999999,null,35,0.14083799682447659,8.7003070403327814E-3,3.7019114860392485E-2,4.5031449410455671E-2,2.3689677579343954E-3,1.6306592526162543E-6,7.9302731076128924E-2,6.9796725263906012E-2,0.38305892289287946,0.35070937014912529,0.29963514009532122,3.8793213741266631E-2,0.26084192635405457,0.51460913718513623,0.24146170436765321,null,35,0.19240553698337701,1.0955301334575396E-2,5.1124739561351773E-2,5.3784529311009251E-2,null,2.648153307024625E-6,0.11396531106977729,9.7380158267874203E-2,0.51961822468127195,0.35941865906858866,0.13440224139540347,1.5464198797289823E-2,0.11893804259811364,0.5241782451782413,8.7670957361222851E-2,null,35,0.31554508065273829,2.1910602669150857E-2,6.5731808007452389E-2,3.7649170517706422E-2,null,5.2963066140492572E-7,0.11624461729117276,6.8504407210683932E-2,0.6255862159795661,0.28108663864486971,0.1024280754529336,1.0472303102726255E-2,9.195577235020734E-2,0.5241782451782413,0.15658889782783583,null,35,0.11544332219002638,1.4607068446100548E-2,4.3821205338301687E-2,0.1936243055196335,null,2.6481533070246233E-7,7.2937799084657404E-2,0.13467034270673914,0.57510430810078939,0.31870725452180992,0.11623422295862627,1.1559534093465241E-2,0.10467468886516103,0.5241782451782413,0.23351097178683389,null,35,0.11544332219002638,1.4607068446100548E-2,4.3821205338301687E-2,0.1936243055196335,0,2.6481533070246233E-7,7.2937799084657404E-2,0.13467034270673914,0.57510430810078939,0.31870725452180992,0.11623422295862627,1.1559534093465241E-2,0.10467468886516103,0.5241782451782413,0.23351097178683389]
[null,null,null,0.9375,2.5,null,36,0.13975748014462039,8.6202695511574997E-3,3.6678561706212857E-2,4.4217489735065903E-2,2.0592097612319653E-3,1.1960350286853452E-6,7.7491454195099674E-2,6.9020039338812969E-2,0.37784570046722993,0.35214569436231458,0.30420931002126878,3.9681902642949088E-2,0.2645274073783197,0.51460913718513623,0.24146170436765321,null,36,0.1909293913643334,1.0854519280802678E-2,5.0654423310412561E-2,5.2812354562203213E-2,null,1.9423335141592391E-6,0.11136233976754245,9.6284408244201911E-2,0.51289937886301029,0.36307978058684309,0.13790687459531897,1.5978450134170853E-2,0.12192842446114813,0.5241782451782413,8.7670957361222851E-2,null,36,0.31312420183750722,2.1709038561605283E-2,6.5127115684816037E-2,3.6968648193542265E-2,null,3.8846670283184706E-7,0.11358958656289331,6.7968249077430709E-2,0.61848722838449766,0.28536737396378542,0.10561069660205485,1.0891576874361313E-2,9.4719119727693535E-2,0.5241782451782413,0.15658889782783583,null,36,0.11455763481860023,1.4472692374403613E-2,4.3418077123210795E-2,0.19012447642393215,null,1.9423335141592324E-7,7.1271897451227278E-2,0.13304821009569789,0.56689318252042342,0.32366895044483773,0.11989970869723598,1.2038283556845997E-2,0.10786142514038999,0.5241782451782413,0.23351097178683389,null,36,0.11455763481860023,1.4472692374403613E-2,4.3418077123210795E-2,0.19012447642393215,0,1.9423335141592324E-7,7.1271897451227278E-2,0.13304821009569789,0.56689318252042342,0.32366895044483773,0.11989970869723598,1.2038283556845997E-2,0.10786142514038999,0.5241782451782413,0.23351097178683389]
[null,null,null,1,2.6667000000000001,null,37,0.13868525324679487,8.540968357798431E-3,3.6341141432202247E-2,4.3418242674123059E-2,1.7899546444018896E-3,8.7725242876293122E-7,7.5721546935207343E-2,6.8249987085256286E-2,0.37274797162821288,0.35356511165346149,0.30866329473194143,4.0548052796797823E-2,0.26811524193514363,0.51460913718513623,0.24146170436765321,null,37,0.18946457081380333,1.0754664360118562E-2,5.0188433680553257E-2,5.1857752222309823E-2,null,1.4246378675353131E-6,0.10881882041201586,9.5198257464130867E-2,0.50628392359079921,0.36665813514912482,0.1413905628586842,1.649233170250779E-2,0.12489823115617642,0.5241782451782413,8.7670957361222851E-2,null,37,0.31072189613463741,2.1509328720237027E-2,6.4527986160711259E-2,3.6300426555616765E-2,null,2.8492757350706201E-7,0.11099519682025588,6.7432006116605644E-2,0.61148712543563744,0.28955753432473774,0.10878719919140011,1.1313371944508771E-2,9.747382724689134E-2,0.5241782451782413,0.15658889782783583,null,37,0.1136787424882819,1.4339552480158101E-2,4.3018657440474305E-2,0.18668790800031546,null,1.4246378675353146E-7,6.9644045063690055E-2,0.13144258478911025,0.5588116327258168,0.32851278558431735,0.12355616443748436,1.2520122613698408E-2,0.11103604182378596,0.5241782451782413,0.23351097178683389,null,37,0.1136787424882819,1.4339552480158101E-2,4.3018657440474305E-2,0.18668790800031546,0,1.4246378675353146E-7,6.9644045063690055E-2,0.13144258478911025,0.5588116327258168,0.32851278558431735,0.12355616443748436,1.2520122613698408E-2,0.11103604182378596,0.5241782451782413,0.23351097178683389]
[null,null,null,1.0625,2.8332999999999999,null,38,0.13762125253134805,8.4623966867856081E-3,3.6006825217784394E-2,4.2633442291819222E-2,1.5559063915368567E-3,6.4343585707214487E-7,7.3992064412999478E-2,6.7486577289939065E-2,0.36775910825806973,0.35496976750262854,0.31300231178027871,4.1392323354120679E-2,0.27160998842615802,0.51460913718513623,0.24146170436765321,null,38,0.18801098844525133,1.0655728043467164E-2,4.9726730869513479E-2,5.0920404663705225E-2,null,1.0449251062292966E-6,0.10633339511885723,9.4121710999437336E-2,0.49977000306533792,0.37015600254047631,0.14485273187676309,1.7005670527896866E-2,0.12784706134886623,0.5241782451782413,8.7670957361222851E-2,null,38,0.30833802105021213,2.1311456086934358E-2,6.3934368260803079E-2,3.5644283264593679E-2,null,2.0898502124585972E-7,0.1084600630212343,6.6895843353196996E-2,0.60458424402199573,0.29365955789632919,0.11195660557273895,1.1737455195196884E-2,0.10021915037754207,0.5241782451782413,0.15658889782783583,null,38,0.11280659306715073,1.4207637391289586E-2,4.2622912173868627E-2,0.18331345678933925,null,1.0449251062292975E-7,6.8053372876068691E-2,0.12985338517660008,0.55085746196682761,0.3332419443800973,0.1272023413994233,1.3004750831414089E-2,0.1141975905680092,0.5241782451782413,0.23351097178683389,null,38,0.11280659306715073,1.4207637391289586E-2,4.2622912173868627E-2,0.18331345678933925,0,1.0449251062292975E-7,6.8053372876068691E-2,0.12985338517660008,0.55085746196682761,0.3332419443800973,0.1272023413994233,1.3004750831414089E-2,0.1141975905680092,0.5241782451782413,0.23351097178683389]
[null,null,null,1.125,3,null,39,0.13656541488656757,8.3845478269608219E-3,3.5675584507514659E-2,4.1862827459232102E-2,1.3524614753767459E-3,4.7193907772929856E-7,7.2302083326191341E-2,6.67298161467266E-2,0.36287320756764757,0.35636135483183484,0.3172312953353626,4.2215376283163367E-2,0.27501591905219919,0.51460913718513623,0.24146170436765321,null,39,0.18656855803874234,1.0557701880254776E-2,4.9269275441188927E-2,5.0000000000000266E-2,null,7.6641826144723334E-7,0.10390473701784872,9.3054770430483977E-2,0.49335580922678052,0.37357558396252355,0.14829284459810652,1.7518301015650255E-2,0.13077454358245627,0.5241782451782413,8.7670957361222851E-2,null,39,0.30597243518353684,2.1115403760509608E-2,6.3346211281528647E-2,3.5000000000000156E-2,null,1.5328365228944717E-7,0.10598283175820565,6.6359919734090014E-2,0.59777695500152317,0.29767580684747308,0.11511798746087526,1.2163601945605691E-2,0.10295438551526957,0.5241782451782413,0.15658889782783583,null,39,0.11194113482324519,1.4076935840339698E-2,4.2230807521019161E-2,0.18000000000000066,null,7.6641826144723384E-8,6.6499031691423016E-2,0.12828052726993489,0.54302851378778882,0.3378595159582245,0.13083705534553336,1.3491878735478201E-2,0.11734517661005515,0.5241782451782413,0.23351097178683389,null,39,0.11194113482324519,1.4076935840339698E-2,4.2230807521019161E-2,0.18000000000000066,0,7.6641826144723384E-8,6.6499031691423016E-2,0.12828052726993489,0.54302851378778882,0.3378595159582245,0.13083705534553336,1.3491878735478201E-2,0.11734517661005515,0.5241782451782413,0.23351097178683389]
[null,null,null,1.1875,3.1667000000000001,null,40,0.13551767768493347,8.3074151289044239E-3,3.5347391008641045E-2,4.1106141767438584E-2,1.1756183098981243E-3,3.4615182016971109E-7,7.0650701460751336E-2,6.5979707352084527E-2,0.35808499886447165,0.35774118837284713,0.32135491214432582,4.3017871818413315E-2,0.27833704032591255,0.51460913718513623,0.24146170436765321,null,40,0.18513719403582424,1.0460577497627889E-2,4.881602832226347E-2,4.9096231982263684E-2,null,5.6214263393428533E-7,0.10153154954452981,9.1997433977567017E-2,0.4870395775027101,0.37691900733168737,0.15171039995096813,1.8030064684530216E-2,0.13368033526643791,0.5241782451782413,8.7670957361222851E-2,null,40,0.30362499821875161,2.092115499525575E-2,6.2763464985767251E-2,3.4367362387584616E-2,null,1.1242852678685746E-7,0.10356218053542028,6.5824388300883038E-2,0.59106366185218928,0.30160857038616495,0.11827046401725076,1.2591595691381555E-2,0.1056788683258692,0.5241782451782413,0.15658889782783583,null,40,0.11108231642149435,1.3947436663503876E-2,4.1842309990511563E-2,0.1767464351361496,null,5.6214263393428683E-8,6.4980191708498974E-2,0.1267239248171855,0.53532267095160724,0.34236849746298542,0.13445918403741436,1.3981227479021752E-2,0.12047795655839259,0.5241782451782413,0.23351097178683389,null,40,0.11108231642149435,1.3947436663503876E-2,4.1842309990511563E-2,0.1767464351361496,0,5.6214263393428683E-8,6.4980191708498974E-2,0.1267239248171855,0.53532267095160724,0.34236849746298542,0.13445918403741436,1.3981227479021752E-2,0.12047795655839259,0.5241782451782413,0.23351097178683389]
[null,null,null,1.25,3.3332999999999999,null,41,0.13447797877941386,8.2309920043673393E-3,3.5022216688687352E-2,4.0363133442199578E-2,1.0196094461979216E-3,2.5389099623475695E-7,6.9037037209245117E-2,6.5236252197788003E-2,0.35338747365889539,0.35911179409679089,0.32537833971258223,4.3800464718872605E-2,0.28157787499370962,0.51460913718513623,0.24146170436765321,null,41,0.18371681153445341,1.0364346599758153E-2,4.8366950798871329E-2,4.8208799897124809E-2,null,4.123131673426763E-7,9.9212565748012668E-2,9.0949696628474741E-2,0.48081958351986243,0.38018833166131405,0.15510493153185639,1.8540809916365919E-2,0.13656412161549047,0.5241782451782413,8.7670957361222851E-2,null,41,0.30129557091650339,2.072869319951641E-2,6.2186079598549042E-2,3.3746159927987483E-2,null,8.2462633468535488E-8,0.10119681706297302,6.5289396358247653E-2,0.58444279952641054,0.30546006754613719,0.12141319999009739,1.3021227852906915E-2,0.10839197213719047,0.5241782451782413,0.15658889782783583,null,41,0.11023008692067211,1.3819128799677585E-2,4.1457386399032604E-2,0.17355167962964993,null,4.1231316734267777E-8,6.3496042078728193E-2,0.12518348941346236,0.52773785447253951,0.34677179720104051,0.13806766478030844,1.4472528522282637E-2,0.1235951362580258,0.5241782451782413,0.23351097178683389,null,41,0.11023008692067211,1.3819128799677585E-2,4.1457386399032604E-2,0.17355167962964993,0,4.1231316734267777E-8,6.3496042078728193E-2,0.12518348941346236,0.52773785447253951,0.34677179720104051,0.13806766478030844,1.4472528522282637E-2,0.1235951362580258,0.5241782451782413,0.23351097178683389]
[null,null,null,null,null,null,42,0.13344625649976757,8.1552719257083611E-3,3.4700033773059184E-2,3.9633555260185839E-2,8.860338846401677E-4,1.4843334850806488E-7,6.746022910017975E-2,6.449944966097218E-2,0.34878097853786155,0.36047080988174268,0.32930428383785426,4.4563815988465476E-2,0.28474046784938878,0.51460913718513623,0.24146170436765321,null,42,0.18230732628396057,1.0269000967133774E-2,4.7922004513290914E-2,4.7337408466715365E-2,null,2.4105236093544242E-7,9.6946547614608719E-2,8.991155026235198E-2,0.47469407916042228,0.38338560268010946,0.15847601572481387,1.9050391719027622E-2,0.13942562400578626,0.5241782451782413,8.7670957361222851E-2,null,42,0.29898401510569445,2.0538001934267535E-2,6.1614005802802609E-2,3.3136185926700833E-2,null,4.8210472187088519E-8,9.8885478566900734E-2,6.475508563794076E-2,0.57791282118477905,0.30923246015437006,0.1245454058016375,1.345229753186423E-2,0.11109310826977327,0.5241782451782413,0.15658889782783583,null,42,0.10938439577037619,1.3692001289511728E-2,4.1076003868535167E-2,0.17041467048017553,null,2.4105236093544193E-8,6.2045790473349467E-2,0.12365913060831965,0.52027201659550382,0.35107224281638211,0.14166149299846909,1.496552332150438E-2,0.1266959696769647,0.5241782451782413,0.23351097178683389,null,42,0.10938439577037619,1.3692001289511728E-2,4.1076003868535167E-2,0.17041467048017553,0,2.4105236093544193E-8,6.2045790473349467E-2,0.12365913060831965,0.52027201659550382,0.35107224281638211,0.14166149299846909,1.496552332150438E-2,0.1266959696769647,0.5241782451782413,0.23351097178683389]
[null,"Manufacturing Fossil Carbon Emissions",null,null,null,null,43,0.1324224496488923,8.0802484253365506E-3,3.4380814742671233E-2,3.8917164466718925E-2,7.6995753878855667E-4,1.0787489860103054E-7,6.5919435338098631E-2,6.376929649159227E-2,0.34425947452699712,0.36182028061945842,0.33313738335913912,4.5308545007338087E-2,0.28782883835180101,0.51460913718513623,{"$f":"(E$49*D$49+E$50*D$50+E$51*D$51+E$52*D$52+E$53*D$53)/(1-SUM(E$49:E$53))","v":0.24146170436765321},null,43,0.18090865468005099,1.0174532455857369E-2,4.7481151460667746E-2,4.6481767750420469E-2,null,1.7518636650602108E-7,9.4732285406900138E-2,8.8882983769964882E-2,0.46866155071022814,0.3865126355564697,0.1618232306322071,1.9558671500109551E-2,0.14226455913209754,0.5241782451782413,8.7670957361222851E-2,null,43,0.29669019367528393,2.0349064911714763E-2,6.1047194735144292E-2,3.2537237425294331E-2,null,3.5037273301204336E-8,9.6626931115038145E-2,6.4221592458577434E-2,0.57147224935832619,0.31292781115581569,0.12766632785615789,1.3884611275413541E-2,0.11378171658074435,0.5241782451782413,0.15658889782783583,null,43,0.1085451928080305,1.3566043274476528E-2,4.0698129823429567E-2,0.16733436390151391,null,1.7518636650602138E-8,6.0628662660416013E-2,0.12215075600990999,0.51292316599641308,0.35527256208646235,0.14523971597612526,1.5459963026795299E-2,0.12977975294932995,0.5241782451782413,0.23351097178683389,null,43,0.1085451928080305,1.3566043274476528E-2,4.0698129823429567E-2,0.16733436390151391,0,1.7518636650602138E-8,6.0628662660416013E-2,0.12215075600990999,0.51292316599641308,0.35527256208646235,0.14523971597612526,1.5459963026795299E-2,0.12977975294932995,0.5241782451782413,0.23351097178683389]
[null,null,"kg CO2e/m3","CO2e/CO2e","% of Roundwood",null,44,0.13140649749919314,8.0059150951588484E-3,3.4064532331596876E-2,3.8213722694998752E-2,6.6908791265611188E-4,7.839209766983278E-8,6.4413833354179842E-2,6.3045787297361072E-2,0.33981945457724233,0.3631606014989156,0.33688138867080802,4.6035273870160015E-2,0.29084611480064798,0.51460913718513623,{"$f":"(E$49*D$49+E$50*D$50+E$51*D$51+E$52*D$52+E$53*D$53)/(1-SUM(E$49:E$53))","v":0.24146170436765321},null,44,0.17952071375984707,1.0080932996950462E-2,4.7044353985768915E-2,4.5641593048406807E-2,null,1.2730697253635198E-7,9.2568597017910495E-2,8.7863983170464635E-2,0.46272030128632086,0.38957137025926647,0.16514621819127007,2.0065516957479629E-2,0.14508070123379044,0.5241782451782413,8.7670957361222851E-2,null,44,0.29441397056614882,2.0161865993900973E-2,6.0485597981702728E-2,3.1949115133884771E-2,null,2.5461394507270524E-8,9.4419968958268596E-2,6.3689047881267238E-2,0.56511959197656769,0.31654815740378867,0.13077525954157201,1.4317982869068128E-2,0.1164572766725039,0.5241782451782413,0.15658889782783583,null,44,0.10771242825590831,1.3441243995933976E-2,4.0323731987801988E-2,0.16430973497426477,null,1.2730697253635188E-8,5.9243902091462776E-2,0.12065827138597621,0.50568932542204525,0.35937542089578312,0.14880143699827908,1.5955608199356638E-2,0.13284582879892243,0.5241782451782413,0.23351097178683389,null,44,0.10771242825590831,1.3441243995933976E-2,4.0323731987801988E-2,0.16430973497426477,0,1.2730697253635188E-8,5.9243902091462776E-2,0.12065827138597621,0.50568932542204525,0.35937542089578312,0.14880143699827908,1.5955608199356638E-2,0.13284582879892243,0.5241782451782413,0.23351097178683389]
[null,null,null,"in product",null,null,45,0.13039833978898205,7.9322655860327423E-3,3.375115952473938E-2,3.7522995886790915E-2,5.8143283907829762E-4,5.6962159703904647E-8,6.2942619367099092E-2,6.232891462622947E-2,0.33545778458111164,0.36449198162221513,0.34053984268831744,4.6744610018112448E-2,0.29379523267020496,0.51460913718513623,0.24146170436765321,null,45,0.17814342119696683,9.9881945956642008E-3,4.6611574779766352E-2,4.4816604806892896E-2,null,9.2505243724673176E-8,9.0454327340023857E-2,8.685453172473849E-2,0.45686874694929636,0.39256362209718454,0.16844463704133858,2.0570801525709701E-2,0.14787383551562888,0.5241782451782413,8.7670957361222851E-2,null,45,0.29215521076302647,1.9976389191328506E-2,5.9929167573985136E-2,3.1371623364825123E-2,null,1.8501048744934709E-8,9.2263413886824311E-2,6.3157577861215702E-2,0.55885340114225401,0.32009546142664008,0.13387153043530514,1.4752233045927682E-2,0.11911929738937747,0.5241782451782413,0.15658889782783583,null,45,0.10688605271818018,1.3317592794218951E-2,3.9952778382656866E-2,0.16133977730481469,null,9.2505243724673365E-9,5.7890769497615353E-2,0.11918158076176279,0.49856856070977312,0.36338340064427976,0.15234580864475503,1.6452228491778971E-2,0.13589358015297606,0.5241782451782413,0.23351097178683389,null,45,0.10688605271818018,1.3317592794218951E-2,3.9952778382656866E-2,0.16133977730481469,0,9.2505243724673365E-9,5.7890769497615353E-2,0.11918158076176279,0.49856856070977312,0.36338340064427976,0.15234580864475503,1.6452228491778971E-2,0.13589358015297606,0.5241782451782413,0.23351097178683389]
[null,"Lumber",72.650000000000006,{"$f":"(C49/(C10*44/12)/1000)","v":8.7670957361222851E-2},0.39479999999999998,null,46,0.12939791671889728,7.8592936072239133E-3,3.3440669555524376E-2,3.6844754214548123E-2,5.0526113522684016E-4,4.138683078387924E-8,6.1505007953923406E-2,6.1618669046473583E-2,0.33117161361864833,0.36581451388146324,0.34411610051706959,4.7437145267612169E-2,0.29667895524945742,0.51460913718513623,0.24146170436765321,null,46,0.17677669529664075,9.8963093307965263E-3,4.6182776877050573E-2,4.4006528525132822E-2,null,6.7211266015114275E-8,8.8388347648318724E-2,8.5854610045439247E-2,0.45110533493464466,0.39549115164945431,0.17171817451883672,2.1074404556802439E-2,0.1506437699620343,0.5241782451782413,8.7670957361222851E-2,null,46,0.2899137802864904,1.9792618661593177E-2,5.9377855984779147E-2,3.080456996759302E-2,null,1.3442253203022882E-8,9.0156114601285059E-2,6.2627303395392298E-2,0.55267225633938621,0.32357162701550818,0.13695450738784778,1.5187189347812732E-2,0.12176731804003504,0.5241782451782413,0.15658889782783583,null,46,0.10606601717798439,1.3195079107728734E-2,3.9585237323186161E-2,0.15842350269047856,null,6.7211266015114286E-9,5.6568542494923997E-2,0.11772058651492678,0.49155897203035526,0.36729900751477551,0.1558720320722603,1.6949602409052755E-2,0.13892242966320756,0.5241782451782413,0.23351097178683389,null,46,0.10606601717798439,1.3195079107728734E-2,3.9585237323186161E-2,0.15842350269047856,0,6.7211266015114286E-9,5.6568542494923997E-2,0.11772058651492678,0.49155897203035526,0.36729900751477551,0.1558720320722603,1.6949602409052755E-2,0.13892242966320756,0.5241782451782413,0.23351097178683389]
[null,"Plywood",129.76,{"$f":"(C50/(C14*44/12)/1000)","v":0.15658889782783583},4.0800000000000003E-2,null,47,0.12840516894836659,7.7869929258689418E-3,3.3133035903613446E-2,3.6178772004938728E-2,4.3906841241751288E-4,3.0067597299121991E-8,6.0100231630803816E-2,6.0915039224450504E-2,0.32695833911805688,0.36712819893582038,0.347613340044295,4.8113454826480509E-2,0.29949988521781445,0.51460913718513623,0.24146170436765321,null,47,0.17542045499086581,9.8052693540156156E-3,4.5757923652072929E-2,4.3211094664080518E-2,null,4.8829089887544123E-8,8.6369554997986403E-2,8.4864196203777678E-2,0.44542854269188886,0.39835566709756076,0.17496654499559941,2.1576210985535641E-2,0.15339033401006377,0.5241782451782413,8.7670957361222851E-2,null,47,0.28768954618501902,1.9610538708031183E-2,5.8831616124093732E-2,3.0247766264856379E-2,null,9.765817977508856E-9,8.8096946097945925E-2,6.209834066635949E-2,0.54657476381212367,0.32697850123706296,0.14002359292510755,1.5622685888228875E-2,0.12440090703687867,0.5241782451782413,0.15658889782783583,null,47,0.10525227299451934,1.307369247202082E-2,3.9221077416062476E-2,0.15555994079068947,null,4.8829089887544057E-9,5.527651519871115E-2,0.11627518946752458,0.48465869322243676,0.37112467490337608,0.15937935500317044,1.7447517025131292E-2,0.14193183797803915,0.5241782451782413,0.23351097178683389,null,47,0.10525227299451934,1.307369247202082E-2,3.9221077416062476E-2,0.15555994079068947,0,4.8829089887544057E-9,5.527651519871115E-2,0.11627518946752458,0.48465869322243676,0.37112467490337608,0.15937935500317044,1.7447517025131292E-2,0.14193183797803915,0.5241782451782413,0.23351097178683389]
[null,"OSB",248.3,{"$f":"(C51/(C18*44/12)/1000)","v":0.23351097178683389},{"$f":"0.036/2","v":1.7999999999999999E-2},null,48,0.12742003759207904,7.7153573664429532E-3,3.2828232292639016E-2,3.5524827663757891E-2,3.8154736498001169E-4,2.1842148391950317E-8,5.8727540443247107E-2,6.0218012000084802E-2,0.32281557656537918,0.36843296523117586,0.35103457219542139,4.8774096659084915E-2,0.3022604755363365,0.51460913718513623,0.24146170436765321,null,48,0.17407461983359721,9.7150668891894422E-3,4.5336978816217323E-2,4.2430038556704956E-2,null,3.5471149109701723E-8,8.4396871635512252E-2,8.3883265833165618E-2,0.43983687703553592,0.40115882608207115,0.17818948870975307,2.2076111143811503E-2,0.15611337756594157,0.5241782451782413,8.7670957361222851E-2,null,48,0.2854823765270989,1.9430133778378923E-2,5.8290401335136584E-2,2.9701026989693475E-2,null,7.0942298219403505E-9,8.6084809068222287E-2,6.157080118235974E-2,0.54055955597511973,0.33031787629813736,0.1430782237974936,1.6058563149905024E-2,0.12701966064758857,0.5241782451782413,0.15658889782783583,null,48,0.10444477190015819,1.2953422518919249E-2,3.8860267556757665E-2,0.15274813880413771,null,3.5471149109701864E-9,5.4013997846727738E-2,0.11484528897515658,0.47786589114897204,0.37486276572796934,0.1628670698332374,1.7945767721301541E-2,0.14492130211193585,0.5241782451782413,0.23351097178683389,null,48,0.10444477190015819,1.2953422518919249E-2,3.8860267556757665E-2,0.15274813880413771,0,3.5471149109701864E-9,5.4013997846727738E-2,0.11484528897515658,0.47786589114897204,0.37486276572796934,0.1628670698332374,1.7945767721301541E-2,0.14492130211193585,0.5241782451782413,0.23351097178683389]
[null,"MDF",525.5,{"$f":"(C52/(C22*44/12)/1000)","v":0.49420062695924771},{"$f":"0.036/2","v":1.7999999999999999E-2},null,49,0.1264424642164958,7.6443808102320734E-3,3.252623268796008E-2,3.4882703602195829E-2,3.3156195141563867E-4,1.5865409255675775E-8,5.7386201565744276E-2,5.9527572460143618E-2,0.31874113315959651,0.36972868580798163,0.35438265060469754,4.9419611071428594E-2,0.30496303953326892,0.51460913718513623,0.24146170436765321,null,49,0.1727391099959758,9.6256942317216061E-3,4.4919906414700735E-2,4.1663100319927301E-2,null,2.5765061535884393E-8,8.2469244423306082E-2,8.2911792229792447E-2,0.43432887338048548,0.40390223744102677,0.18138677063582692,2.2574000581047714E-2,0.1588127700547792,0.5241782451782413,8.7670957361222851E-2,null,49,0.283292140393401,1.9251388463443125E-2,5.775416539032957E-2,2.916417022394914E-2,null,5.1530123071768751E-9,8.4118629311772136E-2,6.1044791913749279E-2,0.53462529084965649,0.33359149133541866,0.14611786958322964,1.6494667788186371E-2,0.12962320179504327,0.5241782451782413,0.15658889782783583,null,49,0.10364346599758556,1.2834258975628812E-2,3.8502776926886285E-2,0.1499871611517386,null,2.5765061535884433E-9,5.2780316430915825E-2,0.11343078301333685,0.47117876507259815,0.37851557465318036,0.16633451181026063,1.844415793188044E-2,0.14789035387838018,0.5241782451782413,0.23351097178683389,null,49,0.10364346599758556,1.2834258975628812E-2,3.8502776926886285E-2,0.1499871611517386,0,2.5765061535884433E-9,5.2780316430915825E-2,0.11343078301333685,0.47117876507259815,0.37851557465318036,0.16633451181026063,1.844415793188044E-2,0.14789035387838018,0.5241782451782413,0.23351097178683389]
[null,"Paper",1194,{"$f":"(C53/907.18474)*0.417*1/0.94*12/44","v":0.15923750399031844},0.18340000000000001,null,50,0.12547239083638115,7.5740571948108857E-3,3.2227011294438467E-2,3.4252186164439015E-2,2.8812495793791634E-4,1.1523003761851508E-8,5.6075498910543892E-2,5.8843704009358927E-2,0.31473298489091395,0.37101519236318825,0.35766028072901734,5.005052048070207E-2,0.30760976024831527,0.51460913718513623,0.24146170436765321,null,50,0.17141384626159567,9.5371437478933476E-3,4.4506670823502188E-2,4.0910024768149443E-2,null,1.8713094394090066E-8,8.0585644277473917E-2,8.1949746450212996E-2,0.42890309504192203,0.40658746284931152,0.18455817939436414,2.3069779890276657E-2,0.1614883995040875,0.5241782451782413,8.7670957361222851E-2,null,50,0.28111870786901666,1.907428749578674E-2,5.7222862487360027E-2,2.8637017337704754E-2,null,3.7426188788180172E-9,8.2197357163023455E-2,6.052041542587494E-2,0.52877065152138547,0.33680103413593226,0.1491420313441861,1.693085244008696E-2,0.13221117890409914,0.5241782451782413,0.15658889782783583,null,50,0.10284830775695744,1.2716191663857816E-2,3.8148574991573474E-2,0.14727608916533844,null,1.8713094394090099E-9,5.157481233758341E-2,0.11203156826116754,0.46459554604778763,0.38208533023626534,0.16978105728122225,1.8942498897029016E-2,0.15083855838419324,0.5241782451782413,0.23351097178683389,null,50,0.10284830775695744,1.2716191663857816E-2,3.8148574991573474E-2,0.14727608916533844,0,1.8713094394090099E-9,5.157481233758341E-2,0.11203156826116754,0.46459554604778763,0.38208533023626534,0.16978105728122225,1.8942498897029016E-2,0.15083855838419324,0.5241782451782413,0.23351097178683389]
[null,"Global Warming Potential of Methane",null,null,null,null,51,0.12450975991136756,7.504380513524549E-3,3.1930542554235088E-2,3.3633065556579418E-2,2.5037850129054509E-4,8.3683108196526821E-9,5.4794732745361695E-2,5.8166388439453681E-2,0.31078925659012335,0.37229228696684674,0.36087002843318899,5.0667329338791034E-2,0.3102026990943979,0.51460913718513623,0.24146170436765321,null,51,0.17009875002180128,9.4494078742113664E-3,4.4097236746319775E-2,4.0170561328344373E-2,null,1.3589945254177723E-8,7.8745065618429741E-2,8.099709740602852E-2,0.42355813258508029,0.40921601837358879,0.18770352620080719,2.3563354539670883E-2,0.16414017166113631,0.5241782451782413,8.7670957361222851E-2,null,51,0.2789619500357538,1.8898815748422781E-2,5.6696447245268337E-2,2.8119392929841062E-2,null,2.7179890508355543E-9,8.0319966930798556E-2,5.9997770008474782E-2,0.52299434561654845,0.33994814279303931,0.15215024033248761,1.7366975538826341E-2,0.13478326479366126,0.5241782451782413,0.15658889782783583,null,51,0.10205925001308069,1.2599210498948507E-2,3.7797631496845417E-2,0.14461402078203972,null,1.3589945254177722E-9,5.0396841995795097E-2,0.11064754018238405,0.45811449632808798,0.38557419699791462,0.17320612200544094,1.9440609422483025E-2,0.15376551258295793,0.5241782451782413,0.23351097178683389,null,51,0.10205925001308069,1.2599210498948507E-2,3.7797631496845417E-2,0.14461402078203972,0,1.3589945254177722E-9,5.0396841995795097E-2,0.11064754018238405,0.45811449632808798,0.38557419699791462,0.17320612200544094,1.9440609422483025E-2,0.15376551258295793,0.5241782451782413,0.23351097178683389]
[null,"Standard",null,"Factor",null,null,52,0.12355451434253925,7.435344814975757E-3,3.1636801144627545E-2,3.3025135776810044E-2,2.1757708578549703E-4,6.0766850522790663E-9,5.3543219319820638E-2,5.7495605996125798E-2,0.30690820455736961,0.37355975177774692,0.36401432807412576,5.1270524183545461E-2,0.31274380389058026,0.51460913718513623,0.24146170436765321,null,52,0.16879374327102797,9.3624791167619022E-3,4.3691569211555543E-2,3.9444463956682656E-2,null,9.8683974540491463E-9,7.6946525834057519E-2,8.0053811955736409E-2,0.41829260321421946,0.41178937595382781,0.19082264385309175,2.4054634709255368E-2,0.16676800914383638,0.5241782451782413,8.7670957361222851E-2,null,52,0.27682173896448609,1.8724958233523787E-2,5.6174874700571344E-2,2.7611124769677878E-2,null,1.9736794908098356E-9,7.8485456350738531E-2,5.947694980169356E-2,0.51729510479437069,0.34303440730184409,0.155142056746152,1.7802901133682023E-2,0.13733915561246998,0.5241782451782413,0.15658889782783583,null,52,0.10127624596261671,1.2483305489015892E-2,3.7449916467047657E-2,0.14200007024405797,null,9.868397454049143E-10,4.9245776533796831E-2,0.10927859310384301,0.45173390878721775,0.38898427742141783,0.17660915953134637,1.9938315646006385E-2,0.15667084388533997,0.5241782451782413,0.23351097178683389,null,52,0.10127624596261671,1.2483305489015892E-2,3.7449916467047657E-2,0.14200007024405797,0,9.868397454049143E-10,4.9245776533796831E-2,0.10927859310384301,0.45173390878721775,0.38898427742141783,0.17660915953134637,1.9938315646006385E-2,0.15667084388533997,0.5241782451782413,0.23351097178683389]
[null,"GWP over 100 yrs from IPCC 1995",null,21,null,null,53,0.12260659746904702,7.3669442025164214E-3,3.1345761975847077E-2,3.2428194546880368E-2,1.8907287994791196E-4,4.4121635828589136E-9,5.2320290500423798E-2,5.6831335444044971E-2,0.30308820143087123,0.37481735705413249,0.36709549011056858,5.1860573795341994E-2,0.3152349163152266,0.51460913718513623,0.24146170436765321,null,53,0.16749874860217373,9.2763500505706094E-3,4.3289633569329383E-2,3.873149105666656E-2,null,7.1652526819047858E-9,7.5189064755132609E-2,7.9119854993824082E-2,0.41310515019294963,0.41430896481989332,0.19391538575715378,2.4543535132598934E-2,0.16937185062455484,0.5241782451782413,8.7670957361222851E-2,null,53,0.27469794770756439,1.8552700101141219E-2,5.5658100303423705E-2,2.7112043739666553E-2,null,1.4330505363809618E-9,7.6692846050235311E-2,5.8958044918796769E-2,0.51167168425387854,0.34606137109736596,0.158117068532029,1.8238498714999593E-2,0.13987856981702942,0.5241782451782413,0.15658889782783583,null,53,0.10049924916130432,1.2368466734094155E-2,3.7105400202282396E-2,0.13943336780399992,null,7.1652526819047916E-10,4.8121001443284933E-2,0.10792462029152167,0.44545210635301263,0.39231761388335984,0.17998965963455535,2.0435450810382821E-2,0.15955420882417254,0.5241782451782413,0.23351097178683389,null,53,0.10049924916130432,1.2368466734094155E-2,3.7105400202282396E-2,0.13943336780399992,0,7.1652526819047916E-10,4.8121001443284933E-2,0.10792462029152167,0.44545210635301263,0.39231761388335984,0.17998965963455535,2.0435450810382821E-2,0.15955420882417254,0.5241782451782413,0.23351097178683389]
[null,"GWP over 100 yrs from IPCC 2007",null,25,null,null,54,0.12166595306474741,7.2991728337439901E-3,3.1057400188935165E-2,3.1842043244792208E-2,1.643029219900253E-4,3.2032551653317241E-9,5.1125293413864702E-2,5.6173554129913435E-2,0.29932772300124205,0.37606486771391728,0.37011570826403101,5.2437929439694622E-2,0.3176777788243364,0.51460913718513623,0.24146170436765321,null,54,0.16621368920200827,9.1910133189682768E-3,4.289139548851869E-2,3.8031405398741336E-2,null,5.2020130788864267E-9,7.3471744142725753E-2,7.8195189537179369E-2,0.40799444229015475,0.41677617284974172,0.19698162498939858,2.5029974943298328E-2,0.17195165004610025,0.5241782451782413,8.7670957361222851E-2,null,54,0.27259045029129397,1.8382026637936567E-2,5.514607991380964E-2,2.6621983779119014E-2,null,1.040402615777288E-9,7.4941179025580215E-2,5.8441141565660049E-2,0.5061228622538021,0.34903053253837024,0.16107489023434585,1.867364304421272E-2,0.14240124719013311,0.5241782451782413,0.15658889782783583,null,54,9.9728213521204964E-2,1.2254684425291059E-2,3.6764053275873135E-2,0.136913059435469,null,5.2020130788864358E-10,4.7021916251344546E-2,0.10658551402408789,0.43926744145347191,0.39557619051870491,0.18334714681499265,2.0931855042770162E-2,0.16241529177222247,0.5241782451782413,0.23351097178683389,null,54,9.9728213521204964E-2,1.2254684425291059E-2,3.6764053275873135E-2,0.136913059435469,0,5.2020130788864358E-10,4.7021916251344546E-2,0.10658551402408789,0.43926744145347191,0.39557619051870491,0.18334714681499265,2.0931855042770162E-2,0.16241529177222247,0.5241782451782413,0.23351097178683389]
[null,null,null,null,null,null,55,0.12073252533486424,7.232024920002445E-3,3.0771691153620655E-2,3.1266486838711756E-2,1.4277800142932514E-4,2.3253353156780061E-9,4.9957590098483592E-2,5.5522238043642834E-2,0.29562533671609015,0.37730204866299999,0.37307706625567838,5.3003025179455432E-2,0.32007404107622295,0.51460913718513623,0.24146170436765321,null,55,0.16493848884661599,9.1064616329626629E-3,4.2496820953825787E-2,3.7343974041362388E-2,null,3.7762913350990547E-9,7.1793647187314846E-2,7.7279776808888048E-2,0.40295917324726105,0.41919234787437643,0.20002125339508345,2.5513877526089423E-2,0.17450737586899404,0.5241782451782413,8.7670957361222851E-2,null,55,0.27049912170845103,1.8212923265925336E-2,5.4638769797776064E-2,2.6140781828953585E-2,null,7.5525826701981392E-10,7.322952013106114E-2,5.7926322157121464E-2,0.50064743964454683,0.35194334633941726,0.16401516188719295,1.9108213988728903E-2,0.14490694789846406,0.5241782451782413,0.15658889782783583,null,55,9.8963093307969541E-2,1.2141948843950225E-2,3.6425846531850554E-2,0.13443830654890437,null,3.7762913350990743E-10,4.594793419988151E-2,0.10526116566411686,0.43317829547430226,0.39876193502289164,0.18668117885087243,2.1427375140240332E-2,0.16525380371063211,0.5241782451782413,0.23351097178683389,null,55,9.8963093307969541E-2,1.2141948843950225E-2,3.6425846531850554E-2,0.13443830654890437,0,3.7762913350990743E-10,4.594793419988151E-2,0.10526116566411686,0.43317829547430226,0.39876193502289164,0.18668117885087243,2.1427375140240332E-2,0.16525380371063211,0.5241782451782413,0.23351097178683389]
[null,null,null,null,null,null,56,0.11980625891268437,7.1654947258878408E-3,3.0488610466215552E-2,3.0701333822075634E-2,1.2407299726879942E-4,1.687845945637932E-9,4.8816557163685249E-2,5.487736187769552E-2,0.29197969165335891,0.37852866907939481,0.37598154414287288,5.3556278242554572E-2,0.32242526590031828,0.51460913718513623,0.24146170436765321,null,56,0.16367307189687605,9.0226877706156838E-3,4.2105876262873244E-2,3.6668968253487116E-2,null,2.7410231877187091E-9,7.0153878019335994E-2,7.6373576319490558E-2,0.3979980612637018,0.42155879893369125,0.20303418072150417,2.5995170372429429E-2,0.17703901034907474,0.5241782451782413,8.7670957361222851E-2,null,56,0.26842383791087632,1.8045375541231406E-2,5.4136126623694186E-2,2.5668277777440955E-2,null,5.4820463754374179E-10,7.1556955579722817E-2,5.7413665430266651E-2,0.49524423941143697,0.35480122495342092,0.16693754794933963,1.9542096361542693E-2,0.14739545158779693,0.5241782451782413,0.15658889782783583,null,56,9.8203843138125538E-2,1.2030250360820918E-2,3.6090751082462687E-2,0.13200828571255335,null,2.7410231877186924E-10,4.4898481932374973E-2,0.10395146572700519,0.42718307822744495,0.40187672039342875,0.18999134540743595,2.1921864361342497E-2,0.16806948104609346,0.5241782451782413,0.23351097178683389,null,56,9.8203843138125538E-2,1.2030250360820918E-2,3.6090751082462687E-2,0.13200828571255335,0,2.7410231877186924E-10,4.4898481932374973E-2,0.10395146572700519,0.42718307822744495,0.40187672039342875,0.18999134540743595,2.1921864361342497E-2,0.16806948104609346,0.5241782451782413,0.23351097178683389]
[null,null,null,null,null,null,57,0.11888709885627034,7.0995765687584412E-3,3.0208133947531059E-2,3.0146396149870757E-2,1.0781848192324381E-4,1.2249890290956761E-9,4.7701585457135195E-2,5.4238899084640836E-2,0.28838950977111899,0.37974450581430103,0.37883102427806731,5.4098089433307905E-2,0.3247329348447594,0.51460913718513623,0.24146170436765321,null,57,0.16241736329397402,8.9396845764267031E-3,4.1718528023324625E-2,3.6006163438469047E-2,null,1.9893541481851352E-9,6.8551561230914354E-2,7.5476545945763238E-2,0.39310984849822617,0.42387679748656193,0.20602033378485538,2.6473784940410989E-2,0.17954654884444438,0.5241782451782413,8.7670957361222851E-2,null,57,0.26636447580211803,1.7879369152853396E-2,5.3638107458560152E-2,2.5204314406928399E-2,null,3.9787082963702551E-10,6.9922592455532617E-2,5.6903246554730821E-2,0.48991210622859427,0.35760553990680749,0.16984173627980592,1.9975179765444672E-2,0.14986655651436126,0.5241782451782413,0.15658889782783583,null,57,9.7450417976384512E-2,1.191957943523562E-2,3.5758738305706729E-2,0.12962218837848913,null,1.9893541481851278E-10,4.3872999187785144E-2,0.10265630394765154,0.42128022743018811,0.40492236661327841,0.19327726669840484,2.2415182223522907E-2,0.17086208447488194,0.5241782451782413,0.23351097178683389,null,57,9.7450417976384512E-2,1.191957943523562E-2,3.5758738305706729E-2,0.12962218837848913,0,1.9893541481851278E-10,4.3872999187785144E-2,0.10265630394765154,0.42128022743018811,0.40492236661327841,0.19327726669840484,2.2415182223522907E-2,0.17086208447488194,0.5241782451782413,0.23351097178683389]
[null,null,null,null,null,null,58,0.11797499064520274,7.0342648182493105E-3,2.9930237640811992E-2,2.9601489176065511E-2,9.3693425073245658E-5,8.8896108711435044E-10,4.6612079739557721E-2,5.3606821932971165E-2,0.28485357826689278,0.38094934604829955,0.38162729691173125,5.4628843577116462E-2,0.3269984533346148,0.51460913718513623,0.24146170436765321,null,58,0.16117128855495202,8.8574449607212984E-3,4.1334743150032736E-2,3.5355339059327556E-2,null,1.4436524607339752E-9,6.6985841408518668E-2,7.4588642007090658E-2,0.3882933005842954,0.42614757857796798,0.20897965566961352,2.6949656518871715E-2,0.18202999915074181,0.5241782451782413,8.7670957361222851E-2,null,58,0.26432091323012058,1.771488992144259E-2,5.3144669764327745E-2,2.474873734152935E-2,null,2.8873049214679534E-10,6.832555823668883E-2,5.6395137240084166E-2,0.48464990602292374,0.36035762308920877,0.17272743715267702,2.0407358441698879E-2,0.15232007871097814,0.5241782451782413,0.15658889782783583,null,58,9.670277313297107E-2,1.180992661429507E-2,3.5429779842885104E-2,0.12727922061357927,null,1.4436524607339741E-10,4.2870938501451912E-2,0.1013755693449592,0.41546820819450681,0.40790064227820644,0.19653859219819356,2.2907194306249021E-2,0.17363139789194454,0.5241782451782413,0.23351097178683389,null,58,9.670277313297107E-2,1.180992661429507E-2,3.5429779842885104E-2,0.12727922061357927,0,1.4436524607339741E-10,4.2870938501451912E-2,0.1013755693449592,0.41546820819450681,0.40790064227820644,0.19653859219819356,2.2907194306249021E-2,0.17363139789194454,0.5241782451782413,0.23351097178683389]
[null,null,null,null,null,null,59,0.11706988017734475,6.9695538957914339E-3,2.9654897809690516E-2,2.9066431592171541E-2,8.1418853351332182E-5,6.538930155576407E-10,4.554745836696085E-2,5.298110156122636E-2,0.28137074291042974,0.38214298931361096,0.38437206545858621,5.5148909989930474E-2,0.32922315546865566,0.51460913718513623,0.24146170436765321,null,59,0.15993477376828766,8.77596189904567E-3,4.0954488862213152E-2,3.4716278565366659E-2,null,1.0475223831500386E-9,6.5455882676289365E-2,7.3709819339492333E-2,0.38354720615821719,0.42837234196553003,0.21191210495931101,2.742272409557385E-2,0.18448938086373715,0.5241782451782413,8.7670957361222851E-2,null,59,0.26229302897999146,1.755192379809133E-2,5.2655771394273888E-2,2.430139499575653E-2,null,2.0950447663000852E-10,6.6765000329815222E-2,5.5889405840379797E-2,0.47945652554781271,0.36305876799944586,0.17559438230968941,2.0838531123063463E-2,0.15475585118662594,0.5241782451782413,0.15658889782783583,null,59,9.596086426097257E-2,1.1701282532060885E-2,3.5103847596182659E-2,0.12497860283531975,null,1.0475223831500374E-10,4.1891764912825195E-2,0.10010915028422372,0.40974551252633706,0.4108132661701655,0.19977499940298168,2.3397772059680227E-2,0.17637722734330147,0.5241782451782413,0.23351097178683389,null,59,9.596086426097257E-2,1.1701282532060885E-2,3.5103847596182659E-2,0.12497860283531975,0,1.0475223831500374E-10,4.1891764912825195E-2,0.10010915028422372,0.40974551252633706,0.4108132661701655,0.19977499940298168,2.3397772059680227E-2,0.17637722734330147,0.5241782451782413,0.23351097178683389]
[null,null,null,null,null,null,60,0.11617171376563239,6.9054382741352239E-3,2.9382090936159014E-2,2.854104536691696E-2,7.0752340641868353E-5,4.7441621820281406E-10,4.4507152980119598E-2,5.2361708030470112E-2,0.2779399021684914,0.38332524903088827,0.38706695145529796,5.5658642965186057E-2,0.33140830849011194,0.51460913718513623,0.24146170436765321,null,60,0.15870774558951345,8.6952284315667139E-3,4.0577732680644629E-2,3.4088769320122503E-2,null,7.5999893767013858E-10,6.3960868249798672E-2,7.2840031367370814E-2,0.37887037639901572,0.43055225320747448,0.21481765499757394,2.7892930229333757E-2,0.18692472476824018,0.5241782451782413,8.7670957361222851E-2,null,60,0.26028070276680237,1.7390456863133459E-2,5.2171370589400322E-2,2.3862138524085686E-2,null,1.5199978753402776E-10,6.5240085614794635E-2,5.5386117455929251E-2,0.47433087196614554,0.36571023094950872,0.17844232404917384,2.1268600891035012E-2,0.15717372315813882,0.5241782451782413,0.15658889782783583,null,60,9.5224647353708072E-2,1.1593637908755642E-2,3.4780913726266953E-2,0.12271956955244095,null,7.5999893767013852E-11,4.0934955679871189E-2,9.8856934537456781E-2,0.40411065883449948,0.41366190877867232,0.20298619263882839,2.3886792618739869E-2,0.17909940002008853,0.5241782451782413,0.23351097178683389,null,60,9.5224647353708072E-2,1.1593637908755642E-2,3.4780913726266953E-2,0.12271956955244095,0,7.5999893767013852E-11,4.0934955679871189E-2,9.8856934537456781E-2,0.40411065883449948,0.41366190877867232,0.20298619263882839,2.3886792618739869E-2,0.17909940002008853,0.5241782451782413,0.23351097178683389]
[null,null,null,null,null,null,61,0.11528043813489705,6.8419124768783583E-3,2.9111793718561152E-2,2.8025155687009265E-2,6.1483220180419559E-5,3.3982746618978948E-10,4.3490608201151783E-2,5.1748610375161763E-2,0.27456000215366727,0.3844959535275031,0.38971349920668302,5.6158382272058119E-2,0.33355511693462486,0.51460913718513623,0.24146170436765321,null,61,0.15749013123686365,8.6152376624775706E-3,4.0204442424895299E-2,3.347260253061201E-2,null,5.5132863974490788E-10,6.2500000000000291E-2,7.1979230173036854E-2,0.37426164457921435,0.43268844471384937,0.21769629317832931,2.8360220925985922E-2,0.18933607225234339,0.5241782451782413,8.7670957361222851E-2,null,61,0.25828381522845617,1.7230475324955148E-2,5.1691425974865521E-2,2.3430821771428387E-2,null,1.1026572794898176E-10,6.3750000000000209E-2,5.4885334032379766E-2,0.46927187244235097,0.36831323222808676,0.18127103434998618,2.169747503720033E-2,0.15957355931278586,0.5241782451782413,0.15658889782783583,null,61,9.4494078742118154E-2,1.1486983549970096E-2,3.4460950649910164E-2,0.12050136911020333,null,5.5132863974490674E-11,4.000000000000007E-2,9.7618809341703749E-2,0.39856219144903843,0.41644819377206044,0.2061719019150707,2.4374138622441567E-2,0.18179776329262914,0.5241782451782413,0.23351097178683389,null,61,9.4494078742118154E-2,1.1486983549970096E-2,3.4460950649910164E-2,0.12050136911020333,0,5.5132863974490674E-11,4.000000000000007E-2,9.7618809341703749E-2,0.39856219144903843,0.41644819377206044,0.2061719019150707,2.4374138622441567E-2,0.18179776329262914,0.5241782451782413,0.23351097178683389]
[null,"Displacment Factors",null,null,null,null,62,0.11439600041869477,6.7789710779981062E-3,2.8843983069601217E-2,2.751859089896912E-2,5.3428423893423222E-5,2.4649468986734417E-10,4.2497281337023622E-2,5.1141776652468128E-2,0.27123003212514313,0.38565494676151235,0.39231318016516215,5.6648453659959304E-2,0.3356647265052029,0.51460913718513623,0.24146170436765321,null,62,0.15628185848695847,8.5359827594084729E-3,3.9834586210572877E-2,3.2867573177860557E-2,null,3.9990317776695587E-10,6.1072498027140626E-2,7.1127366564074312E-2,0.36971986562591846,0.43478201676258565,0.22054802026410469,2.8824545518070108E-2,0.1917234747460346,0.5241782451782413,8.7670957361222851E-2,null,62,0.25630224791861228,1.7071965518816914E-2,5.1215896556450695E-2,2.3007301224502324E-2,null,7.9980635553391225E-11,6.2293947987683215E-2,5.4387114457156591E-2,0.46427847374320269,0.37086895722514424,0.18408030402911216,2.2125064928582884E-2,0.16195523910052928,0.5241782451782413,0.15658889782783583,null,62,9.3769115092174934E-2,1.1381310345877969E-2,3.4143931037633801E-2,0.11832326344029809,null,3.9990317776695606E-11,3.9086398737369889E-2,9.6394661455411576E-2,0.39309868014875665,0.41917369942037891,0.20933188182131968,2.4859698038332035E-2,0.18447218378298763,0.5241782451782413,0.23351097178683389,null,62,9.3769115092174934E-2,1.1381310345877969E-2,3.4143931037633801E-2,0.11832326344029809,0,3.9990317776695606E-11,3.9086398737369889E-2,9.6394661455411576E-2,0.39309868014875665,0.41917369942037891,0.20933188182131968,2.4859698038332035E-2,0.18447218378298763,0.5241782451782413,0.23351097178683389]
[null,"High/Med/Low",null,"Factor",null,null,63,0.11351834815617833,6.7166087013877697E-3,2.8578636114372773E-2,2.7021182452015929E-2,4.6428866806667747E-5,1.8123344184460943E-10,4.1526642089827315E-2,5.0541173990054873E-2,0.26794902055187703,0.38680208873589672,0.39486739704574397,5.7129169364821007E-2,0.33773822768092293,0.51460913718513623,0.24146170436765321,null,63,0.15508285567051955,8.457456952843341E-3,3.9468132446602286E-2,3.2273479948685353E-2,null,2.94022815356513E-10,5.9677600244401309E-2,7.028439013860123E-2,0.36524391569567588,0.43683403847848318,0.22337284973076835,2.928585654813521E-2,0.19408699318263314,0.5241782451782413,8.7670957361222851E-2,null,63,0.2543358832996519,1.6914913905686682E-2,5.074474171705997E-2,2.2591435964079778E-2,null,5.8804563071302953E-11,6.0871152249289247E-2,5.38915146533386E-2,0.45934964184791066,0.37337855751829546,0.18686994193155179,2.2551285876872385E-2,0.16431865605467941,0.5241782451782413,0.15658889782783583,null,63,9.3049713402311759E-2,1.1276609270457786E-2,3.3829827811373232E-2,0.11618452781526713,null,2.9402281535651367E-11,3.8193664156416882E-2,9.5184377212897422E-2,0.38771871969812649,0.42183995997134355,0.21246591046635604,2.5343363991909083E-2,0.18712254647444695,0.5241782451782413,0.23351097178683389,null,63,9.3049713402311759E-2,1.1276609270457786E-2,3.3829827811373232E-2,0.11618452781526713,0,2.9402281535651367E-11,3.8193664156416882E-2,9.5184377212897422E-2,0.38771871969812649,0.42183995997134355,0.21246591046635604,2.5343363991909083E-2,0.18712254647444695,0.5241782451782413,0.23351097178683389]
[null,"Product Substitution (Low)",null,0.8,null,null,64,0.11264742928898226,6.6548200203975739E-3,2.8315730188404303E-2,2.6532764841984888E-2,4.03463051159006E-5,1.3142588766993284E-10,4.0578172273675876E-2,4.9946768632399871E-2,0.26471603168238655,0.387937255643169,0.39737748769030917,5.7600828613733571E-2,0.33977665907657567,0.51460913718513623,0.24146170436765321,null,64,0.1538930516681192,8.3796535355414471E-3,3.9105049832526689E-2,3.1690125168711697E-2,null,2.1321542003445213E-10,5.8314561971050706E-2,6.9450249348488743E-2,0.36083269173765392,0.43884554879766435,0.2261708071415349,2.9744109655556773E-2,0.19642669748597813,0.5241782451782413,8.7670957361222851E-2,null,64,0.25238460473571489,1.6759307071082918E-2,5.027792121324863E-2,2.2183087618098254E-2,null,4.2643084006890729E-11,5.9480853210471751E-2,5.3398587671028605E-2,0.45448436156228816,0.37584315192657081,0.1896397741520289,2.2976057011432831E-2,0.16666371714059608,0.5241782451782413,0.15658889782783583,null,64,9.2335831000871532E-2,1.1172871380721936E-2,3.3518614142165781E-2,0.11408445060736214,null,2.1321542003445216E-11,3.7321319661472493E-2,9.3987842576968572E-2,0.38242092939088401,0.42444846698308314,0.2155737884577543,2.5825034600884995E-2,0.18974875385686929,0.5241782451782413,0.23351097178683389,null,64,9.2335831000871532E-2,1.1172871380721936E-2,3.3518614142165781E-2,0.11408445060736214,0,2.1321542003445216E-11,3.7321319661472493E-2,9.3987842576968572E-2,0.38242092939088401,0.42444846698308314,0.2155737884577543,2.5825034600884995E-2,0.18974875385686929,0.5241782451782413,0.23351097178683389]
[null,"Product Substitution (Medium)",null,2.1,null,null,65,0.11178319215813594,6.5935997573796446E-3,2.8055242835723766E-2,2.6053175556258638E-2,3.5060605867477525E-5,9.663510908137175E-11,3.9651365538064587E-2,4.9358525985666965E-2,0.26153016253373218,0.38906033980759136,0.39984472869980342,5.8063718124985945E-2,0.34178101057481741,0.51460913718513623,0.24146170436765321,null,65,0.15271237590596171,8.3025658619646069E-3,3.874530735583475E-2,3.111731473660077E-2,null,1.5477598862601043E-10,5.6982655534888682E-2,6.862489156058503E-2,{"$f":"SUM(Y68:AF68)","v":0.35648511111061154},0.44081755736296591,0.22894192953920423,3.0199263466762105E-2,0.19874266607244212,0.5241782451782413,{"$f":"D$49","v":8.7670957361222851E-2},null,65,0.25044829648577754,1.6605131723929203E-2,4.9815395171787645E-2,2.1782120315620494E-2,null,3.0955197725202202E-11,5.812230864558645E-2,5.2908383776286434E-2,0.44968163614994289,0.37826382752170118,0.19238964328534122,2.3399301155982839E-2,0.16899034212935837,0.5241782451782413,{"$f":"D$50","v":0.15658889782783583},null,65,9.1627425543577251E-2,1.1070087815952839E-2,3.3210263447858428E-2,0.11202233305176304,null,1.5477598862601082E-11,3.6468899542328827E-2,9.280494318974547E-2,0.37720395260670347,0.42700067060970121,0.21865533791971414,2.6304612814164088E-2,0.19235072510555007,0.5241782451782413,{"$f":"D$51","v":0.23351097178683389},null,65,9.1627425543577251E-2,1.1070087815952839E-2,3.3210263447858428E-2,0.11202233305176304,0,1.5477598862601082E-11,3.6468899542328827E-2,9.280494318974547E-2,0.37720395260670347,0.42700067060970121,0.21865533791971414,2.6304612814164088E-2,0.19235072510555007,0.5241782451782413,0.23351097178683389]
[null,"Product Substitution (High)",null,4.5999999999999996,null,null,66,0.1109255855009991,6.5329426832372193E-3,2.7797151806940038E-2,2.5582255019694251E-2,3.0467374326066913E-5,7.0946556810611616E-11,3.8745727097549899E-2,4.8776410661179763E-2,0.2583905402148729,0.39017124948994836,0.40227033885299268,5.8518112601056861E-2,0.3437522262519358,0.51460913718513623,0.24146170436765321,null,66,0.15154075835169772,8.2261873477094977E-3,3.8388874289310884E-2,3.0554858059465138E-2,null,1.1226128793492064E-10,5.5681169883771482E-2,6.7808263116003478E-2,0.35220011116021949,0.44275104543035348,{"$f":"AJ69+AK69","v":0.23168626486993224},3.0651279488800306E-2,0.20103498538113193,0.5241782451782413,8.7670957361222851E-2,null,66,0.24852684369678407,1.6452374695419002E-2,4.9357124086256914E-2,2.1388400641625702E-2,null,2.2452257586984121E-11,5.6794793281446938E-2,5.2420950537678028E-2,{"$f":"SUM(AP69:AW69)","v":0.44494048696166294},0.38064164061396932,{"$f":"SUM(BA69:BB69)","v":0.19511940770706082},2.3820944708852529E-2,0.17129846299820831,0.5241782451782413,0.15658889782783583,null,66,9.0924455011018729E-2,1.0968249796946014E-2,3.2904749390837915E-2,0.1099974890140749,null,1.1226128793492098E-11,3.5635948725613757E-2,9.1635564421736759E-2,{"$f":"SUM(BG69:BN69)","v":0.37206645637145419},0.42949798084905355,{"$f":"SUM(BR69:BS69)","v":0.22171040154907395},2.678200625540909E-2,0.19492839529366487,0.5241782451782413,0.23351097178683389,null,66,{"$f":"BG69","v":9.0924455011018729E-2},{"$f":"BH69","v":1.0968249796946014E-2},{"$f":"BI69","v":3.2904749390837915E-2},{"$f":"BJ69","v":0.1099974890140749},{"$f":"BK69","v":0},{"$f":"BL69","v":1.1226128793492098E-11},{"$f":"BM69","v":3.5635948725613757E-2},{"$f":"BN69","v":9.1635564421736759E-2},{"$f":"BO69","v":0.37206645637145419},{"$f":"BP69","v":0.42949798084905355},{"$f":"BQ69","v":0.22171040154907395},{"$f":"BR69","v":2.678200625540909E-2},{"$f":"BS69","v":0.19492839529366487},{"$f":"BT69","v":0.5241782451782413},{"$f":"BU69","v":0.23351097178683389}]
[null,"Fuel Substituted","MJ","kg CO2eq.","Factor/t CO2eq",null,67,0.11007455844822099,6.4728436169780267E-3,2.75414350573428E-2,2.5119846541526707E-2,2.6475892170581288E-5,5.2655502969009844E-11,3.7860773467603741E-2,4.8200386517532105E-2,0.25529631959403043,0.39126990853970917,0.40465548231646198,5.8964275212613902E-2,0.3456912071038481,0.51460913718513623,0.24146170436765321,null,67,0.15037812951026949,8.1505114689452325E-3,3.8035720188411171E-2,3.0002567989452781E-2,null,8.4050522706991232E-11,5.440941020600807E-2,6.7000309387528087E-2,0.34797664883466539,0.44464696672124937,0.23440387142556704,3.1100122006088259E-2,0.20330374941947879,0.5241782451782413,8.7670957361222851E-2,null,67,0.2466201323968418,1.6301022937890451E-2,4.8903068813671367E-2,2.1001797592616847E-2,null,1.6810104541398244E-11,5.5497598410128107E-2,5.1936332910505985E-2,0.44025995307846461,0.38297761770055683,0.19782894088109373,2.424091752670782E-2,0.17358802335438592,0.5241782451782413,0.15658889782783583,null,67,9.0226877706161737E-2,1.0867348625260325E-2,3.2602045875781034E-2,0.10800924476203005,null,8.4050522706991254E-12,3.4822022531845208E-2,9.0479591419212843E-2,0.36700713092869625,0.43194176874758733,0.22473884170690739,2.7257127071069004E-2,0.19748171463583838,0.5241782451782413,0.23351097178683389,null,67,9.0226877706161737E-2,1.0867348625260325E-2,3.2602045875781034E-2,0.10800924476203005,0,8.4050522706991254E-12,3.4822022531845208E-2,9.0479591419212843E-2,0.36700713092869625,0.43194176874758733,0.22473884170690739,2.7257127071069004E-2,0.19748171463583838,0.5241782451782413,0.23351097178683389]
[null,"Dry Biomass (kg)",20,{"$f":"0.5*44/12","v":1.8333333333333333},null,null,68,0.10923006052072358,6.4132974252717485E-3,2.7288070745019821E-2,2.4665796263233151E-2,2.3007325798229295E-5,3.8595344797397763E-11,3.6996032206499788E-2,4.7630416701372358E-2,0.252246681226514,0.39235625595849072,0.40700127166495892,5.9402458072021415E-2,0.34759881359293748,0.51460913718513623,0.24146170436765321,null,68,0.14922442041978867,8.0755317618562174E-3,3.7685814888662371E-2,2.9460260761476145E-2,null,6.0955857726156484E-11,5.3166697559428655E-2,6.6200974835184126E-2,0.34381370028735203,0.44650624826486029,0.23709481731164112,3.1545757980324343E-2,0.20554905933131679,0.5241782451782413,8.7670957361222851E-2,null,68,0.24472804948845381,1.6151063523712449E-2,4.8453190571137235E-2,2.062218253303337E-2,null,1.2191171545231312E-11,5.4230031510617352E-2,5.1454573318780471E-2,0.43563909095792586,0.38527275638614361,0.20051813069463331,2.4659152811658022E-2,0.17585897788297528,0.5241782451782413,0.15658889782783583,null,68,8.9534652251873112E-2,1.0767375682474965E-2,3.2302127047424981E-2,0.10605693874131429,null,6.0955857726156453E-12,3.4026686438034442E-2,8.9336909149926425E-2,0.36202468931714382,0.43433336756795604,0.22774053954515078,2.7729891782754139E-2,0.20001064776239663,0.5241782451782413,0.23351097178683389,null,68,8.9534652251873112E-2,1.0767375682474965E-2,3.2302127047424981E-2,0.10605693874131429,0,6.0955857726156453E-12,3.4026686438034442E-2,8.9336909149926425E-2,0.36202468931714382,0.43433336756795604,0.22774053954515078,2.7729891782754139E-2,0.20001064776239663,0.5241782451782413,0.23351097178683389]
[null,"Bitumous Coal (kg)",24.761277713105727,2.7829999999999999,{"$f":"(C$71/C72)*(D72/D$71)","v":1.2261079719618411},null,69,0.10839204162670664,6.3542990220115557E-3,2.7037037228990493E-2,2.4219953107338849E-2,1.9993169351109243E-5,2.9088345838547762E-11,3.615104166309567E-2,4.7066463686898694E-2,0.24924082953348134,0.39343024537628357,0.40930877071975502,5.9832902695095877E-2,0.34947586802465919,0.51460913718513623,0.24146170436765321,null,69,0.1480795626474469,8.0012418220899873E-3,3.7339128503086634E-2,2.8927755932068148E-2,null,4.6670837749146931E-11,5.1952368508924575E-2,6.5410203060025748E-2,0.33971026052031283,0.44832979118596106,0.23975917993182472,3.1988156953428395E-2,0.20777102297839634,0.5241782451782413,8.7670957361222851E-2,null,69,0.24285048274181253,1.6002483644179964E-2,4.8007450932539907E-2,2.0249429152447717E-2,null,9.3341675498294055E-12,5.2991415879102978E-2,5.0975711734980125E-2,0.43107697409439732,0.38752802626776772,0.20318687881783742,2.5075587001646773E-2,0.17811129181619065,0.5241782451782413,0.15658889782783583,null,69,8.8847737588468187E-2,1.0668322429453318E-2,3.2004967288359908E-2,0.10413992135544561,null,4.6670837749146947E-12,3.3249515845711626E-2,8.820740244722293E-2,0.35711786695932862,0.43667407391620056,0.2307153941661389,2.8200221143837249E-2,0.20251517302230165,0.5241782451782413,0.23351097178683389,null,69,8.8847737588468187E-2,1.0668322429453318E-2,3.2004967288359908E-2,0.10413992135544561,0,4.6670837749146947E-12,3.3249515845711626E-2,8.820740244722293E-2,0.35711786695932862,0.43667407391620056,0.2307153941661389,2.8200221143837249E-2,0.20251517302230165,0.5241782451782413,0.23351097178683389]
[null,"Distllate Fuel Oil (l)",38.662152284015846,2.73,{"$f":"(C$71/C73)*(D73/D$71)","v":0.77030937033815694},null,70,0.10756045205867737,6.2958433678797039E-3,2.6788313067358641E-2,2.378216872714909E-2,1.7373891715442921E-5,2.1797112113986456E-11,3.5325350730375786E-2,4.6508489314097248E-2,0.24627799117905039,0.39449184447844959,0.41157899721946861,6.0255840450205003E-2,0.35132315676926357,0.51460913718513623,0.24146170436765321,null,70,0.14694348828545592,7.9276353042101351E-3,3.6995631419647387E-2,2.8404876319342309E-2,null,3.3836370637747536E-11,5.0765774772264842E-2,6.4627936856188978E-2,0.33566534299094597,0.45011847150446338,0.24239704549986135,3.2427290953461738E-2,0.20996975454639963,0.5241782451782413,8.7670957361222851E-2,null,70,0.240987320788147,1.5855270608420288E-2,4.7565811825260922E-2,1.9883413423539765E-2,null,6.7672741275495092E-12,5.1781090267710217E-2,5.0499785757667469E-2,0.42657269267751291,0.38974436979804483,0.20583510008962203,2.5490159664042587E-2,0.18034494042557944,0.5241782451782413,0.15658889782783583,null,70,8.8166092971273397E-2,1.0570180405613541E-2,3.1710541216840554E-2,0.10225755474963281,null,3.3836370637747453E-12,3.249009585424955E-2,8.709095605258621E-2,0.3522854212535797,0.43896514883634796,0.23366332181498345,2.8668040000171428E-2,0.20499528181481202,0.5241782451782413,0.23351097178683389,null,70,8.8166092971273397E-2,1.0570180405613541E-2,3.1710541216840554E-2,0.10225755474963281,0,3.3836370637747453E-12,3.249009585424955E-2,8.709095605258621E-2,0.3522854212535797,0.43896514883634796,0.23366332181498345,2.8668040000171428E-2,0.20499528181481202,0.5241782451782413,0.23351097178683389]
[null,"Natural Gas (m3)",38.848663619642849,2.0190000000000001,{"$f":"(C$71/C74)*(D74/D$71)","v":0.56695526932663731},null,71,0.10673524249050109,6.2379254699170359E-3,2.6541877015479907E-2,2.3352297457388867E-2,1.509776077193595E-5,1.6696885475470514E-11,3.4518518604622558E-2,4.5956454825760176E-2,0.24335741364113847,0.39554103438113147,0.41381292533031061,6.0671492994003928E-2,0.35314143233630663,0.51460913718513623,0.24146170436765321,null,71,0.14581612994701962,7.8547059211544999E-3,3.6655294298721025E-2,2.7891447944038805E-2,null,2.6610048804732709E-11,4.9606282874006369E-2,6.3854118261258266E-2,0.33167797927280862,0.45187314087064834,0.24500850856424461,3.2863134403382142E-2,0.21214537416086246,0.5241782451782413,8.7670957361222851E-2,null,71,0.23913845311311166,1.5709411842308982E-2,4.7128235526926882E-2,1.9524013560827089E-2,null,5.3220097609465465E-12,5.0598408531486519E-2,5.0026830687004982E-2,0.42212535326698819,0.39192270311240363,0.20846272192584514,2.5902813392327514E-2,0.18255990853351761,0.5241782451782413,0.15658889782783583,null,71,8.7489677968211693E-2,1.0472941228205999E-2,3.1418823684617916E-2,0.10040921259853976,null,2.6610048804732805E-12,3.1748021039364062E-2,8.5987454656664145E-2,0.34752613117826453,0.44120781886597077,0.23658425510220335,2.9133277154806105E-2,0.20745097794739725,0.5241782451782413,0.23351097178683389,null,71,8.7489677968211693E-2,1.0472941228205999E-2,3.1418823684617916E-2,0.10040921259853976,0,2.6610048804732805E-12,3.1748021039364062E-2,8.5987454656664145E-2,0.34752613117826453,0.44120781886597077,0.23658425510220335,2.9133277154806105E-2,0.20745097794739725,0.5241782451782413,0.23351097178683389]
[null,null,null,null,null,null,72,0.10591636397447637,6.1805403810965814E-3,2.6297708024147798E-2,2.2930196265735753E-2,1.31198216763992E-5,1.3078113606607359E-11,3.3730114550089937E-2,4.5410320903315558E-2,0.24047836393361646,0.39657780898492451,0.41601148800846921,6.1080072693342286E-2,0.3549314153151269,0.51460913718513623,0.24146170436765321,null,72,0.14469742076233641,7.7824474436978975E-3,3.6318088070590268E-2,2.7387299971635044E-2,null,1.9483460365811237E-11,4.8473273807304339E-2,6.3088688604989854E-2,0.32774721868003731,0.45359462731334471,0.24759367155878853,3.3295664032634203E-2,0.21429800752615433,0.5241782451782413,8.7670957361222851E-2,null,72,0.23730377005023229,1.5564894887395774E-2,4.6694684662187264E-2,1.9171109980144554E-2,null,3.8966920731622349E-12,4.9442739283450388E-2,4.9556879598231664E-2,0.41773407846553867,0.39406391683655789,0.21106968375176755,2.6313493705816017E-2,0.18475619004595153,0.5241782451782413,0.15658889782783583,null,72,8.6818452457401885E-2,1.0376596591597193E-2,3.1129789774791645E-2,9.8594279897886453E-2,null,1.9483460365811187E-12,3.1022895236674831E-2,8.489678293881335E-2,0.34283879689911373,0.44340327706156668,0.2394781422568443,2.9595865236603649E-2,0.20988227702024065,0.5241782451782413,0.23351097178683389,null,72,8.6818452457401885E-2,1.0376596591597193E-2,3.1129789774791645E-2,9.8594279897886453E-2,0,1.9483460365811187E-12,3.1022895236674831E-2,8.489678293881335E-2,0.34283879689911373,0.44340327706156668,0.2394781422568443,2.9595865236603649E-2,0.20988227702024065,0.5241782451782413,0.23351097178683389]
[null,"Time Steps",null,null,null,null,73,0.1051037679384305,6.1236831999010085E-3,2.6055785237795517E-2,2.2515724705227957E-2,1.1401008991816108E-5,1.0112826045919149E-11,3.2959717669049378E-2,4.487004770150068E-2,0.23764012747100965,0.39760217430841227,0.41817557922200654,6.1481783033010537E-2,0.35669379618899605,0.51460913718513623,0.24146170436765321,null,73,0.14358729437463419,7.7108536999202859E-3,3.5983983932961372E-2,2.6892264655504726E-2,null,1.5844478870212813E-11,4.7366142703450104E-2,6.2331588556441456E-2,0.32387212793875658,0.45528373593117172,0.25015264436546636,3.3724858791412293E-2,0.21642778557405407,0.5241782451782413,8.7670957361222851E-2,null,73,0.2354831627744001,1.5421707399840581E-2,4.6265122199521669E-2,1.8824585258853412E-2,null,3.1688957740425703E-12,4.831346555751917E-2,4.9089963413143992E-2,0.41339800660644777,0.39616887686104213,0.2136559364553455,2.6722148952303845E-2,0.18693378750304165,0.5241782451782413,0.15658889782783583,null,73,8.6152376624780508E-2,1.0281138266560391E-2,3.0843414799681109E-2,9.6812152759817083E-2,null,1.5844478870212815E-12,3.0314331330208076E-2,8.3818825605206468E-2,0.33822223938783808,0.44555268398784104,0.24234494640768775,3.0055740572640929E-2,0.21228920583504682,0.5241782451782413,0.23351097178683389,null,73,8.6152376624780508E-2,1.0281138266560391E-2,3.0843414799681109E-2,9.6812152759817083E-2,0,1.5844478870212815E-12,3.0314331330208076E-2,8.3818825605206468E-2,0.33822223938783808,0.44555268398784104,0.24234494640768775,3.0055740572640929E-2,0.21228920583504682,0.5241782451782413,0.23351097178683389]
[null,"Interval between results",null,null,null,null,74,0.10429740618283982,6.0673490699039035E-3,2.5816087992714953E-2,2.2108744867533125E-2,9.9073751365664963E-6,8.112081731706713E-12,3.2206916677089976E-2,4.4335594881911626E-2,0.23484200705524205,0.3986141478133377,0.42030605604133808,6.1876819009170032E-2,0.358429237032168,0.51460913718513623,0.24146170436765321,null,74,0.14248568493623359,7.6399185746794766E-3,3.5652953348504227E-2,2.6406177281101707E-2,null,1.1492075729952771E-11,4.628429850895522E-2,6.1582758169548481E-2,0.32005179083051483,0.4569412495909484,0.25268554390037762,3.4150699767597173E-2,0.21853484413278046,0.5241782451782413,8.7670957361222851E-2,null,74,0.23367652329542332,1.5279837149358934E-2,4.5839511448076839E-2,1.8484324096771202E-2,null,2.2984151459905601E-12,4.7209984479134409E-2,4.8626110969638446E-2,0.40911629144070161,0.39823842509636281,0.21622144186283246,2.7128730213579727E-2,0.18909271164925273,0.5241782451782413,0.15658889782783583,null,74,8.549141096174015E-2,1.0186558099572645E-2,3.0559674298717913E-2,9.5062238211966341E-2,null,1.149207572995279E-12,2.962195104573136E-2,8.2753467425540156E-2,0.33367530004441781,0.44765716867834904,0.24518464489263905,3.0512843064302492E-2,0.21467180182833656,0.5241782451782413,0.23351097178683389,null,74,8.549141096174015E-2,1.0186558099572645E-2,3.0559674298717913E-2,9.5062238211966341E-2,0,1.149207572995279E-12,2.962195104573136E-2,8.2753467425540156E-2,0.33367530004441781,0.44765716867834904,0.24518464489263905,3.0512843064302492E-2,0.21467180182833656,0.5241782451782413,0.23351097178683389]
[null,1,"Years",null,null,null,75,0.10349723087796955,6.0115331793550025E-3,2.5578595815291025E-2,2.1709121337061644E-2,8.6094199107310306E-6,6.8221629584520105E-12,3.1471309683549671E-2,4.3806921645459587E-2,0.23208332196541936,0.39961375773216085,0.42240374060691954,6.2265367508412509E-2,0.36013837309850705,0.51460913718513623,0.24146170436765321,null,75,0.14139252710464167,7.5696360090888402E-3,3.532496804241464E-2,2.5928876111155071E-2,null,9.6533178941453945E-12,4.5227163670011943E-2,6.0842136927190135E-2,0.3162853078741556,0.45856792957771003,0.2551924937118738,3.4573170106220276E-2,0.22061932360565351,0.5241782451782413,8.7670957361222851E-2,null,75,0.23188374445161239,1.5139272018177673E-2,4.5417816054533058E-2,1.8150213277808466E-2,null,1.9306635788290887E-12,4.6131706943412197E-2,4.8165349089361459E-2,0.40488810183683588,0.40027338019838382,0.21876617223383643,2.7533191213708522E-2,0.19123298102012792,0.5241782451782413,0.15658889782783583,null,75,8.4835516262784946E-2,1.0092848012118467E-2,3.0278544036355295E-2,9.3343954000158103E-2,null,9.6533178941453953E-13,2.8945384748807663E-2,8.1700593268384344E-2,0.32919684032957419,0.44971782956295264,0.24799722859423548,3.0967116066959146E-2,0.21703011252727633,0.5241782451782413,0.23351097178683389,null,75,8.4835516262784946E-2,1.0092848012118467E-2,3.0278544036355295E-2,9.3343954000158103E-2,0,9.6533178941453953E-13,2.8945384748807663E-2,8.1700593268384344E-2,0.32919684032957419,0.44971782956295264,0.24799722859423548,3.0967116066959146E-2,0.21703011252727633,0.5241782451782413,0.23351097178683389]
[null,5,"Years",null,null,null,76,0.10270319456103728,5.9562307607692018E-3,2.5343288420253851E-2,2.1316721145909781E-2,7.4815078586671687E-6,5.6897785470150961E-12,3.0752503976961703E-2,4.3283986763762668E-2,0.22936340714224293,0.40060104240003169,0.42446942198096516,6.2647607672498856E-2,0.36182181430846633,0.51460913718513623,0.24146170436765321,null,76,0.14030775603867665,7.4999999999997872E-3,3.4999999999999018E-2,2.5460202331852821E-2,null,8.3743429552530918E-12,4.4194173824159466E-2,6.0109663783789694E-2,0.31257179598685175,0.46016451624709187,0.25767362359933799,3.4992254931447066E-2,0.2226813686678909,0.5241782451782413,8.7670957361222851E-2,null,76,0.23010471990342993,1.4999999999999569E-2,4.4999999999998611E-2,1.7822141632296892E-2,null,1.674868591050621E-12,4.5078057300642557E-2,4.7707702643512082E-2,0.40071262148155457,0.40227453827479076,0.2212901097768864,2.7935488230019852E-2,0.19335462154686656,0.5241782451782413,0.15658889782783583,null,76,8.4184653623206027E-2,9.9999999999997122E-3,2.9999999999999159E-2,9.1656728394669873E-2,null,8.3743429552531059E-13,2.8284271247462099E-2,8.0660088135209779E-2,0.32478574140138411,0.45173573536811829,0.25078270130120117,3.1418506273138205E-2,0.21936419502806298,0.5241782451782413,0.23351097178683389,null,76,8.4184653623206027E-2,9.9999999999997122E-3,2.9999999999999159E-2,9.1656728394669873E-2,0,8.3743429552531059E-13,2.8284271247462099E-2,8.0660088135209779E-2,0.32478574140138411,0.45173573536811829,0.25078270130120117,3.1418506273138205E-2,0.21936419502806298,0.5241782451782413,0.23351097178683389]
[null,10,"Years",null,null,null,77,0.10191525013339765,5.9014370905193445E-3,2.5110145708945018E-2,2.0931413729616113E-2,6.5013619607943909E-6,5.1172799350476176E-12,3.0050115815402022E-2,4.2766748609504031E-2,0.22668161245446225,0.4015760495969749,0.42650385789046641,6.3023711248915371E-2,0.36348014664155104,0.51460913718513623,0.24146170436765321,null,77,0.13923130739462211,7.4310045994890103E-3,3.4678021464282109E-2,2.5000000000000126E-2,null,7.4855376203509718E-12,4.318477749899316E-2,5.9385277206485551E-2,0.30891038817135763,0.46173172964085563,0.26012906924468487,3.5407941270950753E-2,0.22472112797373414,0.5241782451782413,8.7670957361222851E-2,null,77,0.22833934412718057,1.4862009198978017E-2,4.4586027596934086E-2,1.7500000000000144E-2,null,1.4971075240701967E-12,4.404847304897308E-2,4.7253194616849431E-2,0.39658904859041233,0.40424267356544957,0.22379324618330881,2.8335580006717473E-2,0.19545766617659135,0.5241782451782413,0.15658889782783583,null,77,8.3538784436773234E-2,9.9080061326520218E-3,2.9724018397956044E-2,9.0000000000000663E-2,null,7.4855376203509857E-13,2.7638257599355603E-2,7.9631837193131619E-2,0.32044090376061773,0.4537119259870826,0.25354107909436546,3.1866963599089373E-2,0.2216741154952761,0.5241782451782413,0.23351097178683389,null,77,8.3538784436773234E-2,9.9080061326520218E-3,2.9724018397956044E-2,9.0000000000000663E-2,0,7.4855376203509857E-13,2.7638257599355603E-2,7.9631837193131619E-2,0.32044090376061773,0.4537119259870826,0.25354107909436546,3.1866963599089373E-2,0.2216741154952761,0.5241782451782413,0.23351097178683389]
[null,null,null,null,null,null,78,0.10113335085774867,5.8471474884327383E-3,2.4879147767602007E-2,2.0553070883719347E-2,5.6496236550130765E-6,4.5908997170207795E-12,2.9363770221623672E-2,4.22551651857834E-2,0.22403730203315578,0.40253883590772999,0.42850777636879012,6.3393842927446209E-2,0.36511393344134391,0.51460913718513623,0.24146170436765321,null,78,0.13816311732241016,7.3626439143504594E-3,3.4359004933635431E-2,2.4548115991132033E-2,null,6.8684748703326525E-12,4.2198435817756098E-2,5.866891521491658E-2,0.30530023320106925,0.46327027009013266,0.26255897186039334,3.5820217982657318E-2,0.22673875387773604,0.5241782451782413,8.7670957361222851E-2,null,78,0.22658751240875286,1.4725287828700874E-2,4.4175863486102605E-2,1.7183681193792367E-2,null,1.3736949740665309E-12,4.3042404534111137E-2,4.6801846169947203E-2,0.39251659562278068,0.40617853910223511,0.2262755821795836,2.8733427671045517E-2,0.19754215450853807,0.5241782451782413,0.15658889782783583,null,78,8.2897870393446052E-2,9.8168585524672763E-3,2.9450575657401872E-2,8.837321756807523E-2,null,6.8684748703326476E-13,2.7006998923363883E-2,7.8615725806402956E-2,0.31616124690184411,0.45564741332323361,0.25627238975646777,3.2312441074655217E-2,0.22395994868181257,0.5241782451782413,0.23351097178683389,null,78,8.2897870393446052E-2,9.8168585524672763E-3,2.9450575657401872E-2,8.837321756807523E-2,0,6.8684748703326476E-13,2.7006998923363883E-2,7.8615725806402956E-2,0.31616124690184411,0.45564741332323361,0.25627238975646777,3.2312441074655217E-2,0.22395994868181257,0.5241782451782413,0.23351097178683389]
[null,null,null,null,null,null,79,0.10035745035535946,5.7933573173914021E-3,2.4650274865656352E-2,2.0181566721099903E-2,4.9094704981798502E-6,4.1716326262182827E-12,2.8693100782872138E-2,4.1749194154491451E-2,0.22142985367154053,0.40348946609680092,0.43048187730111881,6.3758160663014193E-2,0.36672371663810466,0.51460913718513623,0.24146170436765321,null,79,0.13710312246183332,7.294912105591923E-3,3.4042923159429049E-2,2.4104399948562588E-2,null,6.4405199983980869E-12,4.1234622211653034E-2,5.7960515419656765E-2,0.30174049531316716,0.46478081879828254,0.26496347785181901,3.6229075683760534E-2,0.22873440216805846,0.5241782451782413,8.7670957361222851E-2,null,79,0.22484912083740624,1.4589824211183862E-2,4.3769472633551507E-2,1.6873079963993801E-2,null,1.2881039996796204E-12,4.2059314655886255E-2,4.6353676699739263E-2,0.388494489003049,0.40808286734730759,0.22873712709715704,2.9128994651933554E-2,0.19960813244522349,0.5241782451782413,0.15658889782783583,null,79,8.2261873477100025E-2,9.7265494741225825E-3,2.9179648422367744E-2,8.6775839814825284E-2,null,6.4405199983980829E-13,2.6390158215457933E-2,7.7611639566697879E-2,0.31194570897121549,0.45754318210676548,0.25897667220480419,3.2754894736355435E-2,0.22622177746844874,0.5241782451782413,0.23351097178683389,null,79,8.2261873477100025E-2,9.7265494741225825E-3,2.9179648422367744E-2,8.6775839814825284E-2,0,6.4405199983980829E-13,2.6390158215457933E-2,7.7611639566697879E-2,0.31194570897121549,0.45754318210676548,0.25897667220480419,3.2754894736355435E-2,0.22622177746844874,0.5241782451782413,0.23351097178683389]
[null,null,null,null,null,null,80,9.958750260331925E-2,5.7400619829360063E-3,2.4423507454048747E-2,1.9816777630092982E-2,4.2662839164445235E-6,3.7814200582570892E-12,2.803774945527206E-2,4.124879286373085E-2,0.21885865827709775,0.40442801250576654,0.43242683388044467,6.4116815985094278E-2,0.36831001789535039,0.51460913718513623,0.24146170436765321,null,80,0.13605125993878794,7.227803387936417E-3,3.3729749143703226E-2,2.3668704233357749E-2,null,4.8868099030202891E-12,4.0292822138737021E-2,5.7260015059340072E-2,0.29823035390674923,0.46626403840645719,0.26734273849373363,3.6634506681957647E-2,0.23070823181177599,0.5241782451782413,8.7670957361222851E-2,null,80,0.22312406629961246,1.4455606775872846E-2,4.3366820327618502E-2,1.6568092963350441E-2,null,9.7736198060406173E-13,4.1098678581511755E-2,4.5908703898400204E-2,0.38452196884734358,0.40995637081108549,0.23117789845915554,2.9522246601056162E-2,0.20165565185809939,0.5241782451782413,0.15658889782783583,null,80,8.1630755963272711E-2,9.6370711839152395E-3,2.8911213551745779E-2,8.5207335240088097E-2,null,4.8868099030203026E-13,2.5787406168791795E-2,7.6619464322213837E-2,0.30779324643051614,0.45940019068574933,0.26165397594590944,3.3194283523598482E-2,0.22845969242231096,0.5241782451782413,0.23351097178683389,null,80,8.1630755963272711E-2,9.6370711839152395E-3,2.8911213551745779E-2,8.5207335240088097E-2,0,4.8868099030203026E-13,2.5787406168791795E-2,7.6619464322213837E-2,0.30779324643051614,0.45940019068574933,0.26165397594590944,3.3194283523598482E-2,0.22845969242231096,0.5241782451782413,0.23351097178683389]
[null,null,null,null,null,null,81,9.8823461931807424E-2,5.6872569328734156E-3,2.4198826163559322E-2,1.9458582233359518E-2,3.7073444152364568E-6,3.5639147740914041E-12,2.7397366372680962E-2,4.0753918374315266E-2,0.21632311935657506,0.40535455448249652,0.43434329398445187,6.4469954294027326E-2,0.36987333969042446,0.51460913718513623,0.24146170436765321,null,81,0.13500746736154343,7.1613120293279016E-3,3.3419456136863493E-2,2.3240883875210408E-2,null,4.7405011618707443E-12,3.9372532809215037E-2,5.656735103650827E-2,0.29476900325340905,0.46772057353608731,0.26969690961937448,3.7036504908837017E-2,0.23266040471053748,0.5241782451782413,8.7670957361222851E-2,null,81,0.22141224647293173,1.4322624058655812E-2,4.2967872175967446E-2,1.6268618712647235E-2,null,9.4810023237414966E-13,4.0159983465399215E-2,4.546694381060537E-2,0.38059828869715484,0.41179974264930458,0.23359792158312712,2.9913151316236543E-2,0.20368477026689058,0.5241782451782413,0.15658889782783583,null,81,8.1004480416925942E-2,9.5484160391038839E-3,2.8645248117311607E-2,8.3667181950757313E-2,null,4.7405011618707503E-13,2.5198420997897646E-2,7.5639086205629869E-2,0.30370283372810025,0.46121937179185196,0.26430436055134832,3.3630569177934874E-2,0.23067379137341343,0.5241782451782413,0.23351097178683389,null,81,8.1004480416925942E-2,9.5484160391038839E-3,2.8645248117311607E-2,8.3667181950757313E-2,0,4.7405011618707503E-13,2.5198420997897646E-2,7.5639086205629869E-2,0.30370283372810025,0.46121937179185196,0.26430436055134832,3.3630569177934874E-2,0.23067379137341343,0.5241782451782413,0.23351097178683389]
[null,null,null,null,null,null,82,9.8065283021384689E-2,5.6349376568879056E-3,2.3976211803153267E-2,1.9106861347499487E-2,3.2216473623447219E-6,3.3088332526800757E-12,2.6771609659910319E-2,4.0264527485365756E-2,0.2138226526248726,0.4062691777789334,0.4362318814462634,6.4817715144699056E-2,0.37141416630156432,0.51460913718513623,0.24146170436765321,null,82,0.13397168281704186,7.0954323504417577E-3,3.3112017635394828E-2,2.282079652420349E-2,null,4.5257327219910561E-12,3.8473262917028843E-2,5.5882459952222178E-2,0.29135565220085868,0.46915105132519247,0.27202615132444197,3.7435065855361452E-2,0.23459108546908053,0.5241782451782413,8.7670957361222851E-2,null,82,0.21971355981994781,1.4190864700883515E-2,4.2572594102650442E-2,1.5974557566942459E-2,null,9.0514654439821259E-13,3.9242728175369439E-2,4.5028410889207268E-2,0.37672271525590612,0.41361365724312016,0.23599722919979066,3.0301678667131911E-2,0.20569555053265876,0.5241782451782413,0.15658889782783583,null,82,8.0383009690225105E-2,9.4605764672556734E-3,2.838172940176702E-2,8.2154867487132716E-2,null,4.5257327219910438E-13,2.4622888266898523E-2,7.4670391660951491E-2,0.29967346297468311,0.46300163328316285,0.26692789515411419,3.4063716145268999E-2,0.23286417900884521,0.5241782451782413,0.23351097178683389,null,82,8.0383009690225105E-2,9.4605764672556734E-3,2.838172940176702E-2,8.2154867487132716E-2,0,4.5257327219910438E-13,2.4622888266898523E-2,7.4670391660951491E-2,0.29967346297468311,0.46300163328316285,0.26692789515411419,3.4063716145268999E-2,0.23286417900884521,0.5241782451782413,0.23351097178683389]
[null,null,null,null,null,null,83,9.7312920900305022E-2,5.5830996861558763E-3,2.3755645358341296E-2,1.8761497943395579E-2,2.7995811970306992E-6,3.3088332526800757E-12,2.6160145250212014E-2,3.9780576759036221E-2,0.21135668548195188,0.40717197408687478,0.43809319730555435,6.5160232517421618E-2,0.37293296478813276,0.51460913718513623,0.24146170436765321,null,83,0.13294384486722569,7.0301587241996229E-3,3.2807407379598238E-2,2.2408302403446635E-2,null,4.4374461093061135E-12,3.7594532377566263E-2,5.5205278139466747E-2,0.28798952389594068,0.47055608193666931,0.27433062768148953,3.7830186509373968E-2,0.23650044117211558,0.5241782451782413,8.7670957361222851E-2,null,83,0.21802790558224977,1.4060317448399277E-2,4.2180952345197704E-2,1.5685811682412606E-2,null,8.8748922186122636E-13,3.8346423025117635E-2,4.4593118049373923E-2,0.37289452813363849,0.41539877075840392,0.23837586108639405,3.0687800523132785E-2,0.20768806056326128,0.5241782451782413,0.15658889782783583,null,83,7.9766306920335484E-2,9.373544965599525E-3,2.8120634896798575E-2,8.066988865240772E-2,null,4.4374461093061242E-13,2.4060500721642467E-2,7.3713267469274812E-2,0.29570414362650232,0.46474785886269754,0.26952465796448249,3.4493691480949731E-2,0.23503096648353275,0.5241782451782413,0.23351097178683389,null,83,7.9766306920335484E-2,9.373544965599525E-3,2.8120634896798575E-2,8.066988865240772E-2,0,4.4374461093061242E-13,2.4060500721642467E-2,7.3713267469274812E-2,0.29570414362650232,0.46474785886269754,0.26952465796448249,3.4493691480949731E-2,0.23503096648353275,0.5241782451782413,0.23351097178683389]
[null,null,null,null,null,null,84,9.656633094184798E-2,5.531738592964147E-3,2.3537107989555901E-2,1.8422377107274179E-2,2.4328096742942749E-6,3.1973663279128515E-12,2.5562646706932469E-2,3.9302022544386285E-2,0.20892465669583263,0.40806304048056796,0.43992782093466765,6.5497635077532868E-2,0.37443018585713483,0.51460913718513623,0.24146170436765321,null,84,0.13192389254539361,6.9654855752889037E-3,3.2505599351348273E-2,2.2003264262566612E-2,null,4.3517068397571481E-12,3.6735872071362995E-2,5.4535741695386636E-2,0.28466985550569873,0.47193625905704162,0.27661050646751828,3.8221865295091827E-2,0.23838864117242645,0.5241782451782413,8.7670957361222851E-2,null,84,0.21635518377444457,1.3930971150577809E-2,4.1792913451733395E-2,1.5402284983796588E-2,null,8.7034136795143011E-13,3.7470589512790177E-2,4.4161076721220986E-2,0.36911301959543391,0.41715572168847981,0.24073386371477354,3.1071490683421053E-2,0.20966237303135249,0.5241782451782413,0.15658889782783583,null,84,7.9154335527236039E-2,9.2873141003851963E-3,2.7861942301155546E-2,7.9211751345239514E-2,null,4.351706839757142E-13,2.3510958125672256E-2,7.2767600773500515E-2,0.29179390217362422,0.46645890877515012,0.27209473580490712,3.4920464757660585E-2,0.23717427104724653,0.5241782451782413,0.23351097178683389,null,84,7.9154335527236039E-2,9.2873141003851963E-3,2.7861942301155546E-2,7.9211751345239514E-2,0,4.351706839757142E-13,2.3510958125672256E-2,7.2767600773500515E-2,0.29179390217362422,0.46645890877515012,0.27209473580490712,3.4920464757660585E-2,0.23717427104724653,0.5241782451782413,0.23351097178683389]
[null,null,null,null,null,null,85,9.5825468861671773E-2,5.4808499903318056E-3,2.3320581030541871E-2,1.8089386002469426E-2,2.114088675601035E-6,3.1973663279128503E-12,2.4978795049241852E-2,3.8828821000429781E-2,0.20652601602655946,0.40894247894372354,0.44173631112677253,6.5830046422944266E-2,0.37590626470382826,0.51460913718513623,0.24146170436765321,null,85,0.1309117653525837,6.9014073796863492E-3,3.2206567771869567E-2,2.1605547332040263E-2,null,4.3517068397571514E-12,3.5896823593657499E-2,5.3873786512383247E-2,0.28139589794657233,0.47329216037763078,0.27886595890268923,3.8610102014505918E-2,0.24025585688818332,0.5241782451782413,8.7670957361222851E-2,null,85,0.21469529517823688,1.3802814759372707E-2,4.1408444278118087E-2,1.5123883132428221E-2,null,8.7034136795142991E-13,3.6614760065530765E-2,4.3732296900986192E-2,0.36537749431554323,0.4188851313791398,0.24307128991324164,3.1452724809118898E-2,0.21161856510412275,0.5241782451782413,0.15658889782783583,null,85,7.8547059211550169E-2,9.2018765062484662E-3,2.7605629518745352E-2,7.7779970395345288E-2,null,4.351706839757149E-13,2.2973967099940772E-2,7.1833279102029662E-2,0.28794178183429486,0.46813562048177082,0.27463822366310614,3.5344007976033424E-2,0.23929421568707274,0.5241782451782413,0.23351097178683389,null,85,7.8547059211550169E-2,9.2018765062484662E-3,2.7605629518745352E-2,7.7779970395345288E-2,0,4.351706839757149E-13,2.2973967099940772E-2,7.1833279102029662E-2,0.28794178183429486,0.46813562048177082,0.27463822366310614,3.5344007976033424E-2,0.23929421568707274,0.5241782451782413,0.23351097178683389]
[null,null,null,null,null,null,86,9.509029071518646E-2,5.4304295316354801E-3,2.3106045986762372E-2,1.7762413831879067E-2,1.8371231300578799E-6,3.0810773611749283E-12,2.4408278581842684E-2,3.8360928118379177E-2,0.20416022389189634,0.40981039591015195,0.44351920711713827,6.6157585320652162E-2,0.37736162179648608,0.51460913718513623,0.24146170436765321,null,86,0.12990740325398567,6.837918664186403E-3,3.1910287099536604E-2,2.121501927835245E-2,null,4.3069293689155217E-12,3.5076939009668087E-2,5.32193483081074E-2,0.27816691561814355,0.47462434806153808,0.28109715940028679,3.899489779064802E-2,0.24210226160963874,0.5241782451782413,8.7670957361222851E-2,null,86,0.21304814133653693,1.3675837328372797E-2,4.1027511985118371E-2,1.4850513494846758E-2,null,8.613858737831046E-13,3.5778477789861304E-2,4.3306787200772565E-2,0.36168726913637017,0.42058760453715516,0.24538819854190083,3.1831480357476148E-2,0.21355671818442468,0.5241782451782413,0.15658889782783583,null,86,7.7944441952391447E-2,9.1172248855818927E-3,2.7351674656745591E-2,7.6374069402069186E-2,null,4.306929368915519E-13,2.2449240966187618E-2,7.091019039146626E-2,0.28414684225487269,0.46977880931441063,0.27715522426271011,3.5764295477910255E-2,0.24139092878479984,0.5241782451782413,0.23351097178683389,null,86,7.7944441952391447E-2,9.1172248855818927E-3,2.7351674656745591E-2,7.6374069402069186E-2,0,4.306929368915519E-13,2.2449240966187618E-2,7.091019039146626E-2,0.28414684225487269,0.46977880931441063,0.27715522426271011,3.5764295477910255E-2,0.24139092878479984,0.5241782451782413,0.23351097178683389]
[null,null,null,null,null,null,87,9.4360752894947261E-2,5.3804729102380471E-3,2.2893484533818707E-2,1.7441351801097973E-2,1.5964426802570132E-6,3.0810773611749283E-12,2.3850792728567716E-2,3.7898299743110306E-2,0.20182675105754133,0.41066690182694193,0.44527702954622017,6.6480365932489252E-2,0.37879666361373099,0.51460913718513623,0.24146170436765321,null,87,0.12891074667537952,6.7750140059336279E-3,3.1616732027690261E-2,2.0831550159963817E-2,null,4.2592374423623717E-12,3.4275780615457226E-2,5.2572362654378216E-2,0.27498218614306191,0.47593336919546853,0.28330428532723639,3.9376255012662092E-2,0.24392803031457433,0.5241782451782413,8.7670957361222851E-2,null,87,0.21141362454762253,1.3550028011867301E-2,4.0650084035601865E-2,1.4582085111974659E-2,null,8.5184748847247482E-13,3.4961296227766454E-2,4.2884554896905853E-2,0.35804167283259053,0.4222637297225037,0.24768465418081637,3.2207736518034227E-2,0.21547691766278212,0.5241782451782413,0.15658889782783583,null,87,7.7346448005227816E-2,9.0333520079115409E-3,2.7100056023734664E-2,7.4993580575869842E-2,null,4.2592374423623701E-13,2.1936499593892583E-2,6.9998223008361837E-2,0.28040815921542417,0.47138926910924539,0.27964584765079742,3.6181303862181394E-2,0.24346454378861601,0.5241782451782413,0.23351097178683389,null,87,7.7346448005227816E-2,9.0333520079115409E-3,2.7100056023734664E-2,7.4993580575869842E-2,0,4.2592374423623701E-13,2.1936499593892583E-2,6.9998223008361837E-2,0.28040815921542417,0.47138926910924539,0.27964584765079742,3.6181303862181394E-2,0.24346454378861601,0.5241782451782413,0.23351097178683389]
[null,null,null,null,null,null,88,9.3636812128068125E-2,5.3309758591208092E-3,2.268287851588565E-2,1.7126093082219507E-2,1.3872936370611043E-6,3.0810773611749271E-12,2.330603986977892E-2,3.744089159386766E-2,0.1995250783456588,0.41151211074282096,0.44701028136861548,6.6798498030524289E-2,0.38021178333809114,0.51460913718513623,0.24146170436765321,null,88,0.12792173649960226,6.7126880319595796E-3,3.1325877482478073E-2,2.0455012384074812E-2,null,4.2339236528694624E-12,3.3492920704259299E-2,5.1932765005056399E-2,0.27184100011166434,0.4772197562280554,0.28548751677495243,3.9754177282635951E-2,0.24573333949231646,0.5241782451782413,8.7670957361222851E-2,null,88,0.20979164785934831,1.3425376063919154E-2,4.0276128191757327E-2,1.4318508668852377E-2,null,8.467847305738934E-13,3.4162779118344581E-2,4.2465605976934363E-2,0.35444004588000289,0.42391407982512697,0.24996072683061127,3.2581474150715828E-2,0.21737925267989544,0.5241782451782413,0.15658889782783583,null,88,7.6753041899761329E-2,8.9502507092794319E-3,2.6850752127838214E-2,7.3638044582669399E-2,null,4.2391121714165262E-13,2.1435469250726043E-2,6.9097265770023314E-2,0.27672482434072165,0.47296777282099994,0.28211021080171267,3.6595011903129519E-2,0.24551519889858317,0.5241782451782413,0.23351097178683389,null,88,7.6753041899761329E-2,8.9502507092794319E-3,2.6850752127838214E-2,7.3638044582669399E-2,0,4.2391121714165262E-13,2.1435469250726043E-2,6.9097265770023314E-2,0.27672482434072165,0.47296777282099994,0.28211021080171267,3.6595011903129519E-2,0.24551519889858317,0.5241782451782413,0.23351097178683389]
[null,null,null,null,null,null,89,9.2918425473654989E-2,5.2819341505190185E-3,2.2474209944160207E-2,1.6816532778289765E-2,1.2055450893256436E-6,3.081077361174925E-12,2.2773729183480484E-2,3.69886592842339E-2,0.19725469636250875,0.41234613991859753,0.44871944871068564,6.7112087202508511E-2,0.38160736150817709,0.51460913718513623,0.24146170436765321,null,89,0.12694031406303985,6.6509354187237191E-3,3.1037698620710642E-2,2.0085280664172298E-2,null,4.2232868833930431E-12,3.2727941338144703E-2,5.1300490722906662E-2,0.26874266083192117,0.4784840273944766,0.28764703634005229,4.0128669364134138E-2,0.24751836697591817,0.5241782451782413,8.7670957361222851E-2,null,89,0.2081821150633846,1.3301870837447426E-2,3.9905612512342203E-2,1.4059696464920576E-2,null,8.4465737667861114E-13,3.3382500164907722E-2,4.2049945185313443E-2,0.35088174022916063,0.4255392125265911,0.25221649162498744,3.2952675725782248E-2,0.21926381589920521,0.5241782451782413,0.15658889782783583,null,89,7.6164188437823757E-2,8.8679138916316156E-3,2.6603741674894894E-2,7.2307010391020096E-2,null,4.2385176554314362E-13,2.0945882456412625E-2,6.8207207964416844E-2,0.27309594481662369,0.47451507311823626,0.28454843723654843,3.7005400471209426E-2,0.24754303676533904,0.5241782451782413,0.23351097178683389,null,89,7.6164188437823757E-2,8.8679138916316156E-3,2.6603741674894894E-2,7.2307010391020096E-2,0,4.2385176554314362E-13,2.0945882456412625E-2,6.8207207964416844E-2,0.27309594481662369,0.47451507311823626,0.28454843723654843,3.7005400471209426E-2,0.24754303676533904,0.5241782451782413,0.23351097178683389]
[null,null,null,null,null,null,90,9.2205550320258525E-2,5.2333435955608087E-3,2.2267460995325391E-2,1.6512567888405077E-2,1.0476073141289995E-6,3.0810773611749271E-12,2.2253576490059799E-2,3.6541558341381626E-2,0.19501510524138646,0.41316910946057855,0.45040500168020747,6.7421235047767064E-2,0.38298376663244038,0.51460913718513623,0.24146170436765321,null,90,0.12596642115214932,6.5897508916588927E-3,3.0752170827741437E-2,1.9722231978341522E-2,null,4.2232868833930391E-12,3.1980434124899454E-2,5.0675475105472885E-2,0.26568648408448681,0.47972668712794364,0.28978302891452756,4.0499737132389635E-2,0.2492832917821379,0.5241782451782413,8.7670957361222851E-2,null,90,0.20658493068952483,1.3179501783317797E-2,3.9538505349953339E-2,1.3805562384839052E-2,null,8.4465737667861246E-13,3.2620042807397484E-2,4.1637576067800545E-2,0.3473661190836777,0.4271396707471759,0.25445202855473453,3.3321325265608728E-2,0.22113070328912582,0.5241782451782413,0.15658889782783583,null,90,7.5579852691289542E-2,8.7863345222118361E-3,2.6359003566635418E-2,7.1000035122029279E-2,null,4.2385176554314352E-13,2.0467477839935574E-2,6.73279393691886E-2,0.26952064311171409,0.47603190296035963,0.28696065665771792,3.7412452456198418E-2,0.24954820420151949,0.5241782451782413,0.23351097178683389,null,90,7.5579852691289542E-2,8.7863345222118361E-3,2.6359003566635418E-2,7.1000035122029279E-2,0,4.2385176554314352E-13,2.0467477839935574E-2,6.73279393691886E-2,0.26952064311171409,0.47603190296035963,0.28696065665771792,3.7412452456198418E-2,0.24954820420151949,0.5241782451782413,0.23351097178683389]
[null,null,null,null,null,null,91,9.1498144383346691E-2,5.1852000439093042E-3,2.2062614010027994E-2,1.6214097273440243E-2,9.1036087602836645E-7,3.0810773611749271E-12,2.174530410057595E-2,3.6099544224630645E-2,0.19280581439988795,0.41398114197564106,0.45206739513080707,6.7726039363921631E-2,0.38434135576688544,0.51460913718513623,0.24146170436765321,null,91,0.12500000000000563,6.5291292247207167E-3,3.0469269715363307E-2,1.9365745528333391E-2,null,4.2232868833930439E-12,3.1250000000000194E-2,5.0057653409998501E-2,0.26267179788264505,0.48094822645855817,0.29189568148505202,4.0867387526101764E-2,0.25102829395895027,0.5241782451782413,8.7670957361222851E-2,null,91,0.2050000000000092,1.305825844944142E-2,3.9174775348324219E-2,1.3556021869833344E-2,null,8.4465737667860983E-13,3.1875000000000132E-2,4.1228501014600703E-2,0.34389255668305369,0.42871598307892039,0.25666742220279259,3.3687408288224613E-2,0.22298001391456795,0.5241782451782413,0.15658889782783583,null,91,7.5000000000003259E-2,8.7055056329609602E-3,2.6116516898882839E-2,6.9716683902000268E-2,null,4.2385176554314407E-13,2.0000000000000115E-2,6.6459350269835668E-2,0.26599805670410698,0.47751897615692979,0.28934700459805313,3.7816152692651206E-2,0.25153085190540192,0.5241782451782413,0.23351097178683389,null,91,7.5000000000003259E-2,8.7055056329609602E-3,2.6116516898882839E-2,6.9716683902000268E-2,0,4.2385176554314407E-13,2.0000000000000115E-2,6.6459350269835668E-2,0.26599805670410698,0.47751897615692979,0.28934700459805313,3.7816152692651206E-2,0.25153085190540192,0.5241782451782413,0.23351097178683389]
[null,null,null,null,null,null,92,9.0796165702796694E-2,5.1374993834082281E-3,2.1859651491369723E-2,1.5921021622396229E-2,7.9109501497894303E-7,3.0810773611749271E-12,2.1248640668511811E-2,3.5662572343327724E-2,0.19062634230990647,0.41478236224726783,0.45370706938388999,6.8026594324825232E-2,0.38568047505906478,0.51460913718513623,0.24146170436765321,null,92,0.12404099328287334,6.4690652399412149E-3,3.0188971119725697E-2,1.9015702699370762E-2,null,4.2232868833930383E-12,3.0536249013570309E-2,4.9446960877416034E-2,0.25969794223712062,0.48214912339988403,0.29398518294106846,4.1231628500795862E-2,0.25275355444027259,0.5241782451782413,8.7670957361222851E-2,null,92,0.20342722898391147,1.2938130479882411E-2,3.8814391439647176E-2,1.3310991889559537E-2,null,8.4465737667861044E-13,3.1146973993841826E-2,4.0822721302290615E-2,0.34046043808997761,0.43026866420504639,0.25886276148994797,3.4050911752570572E-2,0.22481184973737742,0.5241782451782413,0.15658889782783583,null,92,7.4424595969724033E-2,8.6254203199216308E-3,2.5876260959764915E-2,6.8456529717734901E-2,null,4.2385176554314432E-13,1.9543199368685055E-2,6.5601331477044944E-2,0.26252733781329934,0.4789769879098798,0.291707622083897,3.8216487887594686E-2,0.25349113419630231,0.5241782451782413,0.23351097178683389,null,92,7.4424595969724033E-2,8.6254203199216308E-3,2.5876260959764915E-2,6.8456529717734901E-2,0,4.2385176554314432E-13,1.9543199368685055E-2,6.5601331477044944E-2,0.26252733781329934,0.4789769879098798,0.291707622083897,3.8216487887594686E-2,0.25349113419630231,0.5241782451782413,0.23351097178683389]
[null,null,null,null,null,null,93,9.0099572640406203E-2,5.0902375397306092E-3,2.1658556103413336E-2,1.5633243419355944E-2,6.8745410601434127E-7,3.0810773611749275E-12,2.0763321044913657E-2,3.5230598074070495E-2,0.18847621627907735,0.41557289693172422,0.45532445091059537,6.8322990650079796E-2,0.38700146026051552,0.51460913718513623,0.24146170436765321,null,93,0.12308934411680927,6.4095538069865272E-3,2.991125109927037E-2,1.8671987020681225E-2,null,4.223286883393035E-12,2.9838800122200606E-2,4.8843332755436085E-2,0.25676426892560739,0.48332984332369722,0.2960517238912917,4.1592468983698942E-2,0.25445925490759275,0.5241782451782413,8.7670957361222851E-2,null,93,0.20186652435156724,1.2819107613973053E-2,3.8457322841919009E-2,1.3070390914476857E-2,null,8.4465737667861024E-13,3.0435576124644596E-2,4.0420237134552589E-2,0.33706915898197798,0.43179821530625095,0.26103813943076959,3.4411824005422795E-2,0.22662631542534681,0.5241782451782413,0.15658889782783583,null,93,7.3853606470085501E-2,8.5460717426486914E-3,2.5638215227946057E-2,6.7219153274452603E-2,null,4.2385176554314377E-13,1.909683207820842E-2,6.4753774343228987E-2,0.25910765313699413,0.48040661533919438,0.29404265531166207,3.8613446550403219E-2,0.25542920876125885,0.5241782451782413,0.23351097178683389,null,93,7.3853606470085501E-2,8.5460717426486914E-3,2.5638215227946057E-2,6.7219153274452603E-2,0,4.2385176554314377E-13,1.909683207820842E-2,6.4753774343228987E-2,0.25910765313699413,0.48040661533919438,0.29404265531166207,3.8613446550403219E-2,0.25542920876125885,0.5241782451782413,0.23351097178683389]
[null,null,null,null,null,null,94,8.9408323877423229E-2,5.0434104760307755E-3,2.1459310669701259E-2,1.5350666911037935E-2,5.9739113321177042E-7,3.0810773611749299E-12,2.0289086136838001E-2,3.4803576777293115E-2,0.18635497224253861,0.41635287427353879,0.45691995297614085,6.8615315766496876E-2,0.38830463720964398,0.51460913718513623,0.24146170436765321,null,94,0.12214499605428629,6.3505898427187362E-3,2.9636085932687385E-2,1.8334484126743607E-2,null,4.2232868833930391E-12,2.9157280985525336E-2,4.8246704320757658E-2,0.2538701412669423,0.48449083932324272,0.29809549648834299,4.1949918830086648E-2,0.25614557765825635,0.5241782451782413,8.7670957361222851E-2,null,94,0.20031779352902859,1.2701179685437453E-2,3.8103539056312266E-2,1.2834138888720514E-2,null,8.4465737667861044E-13,2.9740426605235841E-2,4.0021047681752665E-2,0.33371812544733204,0.43330512445429015,0.26319365289939561,3.4770134729938305E-2,0.2284235181694573,0.5241782451782413,0.15658889782783583,null,94,7.3286997632571571E-2,8.4674531236249729E-3,2.54023593708749E-2,6.6004142856277023E-2,null,4.2385176554314311E-13,1.8660659830736219E-2,6.3916570778281709E-2,0.25573818359279027,0.48180851799258184,0.29635225533736415,3.9007018924791741E-2,0.2573452364125724,0.5241782451782413,0.23351097178683389,null,94,7.3286997632571571E-2,8.4674531236249729E-3,2.54023593708749E-2,6.6004142856277023E-2,0,4.2385176554314311E-13,1.8660659830736219E-2,6.3916570778281709E-2,0.25573818359279027,0.48180851799258184,0.29635225533736415,3.9007018924791741E-2,0.2573452364125724,0.5241782451782413,0.23351097178683389]
[null,null,null,null,null,null,95,8.8722378412095487E-2,4.9970141925995753E-3,2.1261898171789084E-2,1.5073198074935497E-2,5.1912725900488444E-7,3.0810773611749271E-12,1.9825682769032356E-2,3.4381463813231712E-2,0.18426215456402381,0.41712242383943454,0.45849397624877669,6.8903653961851843E-2,0.38959032228692486,0.51460913718513623,0.24146170436765321,null,95,0.12120789308084516,6.2921683107616524E-3,2.936345211688772E-2,1.8003081719234634E-2,null,4.223286883393035E-12,2.8491327767444421E-2,4.7657010900430126E-2,0.25101493389982704,0.48563255256540427,0.30011669426116599,4.2303988781058954E-2,0.25781270548010704,0.5241782451782413,8.7670957361222851E-2,null,95,0.19878094465258647,1.2584336621523312E-2,3.7753009864569857E-2,1.2602157203464266E-2,null,8.4465737667861054E-13,2.9061154322793249E-2,3.9625151119389086E-2,0.33040675378517093,0.43478986699326055,0.26532940240480057,3.5125834895774005E-2,0.23020356750902657,0.5241782451782413,0.15658889782783583,null,95,7.272473584850718E-2,8.3895577476822102E-3,2.5168673243046568E-2,6.4811094189244967E-2,null,4.2385176554314453E-13,1.8234449771164462E-2,6.3089613264576488E-2,0.2524181240646457,0.48318333833968208,0.29863657777864239,3.9397196922870199E-2,0.25923938085577219,0.5241782451782413,0.23351097178683389,null,95,7.272473584850718E-2,8.3895577476822102E-3,2.5168673243046568E-2,6.4811094189244967E-2,0,4.2385176554314453E-13,1.8234449771164462E-2,6.3089613264576488E-2,0.2524181240646457,0.48318333833968208,0.29863657777864239,3.9397196922870199E-2,0.25923938085577219,0.5241782451782413,0.23351097178683389]
[null,null,null,null,null,null,96,8.804169555723855E-2,4.9510447265227065E-3,2.1066301747791484E-2,1.4800744588032813E-2,4.5111669029654003E-7,3.0810773611749259E-12,1.937286354877495E-2,3.3964214557287931E-2,0.18219731584541982,0.41788167626986394,0.46004690937543813,6.9188086531269954E-2,0.39085882284416823,0.51460913718513623,0.24146170436765321,null,96,0.12027797961177371,6.2342842210706918E-3,2.909332636499657E-2,1.7677669529663858E-2,null,4.2232868833930383E-12,2.7840584941885734E-2,4.7074187892387057E-2,0.24819803256600087,0.48675541263212824,0.3021155119549348,4.2654690422703249E-2,0.25946082153223154,0.5241782451782413,8.7670957361222851E-2,null,96,0.19725588656330822,1.2468568442141359E-2,3.7405705326424156E-2,1.2374368670764701E-2,null,8.4465737667861226E-13,2.8397396640723445E-2,3.923254466544062E-2,0.32713447030964715,0.43625290590902527,0.26744549187518318,3.547891671073785E-2,0.23196657516444533,0.5241782451782413,0.15658889782783583,null,96,7.21667877670642E-2,8.3123789614275821E-3,2.493713688428283E-2,6.3639610306789982E-2,null,4.2385176554314417E-13,1.7817974362806896E-2,6.2272794871229463E-2,0.2491466831540248,0.48453170225129499,0.3008957825288186,3.9783974061200496E-2,0.26111180846761811,0.5241782451782413,0.23351097178683389,null,96,7.21667877670642E-2,8.3123789614275821E-3,2.493713688428283E-2,6.3639610306789982E-2,0,4.2385176554314417E-13,1.7817974362806896E-2,6.2272794871229463E-2,0.2491466831540248,0.48453170225129499,0.3008957825288186,3.9783974061200496E-2,0.26111180846761811,0.5241782451782413,0.23351097178683389]
[null,null,null,null,null,null,97,8.7366234937821877E-2,4.9054981513422862E-3,2.0872504690942179E-2,1.4533215796085771E-2,3.9201614744094903E-7,3.0810773611749259E-12,1.893038673380187E-2,3.3551784414808522E-2,0.18016001674403104,0.41863076304729924,0.46157912952604474,6.9468691916573094E-2,0.39211043760947162,0.51460913718513623,0.24146170436765321,null,97,0.11935520048880746,6.1769326295065688E-3,2.8825685604363872E-2,1.7358139282683347E-2,null,4.223286883393035E-12,2.7204705103003997E-2,4.6498170785178664E-2,{"$f":"SUM(Y100:AF100)","v":0.2454188338977672},0.48785983785146053,0.30409214537817802,4.3002036146602918E-2,0.26109010923157511,0.5241782451782413,{"$f":"D$49","v":8.7670957361222851E-2},null,97,0.19574252880164425,1.2353865259013138E-2,3.7061595777039415E-2,1.2150697497878353E-2,null,8.4465737667861024E-13,2.7748799205064158E-2,3.8843224616646403E-2,0.32390071115813041,0.43769469218712459,0.26954202845113212,3.5829373573924947E-2,0.23371265487720716,0.5241782451782413,{"$f":"D$50","v":0.15658889782783583},null,97,7.1613120293284524E-2,8.2359101726754546E-3,2.4707730518026386E-2,6.2489301417660216E-2,null,4.2385176554314427E-13,1.7411011265922611E-2,6.1466009267651403E-2,0.24592308293564447,0.48585421946413299,0.30313003348251449,4.0167345398801742E-2,0.26296268808371276,0.5241782451782413,{"$f":"D$51","v":0.23351097178683389},null,97,7.1613120293284524E-2,8.2359101726754546E-3,2.4707730518026386E-2,6.2489301417660216E-2,0,4.2385176554314427E-13,1.7411011265922611E-2,6.1466009267651403E-2,0.24592308293564447,0.48585421946413299,0.30313003348251449,4.0167345398801742E-2,0.26296268808371276,0.5241782451782413,0.23351097178683389]
[null,null,null,null,null,null,98,8.6695956488574588E-2,4.8603705767213835E-3,2.0680490448166881E-2,1.4270522683458535E-2,3.4065833307614463E-7,3.0810773611749271E-12,1.8498016103249894E-2,3.3144128835296542E-2,0.17814982579688199,0.41936981628045272,0.46309100290828542,6.9745545838902259E-2,0.39334545706938318,0.51460913718513623,0.24146170436765321,null,98,0.11843950097686011,6.1201086374131136E-3,2.8560506974594457E-2,1.7044384660061276E-2,null,4.2232868833930342E-12,2.6583348779714279E-2,4.5928895176925832E-2,0.24267674520979235,0.48894623561851808,0.30604679125681755,4.3346039111653273E-2,0.26270075214516431,0.5241782451782413,8.7670957361222851E-2,null,98,0.19424078160205155,1.2240217274826248E-2,3.6720651824478673E-2,1.1931069262042904E-2,null,8.4465737667861094E-13,2.7115015755308676E-2,3.8457186383740363E-2,0.32070492210329304,0.43911566515960243,0.27161912228724583,3.6177200030299686E-2,0.23544192225694613,0.5241782451782413,0.15658889782783583,null,98,7.1063700586115996E-2,8.1601448498841451E-3,2.4480434549652416E-2,6.1359784776220734E-2,null,4.2385176554314347E-13,1.7013343219017197E-2,6.0669150736409674E-2,0.24274655871772405,0.48715148403155406,0.30533949827244306,4.0547307477048537E-2,0.26479219079539451,0.5241782451782413,0.23351097178683389,null,98,7.1063700586115996E-2,8.1601448498841451E-3,2.4480434549652416E-2,6.1359784776220734E-2,0,4.2385176554314347E-13,1.7013343219017197E-2,6.0669150736409674E-2,0.24274655871772405,0.48715148403155406,0.30533949827244306,4.0547307477048537E-2,0.26479219079539451,0.5241782451782413,0.23351097178683389]
[null,null,null,null,null,null,99,8.6030820451608814E-2,4.8156581481118175E-3,2.0490242618669472E-2,1.4012577843504632E-2,2.9602887678878623E-7,3.0810773611749263E-12,1.8075520831547894E-2,3.2741203326071271E-2,0.17616631925147175,0.42009896850361106,0.46458288525461222,7.0018721424921715E-2,0.39456416382969051,0.51460913718513623,0.24146170436765321,null,99,0.11753082676077589,6.0638073911987531E-3,2.8297767825594147E-2,1.6736301265306074E-2,null,4.2232868833930415E-12,2.5976184254462287E-2,4.536629679351744E-2,0.23997118429507788,0.49001500270673654,0.30797964709487269,4.3686713207146573E-2,0.26429293388772612,0.5241782451782413,8.7670957361222851E-2,null,99,0.19275055588767251,1.2127614782397472E-2,3.638284434719237E-2,1.1715410885714221E-2,null,8.4465737667860943E-13,2.6495707939551454E-2,3.8074424525671682E-2,0.31754655836904433,0.44051625284107965,0.27367688636187304,3.6522391726681341E-2,0.23715449463519173,0.5241782451782413,0.15658889782783583,null,99,7.051849605646536E-2,8.0850765215983392E-3,2.4255229564794995E-2,6.0250684555101824E-2,null,4.2385176554314407E-13,1.6624757922855865E-2,5.9882114185418348E-2,0.2396163588066586,0.48842407476074223,0.30752434801692008,4.092385826141022E-2,0.26660048975550987,0.5241782451782413,0.23351097178683389,null,99,7.051849605646536E-2,8.0850765215983392E-3,2.4255229564794995E-2,6.0250684555101824E-2,0,4.2385176554314407E-13,1.6624757922855865E-2,5.9882114185418348E-2,0.2396163588066586,0.48842407476074223,0.30752434801692008,4.092385826141022E-2,0.26660048975550987,0.5241782451782413,0.23351097178683389]
[null,null,null,null,null,null,100,8.537078737406098E-2,4.7713570464248851E-3,2.0301744952531068E-2,1.3759295449484617E-2,2.5724630024464908E-7,3.0810773611749259E-12,1.7662675365187952E-2,3.2342963465393879E-2,0.1742090809024647,0.42081835249029059,0.46605512228305279,7.0288289326898151E-2,0.39576683295615461,0.51460913718513623,0.24146170436765321,null,100,0.11662912394210634,6.0080240819219448E-3,2.8037445715635691E-2,1.6433786588930348E-2,null,4.2232868833930374E-12,2.5382887386132525E-2,4.4810311506075284E-2,0.23730157922502543,0.49106652556969138,0.30989091104156169,4.4024073017086995E-2,0.26586683802447469,0.5241782451782413,8.7670957361222851E-2,null,100,0.19127176326505496,1.2016048163843883E-2,3.6048144491531597E-2,1.1503650612251257E-2,null,8.4465737667861114E-13,2.5890545133855119E-2,3.7694932782834555E-2,0.31442508445021605,0.44189687225443364,0.27571543629468059,3.6864945369092669E-2,0.23885049092558794,0.5241782451782413,0.15658889782783583,null,100,6.9977474365263678E-2,8.0106987758959206E-3,2.4032096327687671E-2,5.9161631720149203E-2,null,4.2385176554314342E-13,1.6245047927124785E-2,5.9104795159479626E-2,0.23653174427602475,0.48967255563676276,0.30968475707773252,4.1296997084981378E-2,0.26838775999275116,0.5241782451782413,0.23351097178683389,null,100,6.9977474365263678E-2,8.0106987758959206E-3,2.4032096327687671E-2,5.9161631720149203E-2,0,4.2385176554314342E-13,1.6245047927124785E-2,5.9104795159479626E-2,0.23653174427602475,0.48967255563676276,0.30968475707773252,4.1296997084981378E-2,0.26838775999275116,0.5241782451782413,0.23351097178683389]
[null,null,null,null,null,null,101,8.4715818105752419E-2,4.7274634877051526E-3,2.0114981349321968E-2,1.3510591226007965E-2,2.2354460707540402E-7,3.0810773611749287E-12,1.7259259302311338E-2,3.1949364915072095E-2,0.17227770193385908,0.42152810108044864,0.46750805013336749,7.0554317836936789E-2,0.39695373229643072,0.51460913718513623,0.24146170436765321,null,101,0.11573433903591678,5.9527539448805313E-3,2.7779518409442334E-2,1.6136739974342722E-2,null,4.2232868833930374E-12,2.4803141437003167E-2,4.4260875347705127E-2,0.23466736815351394,0.49210118063380615,0.31178078176454027,4.4358133785701637E-2,0.26742264797883863,0.5241782451782413,8.7670957361222851E-2,null,101,0.18980431601890319,1.190550788976105E-2,3.5716523669283025E-2,1.1295717982039905E-2,null,8.4465737667861074E-13,2.5299204265743377E-2,3.73187041093338E-2,0.31133997393590901,0.44325792974644423,0.27773489017175057,3.7204858681434583E-2,0.24053003149031596,0.5241782451782413,0.15658889782783583,null,101,6.944060342155009E-2,7.9370052598407015E-3,2.3811015779522018E-2,5.8092263907633883E-2,null,4.2385176554314367E-13,1.5874010519682086E-2,5.8337089851198141E-2,0.2334919887398508,0.49089747623392838,0.31182090282793196,4.1666724593749593E-2,0.27015417823418236,0.5241782451782413,0.23351097178683389,null,101,6.944060342155009E-2,7.9370052598407015E-3,2.3811015779522018E-2,5.8092263907633883E-2,0,4.2385176554314367E-13,1.5874010519682086E-2,5.8337089851198141E-2,0.2334919887398508,0.49089747623392838,0.31182090282793196,4.1666724593749593E-2,0.27015417823418236,0.5241782451782413,0.23351097178683389]
[null,null,null,null,null,null,102,8.4065873796866503E-2,4.6839737228072369E-3,1.9929935856726831E-2,1.3266382420992503E-2,1.9425815365396988E-7,3.0810773611749259E-12,1.6865057275045021E-2,3.1560363432561869E-2,0.17037178076623466,0.42222834702050488,0.4689419957799677,7.081687299564586E-2,0.39812512278432183,0.51460913718513623,0.24146170436765321,null,102,0.11484641896761064,5.897992259204639E-3,2.752396387628827E-2,1.5845062584355914E-2,null,4.2232868833930383E-12,2.423663690365226E-2,4.3717924529559513E-2,0.23206799912489451,0.49311933458222545,0.31364945832907115,4.4688911384109721E-2,0.26896054694496141,0.5241782451782413,8.7670957361222851E-2,null,102,0.18834812710688148,1.1795984518409252E-2,3.5387953555227815E-2,1.1091543809049129E-2,null,8.4465737667861003E-13,2.4721369641725301E-2,3.6945730704312729E-2,0.30829070933645031,0.4445998212937014,0.27973536837791618,3.7542130365447755E-2,0.24219323801246842,0.5241782451782413,0.15658889782783583,null,102,6.8907851380566335E-2,7.8639896789395279E-3,2.3591969036818521E-2,5.7042225303681457E-2,null,4.2385176554314427E-13,1.551144761833745E-2,5.757889511128058E-2,0.23049637813004775,0.49209937211486804,0.31393296542924642,4.203304269355667E-2,0.27189992273568975,0.5241782451782413,0.23351097178683389,null,102,6.8907851380566335E-2,7.8639896789395279E-3,2.3591969036818521E-2,5.7042225303681457E-2,0,4.2385176554314427E-13,1.551144761833745E-2,5.757889511128058E-2,0.23049637813004775,0.49209937211486804,0.31393296542924642,4.203304269355667E-2,0.27189992273568975,0.5241782451782413,0.23351097178683389]
[null,null,null,null,null,null,103,5.5077520561298117E-2,3.064080311637758E-3,1.3037418159169588E-2,8.6006266952403116E-3,1.1145350823270515E-7,2.034239253898226E-12,1.0880601753896824E-2,2.0583472076841219E-2,0.1112438310136263,0.27922664166772732,{"$f":"S106+T106","v":0.3105469694294134},4.6926970761303567E-2,0.26361999866810981,0.51460913718513623,0.24146170436765321,null,103,0.11396531106978279,5.8437343474535292E-3,2.7270760288116518E-2,1.5558657368300472E-2,null,4.2232868833930455E-12,2.3683071351725104E-2,4.3181395456228046E-2,0.22950292988582974,0.49412134463015378,0.3154971400828579,4.5016422278118973E-2,0.27048071780473892,0.5241782451782413,8.7670957361222851E-2,null,103,0.18690311015444364,1.1687468694907045E-2,3.506240608472104E-2,1.0891060157810311E-2,null,8.4465737667861044E-13,2.4156732778759665E-2,3.6576004042366703E-2,0.30527678191385305,0.44592293279913131,0.28171699343606849,3.7876760061923767E-2,0.24384023337414473,0.5241782451782413,0.15658889782783583,null,103,6.8379186641869552E-2,7.7916457966047082E-3,2.3374937389814061E-2,5.6011166525881645E-2,null,4.2385176554314372E-13,1.5157165665104062E-2,5.6830108458249942E-2,0.22754421047794782,0.49327876521770475,0.31602112761869677,4.2395954498702933E-2,0.27362517311999385,0.5241782451782413,0.23351097178683389,null,103,6.8379186641869552E-2,7.7916457966047082E-3,2.3374937389814061E-2,5.6011166525881645E-2,0,4.2385176554314372E-13,1.5157165665104062E-2,5.6830108458249942E-2,0.22754421047794782,0.49327876521770475,0.31602112761869677,4.2395954498702933E-2,0.27362517311999385,0.5241782451782413,0.23351097178683389]
[null,null,null,null,null,null,104,5.4654962863848029E-2,3.0358926518646097E-3,1.2917481907500472E-2,8.4451672684473823E-3,9.6852046596262088E-8,2.0342392538982268E-12,1.0632088466383393E-2,2.0332622121551375E-2,0.11001831213367609,0.27967668370182475,0.31146927169288469,4.7095857952930566E-2,0.2643734137399541,0.51460913718513623,0.24146170436765321,null,104,0.11309096307909519,5.789975575216046E-3,2.7019886017674868E-2,1.5277429029732677E-2,null,4.2232868833930423E-12,2.3142149254477738E-2,4.2651224740477209E-2,0.22697162770089702,0.49510755879191526,0.31732402654634501,4.5340683497112184E-2,0.27198334304923283,0.5241782451782413,8.7670957361222851E-2,null,104,0.1854691794497155,1.1579951150432049E-2,3.4739853451296009E-2,1.0694200320812842E-2,null,8.4465737667860892E-13,2.3604992239567284E-2,3.6209514903064573E-2,0.30229769151573294,0.44722764037941132,0.28367988985317344,3.8208748313132188E-2,0.24547114154004124,0.5241782451782413,0.15658889782783583,null,104,6.785457784745702E-2,7.7199674336214013E-3,2.3159902300864246E-2,5.4998744507037685E-2,null,4.2385176554314443E-13,1.4810975522865765E-2,5.6090628087581709E-2,0.22463479569985167,0.49443616423172887,0.3180855745040963,4.2755464282148894E-2,0.27533011022194742,0.5241782451782413,0.23351097178683389,null,104,6.785457784745702E-2,7.7199674336214013E-3,2.3159902300864246E-2,5.4998744507037685E-2,0,4.2385176554314443E-13,1.4810975522865765E-2,5.6090628087581709E-2,0.22463479569985167,0.49443616423172887,0.3180855745040963,4.2755464282148894E-2,0.27533011022194742,0.5241782451782413,0.23351097178683389]
[null,null,null,null,null,null,105,5.4235647051759782E-2,3.0079643012748554E-3,1.279864899579398E-2,8.292517826814198E-3,8.4163514214801887E-8,2.034239253898226E-12,1.0389251230201357E-2,2.0084720139908047E-2,0.10880883371130068,0.28012071336330752,0.31237965506329574,4.7262574465705101E-2,0.26511708059759065,0.51460913718513623,0.24146170436765321,null,105,0.11222332313317676,5.7367113507147465E-3,2.6771319636668792E-2,1.5001283994726429E-2,null,4.223286883393035E-12,2.2613581835006044E-2,4.2127349217361755E-2,0.2244735691718778,0.49607831614000719,0.3191303173082537,4.5661712603994403E-2,0.27346860470425927,0.5241782451782413,8.7670957361222851E-2,null,105,0.18404624993841004,1.1473422701429483E-2,3.4420268104288484E-2,1.0500898796308509E-2,null,8.4465737667861074E-13,2.306585347170622E-2,3.5846253399605961E-2,0.2993529464125933,0.44851431064359581,0.28562418397272943,3.8538096526427042E-2,0.24708608744630239,0.5241782451782413,0.15658889782783583,null,105,6.7333993879906032E-2,7.6489484676196661E-3,2.2946845402859021E-2,5.4004622381015201E-2,null,4.2385176554314382E-13,1.4472692374403878E-2,5.5360352880287907E-2,0.22176745538651554,0.49557206496191009,0.32012649336813193,4.3111577427271543E-2,0.27701491594086036,0.5241782451782413,0.23351097178683389,null,105,6.7333993879906032E-2,7.6489484676196661E-3,2.2946845402859021E-2,5.4004622381015201E-2,0,4.2385176554314382E-13,1.4472692374403878E-2,5.5360352880287907E-2,0.22176745538651554,0.49557206496191009,0.32012649336813193,4.3111577427271543E-2,0.27701491594086036,0.5241782451782413,0.23351097178683389]

{"sheet":"Conversions","index":7,"n_rows":50,"n_cols":23,"rows_kept":50,"cut":false,"hidden":false,"merged":[[21,6,21,9],[22,6,22,9],[10,0,10,5],[10,6,10,9],[15,6,15,9],[16,6,16,9],[3,15,3,17],[29,6,29,9],[30,6,30,9],[31,6,31,9],[5,11,5,12],[11,15,11,17],[23,6,23,9],[24,6,24,9],[25,6,25,9],[26,6,26,9],[27,6,27,9],[28,6,28,9],[17,6,17,9],[18,6,18,9],[19,6,19,9],[20,6,20,9]]}
[]
[]
[]
["Convert between wood metrics, carbon and carbon dioxide",null,null,null,null,null,null,null,null,null,null,null,null,null,null,"Harvest and Manufacturing Fossil Carbon Emissions",null,null,null,"Displacement Factors"]
["Legend For Conversion Factors:",null,null,null,null,null,null,null,null,null,null,"Thickness Look up Table:",null,null,null,null,"kg CO2e/m3","% of Roundwood",null,"Using wood for construction","Factor"]
["m2 = square meters, ft2 = square feet, m3 = cubic meters, ft3 = cubic feet, C = carbon, CO2 = carbon dioxide",null,null,null,null,null,null,null,null,null,null,"Actual Thickness",null,"Conversion To 3/8in Basis",null,"Lumber",72.650000000000006,0.39479999999999998,null,"Product Substitution (Low)",0.8]
["bf = board feet (1ft long x 1 ft wide x 1 inch deep), sf = square feet, sm = square metres, ",null,null,null,null,null,null,null,null,null,null,"In","mm",null,null,"Plywood",129.76,4.0800000000000003E-2,null,"Product Substitution (Medium)",2.1]
["SPF = spruce/pine/fir lumber, nominal lumber dimensions (e.g. 2x4 which is actually 1.5\"x3.5\")",null,null,null,null,null,null,null,null,null,null,0.125,3.18,0.33329999999999999,null,"OSB",248.3,1.7999999999999999E-2,null,"Product Substitution (High)",4.5999999999999996]
["3/8\" basis = a standard thickness basis of 3/8 of an inch used to standardize material estimates for plywood and panels",null,null,null,null,null,null,null,null,null,null,0.1875,4.76,0.5,null,"MDF",525.5,1.7999999999999999E-2,null,"Sourced from: Sathre R, O'Connor J. 2010. Meta-analysis of greenhouse gas displacement factors of wood product substitution. Environmental Science & Policy 13(2): 104-114."]
[null,null,null,null,null,null,null,null,null,null,null,0.25,6.35,0.66669999999999996,null,"Paper",1194,0.18340000000000001]
["Conversion Factors ",null,null,null,null,null,"Comments and sources",null,null,null,null,0.3125,7.94,0.83330000000000004]
["General",null,null,null,"m2 to ft2",10.763910416709722,"multiply",null,null,null,null,0.375,9.5299999999999994,1,null,"Sourced from Life Cycle Inventory and assessment reports by the Athena Institute",null,null,null,"Factors for Fuel Substitution","MJ","kg CO2e","Factor/t CO2e"]
["General",null,null,null,"m3 to ft3",35.314662471299997,"multiply",null,null,null,null,0.4375,11.11,1.1667000000000001,null,"http://www.athenasmi.org/resources/publications/",null,null,null,"Dry Biomass (kg)",20,1.8333333333333333]
["General",null,null,null,"mass of wood to mass of C",0.5,"multiply",null,null,null,null,0.5,12.7,1.3332999999999999,null,null,null,null,null,"Bitumous Coal (kg)",24.761277713105727,2.7829999999999999,1.2261079719618411]
["General",null,null,null,"mass of C to mass of CO2",3.6666666666666665,"multiply",null,null,null,null,0.5625,14.29,1.5,null,null,null,null,null,"Distllate Fuel Oil (l)",38.662152284015846,2.73,0.77030937033815694]
["Logs",null,null,null,"ft3 to m3",2.8316849999987785E-2,null,null,null,null,null,0.625,15.88,1.6667000000000001,null,null,null,null,null,"Natural Gas (m3)",38.848663619642849,2.0190000000000001,0.56695526932663731]
["Logs",null,null,null,"1 m3 SPF to kg SPF",400.7,"Green stem wood volume (1m3) to ovendry weight (kg) per Gonzales 1990",null,null,null,null,0.6875,17.46,1.8332999999999999,null,null,null,null,null,"Sourced from: US Dept. of Energy National Renewable Energy Laboratory - "]
["Logs",null,null,null,"1 m3 Cedar to kg Cedar",345,"Gonzales 1990",null,null,null,null,0.75,19.05,2,null,null,null,null,null,"US Life Cycle Inventory Database: https://www.lcacommons.gov/nrel/"]
["Logs",null,null,null,"1 m3 Hardwood (aspen) to kg Hardwood",415,"Gonzales 1990",null,null,null,null,0.8125,20.64,2.1667000000000001]
["Lumber",null,null,null,"denominator for bf nominal to m3",624," Geneva Timber And Forest Discussion Paper 49, Table 3-1",null,null,null,null,0.875,22.23,2.3332999999999999]
["Lumber",null,null,null,"m3 SPF to kg SPF",452,"Gonzales 1990",null,null,null,null,0.9375,23.81,2.5]
["Lumber",null,null,null,"m3 Cedar to kg Cedar",345,"Gonzales 1990",null,null,null,null,1,25.4,2.6667000000000001]
["Lumber",null,null,null,"m3 Hardwood (Birch) to kg Hardwood",600,"Gonzales 1990",null,null,null,null,1.0625,26.99,2.8332999999999999]
["Plywood",null,null,null,"actual thickness to thickness 3/8\" basis",null,"Thickness Lookup table",null,null,null,null,1.125,28.58,3]
["Plywood",null,null,null,"SF 3/8\" basis to m3",8.8500000000000004E-4,"Briggs 1994, Tbl 5-2, sf to m3",null,null,null,null,1.1875,30.16,3.1667000000000001]
["Plywood",null,null,null,"m3 SPF to kg SPF",452,"Gonzales 1990",null,null,null,null,1.25,31.75,3.3332999999999999]
["Panels",null,null,null,"actual thickness to thickness 3/8\" basis",null,"Thickness Lookup table",null,null,null,null,"Note:  1 SF (3/8in basis) = 0.03125 ft3 or 0.000885 m3 "]
["Panels",null,null,null,"SF 3/8\" basis to m3",8.8500000000000004E-4,"Briggs 1994, Tbl 5-2, SF to m3",null,null,null,null,"Sourced from Briggs Tbl 5-2"]
["Panels",null,null,null,"m3 SPF to kg SPF",580,"660 per Wilson (2010) less moisture and additives/adhesives per Briggs Tbl 6-3"]
["Panels",null,null,null,"m3 Aspen to kg Aspen",580,"SPF values are used because of lack of data"]
["Paper",null,null,null,"tonnes of newsprint/cardboard to tC",0.5,"Lamlom et al. 2003"]
["Paper",null,null,null,"tonnes of white paper/fine papers to tC",0.4,"Roberts, 1996"]
[]
["Notes:"]
["The user must enter roundwood volumes in m3 or ft3 of green volume.  No attempt has been made to provide conversions for various log scales measures"]
["When bf is chosen, it is assumed that the user will enter lumber estimates in nominal board feet and that the material is kiln-dried"]
["Plywood and panel material estimates provided by the user are converted to a 3/8 inch thickness basis before calculating volume and mass"]
["No attempt was made to provide the user with an option for hardwood plywood since very little is produced in North America"]
["The density of panels (kg/m3) was adjusted down by 12% from values reported by Wilson (2010) to account for additives, adhesives, and moisture using information from Briggs (1994)"]
["The values for SPF panel density were also used for panels made with aspen because no other data were available"]
["Paper density was not adjusted for moisture content or additives"]
[]
["References for Conversion Factors:"]
["Briggs, D.G. 1994. Forest products measurements and conversion factors : with special emphasis on the U.S. Pacific Northwest. Institute of Forest Resources. 75"]
["    url:  http://www.ruraltech.org/projects/conversions/briggs_conversions/briggs_book.asp"]
["Gonzales, J.S. 1990.  Wood density of Canadian species.  Information Report NOR-X-315. Forestry Canada NW Region. ISBN 0·662-18084-4"]
["    url: http://cfs.nrcan.gc.ca/publications/?id=11744"]
["Wilson, J.B. 2010. Life-cycle inventory of medium density fiberboard in terms of resources, emissions,  energy and carbon. In Wood and Fiber Science, 42(CORRIM Special Issue), 2010, pp. 107–124"]
["Lamlom SH, Savidge RA: A reassessment of carbon content in wood: variation within and between 41 North American species. Biomass Bioenergy 2003, 25(4):381–388"]
["Roberts JC: The Chemistry of Paper. Cambridge, UK: The Royal Society of Chemistry; 1996."]