Workbook
Name FFF: [1]Funding!$A$9:$H$69
Name SD: [1]Funding!$A$10:$C$69

Sheet (1) Program Context
A1: Feeding Futures School Food Program: Independent Schools
B5: School food programs play an important role in providing students with stigma-free access to healthy, local food. Nourishing students at school not only helps them achieve better learning outcomes but also furthers connection with their school, peers, and community. For some students, food at school is an important part of their daily nutritional needs. Through Budget 2023 and the Feeding Futures initiative, $4.5 million was distributed to eligible Group 1, 2, and 3 independent schools annually over the past three years to create and expand school food programs for students experiencing food insecurity. $4.5 million is being made available again in 2026/27 for eligible independent schoools. To support Feeding Futures School Food Programs administration, the Ministry of Education and Childcare is partnering with the Federation of Independent School Associations in British Columbia to provide administrative support and to provide advice and expertise to independent schools.

Sheet (2) Instructions & Key Info
A1: Application Instructions and Key Information
B4: Submission Instructions
B5: Note - This Excel workbook has 5 tabs / worksheets. Schools are required to fill in tabs 4 and 5.
A6: 1 | B6: Deadline: Applications must be submitted by TBD 2026
A7: 2 | B7: Send to: Send applications to the following email address: rocio@fisabc.ca
A8: 3 | B8: Parts of Application: | D8: The application consists of 2 parts. All parts must be finished and submitted for the application to be complete.
D9: Part I: Application Form (Tab 4 within this Excel Workbook)
D10: Part II: Spending Plan (Tab 5 within this Excel Workbook)
A11: 4 | B11: What/How to submit: | D11: Parts 1 and 2: Excel Workbook i. Complete Part 1 and Part 2 of this workbook. ii. Save and rename this Excel file as "SCHOOL NAME - MINCODE - Feeding Futures Application - SY2026-27" iii. Attach the renamed / saved file to an email also entitled "SCHOOL NAME - MINCODE - Feeding Futures Application - SY2026-27" iv. Send the email and Excel file attachment to FISABC's Feeding Futures Coordinator, Ms. Rocio Montnegro: rocio@fisabc.ca
A12: 5 | B12: Submitted by: Applications must be submitted by the school's administration; this ensures school administration is aware of and supportive of the application.
A13: 6 | B13: Questions: | D13: Send questions you may have about the Feeding Futures application process to FISABC's Feeding Futures Cordinator: rocio@fisabc.ca
B15: Key Information
B16: Eligible Schools: | D16: *Groups 1 and 2 independent schools are eligible to apply for Feeding Futures funding. *Group 3 independent schools that are operated by a society or by a "not-for-profit" entity may also apply. *The amount of funding for which a school is eligible is determined by the funding model. *To be eligible for funding, a minimum of 5% of the students enrolled at a school must be assessed by the funding model as potentially needing support.
B17: Ineligible Schools: | D17: * Group 2 First Nations Independent Schools: For the purpose of this initiative, First Nation schools, including First Nation Independent Schools, will be funded by Indigenous Services Canada and are asked not to apply for Feeding Futures Independent School funding. * Group 3 independent schools that are operated by companies (that are not "not-for-profit" entities). * Group 4 Independent Schools are not eligible for funding, as they primarily serve non-resident students. * Independent Schools in their the first year of operation: the funding model cannot assess need until after the first year of operation. These schools may be eligible to apply starting in their second year of operation. * Independent schools that do not meet the minimum threshold requirement, i.e., schools where the funding model assesses fewer than 5% of students as potentially needing support.
B18: The Funding Model: | D18: The independent school Feeding Futures funding model is based on the work done in 2022/23 for the allocation of Student and Family Affordability funding and builds on the work done in 2023/24 and 2024/25 for the Feeding Futures funding allocation. The models assess potential student need in Group 1, Group 2 and Group 3 independent schools. $5,000 is the minimum grant for eligible schools. Schools with higher assessed need will receive larger grants.
B19: Notional Allocation, Final Grants | D19: By mid Sept 2026, FISABC will send eligible independent schools an email indicating the "Notional Allocation." If your school has not received an email indicating your notional allocation by this time, please follow up with FISABC's Feeding Futures Coordinator (rocio@fisabc.ca). The notional allocation is intended to help schools determine whether they wish to apply for Feeding Futures funding and to support schools in completing the Spending Plan (Part 2 of this application). The funding model calculates the notional allocation assuming that all eligible schools will apply for funding. Based on administration of the Student and Family Affordability Grants, the Ministry anticipates that not all independent schools will actually apply as some will likely determine they have sufficient internal resources to support students in need without the grant. Because of this, it is likely that schools' final grants could be larger than the notional allocation. Schools are asked to use Part 2 of this application (Spending Plan) to indicate if there is a maximum grant amount that the school could usefully expend in support of students potentially experiencing food insecurity. Final grant amounts produced by the funding model will not exceed maximum grant amounts as indicated by a school. FISABC will communicate final Feeding Futures Grants to schools in Fall 2026.
B20: Grant Payments | D20: The Ministry of Education and Child Care will make grant payments directly to schools. The final grant amount for the 2026/27 School Year will be dispursed in two payments to eligible schools: first payment in Fall 2026 (approx 70% of funding) and a second payment in Spring 2027 (approx. 30% of funding).
B21: Eligible Spending: | D21: Please see the "Eligible Spending" tab within this Excel Workbook.
B22: Role of FISABC and the FISABC Feeding Futures Coordinator | D22: FISABC is collaborating with the Ministry of Education and Child Care and is supporting administration of the Feeding Futures program in independent schools. As part of this collaboration, The Ministry of Education and Child Care is providing FISABC with a grant enabling FISABC to employ a Feeding Futures coordinator. The coordinator will be available to support independent schools with questions regarding school food programs, applications for Feeding Futures grants and school-level reporting.
B23: Privacy: Please do not include any personal information or third party personal information (e.g. talk about others) in your application. If personal information is inadvertently included, it will be deleted before it is stored.
D24: Defintion of Personal Information: https://www2.gov.bc.ca/gov/content/governments/services-for-government/information-management-technology/privacy/personal-information
B25: Information Information submitted through this application process will be retained by both the Ministry of Education and Child Care and the Federation Retention: of Independent School Associations in British Columbia for the purpose of better understanding school food programs in the independent school sector.

Sheet (3) Eligible Spending
A1: Feeding Futures: Independent Schools - Eligible Expenditures SY 2026/27
A5: Note: Schools will continue to have the flexibility that was in place during the first three years of Feeding Futures (2023/24 to 2025/26), to continue to support students and families as longer-term approaches for school food programs are put into place. Although criteria will remain the same in Year 4 (2026/27), criteria may be adjusted over time. Spending Eligibility: Food Procurement / Production * Must be towards the delivery of food programs to feed students who need it most (e.g., maintain current programs, increase number of students served, increase nutrition of food). * Spending may support Culinary Arts programs if the food produced by the program is provided to students in need. * Program delivery may include the procurement of third-party food service providers, or expansion of existing contracts. * Schools are encouraged to use nutritious and B.C. grown and/or processed food where possible. * Program delivery should be stigma-free, flexible, and respect student privacy. Spending Eligibility: Staffing * The intention behind the grant is to support the provision of food to students experiencing food insecurity and the majority of funding should be expended on direct supports for students. * A small and reasonable percentage of a school's grant can be allocated to offset staffing costs directly associated with production or delivery of the school food program. Spending Eligibility: Other Spending * Small appliances or equipment to prepare, store, cook and transport food from a school with a kitchen to another school (e.g., kitchen utensils, insulated containers, microwaves). * Continuity of Student and Family Affordability Funding (SFAF) supports that improve student food security (e.g., grocery store gift cards, food for weekends and school closures). Grocery Gift Cards *This fund is intended to provide a means of reaching diverse populations needing financial support with the costs of going to school that may otherwise be missed. It allows for a more targeted approach to reach those students most in need. *This may mean a grocery gift card in some cases, innovative new partnerships with community agencies in others, or expanding programs that may already be provided in the local school. *In cases where a school uses a grocery gift card, it is expected the school will have policies and controls to ensure: o financial accountability among school staff; and o non-stigmatizing allocation / distribution.

Sheet (4) Part 1 - Application
B1: Part 1 - Feeding Futures Independent School Application Form - SY 2026/27
B5: 1. Contact Details
B6: Please enter contact information of applicant, in case we have questions about your responses. The application must be submitted by a school administrator.
B7: Name:
B8: Title:
B9: Email:
B10: Telephone:
B12: 3. School Name
B13: Select the school's name and min-code from the drop down list | C13: Select from Drop Down
B15: 4. Checklist
B16: Please confirm this application also includes:
B17: Part 2 - Spending Plan | C17: Select from Drop Down Menu
B20: 5. Requested Allocation | C20: This cell will automatically display the amount you entered from question 1.4 of your spending plan
B21: 5.1 Requested Base Grant (excludes any requested top up funding) | D21: ='(5) Part 2 - Spending Plan'!D13 -> 0
B24: 5. School Declarations
B25: The school principal / head of school confirms that:
B26: i. The school is applying for Feeding Futures Funding | C26: Select from Drop Down Menu
B27: ii. The school will spend funds in alignment with eligible spending criteria. | C27: Select from Drop Down Menu
B28: iii. Information provided in this information is complete and accurate. | C28: Select from Drop Down Menu
B29: iv. Interim (if required) and final reporting on spending will be submitted on time. | C29: Select from Drop Down Menu
B30: v. The school authority is aware of and supportive of the school's application for funding | C30: Select from Drop Down Menu
B34: End of Part 1 - Application

Sheet (5) Part 2 - Spending Plan
A1: Part II - Feeding Futures Application - Spending Planning for SY 2026/27
A4: **** PLEASE ROUND ALL SPENDING ESTIMATES IN THIS WORKSHEET TO THE NEAREST $100.00 ****
A6: Section 1: Preliminary Base Grant | F6: Notes / Instructions
A7: 1.1 Notional Allocation as communicated by FISABC | F7: Enter dollar value of notional allocation (as communicated by FISABC). The notional allocation is produced by the funding model and based on assessed potential food insecurity within a school.
A8: 1.2 Is this your first year of applying for Feeding Futures Funding? | D8: Select from Drop Down | F8: Select yes / no from the drop down.
A10: 1.3 Does your school have the capacity to spend the full notional allocation? | D10: Select from Drop Down | F10: Select yes / no from the drop down.
B11: A) If no - what funding amount (below the notional allocation) would your school request? | D11: 0 | F11: Only answer if response to 1.3 is 'No' Enter dollar amount (this will be less than notional allocation)
A13: 1.4 Preliminary Base Grant | D13: =IF(D10="No",MIN(D7,D11),D7) -> 0 | F13: This cell automatically enters the notional allocation amount or, if the school cannot expend the full notional allocation, the lower amount (from Question 1.3A) is displayed.
A15: Section 2: Potential Additional Grant Funding
A16: 2.1 Would your school wish to receive a top up to the preliminary base grant (1.4 above) if additional funds become available? | D16: Select from Drop Down | F16: * Select yes / no from the drop down. * Additional funds may be available depending on total school uptake of the program.
A17: 2.2 If yes, what is the maximum additional, potential grant funding (including notional allocation) your school could effectively utilize in support of school food programs? | D17: 0 | F17: * Only answer if response to both Question 2.1 is 'Yes' * Enter the maximum, potential funding amount the school could effectively use in support of a school food program. * This figure should be higher than the preliminary base grant. * There is no guarantee that funds will be available to provide top up funding. * If a dollar amount is entered here, it will be used to ensure the final grant does not exceed the school's capacity to effectively utilize funds.
A20: Section 3: Other Funding Sources
A21: 3.1 Amount of funding for School Foods Program from other sources | D21: 0 | F21: Enter dollar amount of available funding from sources other than the provincial Feeding Futures grant
A22: 3.2 Optional: Describe what other sources of funding are being used | D22: Enter Text | F22: Enter text (e.g., charitable organization, parent contributions, private donor, school tuition fees)
A24: Section 4: Total Projected Budget
A25: Budgeted spending on food programs (by June 30, 2027)
A26: 4.1 Projected Total Food Programs Budgeted Spending for SY 2026/27 | C26: =D13+D21 -> 0 | F26: This cell automatically adds values from questions 1.3 and 3.1 This represents the total amount of funding from the preliminary provincial base grant plus funding from other sources.
A28: Section 5: Projected Spending
A29: Feeding Futures Year 4 (2026/27) Eligible Spending Note: Schools will continue to have the flexibility that was in place during the first three years of Feeding Futures (2023/24 to 2025/26), to continue to support students and families as longer-term approaches for school food programs are put into place. Although criteria will remain the same in Year 4 (2026/27), criteria may be adjusted over time. Spending Eligibility: Food Procurement / Production * Must be towards the delivery of food programs to feed students who need it most (e.g., maintain current programs, increase number of students served, increase nutrition of food) * Spending may support Culinary Arts programs if the food produced by the program is provided to students in need. * Program delivery may include the procurement of third-party food service providers, or expansion of existing contracts. * Schools are encouraged to use nutritious and B.C. grown and/or processed food where possible. * Program delivery should be stigma-free, flexible, and respect student privacy. Spending Eligibility: Staffing * The intention behind the grant is to support the provision of food to students experiencing food insecurity and the majority of funding should be expended on direct supports for students. * A small and reasonable percentage of a school's grant can be allocated to offset staffing costs directly associated with production or delivery of the school food program. Spending Eligibility: Other Spending * Small appliances or equipment to prepare, store, cook and transport food from a school with a kitchen to another school (e.g., kitchen utensils, insulated containers, microwaves) * Continuity of SFAF supports that improve student food security (e.g., grocery store gift cards, food for weekends and school closures). Grocery Gift Cards *This fund is intended to provide a means of reaching diverse populations needing financial support with the costs of going to school that may otherwise be missed. It allows for a more targeted approach to reach those students most in need. *This may mean a grocery gift card in some cases, innovative new partnerships with community agencies in others, or expanding programs that may already be provided in the local school. *In cases where a school uses a grocery gift card, it is expected the school will have policies and controls to ensure: o financial accountability among school staff; and o non-stigmatizing allocation / distribution. | F29: Please carefully review eligible spending rules for food purchases (copied from TAB 3)
A42: 5.1 Projected Spending Summary
A43: A) Projected total spending on food and food procurement | D43: 0 | F43: *Provide your preliminary budget for School Foods Programs for the 2026/27 school year. *Projected spending should be equal to or greater than the total projected budget from item 4.1 above. *Your projected spending may include your any requested potential additional grant funding from Section 2.
A44: B) Projected total spending related to offsetting staffing costs directly related to production or delivery of food programs | D44: 0
A45: C) Projected total cost of other spending | D45: 0
A47: 5.2 Additional Detail - Food Partnerships and Production
C48: Organization
A49: A) Food Provided through Third-party food Providers | C49: 1 | D49: 4 | F49: List up to six organizations you intend to work with, e.g., caterers, First Nations, not-for-profit organizations, non-government organizations, etc.
C50: 2 | D50: 5
C51: 3 | D51: 6
C52: Food Supplier
A53: B) Food Purchased and Provided using School Staff | C53: 1 | D53: 4 | F53: List up to six food suppliers used for food prepared by school staff.
C54: 2 | D54: 5
C55: 3 | D55: 6
A57: 5.3 Additional Detail: Staffing
A58: A) Percentage of FTE staff positions being supported | D58: 0 | F58: Enter the total FTE percentage of positions projected to be supported through the Feeding Futures grant.
A60: 5.4 Additional Detail: Other Related Expenditures
A61: A) Supplies for the provision of food (e.g. small appliances) | C61: 0 | F61: Enter the projected total spending on both: * supplies for the provision of food (e.g., small appliances) or food security (e.g., grocery store cards), AND * other projected spending that has not been captured elsewhere in this spending plan. Confirm that the school has policies and controls in place regarding allocation of grocery store gift cards to ensure that: *there is financial accountability at the school level; and *they are distributed and tracked in a non-stigmatizing manner. Describe policies and controls.
A62: B) Food Security (e.g., grocery hampers, grocery store gift cards) | C62: 0
A63: C) | B63: The school has policies and controls in place regarding the distribution of grocery store gift cards. | C63: Select from Drop Down | D63: Describe policies/controls: Enter text
A64: D) Other | C64: 0 | D64: Enter text
A66: 5.5 Describe your planned School Food Program for the 2026/27 school year | F66: Using the projected total budget amount from Section 4 (question 4.1), describe your plans for your school food program in 2026/27. Please include * a description of how your program will focus on providing food to the students who need it most in a stigma-free way * how food will be procured or provided * If food is being prepared at school, please describe where and how * If you require any equipment purchases, please describe * Planned expenditure of any potential additional grant funding as requested in Section 2 (in case additional, top-up funds become available). Please note that questions 5.5 (A,B, C & D) are separated into plans to offer free meals and snacks and plans to offer partially subsidized meals and snacks.
...

Sheet Summary Tab
A1: School Name | B1: Name | C1: email | D1: Spending Plan | E1: Request base Grant ( excludes top up) | F1: Notional Allocation | G1: First Year applying | H1: Capacity to spend | I1: if no - below notional Allocation | J1: Preliminary Base Grant | K1: Top up | L1: Maximum addition request | M1: Other sources | N1: Describe (other sources) | O1: Projected Total Food budgeted | P1: Project total spending on food | Q1: Project Total Spending on staff | R1: Project total cost of other spending | S1: Third Party - Organization | T1: Food Purchase Staff- Food Supplier | U1: %FTE staff | V1: Supplies for the provision of food | W1: Food Security | X1: Policy in place | Y1: Describe policy | Z1: Other | AA1: Describe | AB1: Free meals | AC1: Free snacks | AD1: Partially subsidized meals | AE1: Partially subsidized snacks | AF1: Other types of food assistance | AG1: Describe | AH1: Frequency -free meals | AI1: Frequency -free snacks | AJ1: Frequency - partially subsidized meals | AK1: Frequency - partially subsidized snacks | AL1: First Nations students on reserve | AM1: First Nation Students off reserve | AN1: Other indigenous students | AO1: Actions to increased BC Food | AP1: Actions to increased the nutrition of food | AQ1: Track and report BC food | AR1: Families Self Identify | AS1: Staff identify students in need | AT1: Families on financial assistance | AU1: Third party Identifies | AV1: Other | AW1: Stigma free strategies | AX1: %of student population is in need | AY1: Confirm sharing track the number of meals/snacks | AZ1: Engage with local First Nations | BA1: Whom and how | BB1: Engage with parents, guardians, students or community groups | BC1: Whom and how
A2: ='(4) Part 1 - Application'!C13 -> Select from Drop Down | B2: ='(4) Part 1 - Application'!C7 -> 0 | C2: ='(4) Part 1 - Application'!C9 -> 0 | D2: ='(4) Part 1 - Application'!C17 -> Select from Drop Down Menu | E2: ='(4) Part 1 - Application'!D21 -> 0 | F2: ='(5) Part 2 - Spending Plan'!D7 -> 0 | G2: ='(5) Part 2 - Spending Plan'!D8 -> Select from Drop Down | H2: ='(5) Part 2 - Spending Plan'!D10 -> Select from Drop Down | I2: ='(5) Part 2 - Spending Plan'!D11 -> 0 | J2: ='(5) Part 2 - Spending Plan'!D13 -> 0 | K2: ='(5) Part 2 - Spending Plan'!D16 -> Select from Drop Down | L2: ='(5) Part 2 - Spending Plan'!D17 -> 0 | M2: ='(5) Part 2 - Spending Plan'!D21 -> 0 | N2: ='(5) Part 2 - Spending Plan'!D22 -> Enter Text | O2: ='(5) Part 2 - Spending Plan'!C26 -> 0 | P2: ='(5) Part 2 - Spending Plan'!D43 -> 0 | Q2: ='(5) Part 2 - Spending Plan'!D44 -> 0 | R2: ='(5) Part 2 - Spending Plan'!D45 -> 0 | S2: ='(5) Part 2 - Spending Plan'!C49 -> 1 | T2: ='(5) Part 2 - Spending Plan'!C53 -> 1 | U2: ='(5) Part 2 - Spending Plan'!D58 -> 0 | V2: ='(5) Part 2 - Spending Plan'!C61 -> 0 | W2: ='(5) Part 2 - Spending Plan'!C62 -> 0 | X2: ='(5) Part 2 - Spending Plan'!C63 -> Select from Drop Down | Y2: ='(5) Part 2 - Spending Plan'!D63 -> Describe policies/controls: Enter text | Z2: ='(5) Part 2 - Spending Plan'!C64 -> 0 | AA2: ='(5) Part 2 - Spending Plan'!D64 -> Enter text | AB2: ='(5) Part 2 - Spending Plan'!D67 -> Select from Drop Down | AC2: ='(5) Part 2 - Spending Plan'!D69 -> Select from Drop Down | AD2: ='(5) Part 2 - Spending Plan'!D71 -> Select from Drop Down | AE2: ='(5) Part 2 - Spending Plan'!D73 -> Select from Drop Down | AF2: ='(5) Part 2 - Spending Plan'!D75 -> Select from Drop Down | AG2: ='(5) Part 2 - Spending Plan'!B77 -> Enter text | AH2: ='(5) Part 2 - Spending Plan'!D86 -> Select from Drop Down | AI2: ='(5) Part 2 - Spending Plan'!D89 -> Select from Drop Down | AJ2: ='(5) Part 2 - Spending Plan'!D92 -> Select from Drop Down | AK2: ='(5) Part 2 - Spending Plan'!D95 -> Select from Drop Down | AL2: ='(5) Part 2 - Spending Plan'!C98 -> Enter text | AM2: ='(5) Part 2 - Spending Plan'!C99 -> Enter text | AN2: ='(5) Part 2 - Spending Plan'!C100 -> Enter text | AO2: ='(5) Part 2 - Spending Plan'!A103 -> Enter text | AP2: ='(5) Part 2 - Spending Plan'!A113 -> Enter text | AQ2: ='(5) Part 2 - Spending Plan'!D121 -> Select from Drop Down | AR2: ='(5) Part 2 - Spending Plan'!D124 -> Select from Drop Down | AS2: ='(5) Part 2 - Spending Plan'!D125 -> Select from Drop Down | AT2: ='(5) Part 2 - Spending Plan'!D126 -> Select from Drop Down | AU2: ='(5) Part 2 - Spending Plan'!D127 -> Select from Drop Down | AV2: ='(5) Part 2 - Spending Plan'!D128 -> Enter text | AW2: ='(5) Part 2 - Spending Plan'!A131 -> Enter text | AX2: ='(5) Part 2 - Spending Plan'!A135 -> 0 | AY2: ='(5) Part 2 - Spending Plan'!A138 -> Select from Drop Down | AZ2: ='(5) Part 2 - Spending Plan'!D141 -> Select from Drop Down | BA2: ='(5) Part 2 - Spending Plan'!C142 -> Enter text | BB2: ='(5) Part 2 - Spending Plan'!D143 -> Select from Drop Down | BC2: ='(5) Part 2 - Spending Plan'!C144 -> Enter text
S3: ='(5) Part 2 - Spending Plan'!C50 -> 2 | T3: ='(5) Part 2 - Spending Plan'!C54 -> 2
S4: ='(5) Part 2 - Spending Plan'!C51 -> 3 | T4: ='(5) Part 2 - Spending Plan'!C55 -> 3
S5: ='(5) Part 2 - Spending Plan'!D49 -> 4 | T5: ='(5) Part 2 - Spending Plan'!D53 -> 4
S6: ='(5) Part 2 - Spending Plan'!D50 -> 5 | T6: ='(5) Part 2 - Spending Plan'!D54 -> 5
S7: ='(5) Part 2 - Spending Plan'!D51 -> 6 | T7: ='(5) Part 2 - Spending Plan'!D55 -> 6

Sheet HIDDEN - DATA Validatio
A2: Column1
A3: Select from Drop Down | C3: Column1
A4: daily | C4: Select from Drop Down
A5: weekly | C5: Familes self identify
A6: monthly | C6: Families receive financial aid (tuition or other expenses)
A7: occasionally | C7: Staff member identifies
A8: not applicable | C8: Third party identifies (e.g. church, social worker)
C9: Other - enter text to describe

Sheet HIDDEN - DATA VALIDATION LISTS
R1: Column1 | T1: Column 2
P2: Select from Drop Down List | Q2: Name | R2: Select from Drop Down | T2: Select from Drop Down
C3: Select from Drop Down | P3: 03496069 | Q3: Abbotsford Christian School | R3: ="("&P3&") - "&Q3 -> (03496069) - Abbotsford Christian School | T3: (03496069) - Abbotsford Christian School
C4: Yes | D4: Select from Drop Down | P4: 07896105 | Q4: Agassiz Christian School | R4: ="("&P4&") - "&Q4 -> (07896105) - Agassiz Christian School | T4: (07896105) - Agassiz Christian School
C5: No | D5: A. We already track spending on B.C. foods and we are able to report on B.C. food spending for the upcoming school year. | P5: 03696972 | Q5: Al-Mustafa School | R5: ="("&P5&") - "&Q5 -> (03696972) - Al-Mustafa School | T5: (03696972) - Al-Mustafa School
D6: B. We will start to track spending on B.C. foods | P6: 08396713 | Q6: Anchor Academy (DL) | R6: ="("&P6&") - "&Q6 -> (08396713) - Anchor Academy (DL) | T6: (08396713) - Anchor Academy (DL)
D7: C. Not yet tracking; we will explore tracking of spending on B.C. foods | P7: 05296122 | Q7: Annunciation School | R7: ="("&P7&") - "&Q7 -> (05296122) - Annunciation School | T7: (05296122) - Annunciation School
P8: 04396629 | Q8: Archbishop Carney Regional Secondary | R8: ="("&P8&") - "&Q8 -> (04396629) - Archbishop Carney Regional Secondary | T8: (04396629) - Archbishop Carney Regional Secondary
P9: 06996656 | Q9: Arrowsmith Independent School | R9: ="("&P9&") - "&Q9 -> (06996656) - Arrowsmith Independent School | T9: (06996656) - Arrowsmith Independent School
C10: Select from Drop Down | P10: 06196827 | Q10: Artemis Place Secondary School | R10: ="("&P10&") - "&Q10 -> (06196827) - Artemis Place Secondary School | T10: (06196827) - Artemis Place Secondary School
C11: I confirm | P11: 06196891 | Q11: ArtsCalibre Academy | R11: ="("&P11&") - "&Q11 -> (06196891) - ArtsCalibre Academy | T11: (06196891) - ArtsCalibre Academy
C12: I do not confirm | P12: 07396838 | Q12: Ascend Online Distributed Learning Prg. | R12: ="("&P12&") - "&Q12 -> (07396838) - Ascend Online Distributed Learning Prg. | T12: (07396838) - Ascend Online Distributed Learning Prg.
P13: 04796088 | Q13: Assumption School | R13: ="("&P13&") - "&Q13 -> (04796088) - Assumption School | T13: (04796088) - Assumption School
P14: 08596190 | Q14: Avalon Adventist Christian Academy | R14: ="("&P14&") - "&Q14 -> (08596190) - Avalon Adventist Christian Academy | T14: (08596190) - Avalon Adventist Christian Academy
P15: 03896729 | Q15: Az-Zahraa Islamic Academy | R15: ="("&P15&") - "&Q15 -> (03896729) - Az-Zahraa Islamic Academy | T15: (03896729) - Az-Zahraa Islamic Academy
P16: 03896399 | Q16: BC Muslim School | R16: ="("&P16&") - "&Q16 -> (03896399) - BC Muslim School | T16: (03896399) - BC Muslim School
P17: 07196822 | Q17: Beachcombers Academy | R17: ="("&P17&") - "&Q17 -> (07196822) - Beachcombers Academy | T17: (07196822) - Beachcombers Academy
P18: 03696602 | Q18: Bibleway Christian Academy | R18: ="("&P18&") - "&Q18 -> (03696602) - Bibleway Christian Academy | T18: (03696602) - Bibleway Christian Academy
P19: 03996070 | Q19: Blessed Sacrament School | R19: ="("&P19&") - "&Q19 -> (03996070) - Blessed Sacrament School | T19: (03996070) - Blessed Sacrament School
P20: 03796535 | Q20: Boundary Bay Montessori House | R20: ="("&P20&") - "&Q20 -> (03796535) - Boundary Bay Montessori House | T20: (03796535) - Boundary Bay Montessori House
P21: 04396579 | Q21: British Columbia Christian Academy | R21: ="("&P21&") - "&Q21 -> (04396579) - British Columbia Christian Academy | T21: (04396579) - British Columbia Christian Academy
P22: 05496782 | Q22: Bulkley Valley Christian Online School | R22: ="("&P22&") - "&Q22 -> (05496782) - Bulkley Valley Christian Online School | T22: (05496782) - Bulkley Valley Christian Online School
P23: 05496124 | Q23: Bulkley Valley Christian School | R23: ="("&P23&") - "&Q23 -> (05496124) - Bulkley Valley Christian School | T23: (05496124) - Bulkley Valley Christian School
P24: 04196636 | Q24: Burnaby Montessori School | R24: ="("&P24&") - "&Q24 -> (04196636) - Burnaby Montessori School | T24: (04196636) - Burnaby Montessori School
... P273: 03896970 | Q273: Windsor Hall | R273: ="("&P273&") - "&Q273 -> (03896970) - Windsor Hall | T273: (03896970) - Windsor Hall

Sheet HIDDEN - Data Extracts
A2: Page | B2: Column | C2: Category | D2: Heading | E2: Value | F2: Secondary_Value
A3: P1 | B3: Contact | C3: Name | E3: ='(4) Part 1 - Application'!C7 -> 0
A4: P1 | B4: Contact | C4: Title | E4: ='(4) Part 1 - Application'!C8 -> 0
A5: P1 | B5: Contact | C5: Email | E5: ='(4) Part 1 - Application'!C9 -> 0
A6: P1 | B6: Contact | C6: Telephone | E6: ='(4) Part 1 - Application'!C10 -> 0
A7: P1 | B7: School | C7: School_Name_and_Mincode | E7: ='(4) Part 1 - Application'!C13 -> Select from Drop Down
A8: P1 | B8: Checklist | C8: Part_1 | E8: ='(4) Part 1 - Application'!C17 -> Select from Drop Down Menu
A9: P1 | B9: Checklist | C9: Part_2 | E9: ='(4) Part 1 - Application'!#REF! -> #REF!
A10: P1 | B10: Requested_Allocation | C10: Requested_Base_Grant | E10: ='(4) Part 1 - Application'!D21 -> 0
A11: P1 | B11: Declarations | C11: i | E11: ='(4) Part 1 - Application'!C26 -> Select from Drop Down Menu
A12: P1 | B12: Declarations | C12: ii | E12: ='(4) Part 1 - Application'!C27 -> Select from Drop Down Menu
A13: P1 | B13: Declarations | C13: iii | E13: ='(4) Part 1 - Application'!C28 -> Select from Drop Down Menu
A14: P1 | B14: Declarations | C14: iv | E14: ='(4) Part 1 - Application'!C29 -> Select from Drop Down Menu
A15: P1 | B15: Declarations | C15: v | E15: ='(4) Part 1 - Application'!C30 -> Select from Drop Down Menu
A16: P2 | B16: Section_1 | C16: 1.1 | E16: ='(5) Part 2 - Spending Plan'!D7 -> 0
A17: P2 | B17: Section_1 | C17: 1.2 | E17: ='(5) Part 2 - Spending Plan'!D8 -> Select from Drop Down
A18: P2 | B18: Section_1 | C18: 1.3 | E18: ='(5) Part 2 - Spending Plan'!D10 -> Select from Drop Down
A19: P2 | B19: Section_1 | C19: 1.3A | E19: ='(5) Part 2 - Spending Plan'!D11 -> 0
A20: P2 | B20: Section_1 | C20: 1.4 | E20: ='(5) Part 2 - Spending Plan'!D13 -> 0
A21: P2 | B21: Section_2 | C21: 2.1 | E21: ='(5) Part 2 - Spending Plan'!D16 -> Select from Drop Down
A22: P2 | B22: Section_2 | C22: 2.1A | E22: ='(5) Part 2 - Spending Plan'!#REF! -> #REF!
A23: P2 | B23: Section_2 | C23: 2.1B | E23: ='(5) Part 2 - Spending Plan'!D17 -> 0
A24: P2 | B24: Section_3 | C24: 3.1 | E24: ='(5) Part 2 - Spending Plan'!D21 -> 0
A25: P2 | B25: Section_3 | C25: 3.2 | E25: ='(5) Part 2 - Spending Plan'!D22 -> Enter Text
A26: P2 | B26: Section_4 | C26: 4.1 | E26: ='(5) Part 2 - Spending Plan'!C26 -> 0
A27: P2 | B27: Section_5 | C27: 5.1A | E27: ='(5) Part 2 - Spending Plan'!D43 -> 0
A28: P2 | B28: Section_5 | C28: 5.1B | E28: ='(5) Part 2 - Spending Plan'!D44 -> 0
A29: P2 | B29: Section_5 | C29: 5.1C | E29: ='(5) Part 2 - Spending Plan'!D45 -> 0
A30: P2 | B30: Section_5 | C30: 5.2A1 | E30: ='(5) Part 2 - Spending Plan'!C49 -> 1
A31: P2 | B31: Section_5 | C31: 5.2A2 | E31: ='(5) Part 2 - Spending Plan'!C50 -> 2
A32: P2 | B32: Section_5 | C32: 5.2A3 | E32: ='(5) Part 2 - Spending Plan'!C51 -> 3
A33: P2 | B33: Section_5 | C33: 5.2A4 | E33: ='(5) Part 2 - Spending Plan'!D49 -> 4
A34: P2 | B34: Section_5 | C34: 5.2A5 | E34: ='(5) Part 2 - Spending Plan'!D50 -> 5
A35: P2 | B35: Section_5 | C35: 5.2A6 | E35: ='(5) Part 2 - Spending Plan'!D51 -> 6
A36: P2 | B36: Section_5 | C36: 5.2B1 | E36: ='(5) Part 2 - Spending Plan'!C53 -> 1
A37: P2 | B37: Section_5 | C37: 5.2B2 | E37: ='(5) Part 2 - Spending Plan'!C54 -> 2
A38: P2 | B38: Section_5 | C38: 5.2B3 | E38: ='(5) Part 2 - Spending Plan'!C55 -> 3
A39: P2 | B39: Section_5 | C39: 5.2B4 | E39: ='(5) Part 2 - Spending Plan'!D53 -> 4
A40: P2 | B40: Section_5 | C40: 5.2B5 | E40: ='(5) Part 2 - Spending Plan'!D54 -> 5
A41: P2 | B41: Section_5 | C41: 5.2B6 | E41: ='(5) Part 2 - Spending Plan'!D55 -> 6
...
